Report for Dist-Zilla-Plugin-CopyFilesFromBuild-0.103450

Back
From: metabase:user:320bfe00-2aae-11df-837a-5e0a49663a4f
Subject: PASS Dist-Zilla-Plugin-CopyFilesFromBuild-0.103450 v5.10.1 GNU/Linux
Date: 2010-12-16T21:37:03Z

This distribution has been tested as part of the CPAN Testers
project, supporting the Perl programming language.  See
http://wiki.cpantesters.org/ for more information or email
questions to cpan-testers-discuss@perl.org


--
Dear Ryan C. Thompson,

This is a computer-generated report for Dist-Zilla-Plugin-CopyFilesFromBuild-0.103450
on perl 5.10.1, created by CPAN-Reporter-1.18_06.

Thank you for uploading your work to CPAN.  Congratulations!
All tests were successful.

Sections of this report:

    * Tester comments
    * Program output
    * Prerequisites
    * Environment and other context

------------------------------
TESTER COMMENTS
------------------------------

Additional comments from tester:

this report is from an automated smoke testing program
and was not reviewed by a human for accuracy

------------------------------
PROGRAM OUTPUT
------------------------------

Output from '/usr/bin/make test':

PERL_DL_NONLAZY=1 /usr/local/perl-5.10.1-uld/bin/perl "-MExtUtils::Command::MM" "-e" "test_harness(0, 'blib/lib', 'blib/arch')" t/*.t
t/00-compile.t ............ ok
# Testing with Perl 5.010001, /usr/local/perl-5.10.1-uld/bin/perl
#     Carp version is 1.11
#     Dist::Zilla::Role::AfterBuild version is 4.200000
#     English version is 1.04
#     ExtUtils::MakeMaker version is 6.57_06
#     File::Copy version is 2.14
#     File::Find version is 1.14
#     File::Temp version is 0.22
#     List::AllUtils version is 0.02
#     Moose version is 1.21
#     Moose::Autobox version is 0.11
#     MooseX::Has::Sugar version is 0.05055616
#     Scalar::Util version is 1.2303
#     Set::Scalar version is 1.24
#     Test::More version is 0.96
#     utf8 version is 1.07
t/000-report-versions.t ... ok
t/author-critic.t ......... skipped: these tests are for testing by the author
t/release-has-version.t ... skipped: these tests are for release candidate testing
t/release-kwalitee.t ...... skipped: these tests are for release candidate testing
t/release-pod-coverage.t .. skipped: these tests are for release candidate testing
t/release-pod-syntax.t .... skipped: these tests are for release candidate testing
t/release-portability.t ... skipped: these tests are for release candidate testing
t/release-unused-vars.t ... skipped: these tests are for release candidate testing
All tests successful.
Files=9, Tests=16,  3 wallclock secs ( 0.04 usr  0.01 sys +  1.04 cusr  0.11 csys =  1.20 CPU)
Result: PASS

------------------------------
PREREQUISITES
------------------------------

Prerequisite modules loaded:

requires:

    Module                        Need Have      
    ----------------------------- ---- ----------
    Dist::Zilla::Role::AfterBuild 0    4.200000  
    File::Copy                    0    2.14      
    List::AllUtils                0    0.02      
    Moose                         0    1.21      
    Moose::Autobox                0    0.11      
    MooseX::Has::Sugar            0    0.05055616
    Set::Scalar                   0    1.24      
    utf8                          0    1.07      

build_requires:

    Module                        Need Have      
    ----------------------------- ---- ----------
    Carp                          0    1.11      
    English                       0    1.04      
    File::Find                    0    1.14      
    File::Temp                    0    0.22      
    Scalar::Util                  0    1.23_03   
    Test::More                    0.94 0.96      

configure_requires:

    Module                        Need Have      
    ----------------------------- ---- ----------
    ExtUtils::MakeMaker           6.31 6.57_06   


------------------------------
ENVIRONMENT AND OTHER CONTEXT
------------------------------

Environment variables:

    AUTOMATED_TESTING = 1
    LANG = en_US.UTF-8
    PATH = /home/sand/bin:/usr/local/bin:/usr/bin:/bin:/usr/bin/X11:/usr/games:/usr/local/perl/bin:/usr/X11/bin:/sbin:/usr/sbin
    PERL5LIB = 
    PERL5OPT = 
    PERL5_CPANPLUS_IS_RUNNING = 28222
    PERL5_CPAN_IS_RUNNING = 28222
    PERL_MM_USE_DEFAULT = 1
    SHELL = /usr/bin/zsh
    TERM = screen

Perl special variables (and OS-specific diagnostics, for MSWin32):

    $^X = /usr/local/perl-5.10.1-uld/bin/perl
    $UID/$EUID = 1001 / 1001
    $GID = 1001 1001
    $EGID = 1001 1001

Perl module toolchain versions installed:

    Module              Have   
    ------------------- -------
    CPAN                1.94_62
    Cwd                 3.33   
    ExtUtils::CBuilder  0.2802 
    ExtUtils::Command   1.16   
    ExtUtils::Install   1.54   
    ExtUtils::MakeMaker 6.57_06
    ExtUtils::Manifest  1.58   
    ExtUtils::ParseXS   2.2206 
    File::Spec          3.33   
    Module::Build       0.36_20
    Module::Signature   0.66   
    Test::Harness       3.22   
    Test::More          0.96   
    YAML                0.72   
    YAML::Syck          1.17   
    version             0.87   


--

Summary of my perl5 (revision 5 version 10 subversion 1) configuration:
   
  Platform:
    osname=linux, osvers=2.6.30-1-amd64, archname=x86_64-linux-ld
    uname='linux k81 2.6.30-1-amd64 #1 smp sat aug 15 18:09:19 utc 2009 x86_64 gnulinux '
    config_args='-Dprefix=/usr/local/perl-5.10.1-uld -Dinstallusrbinperl=n -Uversiononly -Dusedevel -des -Ui_db -Duselongdouble'
    hint=recommended, useposix=true, d_sigaction=define
    useithreads=undef, usemultiplicity=undef
    useperlio=define, d_sfio=undef, uselargefiles=define, usesocks=undef
    use64bitint=define, use64bitall=define, uselongdouble=define
    usemymalloc=n, bincompat5005=undef
  Compiler:
    cc='cc', ccflags ='-fno-strict-aliasing -pipe -fstack-protector -I/usr/local/include -D_LARGEFILE_SOURCE -D_FILE_OFFSET_BITS=64',
    optimize='-O2',
    cppflags='-fno-strict-aliasing -pipe -fstack-protector -I/usr/local/include'
    ccversion='', gccversion='4.3.4', gccosandvers=''
    intsize=4, longsize=8, ptrsize=8, doublesize=8, byteorder=12345678
    d_longlong=define, longlongsize=8, d_longdbl=define, longdblsize=16
    ivtype='long', ivsize=8, nvtype='long double', nvsize=16, Off_t='off_t', lseeksize=8
    alignbytes=16, prototype=define
  Linker and Libraries:
    ld='cc', ldflags =' -fstack-protector -L/usr/local/lib'
    libpth=/usr/local/lib /lib /usr/lib /lib64 /usr/lib64
    libs=-lnsl -lgdbm -ldb -ldl -lm -lcrypt -lutil -lc -lgdbm_compat
    perllibs=-lnsl -ldl -lm -lcrypt -lutil -lc
    libc=/lib/libc-2.9.so, so=so, useshrplib=false, libperl=libperl.a
    gnulibc_version='2.9'
  Dynamic Linking:
    dlsrc=dl_dlopen.xs, dlext=so, d_dlsymun=undef, ccdlflags='-Wl,-E'
    cccdlflags='-fPIC', lddlflags='-shared -O2 -L/usr/local/lib -fstack-protector'


Characteristics of this binary (from libperl): 
  Compile-time options: PERL_DONT_CREATE_GVSV PERL_MALLOC_WRAP PERL_USE_DEVEL
                        USE_64_BIT_ALL USE_64_BIT_INT USE_LARGE_FILES
                        USE_LONG_DOUBLE USE_PERLIO
  Built under linux
  Compiled at Sep 10 2009 08:12:49
  %ENV:
    PERL5LIB=""
    PERL5OPT=""
    PERL5_CPANPLUS_IS_RUNNING="28222"
    PERL5_CPAN_IS_RUNNING="28222"
    PERL_MM_USE_DEFAULT="1"
  @INC:
    /usr/local/perl-5.10.1-uld/lib/5.10.1/x86_64-linux-ld
    /usr/local/perl-5.10.1-uld/lib/5.10.1
    /usr/local/perl-5.10.1-uld/lib/site_perl/5.10.1/x86_64-linux-ld
    /usr/local/perl-5.10.1-uld/lib/site_perl/5.10.1
    .