Report for Params-Validate-Array-0.03

Back
From: metabase:user:838e5b0a-2bb6-1016-a696-43a2537fa0c6
Subject: PASS Params-Validate-Array-0.03 v5.14.4 Windows (Cygwin)
Date: 2015-11-29T17:03:54Z

This distribution has been tested as part of the CPAN Testers
project, supporting the Perl programming language.  See
http://wiki.cpantesters.org/ for more information or email
questions to cpan-testers-discuss@perl.org


--
Dear Sam Brain,

This is a computer-generated report for Params-Validate-Array-0.03
on perl 5.14.4, created by CPAN-Reporter-1.2015.

Thank you for uploading your work to CPAN.  Congratulations!
All tests were successful.

Sections of this report:

    * Tester comments
    * Program output
    * Prerequisites
    * Environment and other context

------------------------------
TESTER COMMENTS
------------------------------

Additional comments from tester:

this report is from an automated smoke testing program
and was not reviewed by a human for accuracy

------------------------------
PROGRAM OUTPUT
------------------------------

Output from './Build test':

t/01-validate-array.t ........ ok
t/01-validate.t .............. ok
t/02-noop-array.t ............ ok
t/02-noop.t .................. ok
t/04-defaults-array.t ........ ok
t/04-defaults.t .............. ok
t/05-noop_default-array.t .... ok
t/05-noop_default.t .......... ok
t/06-options.t ............... ok
t/09-regex-array.t ........... ok
t/09-regex.t ................. ok
t/10-noop_regex-array.t ...... ok
t/10-noop_regex.t ............ ok
t/11-cb.t .................... ok
t/11-cb_array.t .............. ok
t/12-noop_cb-array.t ......... ok
t/12-noop_cb.t ............... ok
t/13-taint.t ................. ok
t/14-no_validate.t ........... ok
t/14-no_validate_array.t ..... ok
t/17-callbacks-array.t ....... ok
t/17-callbacks.t ............. ok
t/18-depends-array.t ......... ok
t/18-depends.t ............... ok
t/19-untaint.t ............... skipped: These tests require Test::Taint 0.02+ to run
t/21-can.t ................... ok
t/22-overload-can-bug.t ...... ok
t/23-readonly.t .............. skipped: Need Readonly::XS and Readonly for this test
t/24-tied.t .................. ok
t/25-undef-regex.t ........... ok
t/26-isa.t ................... ok
t/27-string-as-type.t ........ ok
t/28-readonly-return.t ....... ok
t/29-taint-mode.t ............ skipped: This test is flaky
t/30-hashref-alteration.t .... ok
t/31-incorrect-spelling.t .... skipped: Spec validation is disabled for now
t/32-regex-as-value.t ........ ok
t/33-keep-errsv.t ............ ok
t/34-recursive-validation.t .. ok
t/35-default-xs-bug.t ........ ok
All tests successful.

Test Summary Report
-------------------
t/34-recursive-validation.t (Wstat: 0 Tests: 1 Failed: 0)
  TODO passed:   1
Files=40, Tests=636,  4 wallclock secs ( 0.11 usr  0.03 sys +  1.88 cusr  1.65 csys =  3.67 CPU)
Result: PASS

------------------------------
PREREQUISITES
------------------------------

Prerequisite modules loaded:

requires:

    Module           Need Have    
    ---------------- ---- --------
    Carp             0    1.36    
    Params::Validate 1.07 1.21    
    Test::More       0    1.001014
    version          0    0.9912  

configure_requires:

    Module           Need Have    
    ---------------- ---- --------
    Module::Build    0.38 0.4005  


------------------------------
ENVIRONMENT AND OTHER CONTEXT
------------------------------

Environment variables:

    AUTOMATED_TESTING = 1
    COMSPEC = C:\Windows\system32\cmd.exe
    LANG = en_US.UTF-8
    LD_LIBRARY_PATH = /usr/lib/x86:/usr/X11R6/lib
    NUMBER_OF_PROCESSORS = 8
    PATH = /usr/local/bin:/usr/bin:/cygdrive/c/Program Files/Common Files/Microsoft Shared/Windows Live:/cygdrive/c/Program Files (x86)/Common Files/Microsoft Shared/Windows Live:/cygdrive/c/ProgramData/Oracle/Java/javapath:/cygdrive/c/Windows/system32:/cygdrive/c/Windows:/cygdrive/c/Windows/System32/Wbem:/cygdrive/c/Windows/System32/WindowsPowerShell/v1.0:/cygdrive/c/Windows/SUA/common:/cygdrive/c/Windows/SUA/usr/lib:/cygdrive/d/Program Files/SlikSvn/bin:/cygdrive/d/Strawberry/c/bin:/cygdrive/d/Strawberry/perl/site/bin:/cygdrive/d/Strawberry/perl/bin:/cygdrive/c/Program Files (x86)/Windows Live/Shared:/cygdrive/c/Program Files (x86)/Windows Kits/8.1/Windows Performance Toolkit:/cygdrive/c/Program Files/Microsoft SQL Server/110/Tools/Binn:/cygdrive/c/Program Files (x86)/Microsoft SDKs/TypeScript/1.0:/cygdrive/c/Program Files/Microsoft SQL Server/120/Tools/Binn:/cygdrive/c/Program Files (x86)/GNU/GnuPG/pub:/cygdrive/c/ProgramData/chocolatey/bin
    PERL5LIB = 
    PERL5OPT = 
    PERL5_CPANPLUS_IS_RUNNING = 716
    PERL5_CPAN_IS_RUNNING = 716
    PERL5_CPAN_IS_RUNNING_IN_RECURSION = 4016,716
    PERL_CR_SMOKER_CURRENT = Array-To-Moose-v0.0.9
    PERL_EXTUTILS_AUTOINSTALL = --defaultdeps
    PERL_MM_USE_DEFAULT = 1
    PROCESSOR_IDENTIFIER = Intel64 Family 6 Model 26 Stepping 5, GenuineIntel
    SHELL = /bin/bash
    TEMP = /tmp
    TERM = xterm

Perl special variables (and OS-specific diagnostics, for MSWin32):

    $^X = /usr/bin/perl
    $UID/$EUID = 11111 / 11111
    $GID = 10513 10513 197609 555 545 4 66049 11 15 4095 66048 11652 11131 11150 11645 11611 401408
    $EGID = 10513 10513 197609 555 545 4 66049 11 15 4095 66048 11652 11131 11150 11645 11611 401408

Perl module toolchain versions installed:

    Module              Have    
    ------------------- --------
    CPAN                2.10    
    CPAN::Meta          2.150005
    Cwd                 3.47    
    ExtUtils::CBuilder  0.280220
    ExtUtils::Command   1.17    
    ExtUtils::Install   2.04    
    ExtUtils::MakeMaker 7.04    
    ExtUtils::Manifest  1.70    
    ExtUtils::ParseXS   2.2210  
    File::Spec          3.47    
    JSON                2.90    
    JSON::PP            2.27300 
    Module::Build       0.4005  
    Module::Signature   0.78    
    Parse::CPAN::Meta   1.4417  
    Test::Harness       3.35    
    Test::More          1.001014
    YAML                1.15    
    YAML::Syck          n/a     
    version             0.9912  


--

Summary of my perl5 (revision 5 version 14 subversion 4) configuration:
   
  Platform:
    osname=cygwin, osvers=1.7.35(0.28653), archname=cygwin-thread-multi
    uname='cygwin_nt-6.3 cygwin 1.7.35(0.28653) 2015-02-16 13:03 x86_64 cygwin '
    config_args='-d -e -Dprefix=/usr -Dmksymlinks -Dusethreads -Darchname=x86_64-cygwin-threads -Dlibperl=cygperl5_14.dll -Dcc=gcc -Dld=g++ -Accflags=-ggdb -O2 -pipe -Wimplicit-function-declaration -fdebug-prefix-map=/mnt/share/maint/perl.x86_64/build=/usr/src/debug/perl-5.14.4-3 -fdebug-prefix-map=/mnt/share/maint/perl.x86_64/src/perl-5.14.4=/usr/src/debug/perl-5.14.4-3 -fwrapv'
    hint=recommended, useposix=true, d_sigaction=define
    useithreads=define, usemultiplicity=define
    useperlio=define, d_sfio=undef, uselargefiles=define, usesocks=undef
    use64bitint=define, use64bitall=define, uselongdouble=undef
    usemymalloc=n, bincompat5005=undef
  Compiler:
    cc='gcc', ccflags ='-DPERL_USE_SAFE_PUTENV -U__STRICT_ANSI__ -ggdb -O2 -pipe -Wimplicit-function-declaration -fdebug-prefix-map=/mnt/share/maint/perl.x86_64/build=/usr/src/debug/perl-5.14.4-3 -fdebug-prefix-map=/mnt/share/maint/perl.x86_64/src/perl-5.14.4=/usr/src/debug/perl-5.14.4-3 -fwrapv -fno-strict-aliasing -fstack-protector',
    optimize='-O3',
    cppflags='-DPERL_USE_SAFE_PUTENV -U__STRICT_ANSI__ -ggdb -O2 -pipe -Wimplicit-function-declaration -fdebug-prefix-map=/mnt/share/maint/perl.x86_64/build=/usr/src/debug/perl-5.14.4-3 -fdebug-prefix-map=/mnt/share/maint/perl.x86_64/src/perl-5.14.4=/usr/src/debug/perl-5.14.4-3 -fwrapv -fno-strict-aliasing -fstack-protector'
    ccversion='', gccversion='4.9.2', gccosandvers=''
    intsize=4, longsize=8, ptrsize=8, doublesize=8, byteorder=12345678
    d_longlong=define, longlongsize=8, d_longdbl=define, longdblsize=16
    ivtype='long', ivsize=8, nvtype='double', nvsize=8, Off_t='off_t', lseeksize=8
    alignbytes=8, prototype=define
  Linker and Libraries:
    ld='g++', ldflags =' -Wl,--enable-auto-import -Wl,--export-all-symbols -Wl,--enable-auto-image-base -fstack-protector -L/usr/local/lib'
    libpth=/usr/local/lib /usr/lib /lib
    libs=-lgdbm -ldb -ldl -lcrypt -lgdbm_compat
    perllibs=-ldl -lcrypt
    libc=/usr/lib/libc.a, so=dll, useshrplib=true, libperl=cygperl5_14.dll
    gnulibc_version=''
  Dynamic Linking:
    dlsrc=dl_dlopen.xs, dlext=dll, d_dlsymun=undef, ccdlflags=' '
    cccdlflags=' ', lddlflags=' --shared  -Wl,--enable-auto-import -Wl,--export-all-symbols -Wl,--enable-auto-image-base -L/usr/local/lib -fstack-protector'


Characteristics of this binary (from libperl): 
  Compile-time options: MULTIPLICITY PERL_DONT_CREATE_GVSV
                        PERL_IMPLICIT_CONTEXT PERL_PRESERVE_IVUV
                        PERL_USE_SAFE_PUTENV USE_64_BIT_ALL USE_64_BIT_INT
                        USE_ITHREADS USE_LARGE_FILES USE_PERLIO USE_PERL_ATOF
                        USE_REENTRANT_API
  Locally applied patches:
	rurban/0c612ce82        Fix building static extensions on cygwin, -UUSEIMPORTLIB
	perl.cygwin_autorebase  Rebase DLL after building (skip for cygport builds)
	v5.14.0-RC2-6-gfc6f691  skip testing cygwin utf8 readdir() with Win32 ANSI API
	v5.14.0-RC2-7-g3877b86  Fix test 50 on cygwin: \WINDOWS
	v5.14.0-RC2-10-gd22b5bd revert +x global.sym from 3691eaa79cc6a
	v5.15.0-579-g8375c93    Export store_cop_label for the perl compiler
	v5.15.3-232-g1bac5ec    sv.c: S_anonymise_cv_maybe UTF8 cleanup.
	v5.15.7-75-g803e389     CYG17 utf8 paths
	v5.15.7-302-g5bc802d    Revise perlcygwin.pod for cygwin-1.7
	v5.15.7-303-g286f819    add Cygwin::sync_winenv [perl #110190]
	v5.19.8-494-g6cc44f6    avoid a "FILE" name conflict with cygwin's wchar.h
	v5.19.8-496-g3383030    [perl #120936] op/taint.t handling of no ipcsysv on cygwin
	v5.19.8-509-g288d0d9    cygwin doesn't implement $^E (except as a read of $!)
	v5.21.4-548-g860874c    wrap the failing call_checker test in an eval and TODO it
  Built under cygwin
  Compiled at Feb 17 2015 21:41:24
  %ENV:
    PERL5LIB=""
    PERL5OPT=""
    PERL5_CPANPLUS_IS_RUNNING="716"
    PERL5_CPAN_IS_RUNNING="716"
    PERL5_CPAN_IS_RUNNING_IN_RECURSION="4016,716"
    PERL_CR_SMOKER_CURRENT="Array-To-Moose-v0.0.9"
    PERL_EXTUTILS_AUTOINSTALL="--defaultdeps"
    PERL_MM_USE_DEFAULT="1"
  @INC:
    /usr/lib/perl5/site_perl/5.14/x86_64-cygwin-threads
    /usr/lib/perl5/site_perl/5.14
    /usr/lib/perl5/vendor_perl/5.14/x86_64-cygwin-threads
    /usr/lib/perl5/vendor_perl/5.14
    /usr/lib/perl5/5.14/x86_64-cygwin-threads
    /usr/lib/perl5/5.14
    .