JSON-Schema-Draft201909 v0.024 Perl 5 v5.20.0 amd64-freebsd

Status
Pass
From
Slaven Rezić
Dist
JSON-Schema-Draft201909 v0.024
Platform
Perl 5 v5.20.0 amd64-freebsd
Date
2021-03-23 23:08:03
ID
9e9c20c2-8c2c-11eb-acd0-00361f24ea8f
This distribution has been tested as part of the CPAN Testers
project, supporting the Perl programming language.  See
http://wiki.cpantesters.org/ for more information or email
questions to cpan-testers-discuss@perl.org


--
Dear Karen Etheridge,

This is a computer-generated report for JSON-Schema-Draft201909-0.024
on perl 5.20.0, created by CPAN-Reporter-1.2018.

Thank you for uploading your work to CPAN.  Congratulations!
All tests were successful.

Sections of this report:

    * Tester comments
    * Program output
    * Prerequisites
    * Environment and other context

------------------------------
TESTER COMMENTS
------------------------------

Additional comments from tester:

none provided

------------------------------
PROGRAM OUTPUT
------------------------------

Output from './Build test':

# 
# Versions for all modules listed in MYMETA.json (including optional ones):
# 
# === Configure Requires ===
# 
#     Module                   Want  Have
#     ----------------------- ----- -----
#     ExtUtils::MakeMaker       any  7.58
#     File::ShareDir::Install  0.06  0.13
#     Module::Build::Tiny     0.034 0.039
# 
# === Test Requires ===
# 
#     Module                          Want     Have
#     ------------------------------ ----- --------
#     File::Spec                       any     3.75
#     Module::Metadata                 any 1.000036
#     Scalar::Util                     any     1.55
#     Test::Deep                       any    1.130
#     Test::Deep::UnorderedPairs       any    0.005
#     Test::Fatal                      any    0.016
#     Test::File::ShareDir             any 1.001001
#     Test::JSON::Schema::Acceptance 1.004    1.005
#     Test::Memory::Cycle              any     1.06
#     Test::More                      0.96 1.302183
#     lib                              any     0.63
#     open                             any     1.10
#     utf8                             any     1.13
# 
# === Test Recommends ===
# 
#     Module         Want     Have
#     ---------- -------- --------
#     CPAN::Meta 2.120900 2.150010
# 
# === Runtime Requires ===
# 
#     Module                   Want     Have
#     -------------------- -------- --------
#     B                         any     1.48
#     Carp                      any     1.50
#     Exporter                  any     5.74
#     Feature::Compat::Try      any     0.02
#     File::ShareDir            any    1.118
#     JSON::MaybeXS        1.004001 1.004003
#     JSON::PP                  any     4.05
#     List::Util               1.55     1.55
#     Module::Runtime           any    0.016
#     Mojo::JSON::Pointer       any    undef
#     Mojo::URL                 any    undef
#     Mojolicious              7.23     9.13
#     Moo                       any 2.005003
#     Moo::Object               any    undef
#     Moo::Role                 any 2.005003
#     MooX::HandlesVia          any 0.001009
#     MooX::TypeTiny       0.002002 0.002003
#     Path::Tiny                any    0.118
#     Ref::Util               0.100    0.204
#     Safe::Isa                 any 1.000010
#     Storable                  any     3.15
#     Types::Standard      1.010002 1.012000
#     constant                  any     1.33
#     if                        any   0.0608
#     namespace::clean          any     0.27
#     overload                  any     1.22
#     strict                    any     1.08
#     strictures                  2 2.000006
#     warnings                  any     1.23
# 
# === Runtime Suggests ===
# 
#     Module                 Want  Have
#     ---------------------- ---- -----
#     Class::XSAccessor       any  1.19
#     Data::Validate::Domain  any  0.11
#     Email::Address::XS     1.01  1.04
#     Net::IDN::Encode        any 2.500
#     Time::Moment            any  0.44
#     Type::Tiny::XS          any 0.022
# 
# === Other Modules ===
# 
#     Module             Have
#     ---------------- ------
#     Cpanel::JSON::XS   4.25
#     Encode             3.08
#     File::Temp       0.2311
#     JSON::PP           4.05
#     JSON::XS           4.03
#     Module::Runtime   0.016
#     Mojolicious        9.13
#     Pod::Coverage      0.23
#     Sub::Name          0.21
#     YAML               1.30
#     autodie            2.33
# 
t/00-report-prereqs.t ...... ok
t/add-schema.t ............. ok
# 
# 
# Results using Test::JSON::Schema::Acceptance 1.005
# using custom test directory: /usr/home/cpansand/.cpan/build/2021032400/JSON-Schema-Draft201909-0.024-0/t/additional-tests
# optional tests included: no
# 
# filename                           pass  todo-fail  fail
# --------------------------------------------------------
# anchor.json                           2          0     0
# badRef.json                           3          0     0
# faux-buggy-schemas.json               2          0     0
# format-duration.json                  5          0     0
# format-relative-json-pointer.json     7          0     0
# future-keywords-draft2019-09.json    10          0     0
# id.json                               2          0     0
# invalid-input.json                    2          0     0
# keyword-independence.json           688          0     0
# loose-types-const-enum.json           8          0     0
# not-an-anchor.json                    2          0     0
# not-an-id.json                        2          0     0
# recursive-dynamic.json                2          0     0
# recursiveRef.json                    27          0     0
# ref-and-id.json                       4          0     0
# ref.json                              6          0     0
# short-circuit.json                   20          0     0
# unicode.json                          4          0     0
# --------------------------------------------------------
# TOTAL                               796          0     0
# 
t/additional-tests.t ....... ok
t/annotations.t ............ ok
t/booleans.t ............... ok
t/cached-metaschemas.t ..... ok
t/dialects.t ............... ok
t/document.t ............... ok
t/equality.t ............... ok
t/errors.t ................. ok
t/evaluate_json_string.t ... ok
t/find-identifiers.t ....... ok
t/formats.t ................ ok
t/max_traversal_depth.t .... ok
t/output_format.t .......... ok
t/pattern.t ................ ok
t/ref.t .................... ok
t/traverse.t ............... ok
t/type.t ................... ok
t/zzz-acceptance-format.t .. skipped: These tests may fail if the test suite continues to evolve! They should only be run with AUTHOR_TESTING=1, AUTOMATED_TESTING=1 or EXTENDED_TESTING=1
t/zzz-acceptance.t ......... skipped: These tests may fail if the test suite continues to evolve! They should only be run with AUTHOR_TESTING=1, AUTOMATED_TESTING=1 or EXTENDED_TESTING=1
All tests successful.
Files=21, Tests=923,  9 wallclock secs ( 0.19 usr  0.38 sys +  7.03 cusr  0.85 csys =  8.45 CPU)
Result: PASS

------------------------------
PREREQUISITES
------------------------------

Prerequisite modules loaded:

requires:

    Module                         Need     Have    
    ------------------------------ -------- --------
    B                              0        1.48    
    Carp                           0        1.50    
    constant                       0        1.33    
    Exporter                       0        5.74    
    Feature::Compat::Try           0        0.02    
    File::ShareDir                 0        1.118   
    if                             0        0.0608  
    JSON::MaybeXS                  1.004001 1.004003
    JSON::PP                       0        4.05    
    List::Util                     1.55     1.55    
    Module::Runtime                0        0.016   
    Mojo::JSON::Pointer            0        0       
    Mojo::URL                      0        0       
    Mojolicious                    7.23     9.13    
    Moo                            0        2.005003
    Moo::Object                    0        0       
    Moo::Role                      0        2.005003
    MooX::HandlesVia               0        0.001009
    MooX::TypeTiny                 0.002002 0.002003
    namespace::clean               0        0.27    
    overload                       0        1.22    
    Path::Tiny                     0        0.118   
    perl                           5.016    5.020000
    Ref::Util                      0.100    0.204   
    Safe::Isa                      0        1.000010
    Storable                       0        3.15    
    strict                         0        1.08    
    strictures                     2        2.000006
    Types::Standard                1.010002 1.012000
    warnings                       0        1.23    

build_requires:

    Module                         Need     Have    
    ------------------------------ -------- --------
    File::Spec                     0        3.75    
    lib                            0        0.63    
    Module::Metadata               0        1.000036
    open                           0        1.10    
    perl                           5.016    5.020000
    Scalar::Util                   0        1.55    
    Test::Deep                     0        1.130   
    Test::Deep::UnorderedPairs     0        0.005   
    Test::Fatal                    0        0.016   
    Test::File::ShareDir           0        1.001001
    Test::JSON::Schema::Acceptance 1.004    1.005   
    Test::Memory::Cycle            0        1.06    
    Test::More                     0.96     1.302183
    utf8                           0        1.13    

configure_requires:

    Module                         Need     Have    
    ------------------------------ -------- --------
    ExtUtils::MakeMaker            0        7.58    
    File::ShareDir::Install        0.06     0.13    
    Module::Build::Tiny            0.034    0.039   
    perl                           5.016    5.020000

opt_build_requires:

    Module                         Need     Have    
    ------------------------------ -------- --------
    CPAN::Meta                     2.120900 2.150010


------------------------------
ENVIRONMENT AND OTHER CONTEXT
------------------------------

Environment variables:

    LC_ALL = de_DE.ISO8859-1
    PATH = /usr/local/bin:/usr/bin:/bin:/usr/local/sbin:/usr/sbin:/sbin:/home/cpansand/bin/freebsd9.3:/home/cpansand/bin/sh:/home/cpansand/bin:/usr/games:/home/cpansand/devel:/usr/home/eserte/src/srezic-misc/scripts
    PERL5LIB = 
    PERL5OPT = 
    PERL5_CPANPLUS_IS_RUNNING = 56791
    PERL5_CPAN_IS_RUNNING = 56791
    PERL5_CPAN_IS_RUNNING_IN_RECURSION = 56709,56791
    PERLDOC = -MPod::Perldoc::ToTextOverstrike
    PERL_BATCH = yes
    PERL_CANARY_STABILITY_NOPROMPT = 1
    PERL_CPAN_REPORTER_CONFIG = /var/tmp/cpansmoker-1023/2021032400/cpanreporter_000_config.ini
    PERL_EXTUTILS_AUTOINSTALL = --defaultdeps
    PERL_USE_UNSAFE_INC = 1
    SHELL = /usr/local/bin/zsh
    TERM = screen
    TMPDIR = /var/tmp/cpansmoker-1023/2021032400

Perl special variables (and OS-specific diagnostics, for MSWin32):

    $^X = /usr/perl5.20.0/bin/perl
    $UID/$EUID = 1023 / 1023
    $GID = 1023 1023
    $EGID = 1023 1023

Perl module toolchain versions installed:

    Module              Have    
    ------------------- --------
    CPAN                2.27    
    CPAN::Meta          2.150010
    Cwd                 3.75    
    ExtUtils::CBuilder  0.280231
    ExtUtils::Command   7.58    
    ExtUtils::Install   2.20    
    ExtUtils::MakeMaker 7.58    
    ExtUtils::Manifest  1.73    
    ExtUtils::ParseXS   3.35    
    File::Spec          3.75    
    JSON                4.03    
    JSON::PP            4.05    
    Module::Build       0.4231  
    Module::Signature   0.86    
    Parse::CPAN::Meta   2.150010
    Test::Harness       3.42    
    Test::More          1.302183
    YAML                1.30    
    YAML::Syck          1.33    
    version             0.9924  


--

Summary of my perl5 (revision 5 version 20 subversion 0) configuration:
   
  Platform:
    osname=freebsd, osvers=9.2-release-p4, archname=amd64-freebsd
    uname='freebsd cvrsnica-freebsd-92 9.2-release-p4 freebsd 9.2-release-p4 #0: tue apr 8 18:08:22 utc 2014 root@amd64-builder.daemonology.net:usrobjusrsrcsysgeneric amd64 '
    config_args='-ds -e -Dprefix=/usr/perl5.20.0'
    hint=recommended, useposix=true, d_sigaction=define
    useithreads=undef, usemultiplicity=undef
    use64bitint=define, use64bitall=define, uselongdouble=undef
    usemymalloc=n, bincompat5005=undef
  Compiler:
    cc='cc', ccflags ='-DHAS_FPSETMASK -DHAS_FLOATINGPOINT_H -fno-strict-aliasing -pipe -fstack-protector -I/usr/local/include',
    optimize='-O',
    cppflags='-DHAS_FPSETMASK -DHAS_FLOATINGPOINT_H -fno-strict-aliasing -pipe -fstack-protector -I/usr/local/include'
    ccversion='', gccversion='4.2.1 20070831 patched [FreeBSD]', gccosandvers=''
    intsize=4, longsize=8, ptrsize=8, doublesize=8, byteorder=12345678
    d_longlong=define, longlongsize=8, d_longdbl=define, longdblsize=16
    ivtype='long', ivsize=8, nvtype='double', nvsize=8, Off_t='off_t', lseeksize=8
    alignbytes=8, prototype=define
  Linker and Libraries:
    ld='cc', ldflags ='-Wl,-E  -fstack-protector -L/usr/local/lib'
    libpth=/usr/lib /usr/local/lib /usr/include/gcc/4.2 /usr/lib
    libs=-lgdbm -lm -lcrypt -lutil -lc
    perllibs=-lm -lcrypt -lutil -lc
    libc=, so=so, useshrplib=false, libperl=libperl.a
    gnulibc_version=''
  Dynamic Linking:
    dlsrc=dl_dlopen.xs, dlext=so, d_dlsymun=undef, ccdlflags=' '
    cccdlflags='-DPIC -fPIC', lddlflags='-shared  -L/usr/local/lib -fstack-protector'


Characteristics of this binary (from libperl): 
  Compile-time options: HAS_TIMES PERLIO_LAYERS PERL_DONT_CREATE_GVSV
                        PERL_HASH_FUNC_ONE_AT_A_TIME_HARD PERL_MALLOC_WRAP
                        PERL_NEW_COPY_ON_WRITE PERL_PRESERVE_IVUV
                        USE_64_BIT_ALL USE_64_BIT_INT USE_LARGE_FILES
                        USE_LOCALE USE_LOCALE_COLLATE USE_LOCALE_CTYPE
                        USE_LOCALE_NUMERIC USE_PERLIO USE_PERL_ATOF
  Built under freebsd
  Compiled at May 27 2014 13:55:26
  %ENV:
    PERL5LIB=""
    PERL5OPT=""
    PERL5_CPANPLUS_IS_RUNNING="56791"
    PERL5_CPAN_IS_RUNNING="56791"
    PERL5_CPAN_IS_RUNNING_IN_RECURSION="56709,56791"
    PERLDOC="-MPod::Perldoc::ToTextOverstrike"
    PERL_BATCH="yes"
    PERL_CANARY_STABILITY_NOPROMPT="1"
    PERL_CPAN_REPORTER_CONFIG="/var/tmp/cpansmoker-1023/2021032400/cpanreporter_000_config.ini"
    PERL_EXTUTILS_AUTOINSTALL="--defaultdeps"
    PERL_USE_UNSAFE_INC="1"
  @INC:
    /usr/perl5.20.0/lib/site_perl/5.20.0/amd64-freebsd
    /usr/perl5.20.0/lib/site_perl/5.20.0
    /usr/perl5.20.0/lib/5.20.0/amd64-freebsd
    /usr/perl5.20.0/lib/5.20.0
    .