Back
From: metabase:user:320bfe00-2aae-11df-837a-5e0a49663a4f
Subject: PASS Plack-Middleware-ServerStatus-Lite-0.36 v5.20.3 GNU/Linux
Date: 2017-01-02T20:47:04Z
This distribution has been tested as part of the CPAN Testers
project, supporting the Perl programming language. See
http://wiki.cpantesters.org/ for more information or email
questions to cpan-testers-discuss@perl.org
--
Dear Masahiro Nagano,
This is a computer-generated report for Plack-Middleware-ServerStatus-Lite-0.36
on perl 5.20.3, created by CPAN-Reporter-1.2018.
Thank you for uploading your work to CPAN. Congratulations!
All tests were successful.
Sections of this report:
* Tester comments
* Program output
* Prerequisites
* Environment and other context
------------------------------
TESTER COMMENTS
------------------------------
Additional comments from tester:
this report is from an automated smoke testing program
and was not reviewed by a human for accuracy
------------------------------
PROGRAM OUTPUT
------------------------------
Output from './Build test':
t/00_compile.t .............. ok
t/01_builder.t .............. ok
using Starman for test at t/02_server.t line 29.
2017/01/02-21:43:02 Starman::Server (type Net::Server::PreFork) starting! pid(24449)
Resolved [localhost]:50781 to [127.0.0.1]:50781, IPv4
Binding to TCP port 50781 on host 127.0.0.1 with IPv4
Setting gid to "1005 1005 1005"
2017/01/02-21:43:05 Server closing!
using Starlet for test at t/02_server.t line 29.
t/02_server.t ............... ok
using Starman for test at t/03_server_delayed_res.t line 29.
2017/01/02-21:43:09 Starman::Server (type Net::Server::PreFork) starting! pid(24468)
Resolved [localhost]:51216 to [127.0.0.1]:51216, IPv4
Binding to TCP port 51216 on host 127.0.0.1 with IPv4
Setting gid to "1005 1005 1005"
2017/01/02-21:43:12 Server closing!
using Starlet for test at t/03_server_delayed_res.t line 29.
using Starman for test at t/03_server_delayed_res.t line 89.
2017/01/02-21:43:15 Starman::Server (type Net::Server::PreFork) starting! pid(24486)
Resolved [localhost]:50240 to [127.0.0.1]:50240, IPv4
Binding to TCP port 50240 on host 127.0.0.1 with IPv4
Setting gid to "1005 1005 1005"
2017/01/02-21:43:18 Server closing!
using Starlet for test at t/03_server_delayed_res.t line 89.
t/03_server_delayed_res.t ... ok
using Starman for test at t/04_json.t line 31.
2017/01/02-21:43:21 Starman::Server (type Net::Server::PreFork) starting! pid(24506)
Resolved [localhost]:50820 to [127.0.0.1]:50820, IPv4
Binding to TCP port 50820 on host 127.0.0.1 with IPv4
Setting gid to "1005 1005 1005"
2017/01/02-21:43:24 Server closing!
using Starlet for test at t/04_json.t line 31.
t/04_json.t ................. ok
using Starman for test at t/05_counter.t line 31.
2017/01/02-21:43:28 Starman::Server (type Net::Server::PreFork) starting! pid(24525)
Resolved [localhost]:50838 to [127.0.0.1]:50838, IPv4
Binding to TCP port 50838 on host 127.0.0.1 with IPv4
Setting gid to "1005 1005 1005"
2017/01/02-21:43:28 Server closing!
using Starlet for test at t/05_counter.t line 31.
t/05_counter.t .............. ok
using Starman for test at t/06_counter_delayed_res.t line 33.
2017/01/02-21:43:28 Starman::Server (type Net::Server::PreFork) starting! pid(24542)
Resolved [localhost]:51373 to [127.0.0.1]:51373, IPv4
Binding to TCP port 51373 on host 127.0.0.1 with IPv4
Setting gid to "1005 1005 1005"
2017/01/02-21:43:28 Server closing!
using Starlet for test at t/06_counter_delayed_res.t line 33.
using Starman for test at t/06_counter_delayed_res.t line 95.
2017/01/02-21:43:28 Starman::Server (type Net::Server::PreFork) starting! pid(24558)
Resolved [localhost]:51093 to [127.0.0.1]:51093, IPv4
Binding to TCP port 51093 on host 127.0.0.1 with IPv4
Setting gid to "1005 1005 1005"
2017/01/02-21:43:28 Server closing!
using Starlet for test at t/06_counter_delayed_res.t line 95.
t/06_counter_delayed_res.t .. ok
using Starman for test at t/07_skip_ps.t line 29.
2017/01/02-21:43:29 Starman::Server (type Net::Server::PreFork) starting! pid(24575)
Resolved [localhost]:50972 to [127.0.0.1]:50972, IPv4
Binding to TCP port 50972 on host 127.0.0.1 with IPv4
Setting gid to "1005 1005 1005"
2017/01/02-21:43:30 Server closing!
using Starlet for test at t/07_skip_ps.t line 29.
t/07_skip_ps.t .............. ok
2017/01/02-21:43:31 Starman::Server (type Net::Server::PreFork) starting! pid(24588)
Resolved [localhost]:50882 to [127.0.0.1]:50882, IPv4
Binding to TCP port 50882 on host 127.0.0.1 with IPv4
Setting gid to "1005 1005 1005"
2017/01/02-21:43:34 Server closing!
t/08_command.t .............. ok
All tests successful.
Files=9, Tests=146, 32 wallclock secs ( 0.06 usr 0.05 sys + 2.63 cusr 1.27 csys = 4.01 CPU)
Result: PASS
------------------------------
PREREQUISITES
------------------------------
Prerequisite modules loaded:
requires:
Module Need Have
-------------------- ------ --------
Getopt::Long 2.38 2.49
JSON 2.53 2.90
Net::CIDR::Lite 0 0.21
Parallel::Scoreboard 0.03 0.08
parent 0 0.228
Plack::Middleware 0 0
Pod::Usage 0 1.69
Try::Tiny 0.09 0.27
build_requires:
Module Need Have
-------------------- ------ --------
B 0 1.48
Capture::Tiny 0 0.44
LWP::UserAgent 0 6.15
Starman 0.3013 0.4014
Test::More 0 1.302073
Test::SharedFork 0 0.35
Test::TCP 2.00 2.17
configure_requires:
Module Need Have
-------------------- ------ --------
Module::Build 0.38 0.4220
------------------------------
ENVIRONMENT AND OTHER CONTEXT
------------------------------
Environment variables:
AUTOMATED_TESTING = 1
LANG = C
PATH = /home/sand/bin:/usr/local/bin:/usr/bin:/bin:/usr/games:/usr/local/perl/bin:/usr/X11/bin:/sbin:/usr/sbin
PERL5LIB = /tmp/loop_over_bdir-11115-TE7PI6/Net-DNS-1.07-0/blib/arch:/tmp/loop_over_bdir-11115-TE7PI6/Net-DNS-1.07-0/blib/lib
PERL5OPT =
PERL5_CPANPLUS_IS_RUNNING = 7066
PERL5_CPAN_IS_RUNNING = 7066
PERL_CANARY_STABILITY_NOPROMPT = 1
PERL_MM_USE_DEFAULT = 1
SHELL = /usr/bin/zsh
TERM = screen
Perl special variables (and OS-specific diagnostics, for MSWin32):
$^X = /tmp/basesmoker-reloperl-uOjY/bin/perl
$UID/$EUID = 1005 / 1005
$GID = 1005 1005
$EGID = 1005 1005
Perl module toolchain versions installed:
Module Have
------------------- --------
CPAN 2.15
CPAN::Meta 2.150010
Cwd 3.62
ExtUtils::CBuilder 0.280224
ExtUtils::Command 7.24
ExtUtils::Install 2.04
ExtUtils::MakeMaker 7.24
ExtUtils::Manifest 1.70
ExtUtils::ParseXS 3.30
File::Spec 3.62
JSON 2.90
JSON::PP 2.27400
Module::Build 0.4220
Module::Signature 0.81
Parse::CPAN::Meta 2.150010
Test::Harness 3.36
Test::More 1.302073
YAML 1.21
YAML::Syck 1.29
version 0.9909
--
Summary of my perl5 (revision 5 version 20 subversion 3) configuration:
Derived from: b67331aafd6eff33e3fd904c45e811f69cbfb0b2
Platform:
osname=linux, osvers=4.8.0-2-amd64, archname=x86_64-linux-ld
uname='linux k93x64sid 4.8.0-2-amd64 #1 smp debian 4.8.11-1 (2016-12-02) x86_64 gnulinux '
config_args='-Dprefix=/home/sand/src/perl/repoperls/installed-perls/host/k93x64sid/v5.20.3/ea6c -Dmyhostname=k93x64sid -Dinstallusrbinperl=n -Uversiononly -Dusedevel -des -Ui_db -Dlibswanted=cl pthread socket inet nsl gdbm dbm malloc dl ld sun m crypt sec util c cposix posix ucb BSD gdbm_compat -Uuseithreads -Duselongdouble -DDEBUGGING=both'
hint=recommended, useposix=true, d_sigaction=define
useithreads=undef, usemultiplicity=undef
use64bitint=define, use64bitall=define, uselongdouble=define
usemymalloc=n, bincompat5005=undef
Compiler:
cc='cc', ccflags ='-fwrapv -DDEBUGGING -fno-strict-aliasing -pipe -fstack-protector -I/usr/local/include -D_LARGEFILE_SOURCE -D_FILE_OFFSET_BITS=64',
optimize='-O2 -g',
cppflags='-fwrapv -DDEBUGGING -fno-strict-aliasing -pipe -fstack-protector -I/usr/local/include'
ccversion='', gccversion='6.3.0 20161229', gccosandvers=''
intsize=4, longsize=8, ptrsize=8, doublesize=8, byteorder=12345678
d_longlong=define, longlongsize=8, d_longdbl=define, longdblsize=16
ivtype='long', ivsize=8, nvtype='long double', nvsize=16, Off_t='off_t', lseeksize=8
alignbytes=16, prototype=define
Linker and Libraries:
ld='cc', ldflags =' -fstack-protector -L/usr/local/lib'
libpth=/usr/local/lib /usr/lib/gcc/x86_64-linux-gnu/6/include-fixed /usr/include/x86_64-linux-gnu /usr/lib /lib/x86_64-linux-gnu /lib/../lib /usr/lib/x86_64-linux-gnu /usr/lib/../lib /lib
libs=-lpthread -lnsl -ldl -lm -lcrypt -lutil -lc
perllibs=-lpthread -lnsl -ldl -lm -lcrypt -lutil -lc
libc=libc-2.24.so, so=so, useshrplib=false, libperl=libperl.a
gnulibc_version='2.24'
Dynamic Linking:
dlsrc=dl_dlopen.xs, dlext=so, d_dlsymun=undef, ccdlflags='-Wl,-E'
cccdlflags='-fPIC', lddlflags='-shared -O2 -g -L/usr/local/lib -fstack-protector'
Characteristics of this binary (from libperl):
Compile-time options: DEBUGGING HAS_TIMES PERLIO_LAYERS
PERL_DONT_CREATE_GVSV
PERL_HASH_FUNC_ONE_AT_A_TIME_HARD PERL_MALLOC_WRAP
PERL_NEW_COPY_ON_WRITE PERL_PRESERVE_IVUV
PERL_USE_DEVEL USE_64_BIT_ALL USE_64_BIT_INT
USE_LARGE_FILES USE_LOCALE USE_LOCALE_COLLATE
USE_LOCALE_CTYPE USE_LOCALE_NUMERIC USE_LONG_DOUBLE
USE_PERLIO USE_PERL_ATOF
Locally applied patches:
uncommitted-changes
Built under linux
Compiled at Jan 1 2017 13:00:30
%ENV:
PERL5LIB="/tmp/loop_over_bdir-11115-TE7PI6/Net-DNS-1.07-0/blib/arch:/tmp/loop_over_bdir-11115-TE7PI6/Net-DNS-1.07-0/blib/lib"
PERL5OPT=""
PERL5_CPANPLUS_IS_RUNNING="7066"
PERL5_CPAN_IS_RUNNING="7066"
PERL_CANARY_STABILITY_NOPROMPT="1"
PERL_MM_USE_DEFAULT="1"
@INC:
/tmp/loop_over_bdir-11115-TE7PI6/Net-DNS-1.07-0/blib/arch
/tmp/loop_over_bdir-11115-TE7PI6/Net-DNS-1.07-0/blib/lib
/home/sand/src/perl/repoperls/installed-perls/host/k93x64sid/v5.20.3/ea6c/lib/site_perl/5.20.3/x86_64-linux-ld
/home/sand/src/perl/repoperls/installed-perls/host/k93x64sid/v5.20.3/ea6c/lib/site_perl/5.20.3
/home/sand/src/perl/repoperls/installed-perls/host/k93x64sid/v5.20.3/ea6c/lib/5.20.3/x86_64-linux-ld
/home/sand/src/perl/repoperls/installed-perls/host/k93x64sid/v5.20.3/ea6c/lib/5.20.3
.