Set-Object v1.35 Perl 5 v5.18.3 i686-linux-thread-multi
- Status
- Pass
- From
- Nigel Horne
- Dist
-
Set-Object v1.35
- Platform
- Perl 5 v5.18.3 i686-linux-thread-multi
- Date
- 2017-10-23 19:51:53
- ID
- 9e6fa6a6-b82b-11e7-a2a8-d0c13ad602b4
This distribution has been tested as part of the CPAN Testers
project, supporting the Perl programming language. See
http://wiki.cpantesters.org/ for more information or email
questions to cpan-testers-discuss@perl.org
--
Dear Reini Urban,
This is a computer-generated report for Set-Object-1.35
on perl 5.18.3, created by CPAN-Reporter-1.2018.
Thank you for uploading your work to CPAN. Congratulations!
All tests were successful.
Sections of this report:
* Tester comments
* Program output
* Prerequisites
* Environment and other context
------------------------------
TESTER COMMENTS
------------------------------
Additional comments from tester:
this report is from an automated smoke testing program
and was not reviewed by a human for accuracy
------------------------------
PROGRAM OUTPUT
------------------------------
Output from '/usr/bin/make test':
"/home/njh/perl5/perlbrew/perls/perl-5.18.3/bin/perl" -MExtUtils::Command::MM -e 'cp_nonempty' -- Object.bs blib/arch/auto/Set/Object/Object.bs 644
PERL_DL_NONLAZY=1 "/home/njh/perl5/perlbrew/perls/perl-5.18.3/bin/perl" "-MExtUtils::Command::MM" "-MTest::Harness" "-e" "undef *Test::Harness::Switches; test_harness(0, 'blib/lib', 'blib/arch')" t/ingy/arrayref.t t/misc/kwalitee.t t/misc/leaks.t t/misc/leaktrace.t t/misc/manifest.t t/misc/meta.t t/misc/more_leaks.t t/misc/perl_minimum_version.t t/misc/pod.t t/misc/pod_coverage.t t/misc/segfault.t t/misc/threads.t t/misc/undef.t t/object/abuse.t t/object/clear.t t/object/difference.t t/object/equal.t t/object/flags.t t/object/includes.t t/object/insert.t t/object/intersection.t t/object/members.t t/object/properties.t t/object/refcount.t t/object/remove.t t/object/set_subclass.t t/object/storable.t t/object/subsuper.t t/object/symmetric_difference.t t/object/union.t t/object/weakref.t t/scalar/basic.t t/scalar/basic_overload.t t/scalar/boolean.t t/scalar/clear.t t/scalar/compare.t t/scalar/custom_display.t t/scalar/difference.t t/scalar/each.t t/scalar/has.t t/scalar/intersection.t t/scalar/member.t t/scalar/misc.t t/scalar/set_set.t t/scalar/storable.t t/scalar/symmdiff.t t/scalar/union.t t/scalar/unique.t
t/misc/kwalitee.t ................ skipped: This test is only run for the module author
t/ingy/arrayref.t ................ ok
t/misc/leaktrace.t ............... skipped: require Test::LeakTrace
t/misc/leaks.t ................... ok
t/misc/manifest.t ................ skipped: Author tests not required for installation
t/misc/meta.t .................... skipped: This test is only run for the module author
t/misc/more_leaks.t .............. skipped: Test::LeakTrace missing
t/misc/perl_minimum_version.t .... skipped: Author tests not required for installation
t/misc/pod.t ..................... skipped: Test::Pod 1.00 required for testing POD
t/misc/pod_coverage.t ............ skipped: Test::Pod::Coverage required for testing POD coverage
t/misc/segfault.t ................ ok
t/misc/undef.t ................... ok
t/object/abuse.t ................. ok
Attempt to free nonexistent shared string '2', Perl interpreter: 0x80a2e4e0 at t/misc/threads.t line 44.
Attempt to free nonexistent shared string '3', Perl interpreter: 0x80a2e4e0 at t/misc/threads.t line 44.
Attempt to free nonexistent shared string '4', Perl interpreter: 0x80a2e4e0 at t/misc/threads.t line 44.
Attempt to free nonexistent shared string '5', Perl interpreter: 0x80a2e4e0 at t/misc/threads.t line 44.
Attempt to free nonexistent shared string '6', Perl interpreter: 0x80a2e4e0 at t/misc/threads.t line 44.
Attempt to free nonexistent shared string '7', Perl interpreter: 0x80a2e4e0 at t/misc/threads.t line 44.
Attempt to free nonexistent shared string '8', Perl interpreter: 0x80a2e4e0 at t/misc/threads.t line 44.
Attempt to free nonexistent shared string '9', Perl interpreter: 0x80a2e4e0 at t/misc/threads.t line 44.
Unbalanced string table refcount: (1) for "3" during global destruction.
Unbalanced string table refcount: (1) for "2" during global destruction.
Unbalanced string table refcount: (1) for "9" during global destruction.
Unbalanced string table refcount: (1) for "4" during global destruction.
Unbalanced string table refcount: (1) for "7" during global destruction.
Unbalanced string table refcount: (1) for "8" during global destruction.
Unbalanced string table refcount: (1) for "5" during global destruction.
Unbalanced string table refcount: (1) for "6" during global destruction.
t/misc/threads.t ................. ok
t/object/clear.t ................. ok
t/object/difference.t ............ ok
t/object/equal.t ................. ok
t/object/flags.t ................. ok
t/object/includes.t .............. ok
t/object/insert.t ................ ok
t/object/intersection.t .......... ok
t/object/members.t ............... ok
t/object/refcount.t .............. ok
t/object/properties.t ............ ok
t/object/remove.t ................ ok
t/object/set_subclass.t .......... ok
t/object/subsuper.t .............. ok
t/object/symmetric_difference.t .. ok
t/object/storable.t .............. ok
t/object/union.t ................. ok
t/scalar/basic.t ................. ok
t/object/weakref.t ............... ok
t/scalar/basic_overload.t ........ ok
t/scalar/boolean.t ............... ok
t/scalar/clear.t ................. ok
t/scalar/compare.t ............... ok
t/scalar/custom_display.t ........ ok
t/scalar/difference.t ............ ok
t/scalar/each.t .................. skipped: TO-DO
t/scalar/has.t ................... ok
t/scalar/intersection.t .......... ok
t/scalar/member.t ................ ok
t/scalar/misc.t .................. ok
t/scalar/set_set.t ............... ok
t/scalar/symmdiff.t .............. ok
t/scalar/storable.t .............. ok
t/scalar/union.t ................. ok
t/scalar/unique.t ................ ok
All tests successful.
Files=48, Tests=452, 1 wallclock secs ( 0.18 usr 0.04 sys + 1.39 cusr 0.13 csys = 1.74 CPU)
Result: PASS
------------------------------
PREREQUISITES
------------------------------
Prerequisite modules loaded:
requires:
Module Need Have
------------------- ---- ----
Scalar::Util 0 1.27
Test::More 0 0.98
build_requires:
Module Need Have
------------------- ---- ----
ExtUtils::MakeMaker 0 7.30
configure_requires:
Module Need Have
------------------- ---- ----
ExtUtils::MakeMaker 0 7.30
------------------------------
ENVIRONMENT AND OTHER CONTEXT
------------------------------
Environment variables:
AUTOMATED_TESTING = 1
HARNESS_OPTIONS = j2
LANG = en_US.UTF-8
PATH = /home/njh/perl5/perlbrew/bin:/home/njh/perl5/perlbrew/perls/perl-5.18.3/bin:/home/njh/perl5/perlbrew/bin:/usr/bin:/bin
PERL5LIB = /home/njh/.cpan/build/Data-Compare-1.25-InPHko/blib/arch:/home/njh/.cpan/build/Data-Compare-1.25-InPHko/blib/lib:/home/njh/.cpan/build/File-Find-Rule-0.34-209c8O/blib/arch:/home/njh/.cpan/build/File-Find-Rule-0.34-209c8O/blib/lib:/home/njh/.cpan/build/Number-Compare-0.03-GakAmw/blib/arch:/home/njh/.cpan/build/Number-Compare-0.03-GakAmw/blib/lib:/home/njh/.cpan/build/Text-Glob-0.11-mmYNcE/blib/arch:/home/njh/.cpan/build/Text-Glob-0.11-mmYNcE/blib/lib
PERL5OPT =
PERL5_CPANPLUS_IS_RUNNING = 22352
PERL5_CPAN_IS_RUNNING = 22352
PERLBREW_BASHRC_VERSION = 0.73
PERLBREW_HOME = /home/njh/.perlbrew
PERLBREW_LIB =
PERLBREW_MANPATH = /home/njh/perl5/perlbrew/perls/perl-5.18.3/man
PERLBREW_PATH = /home/njh/perl5/perlbrew/bin:/home/njh/perl5/perlbrew/perls/perl-5.18.3/bin
PERLBREW_PERL = perl-5.18.3
PERLBREW_ROOT = /home/njh/perl5/perlbrew
PERLBREW_VERSION = 0.73
PERL_LOCAL_LIB_ROOT =
SHELL = /bin/sh
Perl special variables (and OS-specific diagnostics, for MSWin32):
$^X = /home/njh/perl5/perlbrew/perls/perl-5.18.3/bin/perl
$UID/$EUID = 1000 / 1000
$GID = 1000 4 24 25 29 30 44 46 108 1000
$EGID = 1000 4 24 25 29 30 44 46 108 1000
Perl module toolchain versions installed:
Module Have
------------------- --------
CPAN 2.00
CPAN::Meta 2.143240
Cwd 3.40
ExtUtils::CBuilder 0.280210
ExtUtils::Command 7.30
ExtUtils::Install 2.06
ExtUtils::MakeMaker 7.30
ExtUtils::Manifest 1.70
ExtUtils::ParseXS 3.18
File::Spec 3.40
JSON n/a
JSON::PP 2.27203
Module::Build 0.4003
Module::Signature n/a
Parse::CPAN::Meta 1.4414
Test::Harness 3.26
Test::More 0.98
YAML n/a
YAML::Syck n/a
version 0.9902
--
Summary of my perl5 (revision 5 version 18 subversion 3) configuration:
Platform:
osname=linux, osvers=4.3.0-1-686-pae, archname=i686-linux-thread-multi
uname='linux zack 4.3.0-1-686-pae #1 smp debian 4.3.5-1 (2016-02-06) i686 gnulinux '
config_args='-de -Dprefix=/home/njh/perl5/perlbrew/perls/perl-5.18.3 -Duseithreads -Dusemultiplicity -Dusedevel -Accflags= -Aeval:scriptdir=/home/njh/perl5/perlbrew/perls/perl-5.18.3/bin'
hint=recommended, useposix=true, d_sigaction=define
useithreads=define, usemultiplicity=define
useperlio=define, d_sfio=undef, uselargefiles=define, usesocks=undef
use64bitint=undef, use64bitall=undef, uselongdouble=undef
usemymalloc=n, bincompat5005=undef
Compiler:
cc='cc', ccflags ='-D_REENTRANT -D_GNU_SOURCE -fno-strict-aliasing -pipe -fstack-protector -I/usr/local/include -D_LARGEFILE_SOURCE -D_FILE_OFFSET_BITS=64',
optimize='-O2',
cppflags='-D_REENTRANT -D_GNU_SOURCE -fno-strict-aliasing -pipe -fstack-protector -I/usr/local/include'
ccversion='', gccversion='6.4.0 20170704', gccosandvers=''
intsize=4, longsize=4, ptrsize=4, doublesize=8, byteorder=1234
d_longlong=define, longlongsize=8, d_longdbl=define, longdblsize=12
ivtype='long', ivsize=4, nvtype='double', nvsize=8, Off_t='off_t', lseeksize=8
alignbytes=4, prototype=define
Linker and Libraries:
ld='cc', ldflags =' -fstack-protector -L/usr/local/lib'
libpth=/usr/local/lib /lib/i386-linux-gnu /lib/../lib /usr/lib/i386-linux-gnu /usr/lib/../lib /lib /usr/lib
libs=-lnsl -lgdbm -ldb -ldl -lm -lcrypt -lutil -lpthread -lc -lgdbm_compat
perllibs=-lnsl -ldl -lm -lcrypt -lutil -lpthread -lc
libc=libc-2.24.so, so=so, useshrplib=false, libperl=libperl.a
gnulibc_version='2.24'
Dynamic Linking:
dlsrc=dl_dlopen.xs, dlext=so, d_dlsymun=undef, ccdlflags='-Wl,-E'
cccdlflags='-fPIC', lddlflags='-shared -O2 -L/usr/local/lib -fstack-protector'
Characteristics of this binary (from libperl):
Compile-time options: HAS_TIMES MULTIPLICITY PERLIO_LAYERS
PERL_DONT_CREATE_GVSV
PERL_HASH_FUNC_ONE_AT_A_TIME_HARD
PERL_IMPLICIT_CONTEXT PERL_MALLOC_WRAP
PERL_PRESERVE_IVUV PERL_SAWAMPERSAND PERL_USE_DEVEL
USE_ITHREADS USE_LARGE_FILES USE_LOCALE
USE_LOCALE_COLLATE USE_LOCALE_CTYPE
USE_LOCALE_NUMERIC USE_PERLIO USE_PERL_ATOF
USE_REENTRANT_API
Locally applied patches:
Devel::PatchPerl 1.38
Built under linux
Compiled at Jul 27 2017 00:55:10
%ENV:
PERL5LIB="/home/njh/.cpan/build/Data-Compare-1.25-InPHko/blib/arch:/home/njh/.cpan/build/Data-Compare-1.25-InPHko/blib/lib:/home/njh/.cpan/build/File-Find-Rule-0.34-209c8O/blib/arch:/home/njh/.cpan/build/File-Find-Rule-0.34-209c8O/blib/lib:/home/njh/.cpan/build/Number-Compare-0.03-GakAmw/blib/arch:/home/njh/.cpan/build/Number-Compare-0.03-GakAmw/blib/lib:/home/njh/.cpan/build/Text-Glob-0.11-mmYNcE/blib/arch:/home/njh/.cpan/build/Text-Glob-0.11-mmYNcE/blib/lib"
PERL5OPT=""
PERL5_CPANPLUS_IS_RUNNING="22352"
PERL5_CPAN_IS_RUNNING="22352"
PERLBREW_BASHRC_VERSION="0.73"
PERLBREW_HOME="/home/njh/.perlbrew"
PERLBREW_LIB=""
PERLBREW_MANPATH="/home/njh/perl5/perlbrew/perls/perl-5.18.3/man"
PERLBREW_PATH="/home/njh/perl5/perlbrew/bin:/home/njh/perl5/perlbrew/perls/perl-5.18.3/bin"
PERLBREW_PERL="perl-5.18.3"
PERLBREW_ROOT="/home/njh/perl5/perlbrew"
PERLBREW_VERSION="0.73"
PERL_LOCAL_LIB_ROOT=""
@INC:
/home/njh/.cpan/build/Data-Compare-1.25-InPHko/blib/arch
/home/njh/.cpan/build/Data-Compare-1.25-InPHko/blib/lib
/home/njh/.cpan/build/File-Find-Rule-0.34-209c8O/blib/arch
/home/njh/.cpan/build/File-Find-Rule-0.34-209c8O/blib/lib
/home/njh/.cpan/build/Number-Compare-0.03-GakAmw/blib/arch
/home/njh/.cpan/build/Number-Compare-0.03-GakAmw/blib/lib
/home/njh/.cpan/build/Text-Glob-0.11-mmYNcE/blib/arch
/home/njh/.cpan/build/Text-Glob-0.11-mmYNcE/blib/lib
/home/njh/perl5/perlbrew/perls/perl-5.18.3/lib/site_perl/5.18.3/i686-linux-thread-multi
/home/njh/perl5/perlbrew/perls/perl-5.18.3/lib/site_perl/5.18.3
/home/njh/perl5/perlbrew/perls/perl-5.18.3/lib/5.18.3/i686-linux-thread-multi
/home/njh/perl5/perlbrew/perls/perl-5.18.3/lib/5.18.3
.