Webservice-InterMine v1.0405 Perl 5 v5.28.0 x86_64-linux-thread-multi

Status
Pass
From
Andreas J. König (ANDK)
Dist
Webservice-InterMine v1.0405
Platform
Perl 5 v5.28.0 x86_64-linux-thread-multi
Date
2018-11-13 11:38:19
ID
9e6dd1c2-e738-11e8-b1b0-1279b1e15e4d
This distribution has been tested as part of the CPAN Testers
project, supporting the Perl programming language.  See
http://wiki.cpantesters.org/ for more information or email
questions to cpan-testers-discuss@perl.org


--
Dear InterMine,

This is a computer-generated report for Webservice-InterMine-1.0405
on perl 5.28.0, created by CPAN-Reporter-1.2018.

Thank you for uploading your work to CPAN.  Congratulations!
All tests were successful.

Sections of this report:

    * Tester comments
    * Program output
    * Prerequisites
    * Environment and other context

------------------------------
TESTER COMMENTS
------------------------------

Additional comments from tester:

this report is from an automated smoke testing program
and was not reviewed by a human for accuracy

------------------------------
PROGRAM OUTPUT
------------------------------

Output from './Build test':

# Testing Webservice::Webservice::InterMine 1.0405, Perl 5.028000, /tmp/basesmoker-reloperl-4Ea5/bin/perl
t/00-load.t ................................ ok
t/01_path/01_validate.t .................... ok
t/02_pathfeature/01_pathfeature.t .......... ok
t/03_constraint/01_constraint.t ............ ok
t/03_constraint/02_constraint_factory.t .... ok
t/03_constraint/03_template_constraints.t .. ok
t/03_constraint/04_logic.t ................. ok
t/04_query/01_core.t ....................... ok
t/04_query/02_pathquery.t .................. ok
t/04_query/03_saved.t ...................... ok
t/04_query/03_scripted.t ................... ok
t/04_query/04_template.t ................... ok
t/04_query/05_good_and_bad_templates.t ..... ok
t/05_template/01_factory.t ................. ok
t/06_service/01_service.t .................. ok
t/06_service/02_result_iterator.t .......... ok
t/06_service/03_result_objects.t ........... ok
t/06_service/04_serviced_queries.t ......... ok
t/06_service/05_result_row.t ............... ok
t/06_service/06_test_export_exclusion.t .... ok
t/06_service/07_test_inclusion.t ........... ok
t/07_intermine/01_integration.t ............ ok
t/10_acceptance/01_live_test.t ............. skipped: Acceptance tests for release testing only
t/10_acceptance/02_lists.t ................. skipped: Acceptance tests for release testing only
t/10_acceptance/02_lists_with_tokens.t ..... skipped: Acceptance tests for release testing only
t/10_acceptance/04_paths.t ................. skipped: Acceptance tests for release testing only
t/10_acceptance/05_summaries.t ............. skipped: Acceptance tests for release testing only
t/10_acceptance/06_redirection.t ........... skipped: Acceptance tests for release testing only
t/10_acceptance/07_lazy_references.t ....... skipped: Acceptance tests for release testing only
t/10_acceptance/08_enrichment.t ............ skipped: Acceptance tests for release testing only
t/10_acceptance/09_widgets.t ............... skipped: Acceptance tests for release testing only
t/10_acceptance/10_id_resolution.t ......... skipped: Acceptance tests for release testing only
t/manifest.t ............................... skipped: Author tests not required for installation
t/moose-hygiene.t .......................... ok
t/pod-coverage.t ........................... skipped: Complete documentation coverage is coming shortly
t/pod.t .................................... ok
All tests successful.
Files=36, Tests=4583, 35 wallclock secs ( 0.33 usr  0.33 sys + 32.32 cusr  2.32 csys = 35.30 CPU)
Result: PASS

------------------------------
PREREQUISITES
------------------------------

Prerequisite modules loaded:

requires:

    Module                        Need   Have      
    ----------------------------- ------ ----------
    AppConfig                     0      1.71      
    Class::InsideOut              1.04   1.14      
    DateTime                      0      1.50      
    DateTime::Format::ISO8601     0      0.08      
    HTTP::Request::Common         0      6.18      
    HTTP::Response                0      6.18      
    InterMine::Model              0.9901 0.9901    
    IO::File                      0      1.39      
    IO::Handle                    0      1.39      
    JSON                          0      2.97001   
    JSON::XS                      0      3.04      
    List::MoreUtils               0.22   0.428     
    LWP                           5.8    6.36      
    MIME::Base64                  0      3.15      
    Module::Build                 0      0.4224    
    Module::Find                  0.05   0.13      
    Moose                         0.95   2.2011    
    MooseX::Role::WithOverloading 0.03   0.17      
    MooseX::Types                 0.34   0.50      
    perl                          v5.8.3 5.028000  
    Perl6::Junction               0      1.60000   
    Pod::Usage                    0      1.69      
    Scalar::Util                  0      1.50      
    Set::Object                   0      1.39      
    Time::HiRes                   0      1.9759    
    URI                           1.37   1.74      
    XML::DOM                      0      1.46      
    XML::Parser::PerlSAX          0.08   0.08      

build_requires:

    Module                        Need   Have      
    ----------------------------- ------ ----------
    Module::Build                 0.36   0.4224    
    Set::CrossProduct             0      2.003     
    Test::Class                   0      0.50      
    Test::Exception               0      0.43      
    Test::MockObject              0      1.20180705
    Test::MockObject::Extends     0      1.20180705
    Test::More                    0.9    1.302140  
    Test::XML                     0      0.08      
    XML::Compare                  0.04   0.05      
    XML::Rules                    0      1.16      

configure_requires:

    Module                        Need   Have      
    ----------------------------- ------ ----------
    Module::Build                 0.36   0.4224    


------------------------------
ENVIRONMENT AND OTHER CONTEXT
------------------------------

Environment variables:

    AUTOMATED_TESTING = 1
    LANG = en_US.UTF-8
    PATH = /home/sand/bin:/usr/local/bin:/usr/bin:/bin:/usr/games:/usr/local/perl/bin:/usr/X11/bin:/sbin:/usr/sbin
    PERL5LIB = 
    PERL5OPT = 
    PERL5_CPANPLUS_IS_RUNNING = 24210
    PERL5_CPAN_IS_RUNNING = 24210
    PERL_CANARY_STABILITY_NOPROMPT = 1
    PERL_MM_USE_DEFAULT = 1
    PERL_USE_UNSAFE_INC = 1
    SHELL = /usr/bin/zsh
    TERM = screen

Perl special variables (and OS-specific diagnostics, for MSWin32):

    $^X = /tmp/basesmoker-reloperl-4Ea5/bin/perl
    $UID/$EUID = 1005 / 1005
    $GID = 1005 1005
    $EGID = 1005 1005

Perl module toolchain versions installed:

    Module              Have    
    ------------------- --------
    CPAN                2.21    
    CPAN::Meta          2.150010
    Cwd                 3.75    
    ExtUtils::CBuilder  0.280230
    ExtUtils::Command   7.34    
    ExtUtils::Install   2.14    
    ExtUtils::MakeMaker 7.34    
    ExtUtils::Manifest  1.70    
    ExtUtils::ParseXS   3.39    
    File::Spec          3.75    
    JSON                2.97001 
    JSON::PP            2.97001 
    Module::Build       0.4224  
    Module::Signature   0.83    
    Parse::CPAN::Meta   2.150010
    Test::Harness       3.42    
    Test::More          1.302140
    YAML                1.27    
    YAML::Syck          1.31    
    version             0.9923  


--

Summary of my perl5 (revision 5 version 28 subversion 0) configuration:
  Commit id: 6cb72a3d7fbefb477b95588e2fd81e33073da8b3
  Platform:
    osname=linux
    osvers=4.18.0-2-amd64
    archname=x86_64-linux-thread-multi
    uname='linux k93x64sid 4.18.0-2-amd64 #1 smp debian 4.18.10-2 (2018-11-02) x86_64 gnulinux '
    config_args='-Dprefix=/home/sand/src/perl/repoperls/installed-perls/host/k93x64sid/v5.28.0/c310 -Dmyhostname=k93x64sid -Dinstallusrbinperl=n -Uversiononly -Dusedevel -des -Ui_db -Dlibswanted=cl pthread socket inet nsl gdbm dbm malloc dl ld sun m crypt sec util c cposix posix ucb BSD gdbm_compat -Duseithreads -Uuselongdouble -DEBUGGING=-g'
    hint=recommended
    useposix=true
    d_sigaction=define
    useithreads=define
    usemultiplicity=define
    use64bitint=define
    use64bitall=define
    uselongdouble=undef
    usemymalloc=n
    default_inc_excludes_dot=define
    bincompat5005=undef
  Compiler:
    cc='cc'
    ccflags ='-D_REENTRANT -D_GNU_SOURCE -fwrapv -fno-strict-aliasing -pipe -fstack-protector-strong -I/usr/local/include -D_LARGEFILE_SOURCE -D_FILE_OFFSET_BITS=64'
    optimize='-O2 -g'
    cppflags='-D_REENTRANT -D_GNU_SOURCE -fwrapv -fno-strict-aliasing -pipe -fstack-protector-strong -I/usr/local/include'
    ccversion=''
    gccversion='8.2.0'
    gccosandvers=''
    intsize=4
    longsize=8
    ptrsize=8
    doublesize=8
    byteorder=12345678
    doublekind=3
    d_longlong=define
    longlongsize=8
    d_longdbl=define
    longdblsize=16
    longdblkind=3
    ivtype='long'
    ivsize=8
    nvtype='double'
    nvsize=8
    Off_t='off_t'
    lseeksize=8
    alignbytes=8
    prototype=define
  Linker and Libraries:
    ld='cc'
    ldflags =' -fstack-protector-strong -L/usr/local/lib'
    libpth=/usr/local/lib /usr/lib/gcc/x86_64-linux-gnu/8/include-fixed /usr/include/x86_64-linux-gnu /usr/lib /lib/x86_64-linux-gnu /lib/../lib /usr/lib/x86_64-linux-gnu /usr/lib/../lib /lib
    libs=-lpthread -lnsl -ldl -lm -lcrypt -lutil -lc
    perllibs=-lpthread -lnsl -ldl -lm -lcrypt -lutil -lc
    libc=libc-2.27.so
    so=so
    useshrplib=false
    libperl=libperl.a
    gnulibc_version='2.27'
  Dynamic Linking:
    dlsrc=dl_dlopen.xs
    dlext=so
    d_dlsymun=undef
    ccdlflags='-Wl,-E'
    cccdlflags='-fPIC'
    lddlflags='-shared -O2 -g -L/usr/local/lib -fstack-protector-strong'


Characteristics of this binary (from libperl): 
  Compile-time options:
    HAS_TIMES
    MULTIPLICITY
    PERLIO_LAYERS
    PERL_COPY_ON_WRITE
    PERL_DONT_CREATE_GVSV
    PERL_IMPLICIT_CONTEXT
    PERL_MALLOC_WRAP
    PERL_OP_PARENT
    PERL_PRESERVE_IVUV
    PERL_USE_DEVEL
    USE_64_BIT_ALL
    USE_64_BIT_INT
    USE_ITHREADS
    USE_LARGE_FILES
    USE_LOCALE
    USE_LOCALE_COLLATE
    USE_LOCALE_CTYPE
    USE_LOCALE_NUMERIC
    USE_LOCALE_TIME
    USE_PERLIO
    USE_PERL_ATOF
    USE_REENTRANT_API
  Built under linux
  Compiled at Nov 12 2018 06:49:03
  %ENV:
    PERL5LIB=""
    PERL5OPT=""
    PERL5_CPANPLUS_IS_RUNNING="24210"
    PERL5_CPAN_IS_RUNNING="24210"
    PERL_CANARY_STABILITY_NOPROMPT="1"
    PERL_MM_USE_DEFAULT="1"
    PERL_USE_UNSAFE_INC="1"
  @INC:
    /home/sand/src/perl/repoperls/installed-perls/host/k93x64sid/v5.28.0/c310/lib/site_perl/5.28.0/x86_64-linux-thread-multi
    /home/sand/src/perl/repoperls/installed-perls/host/k93x64sid/v5.28.0/c310/lib/site_perl/5.28.0
    /home/sand/src/perl/repoperls/installed-perls/host/k93x64sid/v5.28.0/c310/lib/5.28.0/x86_64-linux-thread-multi
    /home/sand/src/perl/repoperls/installed-perls/host/k93x64sid/v5.28.0/c310/lib/5.28.0
    .