Getopt-LL v1.0.0 Perl 5 v5.13.2 i686-linux

Status
Pass
From
Serguei Trouchelle (STRO)
Dist
Getopt-LL v1.0.0
Platform
Perl 5 v5.13.2 i686-linux
Date
2010-07-12 17:40:53
ID
9e644b8e-8ddc-11df-af36-8549d30b2354
This distribution has been tested as part of the CPAN Testers
project, supporting the Perl programming language.  See
http://wiki.cpantesters.org/ for more information or email
questions to cpan-testers-discuss@perl.org


--
Dear Ask Solem,

This is a computer-generated report for Getopt-LL-1.0.0
on perl 5.13.2, created by CPAN-Reporter-1.1711.

Thank you for uploading your work to CPAN.  Congratulations!
All tests were successful.

Sections of this report:

    * Tester comments
    * Program output
    * Prerequisites
    * Environment and other context

------------------------------
TESTER COMMENTS
------------------------------

Additional comments from tester:

this report is from an automated smoke testing program
and was not reviewed by a human for accuracy

------------------------------
PROGRAM OUTPUT
------------------------------

Output from './Build test':

Prototype after '@' for Class::Dot::Policy::extends : @; at /home/stro/perl/perl5132/lib/site_perl/5.13.2/Class/Dot/Policy.pm line 270.
Prototype after '@' for Class::Dot::Policy::composites : @; at /home/stro/perl/perl5132/lib/site_perl/5.13.2/Class/Dot/Policy.pm line 280.
Prototype after '@' for Class::Dot::Policy::composite : @; at /home/stro/perl/perl5132/lib/site_perl/5.13.2/Class/Dot/Policy.pm line 288.
Prototype after '@' for Class::Dot::Policy::after_property_get : @& at /home/stro/perl/perl5132/lib/site_perl/5.13.2/Class/Dot/Policy.pm line 292.
Prototype after '@' for Class::Dot::Policy::after_property_set : @& at /home/stro/perl/perl5132/lib/site_perl/5.13.2/Class/Dot/Policy.pm line 303.
Prototype after '@' for Class::Dot::Policy::to : @; at /home/stro/perl/perl5132/lib/site_perl/5.13.2/Class/Dot/Policy.pm line 315.
Prototype after '@' for Class::Dot::Policy::using : @; at /home/stro/perl/perl5132/lib/site_perl/5.13.2/Class/Dot/Policy.pm line 316.
# Testing Getopt::LL 1.0.0
t/00.load.t ................. ok
Prototype after '@' for Class::Dot::Policy::extends : @; at /home/stro/perl/perl5132/lib/site_perl/5.13.2/Class/Dot/Policy.pm line 270.
Prototype after '@' for Class::Dot::Policy::composites : @; at /home/stro/perl/perl5132/lib/site_perl/5.13.2/Class/Dot/Policy.pm line 280.
Prototype after '@' for Class::Dot::Policy::composite : @; at /home/stro/perl/perl5132/lib/site_perl/5.13.2/Class/Dot/Policy.pm line 288.
Prototype after '@' for Class::Dot::Policy::after_property_get : @& at /home/stro/perl/perl5132/lib/site_perl/5.13.2/Class/Dot/Policy.pm line 292.
Prototype after '@' for Class::Dot::Policy::after_property_set : @& at /home/stro/perl/perl5132/lib/site_perl/5.13.2/Class/Dot/Policy.pm line 303.
Prototype after '@' for Class::Dot::Policy::to : @; at /home/stro/perl/perl5132/lib/site_perl/5.13.2/Class/Dot/Policy.pm line 315.
Prototype after '@' for Class::Dot::Policy::using : @; at /home/stro/perl/perl5132/lib/site_perl/5.13.2/Class/Dot/Policy.pm line 316.
t/aliases.t ................. ok
Prototype after '@' for Class::Dot::Policy::extends : @; at /home/stro/perl/perl5132/lib/site_perl/5.13.2/Class/Dot/Policy.pm line 270.
Prototype after '@' for Class::Dot::Policy::composites : @; at /home/stro/perl/perl5132/lib/site_perl/5.13.2/Class/Dot/Policy.pm line 280.
Prototype after '@' for Class::Dot::Policy::composite : @; at /home/stro/perl/perl5132/lib/site_perl/5.13.2/Class/Dot/Policy.pm line 288.
Prototype after '@' for Class::Dot::Policy::after_property_get : @& at /home/stro/perl/perl5132/lib/site_perl/5.13.2/Class/Dot/Policy.pm line 292.
Prototype after '@' for Class::Dot::Policy::after_property_set : @& at /home/stro/perl/perl5132/lib/site_perl/5.13.2/Class/Dot/Policy.pm line 303.
Prototype after '@' for Class::Dot::Policy::to : @; at /home/stro/perl/perl5132/lib/site_perl/5.13.2/Class/Dot/Policy.pm line 315.
Prototype after '@' for Class::Dot::Policy::using : @; at /home/stro/perl/perl5132/lib/site_perl/5.13.2/Class/Dot/Policy.pm line 316.
t/dllist-node.t ............. ok
Prototype after '@' for Class::Dot::Policy::extends : @; at /home/stro/perl/perl5132/lib/site_perl/5.13.2/Class/Dot/Policy.pm line 270.
Prototype after '@' for Class::Dot::Policy::composites : @; at /home/stro/perl/perl5132/lib/site_perl/5.13.2/Class/Dot/Policy.pm line 280.
Prototype after '@' for Class::Dot::Policy::composite : @; at /home/stro/perl/perl5132/lib/site_perl/5.13.2/Class/Dot/Policy.pm line 288.
Prototype after '@' for Class::Dot::Policy::after_property_get : @& at /home/stro/perl/perl5132/lib/site_perl/5.13.2/Class/Dot/Policy.pm line 292.
Prototype after '@' for Class::Dot::Policy::after_property_set : @& at /home/stro/perl/perl5132/lib/site_perl/5.13.2/Class/Dot/Policy.pm line 303.
Prototype after '@' for Class::Dot::Policy::to : @; at /home/stro/perl/perl5132/lib/site_perl/5.13.2/Class/Dot/Policy.pm line 315.
Prototype after '@' for Class::Dot::Policy::using : @; at /home/stro/perl/perl5132/lib/site_perl/5.13.2/Class/Dot/Policy.pm line 316.
t/dllist.t .................. ok
Prototype after '@' for Class::Dot::Policy::extends : @; at /home/stro/perl/perl5132/lib/site_perl/5.13.2/Class/Dot/Policy.pm line 270.
Prototype after '@' for Class::Dot::Policy::composites : @; at /home/stro/perl/perl5132/lib/site_perl/5.13.2/Class/Dot/Policy.pm line 280.
Prototype after '@' for Class::Dot::Policy::composite : @; at /home/stro/perl/perl5132/lib/site_perl/5.13.2/Class/Dot/Policy.pm line 288.
Prototype after '@' for Class::Dot::Policy::after_property_get : @& at /home/stro/perl/perl5132/lib/site_perl/5.13.2/Class/Dot/Policy.pm line 292.
Prototype after '@' for Class::Dot::Policy::after_property_set : @& at /home/stro/perl/perl5132/lib/site_perl/5.13.2/Class/Dot/Policy.pm line 303.
Prototype after '@' for Class::Dot::Policy::to : @; at /home/stro/perl/perl5132/lib/site_perl/5.13.2/Class/Dot/Policy.pm line 315.
Prototype after '@' for Class::Dot::Policy::using : @; at /home/stro/perl/perl5132/lib/site_perl/5.13.2/Class/Dot/Policy.pm line 316.
t/gnu.t ..................... ok
Prototype after '@' for Class::Dot::Policy::extends : @; at /home/stro/perl/perl5132/lib/site_perl/5.13.2/Class/Dot/Policy.pm line 270.
Prototype after '@' for Class::Dot::Policy::composites : @; at /home/stro/perl/perl5132/lib/site_perl/5.13.2/Class/Dot/Policy.pm line 280.
Prototype after '@' for Class::Dot::Policy::composite : @; at /home/stro/perl/perl5132/lib/site_perl/5.13.2/Class/Dot/Policy.pm line 288.
Prototype after '@' for Class::Dot::Policy::after_property_get : @& at /home/stro/perl/perl5132/lib/site_perl/5.13.2/Class/Dot/Policy.pm line 292.
Prototype after '@' for Class::Dot::Policy::after_property_set : @& at /home/stro/perl/perl5132/lib/site_perl/5.13.2/Class/Dot/Policy.pm line 303.
Prototype after '@' for Class::Dot::Policy::to : @; at /home/stro/perl/perl5132/lib/site_perl/5.13.2/Class/Dot/Policy.pm line 315.
Prototype after '@' for Class::Dot::Policy::using : @; at /home/stro/perl/perl5132/lib/site_perl/5.13.2/Class/Dot/Policy.pm line 316.
t/help.t .................... ok
Prototype after '@' for Class::Dot::Policy::extends : @; at /home/stro/perl/perl5132/lib/site_perl/5.13.2/Class/Dot/Policy.pm line 270.
Prototype after '@' for Class::Dot::Policy::composites : @; at /home/stro/perl/perl5132/lib/site_perl/5.13.2/Class/Dot/Policy.pm line 280.
Prototype after '@' for Class::Dot::Policy::composite : @; at /home/stro/perl/perl5132/lib/site_perl/5.13.2/Class/Dot/Policy.pm line 288.
Prototype after '@' for Class::Dot::Policy::after_property_get : @& at /home/stro/perl/perl5132/lib/site_perl/5.13.2/Class/Dot/Policy.pm line 292.
Prototype after '@' for Class::Dot::Policy::after_property_set : @& at /home/stro/perl/perl5132/lib/site_perl/5.13.2/Class/Dot/Policy.pm line 303.
Prototype after '@' for Class::Dot::Policy::to : @; at /home/stro/perl/perl5132/lib/site_perl/5.13.2/Class/Dot/Policy.pm line 315.
Prototype after '@' for Class::Dot::Policy::using : @; at /home/stro/perl/perl5132/lib/site_perl/5.13.2/Class/Dot/Policy.pm line 316.
t/missing.t ................. ok
Prototype after '@' for Class::Dot::Policy::extends : @; at /home/stro/perl/perl5132/lib/site_perl/5.13.2/Class/Dot/Policy.pm line 270.
Prototype after '@' for Class::Dot::Policy::composites : @; at /home/stro/perl/perl5132/lib/site_perl/5.13.2/Class/Dot/Policy.pm line 280.
Prototype after '@' for Class::Dot::Policy::composite : @; at /home/stro/perl/perl5132/lib/site_perl/5.13.2/Class/Dot/Policy.pm line 288.
Prototype after '@' for Class::Dot::Policy::after_property_get : @& at /home/stro/perl/perl5132/lib/site_perl/5.13.2/Class/Dot/Policy.pm line 292.
Prototype after '@' for Class::Dot::Policy::after_property_set : @& at /home/stro/perl/perl5132/lib/site_perl/5.13.2/Class/Dot/Policy.pm line 303.
Prototype after '@' for Class::Dot::Policy::to : @; at /home/stro/perl/perl5132/lib/site_perl/5.13.2/Class/Dot/Policy.pm line 315.
Prototype after '@' for Class::Dot::Policy::using : @; at /home/stro/perl/perl5132/lib/site_perl/5.13.2/Class/Dot/Policy.pm line 316.
t/non-gnu.t ................. ok
Prototype after '@' for Class::Dot::Policy::extends : @; at /home/stro/perl/perl5132/lib/site_perl/5.13.2/Class/Dot/Policy.pm line 270.
Prototype after '@' for Class::Dot::Policy::composites : @; at /home/stro/perl/perl5132/lib/site_perl/5.13.2/Class/Dot/Policy.pm line 280.
Prototype after '@' for Class::Dot::Policy::composite : @; at /home/stro/perl/perl5132/lib/site_perl/5.13.2/Class/Dot/Policy.pm line 288.
Prototype after '@' for Class::Dot::Policy::after_property_get : @& at /home/stro/perl/perl5132/lib/site_perl/5.13.2/Class/Dot/Policy.pm line 292.
Prototype after '@' for Class::Dot::Policy::after_property_set : @& at /home/stro/perl/perl5132/lib/site_perl/5.13.2/Class/Dot/Policy.pm line 303.
Prototype after '@' for Class::Dot::Policy::to : @; at /home/stro/perl/perl5132/lib/site_perl/5.13.2/Class/Dot/Policy.pm line 315.
Prototype after '@' for Class::Dot::Policy::using : @; at /home/stro/perl/perl5132/lib/site_perl/5.13.2/Class/Dot/Policy.pm line 316.
t/nonexisting_rule_type.t ... ok
Prototype after '@' for Class::Dot::Policy::extends : @; at /home/stro/perl/perl5132/lib/site_perl/5.13.2/Class/Dot/Policy.pm line 270.
Prototype after '@' for Class::Dot::Policy::composites : @; at /home/stro/perl/perl5132/lib/site_perl/5.13.2/Class/Dot/Policy.pm line 280.
Prototype after '@' for Class::Dot::Policy::composite : @; at /home/stro/perl/perl5132/lib/site_perl/5.13.2/Class/Dot/Policy.pm line 288.
Prototype after '@' for Class::Dot::Policy::after_property_get : @& at /home/stro/perl/perl5132/lib/site_perl/5.13.2/Class/Dot/Policy.pm line 292.
Prototype after '@' for Class::Dot::Policy::after_property_set : @& at /home/stro/perl/perl5132/lib/site_perl/5.13.2/Class/Dot/Policy.pm line 303.
Prototype after '@' for Class::Dot::Policy::to : @; at /home/stro/perl/perl5132/lib/site_perl/5.13.2/Class/Dot/Policy.pm line 315.
Prototype after '@' for Class::Dot::Policy::using : @; at /home/stro/perl/perl5132/lib/site_perl/5.13.2/Class/Dot/Policy.pm line 316.
t/opt_.t .................... ok
Prototype after '@' for Class::Dot::Policy::extends : @; at /home/stro/perl/perl5132/lib/site_perl/5.13.2/Class/Dot/Policy.pm line 270.
Prototype after '@' for Class::Dot::Policy::composites : @; at /home/stro/perl/perl5132/lib/site_perl/5.13.2/Class/Dot/Policy.pm line 280.
Prototype after '@' for Class::Dot::Policy::composite : @; at /home/stro/perl/perl5132/lib/site_perl/5.13.2/Class/Dot/Policy.pm line 288.
Prototype after '@' for Class::Dot::Policy::after_property_get : @& at /home/stro/perl/perl5132/lib/site_perl/5.13.2/Class/Dot/Policy.pm line 292.
Prototype after '@' for Class::Dot::Policy::after_property_set : @& at /home/stro/perl/perl5132/lib/site_perl/5.13.2/Class/Dot/Policy.pm line 303.
Prototype after '@' for Class::Dot::Policy::to : @; at /home/stro/perl/perl5132/lib/site_perl/5.13.2/Class/Dot/Policy.pm line 315.
Prototype after '@' for Class::Dot::Policy::using : @; at /home/stro/perl/perl5132/lib/site_perl/5.13.2/Class/Dot/Policy.pm line 316.
t/peek.t .................... ok
Prototype after '@' for Class::Dot::Policy::extends : @; at /home/stro/perl/perl5132/lib/site_perl/5.13.2/Class/Dot/Policy.pm line 270.
Prototype after '@' for Class::Dot::Policy::composites : @; at /home/stro/perl/perl5132/lib/site_perl/5.13.2/Class/Dot/Policy.pm line 280.
Prototype after '@' for Class::Dot::Policy::composite : @; at /home/stro/perl/perl5132/lib/site_perl/5.13.2/Class/Dot/Policy.pm line 288.
Prototype after '@' for Class::Dot::Policy::after_property_get : @& at /home/stro/perl/perl5132/lib/site_perl/5.13.2/Class/Dot/Policy.pm line 292.
Prototype after '@' for Class::Dot::Policy::after_property_set : @& at /home/stro/perl/perl5132/lib/site_perl/5.13.2/Class/Dot/Policy.pm line 303.
Prototype after '@' for Class::Dot::Policy::to : @; at /home/stro/perl/perl5132/lib/site_perl/5.13.2/Class/Dot/Policy.pm line 315.
Prototype after '@' for Class::Dot::Policy::using : @; at /home/stro/perl/perl5132/lib/site_perl/5.13.2/Class/Dot/Policy.pm line 316.
t/regex.t ................... ok
Prototype after '@' for Class::Dot::Policy::extends : @; at /home/stro/perl/perl5132/lib/site_perl/5.13.2/Class/Dot/Policy.pm line 270.
Prototype after '@' for Class::Dot::Policy::composites : @; at /home/stro/perl/perl5132/lib/site_perl/5.13.2/Class/Dot/Policy.pm line 280.
Prototype after '@' for Class::Dot::Policy::composite : @; at /home/stro/perl/perl5132/lib/site_perl/5.13.2/Class/Dot/Policy.pm line 288.
Prototype after '@' for Class::Dot::Policy::after_property_get : @& at /home/stro/perl/perl5132/lib/site_perl/5.13.2/Class/Dot/Policy.pm line 292.
Prototype after '@' for Class::Dot::Policy::after_property_set : @& at /home/stro/perl/perl5132/lib/site_perl/5.13.2/Class/Dot/Policy.pm line 303.
Prototype after '@' for Class::Dot::Policy::to : @; at /home/stro/perl/perl5132/lib/site_perl/5.13.2/Class/Dot/Policy.pm line 315.
Prototype after '@' for Class::Dot::Policy::using : @; at /home/stro/perl/perl5132/lib/site_perl/5.13.2/Class/Dot/Policy.pm line 316.
t/required.t ................ ok
Prototype after '@' for Class::Dot::Policy::extends : @; at /home/stro/perl/perl5132/lib/site_perl/5.13.2/Class/Dot/Policy.pm line 270.
Prototype after '@' for Class::Dot::Policy::composites : @; at /home/stro/perl/perl5132/lib/site_perl/5.13.2/Class/Dot/Policy.pm line 280.
Prototype after '@' for Class::Dot::Policy::composite : @; at /home/stro/perl/perl5132/lib/site_perl/5.13.2/Class/Dot/Policy.pm line 288.
Prototype after '@' for Class::Dot::Policy::after_property_get : @& at /home/stro/perl/perl5132/lib/site_perl/5.13.2/Class/Dot/Policy.pm line 292.
Prototype after '@' for Class::Dot::Policy::after_property_set : @& at /home/stro/perl/perl5132/lib/site_perl/5.13.2/Class/Dot/Policy.pm line 303.
Prototype after '@' for Class::Dot::Policy::to : @; at /home/stro/perl/perl5132/lib/site_perl/5.13.2/Class/Dot/Policy.pm line 315.
Prototype after '@' for Class::Dot::Policy::using : @; at /home/stro/perl/perl5132/lib/site_perl/5.13.2/Class/Dot/Policy.pm line 316.
t/rules.t ................... ok
Prototype after '@' for Class::Dot::Policy::extends : @; at /home/stro/perl/perl5132/lib/site_perl/5.13.2/Class/Dot/Policy.pm line 270.
Prototype after '@' for Class::Dot::Policy::composites : @; at /home/stro/perl/perl5132/lib/site_perl/5.13.2/Class/Dot/Policy.pm line 280.
Prototype after '@' for Class::Dot::Policy::composite : @; at /home/stro/perl/perl5132/lib/site_perl/5.13.2/Class/Dot/Policy.pm line 288.
Prototype after '@' for Class::Dot::Policy::after_property_get : @& at /home/stro/perl/perl5132/lib/site_perl/5.13.2/Class/Dot/Policy.pm line 292.
Prototype after '@' for Class::Dot::Policy::after_property_set : @& at /home/stro/perl/perl5132/lib/site_perl/5.13.2/Class/Dot/Policy.pm line 303.
Prototype after '@' for Class::Dot::Policy::to : @; at /home/stro/perl/perl5132/lib/site_perl/5.13.2/Class/Dot/Policy.pm line 315.
Prototype after '@' for Class::Dot::Policy::using : @; at /home/stro/perl/perl5132/lib/site_perl/5.13.2/Class/Dot/Policy.pm line 316.
t/short-simple-w-options.t .. ok
Prototype after '@' for Class::Dot::Policy::extends : @; at /home/stro/perl/perl5132/lib/site_perl/5.13.2/Class/Dot/Policy.pm line 270.
Prototype after '@' for Class::Dot::Policy::composites : @; at /home/stro/perl/perl5132/lib/site_perl/5.13.2/Class/Dot/Policy.pm line 280.
Prototype after '@' for Class::Dot::Policy::composite : @; at /home/stro/perl/perl5132/lib/site_perl/5.13.2/Class/Dot/Policy.pm line 288.
Prototype after '@' for Class::Dot::Policy::after_property_get : @& at /home/stro/perl/perl5132/lib/site_perl/5.13.2/Class/Dot/Policy.pm line 292.
Prototype after '@' for Class::Dot::Policy::after_property_set : @& at /home/stro/perl/perl5132/lib/site_perl/5.13.2/Class/Dot/Policy.pm line 303.
Prototype after '@' for Class::Dot::Policy::to : @; at /home/stro/perl/perl5132/lib/site_perl/5.13.2/Class/Dot/Policy.pm line 315.
Prototype after '@' for Class::Dot::Policy::using : @; at /home/stro/perl/perl5132/lib/site_perl/5.13.2/Class/Dot/Policy.pm line 316.
t/short-simple-wo-rules.t ... ok
Prototype after '@' for Class::Dot::Policy::extends : @; at /home/stro/perl/perl5132/lib/site_perl/5.13.2/Class/Dot/Policy.pm line 270.
Prototype after '@' for Class::Dot::Policy::composites : @; at /home/stro/perl/perl5132/lib/site_perl/5.13.2/Class/Dot/Policy.pm line 280.
Prototype after '@' for Class::Dot::Policy::composite : @; at /home/stro/perl/perl5132/lib/site_perl/5.13.2/Class/Dot/Policy.pm line 288.
Prototype after '@' for Class::Dot::Policy::after_property_get : @& at /home/stro/perl/perl5132/lib/site_perl/5.13.2/Class/Dot/Policy.pm line 292.
Prototype after '@' for Class::Dot::Policy::after_property_set : @& at /home/stro/perl/perl5132/lib/site_perl/5.13.2/Class/Dot/Policy.pm line 303.
Prototype after '@' for Class::Dot::Policy::to : @; at /home/stro/perl/perl5132/lib/site_perl/5.13.2/Class/Dot/Policy.pm line 315.
Prototype after '@' for Class::Dot::Policy::using : @; at /home/stro/perl/perl5132/lib/site_perl/5.13.2/Class/Dot/Policy.pm line 316.
t/short-simple.t ............ ok
Prototype after '@' for Class::Dot::Policy::extends : @; at /home/stro/perl/perl5132/lib/site_perl/5.13.2/Class/Dot/Policy.pm line 270.
Prototype after '@' for Class::Dot::Policy::composites : @; at /home/stro/perl/perl5132/lib/site_perl/5.13.2/Class/Dot/Policy.pm line 280.
Prototype after '@' for Class::Dot::Policy::composite : @; at /home/stro/perl/perl5132/lib/site_perl/5.13.2/Class/Dot/Policy.pm line 288.
Prototype after '@' for Class::Dot::Policy::after_property_get : @& at /home/stro/perl/perl5132/lib/site_perl/5.13.2/Class/Dot/Policy.pm line 292.
Prototype after '@' for Class::Dot::Policy::after_property_set : @& at /home/stro/perl/perl5132/lib/site_perl/5.13.2/Class/Dot/Policy.pm line 303.
Prototype after '@' for Class::Dot::Policy::to : @; at /home/stro/perl/perl5132/lib/site_perl/5.13.2/Class/Dot/Policy.pm line 315.
Prototype after '@' for Class::Dot::Policy::using : @; at /home/stro/perl/perl5132/lib/site_perl/5.13.2/Class/Dot/Policy.pm line 316.
t/short.t ................... ok
Prototype after '@' for Class::Dot::Policy::extends : @; at /home/stro/perl/perl5132/lib/site_perl/5.13.2/Class/Dot/Policy.pm line 270.
Prototype after '@' for Class::Dot::Policy::composites : @; at /home/stro/perl/perl5132/lib/site_perl/5.13.2/Class/Dot/Policy.pm line 280.
Prototype after '@' for Class::Dot::Policy::composite : @; at /home/stro/perl/perl5132/lib/site_perl/5.13.2/Class/Dot/Policy.pm line 288.
Prototype after '@' for Class::Dot::Policy::after_property_get : @& at /home/stro/perl/perl5132/lib/site_perl/5.13.2/Class/Dot/Policy.pm line 292.
Prototype after '@' for Class::Dot::Policy::after_property_set : @& at /home/stro/perl/perl5132/lib/site_perl/5.13.2/Class/Dot/Policy.pm line 303.
Prototype after '@' for Class::Dot::Policy::to : @; at /home/stro/perl/perl5132/lib/site_perl/5.13.2/Class/Dot/Policy.pm line 315.
Prototype after '@' for Class::Dot::Policy::using : @; at /home/stro/perl/perl5132/lib/site_perl/5.13.2/Class/Dot/Policy.pm line 316.
t/simple.t .................. ok
t/simpleExporter.t .......... ok
Prototype after '@' for Class::Dot::Policy::extends : @; at /home/stro/perl/perl5132/lib/site_perl/5.13.2/Class/Dot/Policy.pm line 270.
Prototype after '@' for Class::Dot::Policy::composites : @; at /home/stro/perl/perl5132/lib/site_perl/5.13.2/Class/Dot/Policy.pm line 280.
Prototype after '@' for Class::Dot::Policy::composite : @; at /home/stro/perl/perl5132/lib/site_perl/5.13.2/Class/Dot/Policy.pm line 288.
Prototype after '@' for Class::Dot::Policy::after_property_get : @& at /home/stro/perl/perl5132/lib/site_perl/5.13.2/Class/Dot/Policy.pm line 292.
Prototype after '@' for Class::Dot::Policy::after_property_set : @& at /home/stro/perl/perl5132/lib/site_perl/5.13.2/Class/Dot/Policy.pm line 303.
Prototype after '@' for Class::Dot::Policy::to : @; at /home/stro/perl/perl5132/lib/site_perl/5.13.2/Class/Dot/Policy.pm line 315.
Prototype after '@' for Class::Dot::Policy::using : @; at /home/stro/perl/perl5132/lib/site_perl/5.13.2/Class/Dot/Policy.pm line 316.
t/slurp.t ................... ok
Prototype after '@' for Class::Dot::Policy::extends : @; at /home/stro/perl/perl5132/lib/site_perl/5.13.2/Class/Dot/Policy.pm line 270.
Prototype after '@' for Class::Dot::Policy::composites : @; at /home/stro/perl/perl5132/lib/site_perl/5.13.2/Class/Dot/Policy.pm line 280.
Prototype after '@' for Class::Dot::Policy::composite : @; at /home/stro/perl/perl5132/lib/site_perl/5.13.2/Class/Dot/Policy.pm line 288.
Prototype after '@' for Class::Dot::Policy::after_property_get : @& at /home/stro/perl/perl5132/lib/site_perl/5.13.2/Class/Dot/Policy.pm line 292.
Prototype after '@' for Class::Dot::Policy::after_property_set : @& at /home/stro/perl/perl5132/lib/site_perl/5.13.2/Class/Dot/Policy.pm line 303.
Prototype after '@' for Class::Dot::Policy::to : @; at /home/stro/perl/perl5132/lib/site_perl/5.13.2/Class/Dot/Policy.pm line 315.
Prototype after '@' for Class::Dot::Policy::using : @; at /home/stro/perl/perl5132/lib/site_perl/5.13.2/Class/Dot/Policy.pm line 316.
t/type-check.t .............. ok
All tests successful.
Files=22, Tests=361,  4 wallclock secs ( 0.06 usr  0.20 sys +  2.11 cusr  0.70 csys =  3.07 CPU)
Result: PASS

------------------------------
PREREQUISITES
------------------------------

Prerequisite modules loaded:

requires:

    Module              Need Have    
    ------------------- ---- --------
    Class::Dot          1    2.0.0_15
    version             0    0.82    

build_requires:

    Module              Need Have    
    ------------------- ---- --------
    IO::Capture::Stderr 0    0       
    Test::Exception     0.25 0.29    
    Test::Simple        0.42 0.94    


------------------------------
ENVIRONMENT AND OTHER CONTEXT
------------------------------

Environment variables:

    AUTOMATED_TESTING = 1
    LANG = en_US.UTF-8
    PATH = /usr/local/bin:/usr/bin:/bin:/usr/games
    PERL5LIB = 
    PERL5OPT = 
    PERL5_CPANPLUS_IS_RUNNING = 14130
    PERL5_CPAN_IS_RUNNING = 14130
    PERL5_CPAN_IS_RUNNING_IN_RECURSION = 2410,14130
    PERL_CR_SMOKER_CURRENT = Getopt-LL-1.0.0
    PERL_EXTUTILS_AUTOINSTALL = --defaultdeps
    PERL_MM_USE_DEFAULT = 1
    SHELL = /bin/bash
    TERM = xterm

Perl special variables (and OS-specific diagnostics, for MSWin32):

    $^X = /home/stro/perl/perl5132/bin/perl
    $UID/$EUID = 1000 / 1000
    $GID = 1000 20 24 25 29 44 46 1000
    $EGID = 1000 20 24 25 29 44 46 1000

Perl module toolchain versions installed:

    Module              Have  
    ------------------- ------
    CPAN                1.9304
    Cwd                 3.31  
    ExtUtils::CBuilder  0.2703
    ExtUtils::Command   1.16  
    ExtUtils::Install   1.54  
    ExtUtils::MakeMaker 6.56  
    ExtUtils::Manifest  1.58  
    ExtUtils::ParseXS   2.2206
    File::Spec          3.31  
    Module::Build       0.3607
    Module::Signature   0.64  
    Test::Harness       3.21  
    Test::More          0.94  
    YAML                0.71  
    YAML::Syck          1.10  
    version             0.82  


--

Summary of my perl5 (revision 5 version 13 subversion 2) configuration:
   
  Platform:
    osname=linux, osvers=2.6.26-2-686, archname=i686-linux
    uname='linux debian5 2.6.26-2-686 #1 smp wed may 12 21:56:10 utc 2010 i686 gnulinux '
    config_args=''
    hint=recommended, useposix=true, d_sigaction=define
    useithreads=undef, usemultiplicity=undef
    useperlio=define, d_sfio=undef, uselargefiles=define, usesocks=undef
    use64bitint=undef, use64bitall=undef, uselongdouble=undef
    usemymalloc=n, bincompat5005=undef
  Compiler:
    cc='cc', ccflags ='-fno-strict-aliasing -pipe -fstack-protector -I/usr/local/include -D_LARGEFILE_SOURCE -D_FILE_OFFSET_BITS=64',
    optimize='-O2',
    cppflags='-fno-strict-aliasing -pipe -fstack-protector -I/usr/local/include'
    ccversion='', gccversion='4.3.2', gccosandvers=''
    intsize=4, longsize=4, ptrsize=4, doublesize=8, byteorder=1234
    d_longlong=define, longlongsize=8, d_longdbl=define, longdblsize=12
    ivtype='long', ivsize=4, nvtype='double', nvsize=8, Off_t='off_t', lseeksize=8
    alignbytes=4, prototype=define
  Linker and Libraries:
    ld='cc', ldflags =' -fstack-protector -L/usr/local/lib'
    libpth=/usr/local/lib /lib /usr/lib
    libs=-lnsl -ldb -ldl -lm -lcrypt -lutil -lc
    perllibs=-lnsl -ldl -lm -lcrypt -lutil -lc
    libc=/lib/libc-2.7.so, so=so, useshrplib=false, libperl=libperl.a
    gnulibc_version='2.7'
  Dynamic Linking:
    dlsrc=dl_dlopen.xs, dlext=so, d_dlsymun=undef, ccdlflags='-Wl,-E'
    cccdlflags='-fPIC', lddlflags='-shared -O2 -L/usr/local/lib -fstack-protector'


Characteristics of this binary (from libperl): 
  Compile-time options: PERL_DONT_CREATE_GVSV PERL_MALLOC_WRAP
                        USE_LARGE_FILES USE_PERLIO USE_PERL_ATOF
  Built under linux
  Compiled at Jun 23 2010 13:37:47
  %ENV:
    PERL5LIB=""
    PERL5OPT=""
    PERL5_CPANPLUS_IS_RUNNING="14130"
    PERL5_CPAN_IS_RUNNING="14130"
    PERL5_CPAN_IS_RUNNING_IN_RECURSION="2410,14130"
    PERL_CR_SMOKER_CURRENT="Getopt-LL-1.0.0"
    PERL_EXTUTILS_AUTOINSTALL="--defaultdeps"
    PERL_MM_USE_DEFAULT="1"
  @INC:
    /home/stro/perl/perl5132/lib/site_perl/5.13.2/i686-linux
    /home/stro/perl/perl5132/lib/site_perl/5.13.2
    /home/stro/perl/perl5132/lib/5.13.2/i686-linux
    /home/stro/perl/perl5132/lib/5.13.2
    .