CatalystX-Eta v0.08 Perl 5 v5.10.1 x86_64-linux
- Status
- Pass
- From
- Slaven Rezić (SREZIC)
- Dist
-
CatalystX-Eta v0.08
- Platform
- Perl 5 v5.10.1 x86_64-linux
- Date
- 2018-01-24 01:48:04
- ID
- 9e1d0570-00a8-11e8-a708-9bccb5e6a46c
This distribution has been tested as part of the CPAN Testers
project, supporting the Perl programming language. See
http://wiki.cpantesters.org/ for more information or email
questions to cpan-testers-discuss@perl.org
--
Dear Renato Santos de Souza,
This is a computer-generated report for CatalystX-Eta-0.08
on perl 5.10.1, created by CPAN-Reporter-1.2018.
Thank you for uploading your work to CPAN. Congratulations!
All tests were successful.
Sections of this report:
* Tester comments
* Program output
* Prerequisites
* Environment and other context
------------------------------
TESTER COMMENTS
------------------------------
Additional comments from tester:
none provided
------------------------------
PROGRAM OUTPUT
------------------------------
Output from './Build test':
Couldn't require Email::Abstract::Courriel : Specification contains unknown keys: [isa] at /opt/perl-5.10.1/lib/site_perl/5.10.1/Courriel/Header.pm line 34.
Compilation failed in require at /opt/perl-5.10.1/lib/site_perl/5.10.1/Courriel/Headers.pm line 9.
BEGIN failed--compilation aborted at /opt/perl-5.10.1/lib/site_perl/5.10.1/Courriel/Headers.pm line 9.
Compilation failed in require at /opt/perl-5.10.1/lib/site_perl/5.10.1/Courriel.pm line 11.
BEGIN failed--compilation aborted at /opt/perl-5.10.1/lib/site_perl/5.10.1/Courriel.pm line 11.
Compilation failed in require at /opt/perl-5.10.1/lib/site_perl/5.10.1/Email/Abstract/Courriel.pm line 8.
BEGIN failed--compilation aborted at /opt/perl-5.10.1/lib/site_perl/5.10.1/Email/Abstract/Courriel.pm line 8.
Compilation failed in require at /opt/perl-5.10.1/lib/site_perl/5.10.1/Module/Runtime.pm line 317.
at /opt/perl-5.10.1/lib/5.10.1/Module/Pluggable.pm line 32.
t/001-crud-user.t ....... ok
Couldn't require Email::Abstract::Courriel : Specification contains unknown keys: [isa] at /opt/perl-5.10.1/lib/site_perl/5.10.1/Courriel/Header.pm line 34.
Compilation failed in require at /opt/perl-5.10.1/lib/site_perl/5.10.1/Courriel/Headers.pm line 9.
BEGIN failed--compilation aborted at /opt/perl-5.10.1/lib/site_perl/5.10.1/Courriel/Headers.pm line 9.
Compilation failed in require at /opt/perl-5.10.1/lib/site_perl/5.10.1/Courriel.pm line 11.
BEGIN failed--compilation aborted at /opt/perl-5.10.1/lib/site_perl/5.10.1/Courriel.pm line 11.
Compilation failed in require at /opt/perl-5.10.1/lib/site_perl/5.10.1/Email/Abstract/Courriel.pm line 8.
BEGIN failed--compilation aborted at /opt/perl-5.10.1/lib/site_perl/5.10.1/Email/Abstract/Courriel.pm line 8.
Compilation failed in require at /opt/perl-5.10.1/lib/site_perl/5.10.1/Module/Runtime.pm line 317.
at /opt/perl-5.10.1/lib/5.10.1/Module/Pluggable.pm line 32.
t/002-auth.t ............ ok
t/release-pod-syntax.t .. skipped: these tests are for release candidate testing
All tests successful.
Files=3, Tests=37, 11 wallclock secs ( 0.02 usr 0.02 sys + 2.70 cusr 0.28 csys = 3.02 CPU)
Result: PASS
------------------------------
PREREQUISITES
------------------------------
Prerequisite modules loaded:
requires:
Module Need Have
-------------------------------------------- -------- --------
Catalyst::Controller::REST 0 1.20
DBIx::Class 0 0.082840
Moose::Role 0 2.2008
perl 5.008005 5.010001
Stash::REST 0.06 0.10
build_requires:
Module Need Have
-------------------------------------------- -------- --------
Catalyst::Authentication::Store::DBIx::Class 0 0.1506
Catalyst::Model::DBIC::Schema 0 0.65
Catalyst::Plugin::Authentication 0 0.10023
Catalyst::Plugin::Authorization::Roles 0 0.09
Catalyst::Plugin::ConfigLoader 0 0.34
Catalyst::Plugin::Static::Simple 0 0.34
Catalyst::Runtime 5.90080 5.90117
Data::Diver 0 1.0101
Data::Manager 0 0.10
Data::Verifier 0 0.60
DBIx::Class::PassphraseColumn 0 0.02
DBIx::Class::TimeStamp 0 0.14
JSON::MaybeXS 0 1.003009
MooseX::MarkAsMethods 0 0.15
MooseX::NonMoose 0 0.26
MooseX::Types::Email 0 0.007
namespace::autoclean 0 0.28
Test::More 0 1.302120
configure_requires:
Module Need Have
-------------------------------------------- -------- --------
Module::Build::Tiny 0.039 0.039
------------------------------
ENVIRONMENT AND OTHER CONTEXT
------------------------------
Environment variables:
LANG = C
PATH = /usr/local/bin:/usr/bin:/bin:/usr/local/sbin:/usr/sbin:/sbin:/home/cpansand/bin/linux-gnu:/home/cpansand/bin/sh:/home/cpansand/bin:/usr/games:/home/cpansand/devel:/home/eserte/src/srezic-misc/scripts
PERL5LIB = /home/cpansand/.cpan/build/2018012400/Data-Manager-0.10-1/blib/arch:/home/cpansand/.cpan/build/2018012400/Data-Manager-0.10-1/blib/lib:/home/cpansand/.cpan/build/2018012400/Message-Stack-Parser-0.06-1/blib/arch:/home/cpansand/.cpan/build/2018012400/Message-Stack-Parser-0.06-1/blib/lib:/home/cpansand/.cpan/build/2018012400/Message-Stack-0.22-1/blib/arch:/home/cpansand/.cpan/build/2018012400/Message-Stack-0.22-1/blib/lib:/home/cpansand/.cpan/build/2018012400/Data-Diver-1.0101-1/blib/arch:/home/cpansand/.cpan/build/2018012400/Data-Diver-1.0101-1/blib/lib
PERL5OPT =
PERL5_CPANPLUS_IS_RUNNING = 13680
PERL5_CPAN_IS_RUNNING = 13680
PERL5_CPAN_IS_RUNNING_IN_RECURSION = 11820,13680
PERLDOC = -MPod::Perldoc::ToTextOverstrike
PERL_BATCH = yes
PERL_CANARY_STABILITY_NOPROMPT = 1
PERL_CPAN_REPORTER_CONFIG = /var/tmp/cpansmoker-1023/2018012400/cpanreporter_001_config.ini
PERL_EXTUTILS_AUTOINSTALL = --defaultdeps
SHELL = /bin/zsh
TERM = screen
TMPDIR = /var/tmp/cpansmoker-1023/2018012400
Perl special variables (and OS-specific diagnostics, for MSWin32):
$^X = /bbbike/perl-5.10.1/bin/perl
$UID/$EUID = 1023 / 1023
$GID = 1023 1023
$EGID = 1023 1023
Perl module toolchain versions installed:
Module Have
------------------- --------
CPAN 2.16
CPAN::Meta 2.150010
Cwd 3.62
ExtUtils::CBuilder 0.280230
ExtUtils::Command 7.24
ExtUtils::Install 2.12
ExtUtils::MakeMaker 7.24
ExtUtils::Manifest 1.70
ExtUtils::ParseXS 3.30
File::Spec 3.62
JSON 2.94
JSON::PP 2.27400
Module::Build 0.4224
Module::Signature 0.81
Parse::CPAN::Meta 2.150010
Test::Harness 3.39
Test::More 1.302120
YAML 1.23
YAML::Syck 1.30
version 0.9916
--
Summary of my perl5 (revision 5 version 10 subversion 1) configuration:
Platform:
osname=linux, osvers=3.16.0-4-amd64, archname=x86_64-linux
uname='linux eserte 3.16.0-4-amd64 #1 smp debian 3.16.7-ckt25-2 (2016-04-08) x86_64 gnulinux '
config_args='-ds -e -Dprefix=/opt/perl-5.10.1 -Dcf_email=srezic@cpan.org'
hint=recommended, useposix=true, d_sigaction=define
useithreads=undef, usemultiplicity=undef
useperlio=define, d_sfio=undef, uselargefiles=define, usesocks=undef
use64bitint=define, use64bitall=define, uselongdouble=undef
usemymalloc=n, bincompat5005=undef
Compiler:
cc='cc', ccflags ='-fno-strict-aliasing -pipe -fstack-protector -I/usr/local/include -D_LARGEFILE_SOURCE -D_FILE_OFFSET_BITS=64',
optimize='-O2',
cppflags='-fno-strict-aliasing -pipe -fstack-protector -I/usr/local/include'
ccversion='', gccversion='4.9.2', gccosandvers=''
intsize=4, longsize=8, ptrsize=8, doublesize=8, byteorder=12345678
d_longlong=define, longlongsize=8, d_longdbl=define, longdblsize=16
ivtype='long', ivsize=8, nvtype='double', nvsize=8, Off_t='off_t', lseeksize=8
alignbytes=8, prototype=define
Linker and Libraries:
ld='cc', ldflags =' -fstack-protector -L/usr/local/lib'
libpth=/usr/local/lib /lib/x86_64-linux-gnu /lib/../lib /usr/lib/x86_64-linux-gnu /usr/lib/../lib /lib /usr/lib
libs=-lnsl -ldl -lm -lcrypt -lutil -lc
perllibs=-lnsl -ldl -lm -lcrypt -lutil -lc
libc=libc-2.19.so, so=so, useshrplib=false, libperl=libperl.a
gnulibc_version='2.19'
Dynamic Linking:
dlsrc=dl_dlopen.xs, dlext=so, d_dlsymun=undef, ccdlflags='-Wl,-E'
cccdlflags='-fPIC', lddlflags='-shared -O2 -L/usr/local/lib -fstack-protector'
Characteristics of this binary (from libperl):
Compile-time options: PERL_DONT_CREATE_GVSV PERL_MALLOC_WRAP USE_64_BIT_ALL
USE_64_BIT_INT USE_LARGE_FILES USE_PERLIO
Locally applied patches:
Devel::PatchPerl 1.42
Built under linux
Compiled at May 7 2016 09:04:56
%ENV:
PERL5LIB="/home/cpansand/.cpan/build/2018012400/Data-Manager-0.10-1/blib/arch:/home/cpansand/.cpan/build/2018012400/Data-Manager-0.10-1/blib/lib:/home/cpansand/.cpan/build/2018012400/Message-Stack-Parser-0.06-1/blib/arch:/home/cpansand/.cpan/build/2018012400/Message-Stack-Parser-0.06-1/blib/lib:/home/cpansand/.cpan/build/2018012400/Message-Stack-0.22-1/blib/arch:/home/cpansand/.cpan/build/2018012400/Message-Stack-0.22-1/blib/lib:/home/cpansand/.cpan/build/2018012400/Data-Diver-1.0101-1/blib/arch:/home/cpansand/.cpan/build/2018012400/Data-Diver-1.0101-1/blib/lib"
PERL5OPT=""
PERL5_CPANPLUS_IS_RUNNING="13680"
PERL5_CPAN_IS_RUNNING="13680"
PERL5_CPAN_IS_RUNNING_IN_RECURSION="11820,13680"
PERLDOC="-MPod::Perldoc::ToTextOverstrike"
PERL_BATCH="yes"
PERL_CANARY_STABILITY_NOPROMPT="1"
PERL_CPAN_REPORTER_CONFIG="/var/tmp/cpansmoker-1023/2018012400/cpanreporter_001_config.ini"
PERL_EXTUTILS_AUTOINSTALL="--defaultdeps"
@INC:
/home/cpansand/.cpan/build/2018012400/Data-Manager-0.10-1/blib/arch
/home/cpansand/.cpan/build/2018012400/Data-Manager-0.10-1/blib/lib
/home/cpansand/.cpan/build/2018012400/Message-Stack-Parser-0.06-1/blib/arch
/home/cpansand/.cpan/build/2018012400/Message-Stack-Parser-0.06-1/blib/lib
/home/cpansand/.cpan/build/2018012400/Message-Stack-0.22-1/blib/arch
/home/cpansand/.cpan/build/2018012400/Message-Stack-0.22-1/blib/lib
/home/cpansand/.cpan/build/2018012400/Data-Diver-1.0101-1/blib/arch
/home/cpansand/.cpan/build/2018012400/Data-Diver-1.0101-1/blib/lib
/opt/perl-5.10.1/lib/5.10.1/x86_64-linux
/opt/perl-5.10.1/lib/5.10.1
/opt/perl-5.10.1/lib/site_perl/5.10.1/x86_64-linux
/opt/perl-5.10.1/lib/site_perl/5.10.1
.