Mail-Mbox-MessageParser v1.5111 Perl 5 v5.35.10 x86_64-linux

Status
Pass
From
Andreas J. König (ANDK)
Dist
Mail-Mbox-MessageParser v1.5111
Platform
Perl 5 v5.35.10 x86_64-linux
Date
2022-04-08 07:00:47
ID
9e0bb6e6-b709-11ec-9200-e5a8bcb01ee6
This distribution has been tested as part of the CPAN Testers
project, supporting the Perl programming language.  See
http://wiki.cpantesters.org/ for more information or email
questions to cpan-testers-discuss@perl.org


--
Dear David Coppit,

This is a computer-generated report for Mail-Mbox-MessageParser-1.5111
on perl 5.35.10, created by CPAN-Reporter-1.2018.

Thank you for uploading your work to CPAN.  Congratulations!
All tests were successful.

Sections of this report:

    * Tester comments
    * Program output
    * Prerequisites
    * Environment and other context

------------------------------
TESTER COMMENTS
------------------------------

Additional comments from tester:

this report is from an automated smoke testing program
and was not reviewed by a human for accuracy

------------------------------
PROGRAM OUTPUT
------------------------------

Output from '/usr/bin/make test':

PERL_DL_NONLAZY=1 "/tmp/basesmoker-reloperl-RUpm/bin/perl" "-MExtUtils::Command::MM" "-MTest::Harness" "-e" "undef *Test::Harness::Switches; test_harness(1, 'blib/lib', 'blib/arch')" t/*.t
t/000_standard__compile.t ....... 
1..6
ok 1 - blib/lib/Mail/Mbox/MessageParser.pm compiles
ok 2 - blib/lib/Mail/Mbox/MessageParser/Config.pm compiles
ok 3 - blib/lib/Mail/Mbox/MessageParser/Grep.pm compiles
ok 4 - blib/lib/Mail/Mbox/MessageParser/Perl.pm compiles
ok 5 - blib/lib/Mail/Mbox/MessageParser/Cache.pm compiles
ok 6 - blib/lib/Mail/Mbox/MessageParser/MetaInfo.pm compiles
ok
t/000_standard__perl_critic.t ... skipped: Author test. Set $ENV{TEST_AUTHOR} to a true value to run.
t/000_standard__pod.t ........... 
1..6
ok 1 - POD test for blib/lib/Mail/Mbox/MessageParser.pm
ok 2 - POD test for blib/lib/Mail/Mbox/MessageParser/Config.pm
ok 3 - POD test for blib/lib/Mail/Mbox/MessageParser/Grep.pm
ok 4 - POD test for blib/lib/Mail/Mbox/MessageParser/Perl.pm
ok 5 - POD test for blib/lib/Mail/Mbox/MessageParser/Cache.pm
ok 6 - POD test for blib/lib/Mail/Mbox/MessageParser/MetaInfo.pm
ok
t/000_standard__pod_coverage.t .. 
1..6
ok 1 - Pod coverage on Mail::Mbox::MessageParser
ok 2 - Pod coverage on Mail::Mbox::MessageParser::Config
ok 3 - Pod coverage on Mail::Mbox::MessageParser::Grep
ok 4 - Pod coverage on Mail::Mbox::MessageParser::Perl
ok 5 - Pod coverage on Mail::Mbox::MessageParser::Cache
ok 6 - Pod coverage on Mail::Mbox::MessageParser::MetaInfo
ok
t/appended_mailbox.t ............ 
1..6
Testing modified mailbox with Perl implementation
Comparing /tmp/ZXiOM_1ZFX to t/mailboxes/mailarc-1.txt
Output /tmp/ZXiOM_1ZFX looks good.
ok 1 - Computing differences
Testing modified mailbox with Cache implementation
Comparing /tmp/Urnumg0ArV to t/mailboxes/mailarc-1.txt
Output /tmp/Urnumg0ArV looks good.
ok 2 - Computing differences
Testing modified mailbox with Grep implementation
ok 3 # skip GNU grep not available
Testing modified mailbox with Perl implementation
Comparing /tmp/rujkKtk8N1 to t/mailboxes/mailarc-1.txt
Output /tmp/rujkKtk8N1 looks good.
ok 4 - Computing differences
Testing modified mailbox with Cache implementation
Comparing /tmp/qrbDE_rWSW to t/mailboxes/mailarc-1.txt
Output /tmp/qrbDE_rWSW looks good.
ok 5 - Computing differences
Testing modified mailbox with Grep implementation
ok 6 # skip GNU grep not available
ok
t/bzip2.t ....................... 
1..1
Running test:
  "/bin/cat" "t/mailboxes/mailarc-2.txt.bz2" | "/bin/bzip2" -cd
Comparing /tmp/XQsGVBa8cT to t/results/mailarc-2.txt
Output /tmp/XQsGVBa8cT looks good.
Comparing /tmp/vXn7g7IxuX to t/results/none
Output /tmp/vXn7g7IxuX looks good.
ok 1 - Computing differences
ok
t/endline.t ..................... 
1..8
Testing filename: t/mailboxes/mailarc-1-dos.txt
ok 1 - Dos endline expected
ok 2 - Dos endline expected
ok 3 - Dos endline expected
ok 4 # skip GNU grep not available
Testing filename: t/mailboxes/mailarc-1.txt
ok 5 - Unix endline expected
ok 6 - Unix endline expected
ok 7 - Unix endline expected
ok 8 # skip GNU grep not available
ok
t/filehandle_compressed.t ....... 
1..16
Testing filename: t/mailboxes/mailarc-2.txt.bz2
Comparing /tmp/F9rCqaiR61 to t/mailboxes/mailarc-2.txt
Output /tmp/F9rCqaiR61 looks good.
ok 1 - Computing differences
Comparing /tmp/5URpCmPDO6 to t/mailboxes/mailarc-2.txt
Output /tmp/5URpCmPDO6 looks good.
ok 2 - Computing differences
Comparing /tmp/fIyjmD6Q1r to t/mailboxes/mailarc-2.txt
Output /tmp/fIyjmD6Q1r looks good.
ok 3 - Computing differences
ok 4 # skip GNU grep not available
Testing filename: t/mailboxes/mailarc-2.txt.gz
Comparing /tmp/6PY9EgTvi3 to t/mailboxes/mailarc-2.txt
Output /tmp/6PY9EgTvi3 looks good.
ok 5 - Computing differences
Comparing /tmp/_twIm9Squy to t/mailboxes/mailarc-2.txt
Output /tmp/_twIm9Squy looks good.
ok 6 - Computing differences
Comparing /tmp/FgHTtOdP21 to t/mailboxes/mailarc-2.txt
Output /tmp/FgHTtOdP21 looks good.
ok 7 - Computing differences
ok 8 # skip GNU grep not available
Testing filename: t/mailboxes/mailarc-2.txt.lz
ok 9 # skip lzip not available
ok 10 # skip lzip not available
ok 11 # skip lzip not available
ok 12 # skip lzip not available
Testing filename: t/mailboxes/mailarc-2.txt.xz
Comparing /tmp/XyogNuD_qF to t/mailboxes/mailarc-2.txt
Output /tmp/XyogNuD_qF looks good.
ok 13 - Computing differences
Comparing /tmp/z3L4jTAZwG to t/mailboxes/mailarc-2.txt
Output /tmp/z3L4jTAZwG looks good.
ok 14 - Computing differences
Comparing /tmp/IELC0GiJTW to t/mailboxes/mailarc-2.txt
Output /tmp/IELC0GiJTW looks good.
ok 15 - Computing differences
ok 16 # skip GNU grep not available
ok
t/filehandle_noncompressed.t .... 
1..44
Testing filename: t/mailboxes/binary_body.txt
Comparing /tmp/FLgju_fxh0 to t/mailboxes/binary_body.txt
Output /tmp/FLgju_fxh0 looks good.
ok 1 - Computing differences
Comparing /tmp/ewG05OaSXR to t/mailboxes/binary_body.txt
Output /tmp/ewG05OaSXR looks good.
ok 2 - Computing differences
Comparing /tmp/PNI0MYtApu to t/mailboxes/binary_body.txt
Output /tmp/PNI0MYtApu looks good.
ok 3 - Computing differences
ok 4 # skip GNU grep not available
Testing filename: t/mailboxes/hessbug.txt
Comparing /tmp/_kDWQhJ_zQ to t/mailboxes/hessbug.txt
Output /tmp/_kDWQhJ_zQ looks good.
ok 5 - Computing differences
Comparing /tmp/66cQ9pedEr to t/mailboxes/hessbug.txt
Output /tmp/66cQ9pedEr looks good.
ok 6 - Computing differences
Comparing /tmp/CXrAc47w9i to t/mailboxes/hessbug.txt
Output /tmp/CXrAc47w9i looks good.
ok 7 - Computing differences
ok 8 # skip GNU grep not available
Testing filename: t/mailboxes/invalid-boundaries.txt
Comparing /tmp/OUyrgM6QVt to t/mailboxes/invalid-boundaries.txt
Output /tmp/OUyrgM6QVt looks good.
ok 9 - Computing differences
Comparing /tmp/GH_nVx9ktY to t/mailboxes/invalid-boundaries.txt
Output /tmp/GH_nVx9ktY looks good.
ok 10 - Computing differences
Comparing /tmp/uAvdn2x1RO to t/mailboxes/invalid-boundaries.txt
Output /tmp/uAvdn2x1RO looks good.
ok 11 - Computing differences
ok 12 # skip GNU grep not available
Testing filename: t/mailboxes/mailarc-1-dos.txt
Comparing /tmp/LzriOYhUGG to t/mailboxes/mailarc-1-dos.txt
Output /tmp/LzriOYhUGG looks good.
ok 13 - Computing differences
Comparing /tmp/RFKPnniUET to t/mailboxes/mailarc-1-dos.txt
Output /tmp/RFKPnniUET looks good.
ok 14 - Computing differences
Comparing /tmp/A6BTlvMWB7 to t/mailboxes/mailarc-1-dos.txt
Output /tmp/A6BTlvMWB7 looks good.
ok 15 - Computing differences
ok 16 # skip GNU grep not available
Testing filename: t/mailboxes/mailarc-1.txt
Comparing /tmp/IyvMjtJbkd to t/mailboxes/mailarc-1.txt
Output /tmp/IyvMjtJbkd looks good.
ok 17 - Computing differences
Comparing /tmp/Gjvh_RA2a_ to t/mailboxes/mailarc-1.txt
Output /tmp/Gjvh_RA2a_ looks good.
ok 18 - Computing differences
Comparing /tmp/N74BwPLU1F to t/mailboxes/mailarc-1.txt
Output /tmp/N74BwPLU1F looks good.
ok 19 - Computing differences
ok 20 # skip GNU grep not available
Testing filename: t/mailboxes/mailarc-2.txt
Comparing /tmp/YOMVIXUMzj to t/mailboxes/mailarc-2.txt
Output /tmp/YOMVIXUMzj looks good.
ok 21 - Computing differences
Comparing /tmp/gGWAY8MEpy to t/mailboxes/mailarc-2.txt
Output /tmp/gGWAY8MEpy looks good.
ok 22 - Computing differences
Comparing /tmp/9AFF6TOUpU to t/mailboxes/mailarc-2.txt
Output /tmp/9AFF6TOUpU looks good.
ok 23 - Computing differences
ok 24 # skip GNU grep not available
Testing filename: t/mailboxes/mailarc-3.txt
Comparing /tmp/dxxNKnj3X_ to t/mailboxes/mailarc-3.txt
Output /tmp/dxxNKnj3X_ looks good.
ok 25 - Computing differences
Comparing /tmp/fDM3cdZ4G5 to t/mailboxes/mailarc-3.txt
Output /tmp/fDM3cdZ4G5 looks good.
ok 26 - Computing differences
Comparing /tmp/LFK2yQno3P to t/mailboxes/mailarc-3.txt
Output /tmp/LFK2yQno3P looks good.
ok 27 - Computing differences
ok 28 # skip GNU grep not available
Testing filename: t/mailboxes/mailseparators.txt
Comparing /tmp/qSexLLIj9G to t/mailboxes/mailseparators.txt
Output /tmp/qSexLLIj9G looks good.
ok 29 - Computing differences
Comparing /tmp/jHTl7qomqZ to t/mailboxes/mailseparators.txt
Output /tmp/jHTl7qomqZ looks good.
ok 30 - Computing differences
Comparing /tmp/YXygq8WM8p to t/mailboxes/mailseparators.txt
Output /tmp/YXygq8WM8p looks good.
ok 31 - Computing differences
ok 32 # skip GNU grep not available
Testing filename: t/mailboxes/malformed.txt
Comparing /tmp/no8wLCO2it to t/mailboxes/malformed.txt
Output /tmp/no8wLCO2it looks good.
ok 33 - Computing differences
Comparing /tmp/JyNIpzFwNR to t/mailboxes/malformed.txt
Output /tmp/JyNIpzFwNR looks good.
ok 34 - Computing differences
Comparing /tmp/vsJ6QVzz6e to t/mailboxes/malformed.txt
Output /tmp/vsJ6QVzz6e looks good.
ok 35 - Computing differences
ok 36 # skip GNU grep not available
Testing filename: t/mailboxes/newlines_at_beginning.txt
Comparing /tmp/HlSIOkIZci to t/mailboxes/newlines_at_beginning.txt
Output /tmp/HlSIOkIZci looks good.
ok 37 - Computing differences
Comparing /tmp/H5zgbegUY3 to t/mailboxes/newlines_at_beginning.txt
Output /tmp/H5zgbegUY3 looks good.
ok 38 - Computing differences
Comparing /tmp/_EgFkJTzxh to t/mailboxes/newlines_at_beginning.txt
Output /tmp/_EgFkJTzxh looks good.
ok 39 - Computing differences
ok 40 # skip GNU grep not available
Testing filename: t/mailboxes/vm-emacs.txt
Comparing /tmp/GwJg2AbZO4 to t/mailboxes/vm-emacs.txt
Output /tmp/GwJg2AbZO4 looks good.
ok 41 - Computing differences
Comparing /tmp/CZpikVLZgU to t/mailboxes/vm-emacs.txt
Output /tmp/CZpikVLZgU looks good.
ok 42 - Computing differences
Comparing /tmp/QMD4y156zK to t/mailboxes/vm-emacs.txt
Output /tmp/QMD4y156zK looks good.
ok 43 - Computing differences
ok 44 # skip GNU grep not available
ok
t/filename_compressed.t ......... 
1..4
Testing filename: t/mailboxes/mailarc-2.txt.bz2
Comparing /tmp/1C4YzHrNW6 to t/mailboxes/mailarc-2.txt
Output /tmp/1C4YzHrNW6 looks good.
ok 1 - Computing differences
Testing filename: t/mailboxes/mailarc-2.txt.gz
Comparing /tmp/kHeK5_e1nF to t/mailboxes/mailarc-2.txt
Output /tmp/kHeK5_e1nF looks good.
ok 2 - Computing differences
Testing filename: t/mailboxes/mailarc-2.txt.lz
ok 3 # skip lzip not available
Testing filename: t/mailboxes/mailarc-2.txt.xz
Comparing /tmp/lB1plbdoFt to t/mailboxes/mailarc-2.txt
Output /tmp/lB1plbdoFt looks good.
ok 4 - Computing differences
ok
t/filename_noncompressed.t ...... 
1..11
Testing filename: t/mailboxes/binary_body.txt
Comparing /tmp/zCH0ofJFXE to t/mailboxes/binary_body.txt
Output /tmp/zCH0ofJFXE looks good.
ok 1 - Computing differences
Testing filename: t/mailboxes/hessbug.txt
Comparing /tmp/eA0HUOFMcI to t/mailboxes/hessbug.txt
Output /tmp/eA0HUOFMcI looks good.
ok 2 - Computing differences
Testing filename: t/mailboxes/invalid-boundaries.txt
Comparing /tmp/4poepA8wuS to t/mailboxes/invalid-boundaries.txt
Output /tmp/4poepA8wuS looks good.
ok 3 - Computing differences
Testing filename: t/mailboxes/mailarc-1-dos.txt
Comparing /tmp/96Or3YeTlj to t/mailboxes/mailarc-1-dos.txt
Output /tmp/96Or3YeTlj looks good.
ok 4 - Computing differences
Testing filename: t/mailboxes/mailarc-1.txt
Comparing /tmp/xedwlA3vZR to t/mailboxes/mailarc-1.txt
Output /tmp/xedwlA3vZR looks good.
ok 5 - Computing differences
Testing filename: t/mailboxes/mailarc-2.txt
Comparing /tmp/9I3cBLS2lD to t/mailboxes/mailarc-2.txt
Output /tmp/9I3cBLS2lD looks good.
ok 6 - Computing differences
Testing filename: t/mailboxes/mailarc-3.txt
Comparing /tmp/byuxriH28n to t/mailboxes/mailarc-3.txt
Output /tmp/byuxriH28n looks good.
ok 7 - Computing differences
Testing filename: t/mailboxes/mailseparators.txt
Comparing /tmp/JTkN5R9c9H to t/mailboxes/mailseparators.txt
Output /tmp/JTkN5R9c9H looks good.
ok 8 - Computing differences
Testing filename: t/mailboxes/malformed.txt
Comparing /tmp/MZkiiC9pLe to t/mailboxes/malformed.txt
Output /tmp/MZkiiC9pLe looks good.
ok 9 - Computing differences
Testing filename: t/mailboxes/newlines_at_beginning.txt
Comparing /tmp/nvC3iWgGJ6 to t/mailboxes/newlines_at_beginning.txt
Output /tmp/nvC3iWgGJ6 looks good.
ok 10 - Computing differences
Testing filename: t/mailboxes/vm-emacs.txt
Comparing /tmp/hF3m6IeLi9 to t/mailboxes/vm-emacs.txt
Output /tmp/hF3m6IeLi9 looks good.
ok 11 - Computing differences
ok
t/grep.t ........................ 
1..4
Running test:
  unset LC_ALL LC_COLLATE LANG LC_CTYPE LC_MESSAGES; grep --extended-regexp --line-number --byte-offset --binary-files=text "^From [^:]+(:[0-9][0-9]){1,2}(  *([A-Z]{2,6}|[+-]?[0-9]{4})){1,3}( remote from .*)?
?$" t/mailboxes/mailarc-1.txt
ok 1 # skip 1
Running test:
  unset LC_ALL LC_COLLATE LANG LC_CTYPE LC_MESSAGES; grep --extended-regexp --line-number --byte-offset --binary-files=text "^From [^:]+(:[0-9][0-9]){1,2}(  *([A-Z]{2,6}|[+-]?[0-9]{4})){1,3}( remote from .*)?
?$" t/mailboxes/mailarc-2.txt
ok 2 # skip 1
Running test:
  unset LC_ALL LC_COLLATE LANG LC_CTYPE LC_MESSAGES; grep --extended-regexp --line-number --byte-offset --binary-files=text "^From [^:]+(:[0-9][0-9]){1,2}(  *([A-Z]{2,6}|[+-]?[0-9]{4})){1,3}( remote from .*)?
?$" t/mailboxes/mailarc-3.txt
ok 3 # skip 1
Running test:
  unset LC_ALL LC_COLLATE LANG LC_CTYPE LC_MESSAGES; grep --extended-regexp --line-number --byte-offset --binary-files=text "^From [^:]+(:[0-9][0-9]){1,2}(  *([A-Z]{2,6}|[+-]?[0-9]{4})){1,3}( remote from .*)?
?$" t/mailboxes/mailseparators.txt
ok 4 # skip 1
ok
t/gzip.t ........................ 
1..1
Running test:
  "/bin/cat" "t/mailboxes/mailarc-2.txt.gz" | "/bin/gzip" -cd
Comparing /tmp/jtp8qQREJZ to t/results/mailarc-2.txt
Output /tmp/jtp8qQREJZ looks good.
Comparing /tmp/GL1gD0bVzu to t/results/none
Output /tmp/GL1gD0bVzu looks good.
ok 1 - Computing differences
ok
t/length.t ...................... 
1..30
Testing filename: t/mailboxes/binary_body.txt
Comparing /tmp/vj3qZSJGBZ to t/results/length_binary_body.stdout
Output /tmp/vj3qZSJGBZ looks good.
ok 1 - Computing differences
Comparing /tmp/K0L29Ht_J8 to t/results/length_binary_body.stdout
Output /tmp/K0L29Ht_J8 looks good.
ok 2 - Computing differences
ok 3 # skip GNU grep not available
Testing filename: t/mailboxes/hessbug.txt
Comparing /tmp/6ABbfV1JqJ to t/results/length_hessbug.stdout
Output /tmp/6ABbfV1JqJ looks good.
ok 4 - Computing differences
Comparing /tmp/iwGqct1Z8_ to t/results/length_hessbug.stdout
Output /tmp/iwGqct1Z8_ looks good.
ok 5 - Computing differences
ok 6 # skip GNU grep not available
Testing filename: t/mailboxes/invalid-boundaries.txt
Comparing /tmp/mQAJK1WR_M to t/results/length_invalid-boundaries.stdout
Output /tmp/mQAJK1WR_M looks good.
ok 7 - Computing differences
Comparing /tmp/82iTXruhfA to t/results/length_invalid-boundaries.stdout
Output /tmp/82iTXruhfA looks good.
ok 8 - Computing differences
ok 9 # skip GNU grep not available
Testing filename: t/mailboxes/mailarc-1-dos.txt
Comparing /tmp/nUnQAYncM2 to t/results/length_mailarc-1-dos.stdout
Output /tmp/nUnQAYncM2 looks good.
ok 10 - Computing differences
Comparing /tmp/1dQhh_Til7 to t/results/length_mailarc-1-dos.stdout
Output /tmp/1dQhh_Til7 looks good.
ok 11 - Computing differences
ok 12 # skip GNU grep not available
Testing filename: t/mailboxes/mailarc-1.txt
Comparing /tmp/46JqW57o2z to t/results/length_mailarc-1.stdout
Output /tmp/46JqW57o2z looks good.
ok 13 - Computing differences
Comparing /tmp/jfMfrZDL02 to t/results/length_mailarc-1.stdout
Output /tmp/jfMfrZDL02 looks good.
ok 14 - Computing differences
ok 15 # skip GNU grep not available
Testing filename: t/mailboxes/mailarc-2.txt
Comparing /tmp/nhsCoENO74 to t/results/length_mailarc-2.stdout
Output /tmp/nhsCoENO74 looks good.
ok 16 - Computing differences
Comparing /tmp/rjZwRHw88A to t/results/length_mailarc-2.stdout
Output /tmp/rjZwRHw88A looks good.
ok 17 - Computing differences
ok 18 # skip GNU grep not available
Testing filename: t/mailboxes/mailarc-3.txt
Comparing /tmp/ZWqmTrHmez to t/results/length_mailarc-3.stdout
Output /tmp/ZWqmTrHmez looks good.
ok 19 - Computing differences
Comparing /tmp/2VdopMP8Ld to t/results/length_mailarc-3.stdout
Output /tmp/2VdopMP8Ld looks good.
ok 20 - Computing differences
ok 21 # skip GNU grep not available
Testing filename: t/mailboxes/mailseparators.txt
Comparing /tmp/20u5eEZDGE to t/results/length_mailseparators.stdout
Output /tmp/20u5eEZDGE looks good.
ok 22 - Computing differences
Comparing /tmp/fLpvR10Dd1 to t/results/length_mailseparators.stdout
Output /tmp/fLpvR10Dd1 looks good.
ok 23 - Computing differences
ok 24 # skip GNU grep not available
Testing filename: t/mailboxes/malformed.txt
Comparing /tmp/5TaVNAv32a to t/results/length_malformed.stdout
Output /tmp/5TaVNAv32a looks good.
ok 25 - Computing differences
Comparing /tmp/TVXX6EHo8D to t/results/length_malformed.stdout
Output /tmp/TVXX6EHo8D looks good.
ok 26 - Computing differences
ok 27 # skip GNU grep not available
Testing filename: t/mailboxes/newlines_at_beginning.txt
Comparing /tmp/uM5_a2kqNr to t/results/length_newlines_at_beginning.stdout
Output /tmp/uM5_a2kqNr looks good.
ok 28 - Computing differences
Comparing /tmp/qauIxflrgL to t/results/length_newlines_at_beginning.stdout
Output /tmp/qauIxflrgL looks good.
ok 29 - Computing differences
ok 30 # skip GNU grep not available
ok
t/line_number.t ................. 
1..30
Testing filename: t/mailboxes/binary_body.txt
Comparing /tmp/8Q8f6v6yMh to t/results/line_number_binary_body.stdout
Output /tmp/8Q8f6v6yMh looks good.
ok 1 - Computing differences
Comparing /tmp/9yO68OMUjo to t/results/line_number_binary_body.stdout
Output /tmp/9yO68OMUjo looks good.
ok 2 - Computing differences
ok 3 # skip GNU grep not available
Testing filename: t/mailboxes/hessbug.txt
Comparing /tmp/j5HtMN30M2 to t/results/line_number_hessbug.stdout
Output /tmp/j5HtMN30M2 looks good.
ok 4 - Computing differences
Comparing /tmp/C7Oy82BYtK to t/results/line_number_hessbug.stdout
Output /tmp/C7Oy82BYtK looks good.
ok 5 - Computing differences
ok 6 # skip GNU grep not available
Testing filename: t/mailboxes/invalid-boundaries.txt
Comparing /tmp/tBNzZVsw69 to t/results/line_number_invalid-boundaries.stdout
Output /tmp/tBNzZVsw69 looks good.
ok 7 - Computing differences
Comparing /tmp/XOFIEZYrdH to t/results/line_number_invalid-boundaries.stdout
Output /tmp/XOFIEZYrdH looks good.
ok 8 - Computing differences
ok 9 # skip GNU grep not available
Testing filename: t/mailboxes/mailarc-1-dos.txt
Comparing /tmp/FzTHXpNSCJ to t/results/line_number_mailarc-1-dos.stdout
Output /tmp/FzTHXpNSCJ looks good.
ok 10 - Computing differences
Comparing /tmp/1IbOV8H9iS to t/results/line_number_mailarc-1-dos.stdout
Output /tmp/1IbOV8H9iS looks good.
ok 11 - Computing differences
ok 12 # skip GNU grep not available
Testing filename: t/mailboxes/mailarc-1.txt
Comparing /tmp/OoKPpFChDB to t/results/line_number_mailarc-1.stdout
Output /tmp/OoKPpFChDB looks good.
ok 13 - Computing differences
Comparing /tmp/JfWDvfUf2M to t/results/line_number_mailarc-1.stdout
Output /tmp/JfWDvfUf2M looks good.
ok 14 - Computing differences
ok 15 # skip GNU grep not available
Testing filename: t/mailboxes/mailarc-2.txt
Comparing /tmp/MjGmxD79GP to t/results/line_number_mailarc-2.stdout
Output /tmp/MjGmxD79GP looks good.
ok 16 - Computing differences
Comparing /tmp/pvkN2lUaeV to t/results/line_number_mailarc-2.stdout
Output /tmp/pvkN2lUaeV looks good.
ok 17 - Computing differences
ok 18 # skip GNU grep not available
Testing filename: t/mailboxes/mailarc-3.txt
Comparing /tmp/DGz9SrLpQF to t/results/line_number_mailarc-3.stdout
Output /tmp/DGz9SrLpQF looks good.
ok 19 - Computing differences
Comparing /tmp/wsycWdk5zq to t/results/line_number_mailarc-3.stdout
Output /tmp/wsycWdk5zq looks good.
ok 20 - Computing differences
ok 21 # skip GNU grep not available
Testing filename: t/mailboxes/mailseparators.txt
Comparing /tmp/Yqdw0URFQv to t/results/line_number_mailseparators.stdout
Output /tmp/Yqdw0URFQv looks good.
ok 22 - Computing differences
Comparing /tmp/svuvs_11MA to t/results/line_number_mailseparators.stdout
Output /tmp/svuvs_11MA looks good.
ok 23 - Computing differences
ok 24 # skip GNU grep not available
Testing filename: t/mailboxes/malformed.txt
Comparing /tmp/lmL7G7ngeK to t/results/line_number_malformed.stdout
Output /tmp/lmL7G7ngeK looks good.
ok 25 - Computing differences
Comparing /tmp/ADxSVV1glB to t/results/line_number_malformed.stdout
Output /tmp/ADxSVV1glB looks good.
ok 26 - Computing differences
ok 27 # skip GNU grep not available
Testing filename: t/mailboxes/newlines_at_beginning.txt
Comparing /tmp/GuR8txRqeu to t/results/line_number_newlines_at_beginning.stdout
Output /tmp/GuR8txRqeu looks good.
ok 28 - Computing differences
Comparing /tmp/h_HGkJ4i3g to t/results/line_number_newlines_at_beginning.stdout
Output /tmp/h_HGkJ4i3g looks good.
ok 29 - Computing differences
ok 30 # skip GNU grep not available
ok
t/lzip.t ........................ 
1..1
Running test:
  "/bin/cat" "t/mailboxes/mailarc-2.txt.lz" | "lzip" -cd
ok 1 # skip lzip not available
ok
t/number.t ...................... 
1..30
Testing filename: t/mailboxes/binary_body.txt
Comparing /tmp/vvGpnMKEbo to t/results/number_binary_body.stdout
Output /tmp/vvGpnMKEbo looks good.
ok 1 - Computing differences
Comparing /tmp/bxH_d32WKN to t/results/number_binary_body.stdout
Output /tmp/bxH_d32WKN looks good.
ok 2 - Computing differences
ok 3 # skip GNU grep not available
Testing filename: t/mailboxes/hessbug.txt
Comparing /tmp/d5PmuuVNWn to t/results/number_hessbug.stdout
Output /tmp/d5PmuuVNWn looks good.
ok 4 - Computing differences
Comparing /tmp/lm_WBHLbgY to t/results/number_hessbug.stdout
Output /tmp/lm_WBHLbgY looks good.
ok 5 - Computing differences
ok 6 # skip GNU grep not available
Testing filename: t/mailboxes/invalid-boundaries.txt
Comparing /tmp/dKBHtLWhtL to t/results/number_invalid-boundaries.stdout
Output /tmp/dKBHtLWhtL looks good.
ok 7 - Computing differences
Comparing /tmp/IynAiukPCi to t/results/number_invalid-boundaries.stdout
Output /tmp/IynAiukPCi looks good.
ok 8 - Computing differences
ok 9 # skip GNU grep not available
Testing filename: t/mailboxes/mailarc-1-dos.txt
Comparing /tmp/rzcZHVUyZM to t/results/number_mailarc-1-dos.stdout
Output /tmp/rzcZHVUyZM looks good.
ok 10 - Computing differences
Comparing /tmp/TS8qgkGddH to t/results/number_mailarc-1-dos.stdout
Output /tmp/TS8qgkGddH looks good.
ok 11 - Computing differences
ok 12 # skip GNU grep not available
Testing filename: t/mailboxes/mailarc-1.txt
Comparing /tmp/uGyF2oaGGG to t/results/number_mailarc-1.stdout
Output /tmp/uGyF2oaGGG looks good.
ok 13 - Computing differences
Comparing /tmp/j7DTlb8UBa to t/results/number_mailarc-1.stdout
Output /tmp/j7DTlb8UBa looks good.
ok 14 - Computing differences
ok 15 # skip GNU grep not available
Testing filename: t/mailboxes/mailarc-2.txt
Comparing /tmp/VK_1W_jVjk to t/results/number_mailarc-2.stdout
Output /tmp/VK_1W_jVjk looks good.
ok 16 - Computing differences
Comparing /tmp/u5WAcgOYeE to t/results/number_mailarc-2.stdout
Output /tmp/u5WAcgOYeE looks good.
ok 17 - Computing differences
ok 18 # skip GNU grep not available
Testing filename: t/mailboxes/mailarc-3.txt
Comparing /tmp/ow3HGbI5fD to t/results/number_mailarc-3.stdout
Output /tmp/ow3HGbI5fD looks good.
ok 19 - Computing differences
Comparing /tmp/aavmTsa9L7 to t/results/number_mailarc-3.stdout
Output /tmp/aavmTsa9L7 looks good.
ok 20 - Computing differences
ok 21 # skip GNU grep not available
Testing filename: t/mailboxes/mailseparators.txt
Comparing /tmp/HpWDH7usVg to t/results/number_mailseparators.stdout
Output /tmp/HpWDH7usVg looks good.
ok 22 - Computing differences
Comparing /tmp/inJRLvJ8HQ to t/results/number_mailseparators.stdout
Output /tmp/inJRLvJ8HQ looks good.
ok 23 - Computing differences
ok 24 # skip GNU grep not available
Testing filename: t/mailboxes/malformed.txt
Comparing /tmp/BKyC2pZTTv to t/results/number_malformed.stdout
Output /tmp/BKyC2pZTTv looks good.
ok 25 - Computing differences
Comparing /tmp/gUS_iqqI_o to t/results/number_malformed.stdout
Output /tmp/gUS_iqqI_o looks good.
ok 26 - Computing differences
ok 27 # skip GNU grep not available
Testing filename: t/mailboxes/newlines_at_beginning.txt
Comparing /tmp/iF6z6YFYeE to t/results/number_newlines_at_beginning.stdout
Output /tmp/iF6z6YFYeE looks good.
ok 28 - Computing differences
Comparing /tmp/Zo7ObjoseZ to t/results/number_newlines_at_beginning.stdout
Output /tmp/Zo7ObjoseZ looks good.
ok 29 - Computing differences
ok 30 # skip GNU grep not available
ok
t/offset.t ...................... 
1..30
Testing filename: t/mailboxes/binary_body.txt
Comparing /tmp/yydg9dOc82 to t/results/offset_binary_body.stdout
Output /tmp/yydg9dOc82 looks good.
ok 1 - Computing differences
Comparing /tmp/PLIvY_6dc0 to t/results/offset_binary_body.stdout
Output /tmp/PLIvY_6dc0 looks good.
ok 2 - Computing differences
ok 3 # skip GNU grep not available
Testing filename: t/mailboxes/hessbug.txt
Comparing /tmp/2apJsASgTu to t/results/offset_hessbug.stdout
Output /tmp/2apJsASgTu looks good.
ok 4 - Computing differences
Comparing /tmp/THtAotE9Hi to t/results/offset_hessbug.stdout
Output /tmp/THtAotE9Hi looks good.
ok 5 - Computing differences
ok 6 # skip GNU grep not available
Testing filename: t/mailboxes/invalid-boundaries.txt
Comparing /tmp/pQHnulovRf to t/results/offset_invalid-boundaries.stdout
Output /tmp/pQHnulovRf looks good.
ok 7 - Computing differences
Comparing /tmp/RFK6q1Lss9 to t/results/offset_invalid-boundaries.stdout
Output /tmp/RFK6q1Lss9 looks good.
ok 8 - Computing differences
ok 9 # skip GNU grep not available
Testing filename: t/mailboxes/mailarc-1-dos.txt
Comparing /tmp/wgvWG4wOvJ to t/results/offset_mailarc-1-dos.stdout
Output /tmp/wgvWG4wOvJ looks good.
ok 10 - Computing differences
Comparing /tmp/GeNSQNhIcc to t/results/offset_mailarc-1-dos.stdout
Output /tmp/GeNSQNhIcc looks good.
ok 11 - Computing differences
ok 12 # skip GNU grep not available
Testing filename: t/mailboxes/mailarc-1.txt
Comparing /tmp/dsXed5uSX7 to t/results/offset_mailarc-1.stdout
Output /tmp/dsXed5uSX7 looks good.
ok 13 - Computing differences
Comparing /tmp/pUAqOgRo5z to t/results/offset_mailarc-1.stdout
Output /tmp/pUAqOgRo5z looks good.
ok 14 - Computing differences
ok 15 # skip GNU grep not available
Testing filename: t/mailboxes/mailarc-2.txt
Comparing /tmp/0VDg0QDa39 to t/results/offset_mailarc-2.stdout
Output /tmp/0VDg0QDa39 looks good.
ok 16 - Computing differences
Comparing /tmp/Lj9UsS58oB to t/results/offset_mailarc-2.stdout
Output /tmp/Lj9UsS58oB looks good.
ok 17 - Computing differences
ok 18 # skip GNU grep not available
Testing filename: t/mailboxes/mailarc-3.txt
Comparing /tmp/CyvCViuxIG to t/results/offset_mailarc-3.stdout
Output /tmp/CyvCViuxIG looks good.
ok 19 - Computing differences
Comparing /tmp/SBs9Y90Y9d to t/results/offset_mailarc-3.stdout
Output /tmp/SBs9Y90Y9d looks good.
ok 20 - Computing differences
ok 21 # skip GNU grep not available
Testing filename: t/mailboxes/mailseparators.txt
Comparing /tmp/W92H64oHTM to t/results/offset_mailseparators.stdout
Output /tmp/W92H64oHTM looks good.
ok 22 - Computing differences
Comparing /tmp/Rtq9sGNoNs to t/results/offset_mailseparators.stdout
Output /tmp/Rtq9sGNoNs looks good.
ok 23 - Computing differences
ok 24 # skip GNU grep not available
Testing filename: t/mailboxes/malformed.txt
Comparing /tmp/JQZV2lsItO to t/results/offset_malformed.stdout
Output /tmp/JQZV2lsItO looks good.
ok 25 - Computing differences
Comparing /tmp/aLgXrFHrCe to t/results/offset_malformed.stdout
Output /tmp/aLgXrFHrCe looks good.
ok 26 - Computing differences
ok 27 # skip GNU grep not available
Testing filename: t/mailboxes/newlines_at_beginning.txt
Comparing /tmp/qa50TyaexC to t/results/offset_newlines_at_beginning.stdout
Output /tmp/qa50TyaexC looks good.
ok 28 - Computing differences
Comparing /tmp/aDtuhb_zRN to t/results/offset_newlines_at_beginning.stdout
Output /tmp/aDtuhb_zRN looks good.
ok 29 - Computing differences
ok 30 # skip GNU grep not available
ok
t/prologue.t .................... 
1..33
Testing filename: t/mailboxes/binary_body.txt
Comparing /tmp/IJnBEACwNJ to t/mailboxes/binary_body.txt
Output /tmp/IJnBEACwNJ looks good.
ok 1 - Computing differences
Comparing /tmp/lfRPy9TBOq to t/mailboxes/binary_body.txt
Output /tmp/lfRPy9TBOq looks good.
ok 2 - Computing differences
ok 3 # skip GNU grep not available
Testing filename: t/mailboxes/hessbug.txt
Comparing /tmp/m5abdU0LRW to t/mailboxes/hessbug.txt
Output /tmp/m5abdU0LRW looks good.
ok 4 - Computing differences
Comparing /tmp/KpJpMUEiCl to t/mailboxes/hessbug.txt
Output /tmp/KpJpMUEiCl looks good.
ok 5 - Computing differences
ok 6 # skip GNU grep not available
Testing filename: t/mailboxes/invalid-boundaries.txt
Comparing /tmp/fjghnQGdk3 to t/mailboxes/invalid-boundaries.txt
Output /tmp/fjghnQGdk3 looks good.
ok 7 - Computing differences
Comparing /tmp/EXyGXSSyLu to t/mailboxes/invalid-boundaries.txt
Output /tmp/EXyGXSSyLu looks good.
ok 8 - Computing differences
ok 9 # skip GNU grep not available
Testing filename: t/mailboxes/mailarc-1-dos.txt
Comparing /tmp/1jgEudfsDW to t/mailboxes/mailarc-1-dos.txt
Output /tmp/1jgEudfsDW looks good.
ok 10 - Computing differences
Comparing /tmp/BqIEKo5ajR to t/mailboxes/mailarc-1-dos.txt
Output /tmp/BqIEKo5ajR looks good.
ok 11 - Computing differences
ok 12 # skip GNU grep not available
Testing filename: t/mailboxes/mailarc-1.txt
Comparing /tmp/xQgeetxZAH to t/mailboxes/mailarc-1.txt
Output /tmp/xQgeetxZAH looks good.
ok 13 - Computing differences
Comparing /tmp/JvoHD5dpWw to t/mailboxes/mailarc-1.txt
Output /tmp/JvoHD5dpWw looks good.
ok 14 - Computing differences
ok 15 # skip GNU grep not available
Testing filename: t/mailboxes/mailarc-2.txt
Comparing /tmp/4S96aJWCTJ to t/mailboxes/mailarc-2.txt
Output /tmp/4S96aJWCTJ looks good.
ok 16 - Computing differences
Comparing /tmp/7dHdWnolxH to t/mailboxes/mailarc-2.txt
Output /tmp/7dHdWnolxH looks good.
ok 17 - Computing differences
ok 18 # skip GNU grep not available
Testing filename: t/mailboxes/mailarc-3.txt
Comparing /tmp/XwQwyBgrqr to t/mailboxes/mailarc-3.txt
Output /tmp/XwQwyBgrqr looks good.
ok 19 - Computing differences
Comparing /tmp/Znu3uNK2iG to t/mailboxes/mailarc-3.txt
Output /tmp/Znu3uNK2iG looks good.
ok 20 - Computing differences
ok 21 # skip GNU grep not available
Testing filename: t/mailboxes/mailseparators.txt
Comparing /tmp/Ympg2hii0z to t/mailboxes/mailseparators.txt
Output /tmp/Ympg2hii0z looks good.
ok 22 - Computing differences
Comparing /tmp/4bbePUwX5g to t/mailboxes/mailseparators.txt
Output /tmp/4bbePUwX5g looks good.
ok 23 - Computing differences
ok 24 # skip GNU grep not available
Testing filename: t/mailboxes/malformed.txt
Comparing /tmp/z6hpZpJieR to t/mailboxes/malformed.txt
Output /tmp/z6hpZpJieR looks good.
ok 25 - Computing differences
Comparing /tmp/hSY8fgpf3P to t/mailboxes/malformed.txt
Output /tmp/hSY8fgpf3P looks good.
ok 26 - Computing differences
ok 27 # skip GNU grep not available
Testing filename: t/mailboxes/newlines_at_beginning.txt
Comparing /tmp/efoH4Jj5Rf to t/mailboxes/newlines_at_beginning.txt
Output /tmp/efoH4Jj5Rf looks good.
ok 28 - Computing differences
Comparing /tmp/NWeCDo6A8K to t/mailboxes/newlines_at_beginning.txt
Output /tmp/NWeCDo6A8K looks good.
ok 29 - Computing differences
ok 30 # skip GNU grep not available
Testing filename: t/mailboxes/vm-emacs.txt
Comparing /tmp/HGfEUdcOwB to t/mailboxes/vm-emacs.txt
Output /tmp/HGfEUdcOwB looks good.
ok 31 - Computing differences
Comparing /tmp/VgioVGWod2 to t/mailboxes/vm-emacs.txt
Output /tmp/VgioVGWod2 looks good.
ok 32 - Computing differences
ok 33 # skip GNU grep not available
ok
t/reset.t ....................... 
1..60
Testing filename: t/mailboxes/binary_body.txt
Testing partial mailbox reset with Perl implementation
Comparing /tmp/3ncUENUm9K to t/results/reset_binary_body.stdout
Output /tmp/3ncUENUm9K looks good.
ok 1 - Computing differences
Testing partial mailbox reset with Cache implementation
Comparing /tmp/U96qRcU3fP to t/results/reset_binary_body.stdout
Output /tmp/U96qRcU3fP looks good.
ok 2 - Computing differences
Testing partial mailbox reset with Grep implementation
ok 3 # skip GNU grep not available
Testing full mailbox reset with Perl implementation
Comparing /tmp/cAhrj4bRJD to t/results/reset_binary_body.stdout
Output /tmp/cAhrj4bRJD looks good.
ok 4 - Computing differences
Testing full mailbox reset with Cache implementation
Comparing /tmp/XlUneDs4vJ to t/results/reset_binary_body.stdout
Output /tmp/XlUneDs4vJ looks good.
ok 5 - Computing differences
Testing full mailbox reset with Grep implementation
ok 6 # skip GNU grep not available
Testing filename: t/mailboxes/hessbug.txt
Testing partial mailbox reset with Perl implementation
Comparing /tmp/lrG66vtINv to t/results/reset_hessbug.stdout
Output /tmp/lrG66vtINv looks good.
ok 7 - Computing differences
Testing partial mailbox reset with Cache implementation
Comparing /tmp/2kp9gRQQ26 to t/results/reset_hessbug.stdout
Output /tmp/2kp9gRQQ26 looks good.
ok 8 - Computing differences
Testing partial mailbox reset with Grep implementation
ok 9 # skip GNU grep not available
Testing full mailbox reset with Perl implementation
Comparing /tmp/Z5s3SJ4Yao to t/results/reset_hessbug.stdout
Output /tmp/Z5s3SJ4Yao looks good.
ok 10 - Computing differences
Testing full mailbox reset with Cache implementation
Comparing /tmp/cDfO1OigTV to t/results/reset_hessbug.stdout
Output /tmp/cDfO1OigTV looks good.
ok 11 - Computing differences
Testing full mailbox reset with Grep implementation
ok 12 # skip GNU grep not available
Testing filename: t/mailboxes/invalid-boundaries.txt
Testing partial mailbox reset with Perl implementation
Comparing /tmp/3I3jQL388b to t/results/reset_invalid-boundaries.stdout
Output /tmp/3I3jQL388b looks good.
ok 13 - Computing differences
Testing partial mailbox reset with Cache implementation
Comparing /tmp/ccRhAYXlof to t/results/reset_invalid-boundaries.stdout
Output /tmp/ccRhAYXlof looks good.
ok 14 - Computing differences
Testing partial mailbox reset with Grep implementation
ok 15 # skip GNU grep not available
Testing full mailbox reset with Perl implementation
Comparing /tmp/tuzJcrw75t to t/results/reset_invalid-boundaries.stdout
Output /tmp/tuzJcrw75t looks good.
ok 16 - Computing differences
Testing full mailbox reset with Cache implementation
Comparing /tmp/BsTEfcjpwV to t/results/reset_invalid-boundaries.stdout
Output /tmp/BsTEfcjpwV looks good.
ok 17 - Computing differences
Testing full mailbox reset with Grep implementation
ok 18 # skip GNU grep not available
Testing filename: t/mailboxes/mailarc-1-dos.txt
Testing partial mailbox reset with Perl implementation
Comparing /tmp/QtCN1oIc_3 to t/results/reset_mailarc-1-dos.stdout
Output /tmp/QtCN1oIc_3 looks good.
ok 19 - Computing differences
Testing partial mailbox reset with Cache implementation
Comparing /tmp/5J_Oydnyl_ to t/results/reset_mailarc-1-dos.stdout
Output /tmp/5J_Oydnyl_ looks good.
ok 20 - Computing differences
Testing partial mailbox reset with Grep implementation
ok 21 # skip GNU grep not available
Testing full mailbox reset with Perl implementation
Comparing /tmp/OTKiRqk8dN to t/results/reset_mailarc-1-dos.stdout
Output /tmp/OTKiRqk8dN looks good.
ok 22 - Computing differences
Testing full mailbox reset with Cache implementation
Comparing /tmp/XxkNNz1XpY to t/results/reset_mailarc-1-dos.stdout
Output /tmp/XxkNNz1XpY looks good.
ok 23 - Computing differences
Testing full mailbox reset with Grep implementation
ok 24 # skip GNU grep not available
Testing filename: t/mailboxes/mailarc-1.txt
Testing partial mailbox reset with Perl implementation
Comparing /tmp/aAXjhiFPkA to t/results/reset_mailarc-1.stdout
Output /tmp/aAXjhiFPkA looks good.
ok 25 - Computing differences
Testing partial mailbox reset with Cache implementation
Comparing /tmp/LfriYAoHdR to t/results/reset_mailarc-1.stdout
Output /tmp/LfriYAoHdR looks good.
ok 26 - Computing differences
Testing partial mailbox reset with Grep implementation
ok 27 # skip GNU grep not available
Testing full mailbox reset with Perl implementation
Comparing /tmp/FNZ4o2toSK to t/results/reset_mailarc-1.stdout
Output /tmp/FNZ4o2toSK looks good.
ok 28 - Computing differences
Testing full mailbox reset with Cache implementation
Comparing /tmp/ynRXl1D0wd to t/results/reset_mailarc-1.stdout
Output /tmp/ynRXl1D0wd looks good.
ok 29 - Computing differences
Testing full mailbox reset with Grep implementation
ok 30 # skip GNU grep not available
Testing filename: t/mailboxes/mailarc-2.txt
Testing partial mailbox reset with Perl implementation
Comparing /tmp/CMHoRmgjq4 to t/results/reset_mailarc-2.stdout
Output /tmp/CMHoRmgjq4 looks good.
ok 31 - Computing differences
Testing partial mailbox reset with Cache implementation
Comparing /tmp/pNxz7uZwGj to t/results/reset_mailarc-2.stdout
Output /tmp/pNxz7uZwGj looks good.
ok 32 - Computing differences
Testing partial mailbox reset with Grep implementation
ok 33 # skip GNU grep not available
Testing full mailbox reset with Perl implementation
Comparing /tmp/GqCZuhaqSb to t/results/reset_mailarc-2.stdout
Output /tmp/GqCZuhaqSb looks good.
ok 34 - Computing differences
Testing full mailbox reset with Cache implementation
Comparing /tmp/kev85TXCA2 to t/results/reset_mailarc-2.stdout
Output /tmp/kev85TXCA2 looks good.
ok 35 - Computing differences
Testing full mailbox reset with Grep implementation
ok 36 # skip GNU grep not available
Testing filename: t/mailboxes/mailarc-3.txt
Testing partial mailbox reset with Perl implementation
Comparing /tmp/2IHHiaN162 to t/results/reset_mailarc-3.stdout
Output /tmp/2IHHiaN162 looks good.
ok 37 - Computing differences
Testing partial mailbox reset with Cache implementation
Comparing /tmp/aIwX6seEgU to t/results/reset_mailarc-3.stdout
Output /tmp/aIwX6seEgU looks good.
ok 38 - Computing differences
Testing partial mailbox reset with Grep implementation
ok 39 # skip GNU grep not available
Testing full mailbox reset with Perl implementation
Comparing /tmp/7EjvDChpn7 to t/results/reset_mailarc-3.stdout
Output /tmp/7EjvDChpn7 looks good.
ok 40 - Computing differences
Testing full mailbox reset with Cache implementation
Comparing /tmp/627rtveQBI to t/results/reset_mailarc-3.stdout
Output /tmp/627rtveQBI looks good.
ok 41 - Computing differences
Testing full mailbox reset with Grep implementation
ok 42 # skip GNU grep not available
Testing filename: t/mailboxes/mailseparators.txt
Testing partial mailbox reset with Perl implementation
Comparing /tmp/Flt76Qaf2D to t/results/reset_mailseparators.stdout
Output /tmp/Flt76Qaf2D looks good.
ok 43 - Computing differences
Testing partial mailbox reset with Cache implementation
Comparing /tmp/b5i0SwFlaw to t/results/reset_mailseparators.stdout
Output /tmp/b5i0SwFlaw looks good.
ok 44 - Computing differences
Testing partial mailbox reset with Grep implementation
ok 45 # skip GNU grep not available
Testing full mailbox reset with Perl implementation
Comparing /tmp/LxSff58yP_ to t/results/reset_mailseparators.stdout
Output /tmp/LxSff58yP_ looks good.
ok 46 - Computing differences
Testing full mailbox reset with Cache implementation
Comparing /tmp/E_K3Gs0uAr to t/results/reset_mailseparators.stdout
Output /tmp/E_K3Gs0uAr looks good.
ok 47 - Computing differences
Testing full mailbox reset with Grep implementation
ok 48 # skip GNU grep not available
Testing filename: t/mailboxes/malformed.txt
Testing partial mailbox reset with Perl implementation
Comparing /tmp/i_hMjFlH_O to t/results/reset_malformed.stdout
Output /tmp/i_hMjFlH_O looks good.
ok 49 - Computing differences
Testing partial mailbox reset with Cache implementation
Comparing /tmp/3db_le33PA to t/results/reset_malformed.stdout
Output /tmp/3db_le33PA looks good.
ok 50 - Computing differences
Testing partial mailbox reset with Grep implementation
ok 51 # skip GNU grep not available
Testing full mailbox reset with Perl implementation
Comparing /tmp/02plCU0Ixn to t/results/reset_malformed.stdout
Output /tmp/02plCU0Ixn looks good.
ok 52 - Computing differences
Testing full mailbox reset with Cache implementation
Comparing /tmp/z9VQVfKk3g to t/results/reset_malformed.stdout
Output /tmp/z9VQVfKk3g looks good.
ok 53 - Computing differences
Testing full mailbox reset with Grep implementation
ok 54 # skip GNU grep not available
Testing filename: t/mailboxes/newlines_at_beginning.txt
Testing partial mailbox reset with Perl implementation
Comparing /tmp/afmIaz_bR2 to t/results/reset_newlines_at_beginning.stdout
Output /tmp/afmIaz_bR2 looks good.
ok 55 - Computing differences
Testing partial mailbox reset with Cache implementation
Comparing /tmp/Nig5lhYHry to t/results/reset_newlines_at_beginning.stdout
Output /tmp/Nig5lhYHry looks good.
ok 56 - Computing differences
Testing partial mailbox reset with Grep implementation
ok 57 # skip GNU grep not available
Testing full mailbox reset with Perl implementation
Comparing /tmp/H6Ye2QbDIB to t/results/reset_newlines_at_beginning.stdout
Output /tmp/H6Ye2QbDIB looks good.
ok 58 - Computing differences
Testing full mailbox reset with Cache implementation
Comparing /tmp/YOgBeNTHAe to t/results/reset_newlines_at_beginning.stdout
Output /tmp/YOgBeNTHAe looks good.
ok 59 - Computing differences
Testing full mailbox reset with Grep implementation
ok 60 # skip GNU grep not available
ok
t/separators.t .................. 
1..6
Testing filename: t/mailboxes/separators2.sep
ok 1 - Number of emails in t/mailboxes/separators2.sep
ok 2 - Number of emails in t/mailboxes/separators2.sep
ok 3 # skip GNU grep not available
Testing filename: t/mailboxes/separators1.sep
ok 4 - Number of emails in t/mailboxes/separators1.sep
ok 5 - Number of emails in t/mailboxes/separators1.sep
ok 6 # skip GNU grep not available
ok
t/stdin_compressed.t ............ 
1..4
Testing filename: t/mailboxes/mailarc-2.txt.bz2
Comparing /tmp/9c8dQ86nEG to t/mailboxes/mailarc-2.txt
Output /tmp/9c8dQ86nEG looks good.
ok 1 - Computing differences
Testing filename: t/mailboxes/mailarc-2.txt.gz
Comparing /tmp/WnJ6CvHPgF to t/mailboxes/mailarc-2.txt
Output /tmp/WnJ6CvHPgF looks good.
ok 2 - Computing differences
Testing filename: t/mailboxes/mailarc-2.txt.lz
ok 3 # skip lzip not available
Testing filename: t/mailboxes/mailarc-2.txt.xz
Comparing /tmp/1b8xZsQ6_v to t/mailboxes/mailarc-2.txt
Output /tmp/1b8xZsQ6_v looks good.
ok 4 - Computing differences
ok
t/stdin_uncompressed.t .......... 
1..11
Testing filename: t/mailboxes/binary_body.txt
Comparing /tmp/nPK6qDZ0fW to t/mailboxes/binary_body.txt
Output /tmp/nPK6qDZ0fW looks good.
ok 1 - Computing differences
Testing filename: t/mailboxes/hessbug.txt
Comparing /tmp/zVFyKFmM3T to t/mailboxes/hessbug.txt
Output /tmp/zVFyKFmM3T looks good.
ok 2 - Computing differences
Testing filename: t/mailboxes/invalid-boundaries.txt
Comparing /tmp/YYZox_NlRe to t/mailboxes/invalid-boundaries.txt
Output /tmp/YYZox_NlRe looks good.
ok 3 - Computing differences
Testing filename: t/mailboxes/mailarc-1-dos.txt
Comparing /tmp/xQxa6wUESK to t/mailboxes/mailarc-1-dos.txt
Output /tmp/xQxa6wUESK looks good.
ok 4 - Computing differences
Testing filename: t/mailboxes/mailarc-1.txt
Comparing /tmp/tWVPmgnwo_ to t/mailboxes/mailarc-1.txt
Output /tmp/tWVPmgnwo_ looks good.
ok 5 - Computing differences
Testing filename: t/mailboxes/mailarc-2.txt
Comparing /tmp/yvAWvVkXGA to t/mailboxes/mailarc-2.txt
Output /tmp/yvAWvVkXGA looks good.
ok 6 - Computing differences
Testing filename: t/mailboxes/mailarc-3.txt
Comparing /tmp/sxKtEDvQqR to t/mailboxes/mailarc-3.txt
Output /tmp/sxKtEDvQqR looks good.
ok 7 - Computing differences
Testing filename: t/mailboxes/mailseparators.txt
Comparing /tmp/NuonJ0iU1R to t/mailboxes/mailseparators.txt
Output /tmp/NuonJ0iU1R looks good.
ok 8 - Computing differences
Testing filename: t/mailboxes/malformed.txt
Comparing /tmp/zDH1ysZkgQ to t/mailboxes/malformed.txt
Output /tmp/zDH1ysZkgQ looks good.
ok 9 - Computing differences
Testing filename: t/mailboxes/newlines_at_beginning.txt
Comparing /tmp/oIcqgC7jll to t/mailboxes/newlines_at_beginning.txt
Output /tmp/oIcqgC7jll looks good.
ok 10 - Computing differences
Testing filename: t/mailboxes/vm-emacs.txt
Comparing /tmp/78TFI0uNEw to t/mailboxes/vm-emacs.txt
Output /tmp/78TFI0uNEw looks good.
ok 11 - Computing differences
ok
t/undef_return_value.t .......... 
1..33
Testing Perl 
Comparing /tmp/d4fVUxUdYW to t/mailboxes/binary_body.txt
Output /tmp/d4fVUxUdYW looks good.
ok 1 - Computing differences
Testing Cache implementation
Comparing /tmp/tWxk7lhXvh to t/mailboxes/binary_body.txt
Output /tmp/tWxk7lhXvh looks good.
ok 2 - Computing differences
ok 3 # skip GNU grep not available
Testing Perl 
Comparing /tmp/YBBScr0UPC to t/mailboxes/hessbug.txt
Output /tmp/YBBScr0UPC looks good.
ok 4 - Computing differences
Testing Cache implementation
Comparing /tmp/ABTUE0KTgz to t/mailboxes/hessbug.txt
Output /tmp/ABTUE0KTgz looks good.
ok 5 - Computing differences
ok 6 # skip GNU grep not available
Testing Perl 
Comparing /tmp/FnkEdfwd7Y to t/mailboxes/invalid-boundaries.txt
Output /tmp/FnkEdfwd7Y looks good.
ok 7 - Computing differences
Testing Cache implementation
Comparing /tmp/SOT3s4MD2C to t/mailboxes/invalid-boundaries.txt
Output /tmp/SOT3s4MD2C looks good.
ok 8 - Computing differences
ok 9 # skip GNU grep not available
Testing Perl 
Comparing /tmp/QerOKMNXAD to t/mailboxes/mailarc-1-dos.txt
Output /tmp/QerOKMNXAD looks good.
ok 10 - Computing differences
Testing Cache implementation
Comparing /tmp/QtybQrzau_ to t/mailboxes/mailarc-1-dos.txt
Output /tmp/QtybQrzau_ looks good.
ok 11 - Computing differences
ok 12 # skip GNU grep not available
Testing Perl 
Comparing /tmp/4rlRD0GZjH to t/mailboxes/mailarc-1.txt
Output /tmp/4rlRD0GZjH looks good.
ok 13 - Computing differences
Testing Cache implementation
Comparing /tmp/gp7xFhFEOL to t/mailboxes/mailarc-1.txt
Output /tmp/gp7xFhFEOL looks good.
ok 14 - Computing differences
ok 15 # skip GNU grep not available
Testing Perl 
Comparing /tmp/3PqcT1yPS7 to t/mailboxes/mailarc-2.txt
Output /tmp/3PqcT1yPS7 looks good.
ok 16 - Computing differences
Testing Cache implementation
Comparing /tmp/rfJPD5U_IO to t/mailboxes/mailarc-2.txt
Output /tmp/rfJPD5U_IO looks good.
ok 17 - Computing differences
ok 18 # skip GNU grep not available
Testing Perl 
Comparing /tmp/9JTGzt92im to t/mailboxes/mailarc-3.txt
Output /tmp/9JTGzt92im looks good.
ok 19 - Computing differences
Testing Cache implementation
Comparing /tmp/TvaeKbr_7S to t/mailboxes/mailarc-3.txt
Output /tmp/TvaeKbr_7S looks good.
ok 20 - Computing differences
ok 21 # skip GNU grep not available
Testing Perl 
Comparing /tmp/za_rgOQcty to t/mailboxes/mailseparators.txt
Output /tmp/za_rgOQcty looks good.
ok 22 - Computing differences
Testing Cache implementation
Comparing /tmp/NYnGlOQHPI to t/mailboxes/mailseparators.txt
Output /tmp/NYnGlOQHPI looks good.
ok 23 - Computing differences
ok 24 # skip GNU grep not available
Testing Perl 
Comparing /tmp/L5X4vqv5gy to t/mailboxes/malformed.txt
Output /tmp/L5X4vqv5gy looks good.
ok 25 - Computing differences
Testing Cache implementation
Comparing /tmp/JawVbJ0Gwp to t/mailboxes/malformed.txt
Output /tmp/JawVbJ0Gwp looks good.
ok 26 - Computing differences
ok 27 # skip GNU grep not available
Testing Perl 
Comparing /tmp/L9C843MKrh to t/mailboxes/newlines_at_beginning.txt
Output /tmp/L9C843MKrh looks good.
ok 28 - Computing differences
Testing Cache implementation
Comparing /tmp/4I4vguChGO to t/mailboxes/newlines_at_beginning.txt
Output /tmp/4I4vguChGO looks good.
ok 29 - Computing differences
ok 30 # skip GNU grep not available
Testing Perl 
Comparing /tmp/TqXDd9kyxl to t/mailboxes/vm-emacs.txt
Output /tmp/TqXDd9kyxl looks good.
ok 31 - Computing differences
Testing Cache implementation
Comparing /tmp/tOdXbhrPXU to t/mailboxes/vm-emacs.txt
Output /tmp/tOdXbhrPXU looks good.
ok 32 - Computing differences
ok 33 # skip GNU grep not available
ok
t/xz.t .......................... 
1..1
Running test:
  "/bin/cat" "t/mailboxes/mailarc-2.txt.xz" | "/usr/bin/xz" -cd
Comparing /tmp/30PN0Dxe46 to t/results/mailarc-2.txt
Output /tmp/30PN0Dxe46 looks good.
Comparing /tmp/N6GVMlR2VR to t/results/none
Output /tmp/N6GVMlR2VR looks good.
ok 1 - Computing differences
ok
All tests successful.
Files=25, Tests=382,  8 wallclock secs ( 0.14 usr  0.24 sys +  4.61 cusr  1.83 csys =  6.82 CPU)
Result: PASS

------------------------------
PREREQUISITES
------------------------------

Prerequisite modules loaded:

requires:

    Module              Need  Have    
    ------------------- ----- --------
    FileHandle::Unget   0     0.1634  
    perl                5.005 5.035010
    Storable            0     3.25    

build_requires:

    Module              Need  Have    
    ------------------- ----- --------
    ExtUtils::MakeMaker 6.36  7.64    
    File::Path          2.08  2.18    
    File::Slurper       0     0.013   
    Test::Compile       0     v3.0.1  
    Test::More          0     1.302190
    Text::Diff          0     1.45    
    UNIVERSAL::require  0     0.19    
    URI::Escape         0     5.10    

configure_requires:

    Module              Need  Have    
    ------------------- ----- --------
    ExtUtils::MakeMaker 6.36  7.64    
    URI::Escape         0     5.10    


------------------------------
ENVIRONMENT AND OTHER CONTEXT
------------------------------

Environment variables:

    AUTOMATED_TESTING = 1
    LANG = en_US.utf8
    PATH = /home/sand/bin:/usr/local/bin:/usr/local/sbin:/usr/sbin:/usr/bin:/sbin:/bin:/usr/games:/usr/local/games:/snap/bin:/usr/local/perl/bin:/usr/X11/bin
    PERL = /tmp/basesmoker-reloperl-RUpm/bin/perl
    PERL5LIB = /tmp/loop_over_bdir-5996-B07plR/Simulation-Automate-1.0.1-0/blib/arch:/tmp/loop_over_bdir-5996-B07plR/Simulation-Automate-1.0.1-0/blib/lib:/tmp/loop_over_bdir-5996-B07plR/shishi-0.0.1-0/blib/arch:/tmp/loop_over_bdir-5996-B07plR/shishi-0.0.1-0/blib/lib:/tmp/loop_over_bdir-5996-B07plR/NoZone-1.3-0/blib/arch:/tmp/loop_over_bdir-5996-B07plR/NoZone-1.3-0/blib/lib:/tmp/loop_over_bdir-5996-B07plR/Net-ISP-Balance-1.31-0/blib/arch:/tmp/loop_over_bdir-5996-B07plR/Net-ISP-Balance-1.31-0/blib/lib:/tmp/loop_over_bdir-5996-B07plR/HTML-Menu-TreeView-1.22-0/blib/arch:/tmp/loop_over_bdir-5996-B07plR/HTML-Menu-TreeView-1.22-0/blib/lib:/tmp/loop_over_bdir-5996-B07plR/Alien-SNMP-MIBDEV-2.020000-0/blib/arch:/tmp/loop_over_bdir-5996-B07plR/Alien-SNMP-MIBDEV-2.020000-0/blib/lib:/tmp/loop_over_bdir-5996-B07plR/DBIx-Migration-Directories-0.12-0/blib/arch:/tmp/loop_over_bdir-5996-B07plR/DBIx-Migration-Directories-0.12-0/blib/lib:/tmp/loop_over_bdir-5996-B07plR/Lingua-BioYaTeA-0.11-0/blib/arch:/tmp/loop_over_bdir-5996-B07plR/Lingua-BioYaTeA-0.11-0/blib/lib:/tmp/loop_over_bdir-5996-B07plR/Lingua-YaTeA-0.626-0/blib/arch:/tmp/loop_over_bdir-5996-B07plR/Lingua-YaTeA-0.626-0/blib/lib:/tmp/loop_over_bdir-5996-B07plR/Linux-InitFS-0.2-0/blib/arch:/tmp/loop_over_bdir-5996-B07plR/Linux-InitFS-0.2-0/blib/lib:/tmp/loop_over_bdir-5996-B07plR/App-nrun-v1.1.2-0/blib/arch:/tmp/loop_over_bdir-5996-B07plR/App-nrun-v1.1.2-0/blib/lib:/tmp/loop_over_bdir-5996-B07plR/Business-Shipping-DataFiles-1.02-0/blib/arch:/tmp/loop_over_bdir-5996-B07plR/Business-Shipping-DataFiles-1.02-0/blib/lib:/tmp/loop_over_bdir-5996-B07plR/RDF-NLP-SPARQLQuery-0.1-0/blib/arch:/tmp/loop_over_bdir-5996-B07plR/RDF-NLP-SPARQLQuery-0.1-0/blib/lib:/tmp/loop_over_bdir-5996-B07plR/Dpkg-1.21.5-0/blib/arch:/tmp/loop_over_bdir-5996-B07plR/Dpkg-1.21.5-0/blib/lib:/tmp/loop_over_bdir-5996-B07plR/dta-tokwrap-0.98-0/blib/arch:/tmp/loop_over_bdir-5996-B07plR/dta-tokwrap-0.98-0/blib/lib
    PERL5OPT = 
    PERL5_CPANPLUS_IS_RUNNING = 6004
    PERL5_CPAN_IS_RUNNING = 6004
    PERL_CANARY_STABILITY_NOPROMPT = 1
    PERL_MM_USE_DEFAULT = 1
    PERL_USE_UNSAFE_INC = 1
    SHELL = /usr/bin/zsh
    TERM = screen

Perl special variables (and OS-specific diagnostics, for MSWin32):

    $^X = /tmp/basesmoker-reloperl-RUpm/bin/perl
    $UID/$EUID = 1005 / 1005
    $GID = 1005 1005
    $EGID = 1005 1005

Perl module toolchain versions installed:

    Module              Have    
    ------------------- --------
    CPAN                2.33    
    CPAN::Meta          2.150010
    Cwd                 3.84    
    ExtUtils::CBuilder  0.280236
    ExtUtils::Command   7.64    
    ExtUtils::Install   2.20    
    ExtUtils::MakeMaker 7.64    
    ExtUtils::Manifest  1.73    
    ExtUtils::ParseXS   3.45    
    File::Spec          3.84    
    JSON                4.05    
    JSON::PP            4.07    
    Module::Build       0.4231  
    Module::Signature   0.88    
    Parse::CPAN::Meta   2.150010
    Test::Harness       3.43    
    Test::More          1.302190
    YAML                1.30    
    YAML::Syck          1.34    
    version             0.9929  


--

Summary of my perl5 (revision 5 version 35 subversion 10) configuration:
  Commit id: a1655185e6f80da0d630b3c2d8df5f32364b0e35
  Platform:
    osname=linux
    osvers=4.15.0-169-generic
    archname=x86_64-linux
    uname='linux k93bionic 4.15.0-169-generic #177-ubuntu smp thu feb 3 10:50:38 utc 2022 x86_64 x86_64 x86_64 gnulinux '
    config_args='-Dprefix=/home/sand/src/perl/repoperls/installed-perls/host/k93bionic/v5.35.10/2aaf -Dmyhostname=k93bionic -Dinstallusrbinperl=n -Uversiononly -Dusedevel -des -Ui_db -Dlibswanted=cl pthread socket inet nsl gdbm dbm malloc dl ld sun m crypt sec util c cposix posix ucb BSD gdbm_compat -Uuseithreads -Uuselongdouble -DEBUGGING=-g'
    hint=recommended
    useposix=true
    d_sigaction=define
    useithreads=undef
    usemultiplicity=undef
    use64bitint=define
    use64bitall=define
    uselongdouble=undef
    usemymalloc=n
    default_inc_excludes_dot=define
  Compiler:
    cc='cc'
    ccflags ='-fwrapv -fno-strict-aliasing -pipe -fstack-protector-strong -I/usr/local/include -D_LARGEFILE_SOURCE -D_FILE_OFFSET_BITS=64'
    optimize='-O2 -g'
    cppflags='-fwrapv -fno-strict-aliasing -pipe -fstack-protector-strong -I/usr/local/include'
    ccversion=''
    gccversion='7.5.0'
    gccosandvers=''
    intsize=4
    longsize=8
    ptrsize=8
    doublesize=8
    byteorder=12345678
    doublekind=3
    d_longlong=define
    longlongsize=8
    d_longdbl=define
    longdblsize=16
    longdblkind=3
    ivtype='long'
    ivsize=8
    nvtype='double'
    nvsize=8
    Off_t='off_t'
    lseeksize=8
    alignbytes=8
    prototype=define
  Linker and Libraries:
    ld='cc'
    ldflags =' -fstack-protector-strong -L/usr/local/lib'
    libpth=/usr/local/lib /usr/lib/x86_64-linux-gnu /usr/lib /lib/x86_64-linux-gnu /lib
    libs=-lpthread -lnsl -ldl -lm -lcrypt -lutil -lc
    perllibs=-lpthread -lnsl -ldl -lm -lcrypt -lutil -lc
    libc=libc-2.27.so
    so=so
    useshrplib=false
    libperl=libperl.a
    gnulibc_version='2.27'
  Dynamic Linking:
    dlsrc=dl_dlopen.xs
    dlext=so
    d_dlsymun=undef
    ccdlflags='-Wl,-E'
    cccdlflags='-fPIC'
    lddlflags='-shared -O2 -g -L/usr/local/lib -fstack-protector-strong'


Characteristics of this binary (from libperl): 
  Compile-time options:
    HAS_TIMES
    PERLIO_LAYERS
    PERL_COPY_ON_WRITE
    PERL_DONT_CREATE_GVSV
    PERL_MALLOC_WRAP
    PERL_OP_PARENT
    PERL_PRESERVE_IVUV
    PERL_USE_DEVEL
    USE_64_BIT_ALL
    USE_64_BIT_INT
    USE_LARGE_FILES
    USE_LOCALE
    USE_LOCALE_COLLATE
    USE_LOCALE_CTYPE
    USE_LOCALE_NUMERIC
    USE_LOCALE_TIME
    USE_PERLIO
    USE_PERL_ATOF
  Built under linux
  Compiled at Mar 31 2022 08:39:14
  %ENV:
    PERL="/tmp/basesmoker-reloperl-RUpm/bin/perl"
    PERL5LIB="/tmp/loop_over_bdir-5996-B07plR/Simulation-Automate-1.0.1-0/blib/arch:/tmp/loop_over_bdir-5996-B07plR/Simulation-Automate-1.0.1-0/blib/lib:/tmp/loop_over_bdir-5996-B07plR/shishi-0.0.1-0/blib/arch:/tmp/loop_over_bdir-5996-B07plR/shishi-0.0.1-0/blib/lib:/tmp/loop_over_bdir-5996-B07plR/NoZone-1.3-0/blib/arch:/tmp/loop_over_bdir-5996-B07plR/NoZone-1.3-0/blib/lib:/tmp/loop_over_bdir-5996-B07plR/Net-ISP-Balance-1.31-0/blib/arch:/tmp/loop_over_bdir-5996-B07plR/Net-ISP-Balance-1.31-0/blib/lib:/tmp/loop_over_bdir-5996-B07plR/HTML-Menu-TreeView-1.22-0/blib/arch:/tmp/loop_over_bdir-5996-B07plR/HTML-Menu-TreeView-1.22-0/blib/lib:/tmp/loop_over_bdir-5996-B07plR/Alien-SNMP-MIBDEV-2.020000-0/blib/arch:/tmp/loop_over_bdir-5996-B07plR/Alien-SNMP-MIBDEV-2.020000-0/blib/lib:/tmp/loop_over_bdir-5996-B07plR/DBIx-Migration-Directories-0.12-0/blib/arch:/tmp/loop_over_bdir-5996-B07plR/DBIx-Migration-Directories-0.12-0/blib/lib:/tmp/loop_over_bdir-5996-B07plR/Lingua-BioYaTeA-0.11-0/blib/arch:/tmp/loop_over_bdir-5996-B07plR/Lingua-BioYaTeA-0.11-0/blib/lib:/tmp/loop_over_bdir-5996-B07plR/Lingua-YaTeA-0.626-0/blib/arch:/tmp/loop_over_bdir-5996-B07plR/Lingua-YaTeA-0.626-0/blib/lib:/tmp/loop_over_bdir-5996-B07plR/Linux-InitFS-0.2-0/blib/arch:/tmp/loop_over_bdir-5996-B07plR/Linux-InitFS-0.2-0/blib/lib:/tmp/loop_over_bdir-5996-B07plR/App-nrun-v1.1.2-0/blib/arch:/tmp/loop_over_bdir-5996-B07plR/App-nrun-v1.1.2-0/blib/lib:/tmp/loop_over_bdir-5996-B07plR/Business-Shipping-DataFiles-1.02-0/blib/arch:/tmp/loop_over_bdir-5996-B07plR/Business-Shipping-DataFiles-1.02-0/blib/lib:/tmp/loop_over_bdir-5996-B07plR/RDF-NLP-SPARQLQuery-0.1-0/blib/arch:/tmp/loop_over_bdir-5996-B07plR/RDF-NLP-SPARQLQuery-0.1-0/blib/lib:/tmp/loop_over_bdir-5996-B07plR/Dpkg-1.21.5-0/blib/arch:/tmp/loop_over_bdir-5996-B07plR/Dpkg-1.21.5-0/blib/lib:/tmp/loop_over_bdir-5996-B07plR/dta-tokwrap-0.98-0/blib/arch:/tmp/loop_over_bdir-5996-B07plR/dta-tokwrap-0.98-0/blib/lib"
    PERL5OPT=""
    PERL5_CPANPLUS_IS_RUNNING="6004"
    PERL5_CPAN_IS_RUNNING="6004"
    PERL_CANARY_STABILITY_NOPROMPT="1"
    PERL_MM_USE_DEFAULT="1"
    PERL_USE_UNSAFE_INC="1"
  @INC:
    /tmp/loop_over_bdir-5996-B07plR/Simulation-Automate-1.0.1-0/blib/arch
    /tmp/loop_over_bdir-5996-B07plR/Simulation-Automate-1.0.1-0/blib/lib
    /tmp/loop_over_bdir-5996-B07plR/shishi-0.0.1-0/blib/arch
    /tmp/loop_over_bdir-5996-B07plR/shishi-0.0.1-0/blib/lib
    /tmp/loop_over_bdir-5996-B07plR/NoZone-1.3-0/blib/arch
    /tmp/loop_over_bdir-5996-B07plR/NoZone-1.3-0/blib/lib
    /tmp/loop_over_bdir-5996-B07plR/Net-ISP-Balance-1.31-0/blib/arch
    /tmp/loop_over_bdir-5996-B07plR/Net-ISP-Balance-1.31-0/blib/lib
    /tmp/loop_over_bdir-5996-B07plR/HTML-Menu-TreeView-1.22-0/blib/arch
    /tmp/loop_over_bdir-5996-B07plR/HTML-Menu-TreeView-1.22-0/blib/lib
    /tmp/loop_over_bdir-5996-B07plR/Alien-SNMP-MIBDEV-2.020000-0/blib/arch
    /tmp/loop_over_bdir-5996-B07plR/Alien-SNMP-MIBDEV-2.020000-0/blib/lib
    /tmp/loop_over_bdir-5996-B07plR/DBIx-Migration-Directories-0.12-0/blib/arch
    /tmp/loop_over_bdir-5996-B07plR/DBIx-Migration-Directories-0.12-0/blib/lib
    /tmp/loop_over_bdir-5996-B07plR/Lingua-BioYaTeA-0.11-0/blib/arch
    /tmp/loop_over_bdir-5996-B07plR/Lingua-BioYaTeA-0.11-0/blib/lib
    /tmp/loop_over_bdir-5996-B07plR/Lingua-YaTeA-0.626-0/blib/arch
    /tmp/loop_over_bdir-5996-B07plR/Lingua-YaTeA-0.626-0/blib/lib
    /tmp/loop_over_bdir-5996-B07plR/Linux-InitFS-0.2-0/blib/arch
    /tmp/loop_over_bdir-5996-B07plR/Linux-InitFS-0.2-0/blib/lib
    /tmp/loop_over_bdir-5996-B07plR/App-nrun-v1.1.2-0/blib/arch
    /tmp/loop_over_bdir-5996-B07plR/App-nrun-v1.1.2-0/blib/lib
    /tmp/loop_over_bdir-5996-B07plR/Business-Shipping-DataFiles-1.02-0/blib/arch
    /tmp/loop_over_bdir-5996-B07plR/Business-Shipping-DataFiles-1.02-0/blib/lib
    /tmp/loop_over_bdir-5996-B07plR/RDF-NLP-SPARQLQuery-0.1-0/blib/arch
    /tmp/loop_over_bdir-5996-B07plR/RDF-NLP-SPARQLQuery-0.1-0/blib/lib
    /tmp/loop_over_bdir-5996-B07plR/Dpkg-1.21.5-0/blib/arch
    /tmp/loop_over_bdir-5996-B07plR/Dpkg-1.21.5-0/blib/lib
    /tmp/loop_over_bdir-5996-B07plR/dta-tokwrap-0.98-0/blib/arch
    /tmp/loop_over_bdir-5996-B07plR/dta-tokwrap-0.98-0/blib/lib
    /home/sand/src/perl/repoperls/installed-perls/host/k93bionic/v5.35.10/2aaf/lib/site_perl/5.35.10/x86_64-linux
    /home/sand/src/perl/repoperls/installed-perls/host/k93bionic/v5.35.10/2aaf/lib/site_perl/5.35.10
    /home/sand/src/perl/repoperls/installed-perls/host/k93bionic/v5.35.10/2aaf/lib/5.35.10/x86_64-linux
    /home/sand/src/perl/repoperls/installed-perls/host/k93bionic/v5.35.10/2aaf/lib/5.35.10
    .