Dancer v1.3514_04 Perl 5 v5.22.1 MSWin32-x86-multi-thread-64int
- Status
- Pass
- From
- Alexandr Ciornii (CHORNY)
- Dist
-
Dancer v1.3514_04
- Platform
- Perl 5 v5.22.1 MSWin32-x86-multi-thread-64int
- Date
- 2022-07-01 17:05:51
- ID
- 9d91450e-6bf6-1014-a0df-ddd9a1c5cbd6
This distribution has been tested as part of the CPAN Testers
project, supporting the Perl programming language. See
http://wiki.cpantesters.org/ for more information or email
questions to cpan-testers-discuss@perl.org
--
Dear David Precious,
This is a computer-generated report for Dancer-1.3514_04
on perl 5.22.1, created by CPAN-Reporter-1.2018_01.
Thank you for uploading your work to CPAN. Congratulations!
All tests were successful.
Sections of this report:
* Tester comments
* Program output
* Prerequisites
* Environment and other context
------------------------------
TESTER COMMENTS
------------------------------
Additional comments from tester:
this report is from an automated smoke testing program
and was not reviewed by a human for accuracy
------------------------------
PROGRAM OUTPUT
------------------------------
Output from 'C:\STRAWB~1\c\bin\dmake.exe test':
"C:\Strawberry221\perl\bin\perl.exe" "-MExtUtils::Command::MM" "-MTest::Harness" "-e" "undef *Test::Harness::Switches; test_harness(0, 'blib\lib', 'blib\arch')" t/*.t t/00_base/*.t t/01_config/*.t t/02_request/*.t t/03_route_handler/*.t t/04_static_file/*.t t/05_views/*.t t/06_helpers/*.t t/07_apphandlers/*.t t/08_session/*.t t/09_cookies/*.t t/10_template/*.t t/11_logger/*.t t/12_response/*.t t/13_engines/*.t t/14_serializer/*.t t/15_plugins/*.t t/16_timer/*.t t/17_apps/*.t t/19_dancer/*.t t/20_deprecation/*.t t/21_dependents/*.t t/22_hooks/*.t t/23_dancer_tests/*.t t/24_deployment/*.t t/25_exceptions/*.t
t/00-compile.t ...................................... ok
#
# Versions for all modules listed in MYMETA.json (including optional ones):
#
# === Configure Requires ===
#
# Module Want Have
# ------------------- ---- ----
# ExtUtils::MakeMaker any 7.10
#
# === Configure Suggests ===
#
# Module Want Have
# -------- ------- -------
# JSON::PP 2.27300 2.27300
#
# === Build Requires ===
#
# Module Want Have
# ------------------- ---- ----
# ExtUtils::MakeMaker any 7.10
#
# === Test Requires ===
#
# Module Want Have
# ------------------- ----- --------
# Data::Dump any 1.23
# Devel::Hide any 0.0009
# Digest::MD5 any 2.55
# ExtUtils::MakeMaker any 7.10
# File::Spec any 3.62
# HTTP::CookieJar 0.008 0.008
# HTTP::Request any 6.11
# HTTP::Tiny 0.014 0.056
# IO::Handle any 1.35
# IO::Socket::INET any 1.35
# IPC::Open3 any 1.18
# JSON 2.90 2.90
# Plack::Builder any undef
# Test::LongString any 0.17
# Test::More any 1.001014
# Test::NoWarnings any 1.04
# utf8 any 1.17
#
# === Test Recommends ===
#
# Module Want Have
# ---------- -------- --------
# CPAN::Meta 2.120900 2.150005
#
# === Runtime Requires ===
#
# Module Want Have
# -------------------------- ----- --------
# Carp any 1.38
# Cwd any 3.62
# Data::Dumper any 2.158
# Encode any 2.83
# Exporter any 5.72
# Fcntl any 1.13
# File::Basename any 2.85
# File::Copy any 2.30
# File::Path any 2.12
# File::Spec any 3.62
# File::Spec::Functions any 3.62
# File::Temp any 0.2304
# File::stat any 1.07
# FindBin any 1.51
# Getopt::Long any 2.48
# HTTP::Body any 1.22
# HTTP::Date any 6.02
# HTTP::Headers any 6.11
# HTTP::Server::Simple::PSGI any 0.16
# HTTP::Tiny 0.014 0.056
# Hash::Merge::Simple any 0.051
# IO::File any 1.16
# MIME::Types any 2.13
# Module::Runtime any 0.014
# POSIX any 1.53_01
# Pod::Usage any 1.68
# Scalar::Util any 1.45
# Test::Builder any 1.001014
# Test::LongString any 0.17
# Test::More any 1.001014
# Time::HiRes any 1.9732
# Try::Tiny any 0.24
# URI any 1.71
# URI::Escape any 3.31
# base any 2.23
# bytes any 1.04
# constant any 1.33
# lib any 0.63
# overload any 1.26
# parent any 0.234
# strict any 1.09
# vars any 1.03
# warnings any 1.34
#
# === Runtime Recommends ===
#
# Module Want Have
# ----------- ---- ----
# MIME::Types 2.17 2.13
# YAML any 1.15
# YAML::XS any 0.62
#
t/00-report-prereqs.t ............................... ok
t/00_base/000_create_fake_env.t ..................... ok
# Testing Dancer 1.351404, Perl 5.022001, C:\Strawberry221\perl\bin\perl.exe
t/00_base/001_load.t ................................ ok
t/00_base/002_strict_and_warnings.t ................. ok
t/00_base/003_syntax.t .............................. ok
t/00_base/004_args.t ................................ ok
t/00_base/005_module_loader.t ....................... ok
t/00_base/007_load_syntax.t ......................... ok
t/00_base/008_export.t .............................. ok
t/00_base/009_syntax_export.t ....................... ok
t/00_base/010_export_script.t ....................... ok
t/00_base/06_dancer_object.t ........................ ok
t/00_base/08_pod_coverage_dancer.t .................. ok
t/00_base/09_load_app.t ............................. ok
t/00_base/11_file_utils.t ........................... ok
t/00_base/12_utf8_charset.t ......................... skipped: skip test with Test::TCP in win32/cygwin
t/00_base/13_dancer_singleton.t ..................... ok
t/00_base/15_dependent_modules.t .................... skipped: Author tests not required for installation
t/00_base/17_globalwarnings_config_on.t ............. ok
t/00_base/config.t .................................. ok
t/00_base/easymocker.t .............................. ok
t/00_base/normalize_path.t .......................... ok
# Test::TCP 2.15 loaded successfully
# Test::More 1.001014 loaded successfully
# JSON 2.90 loaded successfully
# YAML 1.15 loaded successfully
# Clone 0.38 loaded successfully
# Plack 1.0039 loaded successfully
# XML::Simple 2.22 loaded successfully
# HTTP::Parser::XS is not available
t/00_base/optional-module-versions.t ................ ok
t/00_base/uri_for.t ................................. ok
t/01_config/01_settings.t ........................... ok
t/01_config/02_mime_type.t .......................... ok
t/01_config/03_logger.t ............................. ok
t/01_config/04_config_file.t ........................ ok
t/01_config/05_serializers.t ........................ ok
# Testing YAML parsing with YAML::XS version 0.62
# Testing YAML parsing with YAML version 1.15
t/01_config/06_config_api.t ......................... ok
t/01_config/06_stack_trace.t ........................ ok
t/01_config/07_strict_config.t ...................... ok
cannot unlink file for C:\DOCUME~1\c\LOCALS~1\Temp\9g6M91m6d9\logs\prod.log: Permission denied at C:/Strawberry221/perl/lib/File/Temp.pm line 784.
cannot remove directory for C:\DOCUME~1\c\LOCALS~1\Temp\9g6M91m6d9\logs: Directory not empty at C:/Strawberry221/perl/lib/File/Temp.pm line 784.
cannot remove directory for C:/DOCUME~1/c/LOCALS~1/Temp/9g6M91m6d9: Directory not empty at C:/Strawberry221/perl/lib/File/Temp.pm line 784.
t/01_config/08_environments.t ....................... ok
t/01_config/yaml_dependency.t ....................... ok
t/02_request/000_create_fake_env.t .................. ok
t/02_request/01_load.t .............................. ok
t/02_request/04_custom.t ............................ ok
t/02_request/04_forward.t ........................... ok
t/02_request/05_cgi_pm_compat.t ..................... ok
t/02_request/06_init_env.t .......................... ok
t/02_request/07_raw_data.t .......................... skipped: skip test with Test::TCP in win32/cygwin
t/02_request/08_param_array.t ....................... ok
t/02_request/08_params.t ............................ ok
t/02_request/10_mixed_params.t ...................... skipped: skip test with Test::TCP in win32
t/02_request/11_accessors.t ......................... ok
t/02_request/12_base.t .............................. ok
t/02_request/13_ajax.t .............................. skipped: skip test with Test::TCP in win32
t/02_request/14_uploads.t ........................... ok
t/02_request/15_headers.t ........................... skipped: skip test with Test::TCP in win32
t/02_request/16_delete.t ............................ ok
t/02_request/17_uri_base.t .......................... ok
t/02_request/18_param_accessor.t .................... ok
t/02_request/19_json_body.t ......................... ok
t/02_request/20_body.t .............................. skipped: skip test with Test::TCP in win32/cygwin
t/02_request/21_dancer_response_multiple_params.t ... ok
t/03_route_handler/01_http_methods.t ................ ok
t/03_route_handler/02_params.t ...................... ok
t/03_route_handler/03_routes_api.t .................. ok
t/03_route_handler/04_routes_matching.t ............. ok
t/03_route_handler/04_wildcards_megasplat.t ......... ok
t/03_route_handler/05_filter.t ...................... ok
t/03_route_handler/05_unicode.t ..................... ok
t/03_route_handler/06_redirect.t .................... ok
t/03_route_handler/07_compilation_warning.t ......... ok
t/03_route_handler/08_errors.t ...................... ok
t/03_route_handler/12_response.t .................... ok
t/03_route_handler/12_response_halt.t ............... ok
t/03_route_handler/14_options.t ..................... ok
t/03_route_handler/15_prefix.t ...................... ok
t/03_route_handler/16_caching.t ..................... ok
t/03_route_handler/16_embedded_prefixes.t ........... ok
t/03_route_handler/18_auto_page.t ................... ok
t/03_route_handler/21_ajax.t ........................ skipped: skip test with Test::TCP in win32
t/03_route_handler/23_filter_error_catching.t ....... ok
t/03_route_handler/24_multiple_params.t ............. ok
t/03_route_handler/24_named_captures.t .............. ok
t/03_route_handler/28_plack_mount.t ................. skipped: skip test with Test::TCP in win32
t/03_route_handler/29_forward.t ..................... ok
t/03_route_handler/29_redirect_immediately.t ........ ok
t/03_route_handler/30_forward_session.t ............. ok
t/03_route_handler/31_infinite_loop.t ............... ok
t/03_route_handler/33_vars.t ........................ skipped: skip test with Test::TCP in win32
t/03_route_handler/34_forward_body_post.t ........... skipped: skip test with Test::TCP in win32
t/03_route_handler/35_no_further_routes.t ........... ok
t/03_route_handler/36_false_routes.t ................ ok
t/03_route_handler/99_bugs.t ........................ ok
t/04_static_file/001_base.t ......................... skipped: Skip test with Test::TCP in win32
t/04_static_file/003_mime_types_reinit.t ............ ok
t/04_static_file/01_mime_types.t .................... ok
t/04_static_file/02_dir_traversal.t ................. ok
t/05_views/002_view_rendering.t ..................... ok
t/05_views/03_layout.t .............................. ok
t/06_helpers/000_create_fake_env.t .................. ok
t/06_helpers/01_send_file.t ......................... ok
t/06_helpers/02_http_status.t ....................... ok
t/06_helpers/03_content_type.t ...................... ok
t/06_helpers/04_status.t ............................ ok
t/06_helpers/05_send_error.t ........................ ok
t/06_helpers/06_load.t .............................. ok
t/06_helpers/07_send_error.t ........................ ok
t/07_apphandlers/000_create_fake_env.t .............. ok
t/07_apphandlers/01_base.t .......................... ok
t/07_apphandlers/02_apache2_plack.t ................. ok
t/07_apphandlers/03_psgi_app.t ...................... skipped: skip test with Test::TCP in win32
t/07_apphandlers/04_standalone_app.t ................ skipped: skip test with Test::TCP in win32
t/07_apphandlers/05_middlewares.t ................... skipped: skip test with Test::TCP in win32
t/07_apphandlers/05_psgi_api.t ...................... ok
t/07_apphandlers/06_debug.t ......................... ok
t/07_apphandlers/07_middleware_map.t ................ skipped: skip test with Test::TCP in win32
t/07_apphandlers/08_is_text.t ....................... ok
t/08_session/000_create_fake_env.t .................. ok
t/08_session/01_load.t .............................. ok
t/08_session/02_dependency_check.t .................. ok
t/08_session/03_http_requests.t ..................... skipped: skip test with Test::TCP in win32
t/08_session/04_api.t ............................... ok
t/08_session/05_yaml.t .............................. ok
t/08_session/06_abstract.t .......................... ok
t/08_session/07_session_expires.t ................... skipped: skip test with Test::TCP in win32
t/08_session/08_simple.t ............................ ok
t/08_session/09_session.t ........................... ok
t/08_session/10_filter.t ............................ ok
t/08_session/11_session_secure.t .................... ok
t/08_session/12_session_name.t ...................... ok
t/08_session/13_session_httponly.t .................. skipped: skip test with Test::TCP in win32
t/08_session/14_session_domain.t .................... ok
t/08_session/15_session_samesite.t .................. skipped: skip test with Test::TCP in win32
t/09_cookies/000_create_fake_env.t .................. ok
t/09_cookies/01_use.t ............................... ok
t/09_cookies/02_cookie_object.t ..................... ok
t/09_cookies/03_persistence.t ....................... skipped: skip test with Test::TCP in win32
t/09_cookies/04_secure.t ............................ ok
t/09_cookies/05_api.t ............................... ok
t/09_cookies/06_expires.t ........................... ok
t/10_template/000_create_fake_env.t ................. ok
t/10_template/01_factory.t .......................... ok
t/10_template/02_abstract_class.t ................... ok
t/10_template/03_simple.t ........................... ok
t/10_template/05_template_toolkit.t ................. ok
Prototype mismatch: sub main::pass (;$) vs none at t/lib/FromDataApp.pm line 4.
t/10_template/05_template_toolkit_fromdata.t ........ ok
t/10_template/extension.t ........................... ok
t/10_template/template.t ............................ ok
t/11_logger/000_create_fake_env.t ................... ok
t/11_logger/01_abstract.t ........................... ok
t/11_logger/02_factory.t ............................ ok
cannot unlink file for C:\DOCUME~1\c\LOCALS~1\Temp\AhkGgEaZ36\foo.bar: Permission denied at C:/Strawberry221/perl/lib/File/Temp.pm line 784.
cannot remove directory for C:/DOCUME~1/c/LOCALS~1/Temp/AhkGgEaZ36: Directory not empty at C:/Strawberry221/perl/lib/File/Temp.pm line 784.
t/11_logger/03_file.t ............................... ok
t/11_logger/04_console.t ............................ ok
t/11_logger/05_format.t ............................. ok
t/11_logger/06_null.t ............................... ok
t/11_logger/07_diag.t ............................... ok
t/11_logger/08_serialize.t .......................... ok
t/11_logger/09_capture.t ............................ ok
t/11_logger/10_note.t ............................... ok
cannot unlink file for C:\DOCUME~1\c\LOCALS~1\Temp\v0xNaIhm3q\logs\development.log: Permission denied at C:/Strawberry221/perl/lib/File/Temp.pm line 784.
cannot remove directory for C:\DOCUME~1\c\LOCALS~1\Temp\v0xNaIhm3q\logs: Directory not empty at C:/Strawberry221/perl/lib/File/Temp.pm line 784.
cannot remove directory for C:/DOCUME~1/c/LOCALS~1/Temp/v0xNaIhm3q: Directory not empty at C:/Strawberry221/perl/lib/File/Temp.pm line 784.
t/11_logger/11_runtime_file.t ....................... ok
t/11_logger/unicode.t ............................... ok
t/12_response/000_create_fake_env.t ................. ok
t/12_response/01_CRLF_injection.t ................... ok
t/12_response/02_headers.t .......................... ok
t/12_response/03_charset.t .......................... ok
t/12_response/04_charset_server.t ................... skipped: skip test with Test::TCP in win32
t/12_response/05_api.t .............................. ok
t/12_response/06_filter_halt_status.t ............... ok
t/12_response/07_cookies.t .......................... ok
t/12_response/08_drop_content.t ..................... skipped: skip test with Test::TCP in win32
t/12_response/09_headers_to_array.t ................. ok
Data exceeding 100 levels, truncating
t/12_response/10_error_dumper.t ..................... ok
Devel::Hide hides Clone.pm
t/12_response/10_error_dumper_without_clone.t ....... ok
t/12_response/11_CVE-2012-5572.t .................... ok
t/13_engines/00_load.t .............................. ok
t/13_engines/02_template_init.t ..................... ok
t/14_serializer/01_helpers.t ........................ ok
t/14_serializer/02_request_json.t ................... ok
t/14_serializer/03_request_yaml.t ................... ok
t/14_serializer/04_request_xml.t .................... ok
t/14_serializer/05_request_mutable.t ................ ok
t/14_serializer/06_api.t ............................ ok
t/14_serializer/07_request_jsonp.t .................. ok
t/14_serializer/17_clear_serializer.t ............... skipped: skip test with Test::TCP in win32
t/14_serializer/18_mutable_template_or_serialize.t .. ok
t/14_serializer/99_bugs.t ........................... ok
t/15_plugins/000_create_fake_env.t .................. ok
t/15_plugins/01_register.t .......................... ok
t/15_plugins/02_config.t ............................ ok
t/15_plugins/03_namespace.t ......................... ok
t/15_plugins/04_apps_and_plugins.t .................. ok
t/15_plugins/05_keywords.t .......................... ok
t/15_plugins/05_plugins_and_OO.t .................... ok
t/15_plugins/05b_plugins_and_c3.t ................... ok
t/15_plugins/06_hook.t .............................. ok
t/15_plugins/07_ajax_plack_builder.t ................ skipped: skip test with Test::TCP in win32
t/16_timer/00_base.t ................................ ok
t/17_apps/000_create_fake_env.t ..................... ok
t/17_apps/00_base.t ................................. ok
t/17_apps/01_settings.t ............................. ok
t/17_apps/02_load_app.t ............................. ok
t/17_apps/03_prefix.t ............................... ok
t/17_apps/05_api.t .................................. ok
t/19_dancer/01_script.t ............................. ok
t/19_dancer/02_script_version_from.t ................ ok
t/20_deprecation/01_api.t ........................... ok
t/21_dependents/Dancer-Session-Cookie.t ............. skipped: Dancer::Session::Cookie 0.14 required
t/22_hooks/00_syntax.t .............................. ok
t/22_hooks/01_api.t ................................. ok
t/22_hooks/02_before.t .............................. ok
t/22_hooks/03_after.t ............................... ok
t/22_hooks/04_template.t ............................ ok
t/22_hooks/05_layout.t .............................. ok
t/22_hooks/06_serializer.t .......................... ok
t/22_hooks/07_file.t ................................ ok
t/22_hooks/08_error.t ............................... ok
t/22_hooks/09_before_error_init.t ................... ok
t/22_hooks/10_error_in_hook.t ....................... ok
t/22_hooks/11_error_in_hook.t ....................... ok
t/23_dancer_tests/01_basic.t ........................ ok
t/23_dancer_tests/02_tests_functions.t .............. ok
t/23_dancer_tests/03_uris.t ......................... ok
t/24_deployment/01_multi_webapp.t ................... skipped: skip test with Test::TCP in win32
t/25_exceptions/01_exceptions.t ..................... ok
t/25_exceptions/02_exceptions.t ..................... ok
t/25_exceptions/03_exceptions.t ..................... ok
t/25_exceptions/04_exceptions_warn.t ................ ok
t/author-distmeta.t ................................. skipped: these tests are for testing by the author
t/author-pod-syntax.t ............................... skipped: these tests are for testing by the author
t/pod.t ............................................. skipped: Author tests not required for installation
All tests successful.
Files=224, Tests=1844, 155 wallclock secs ( 0.41 usr + 0.99 sys = 1.40 CPU)
Result: PASS
------------------------------
PREREQUISITES
------------------------------
Prerequisite modules loaded:
requires:
Module Need Have
-------------------------- ----- --------
base 0 2.23
bytes 0 1.04
Carp 0 1.38
constant 0 1.33
Cwd 0 3.62
Data::Dumper 0 2.158
Encode 0 2.83
Exporter 0 5.72
Fcntl 0 1.13
File::Basename 0 2.85
File::Copy 0 2.30
File::Path 0 2.12
File::Spec 0 3.62
File::Spec::Functions 0 3.62
File::stat 0 1.07
File::Temp 0 0.2304
FindBin 0 1.51
Getopt::Long 0 2.48
Hash::Merge::Simple 0 0.051
HTTP::Body 0 1.22
HTTP::Date 0 6.02
HTTP::Headers 0 6.11
HTTP::Server::Simple::PSGI 0 0.16
HTTP::Tiny 0.014 0.056
IO::File 0 1.16
lib 0 0.63
MIME::Types 0 2.13
Module::Runtime 0 0.014
overload 0 1.26
parent 0 0.234
perl 5.006 5.022001
Pod::Usage 0 1.68
POSIX 0 1.53_01
Scalar::Util 0 1.45
strict 0 1.09
Test::Builder 0 1.001014
Test::LongString 0 0.17
Test::More 0 1.001014
Time::HiRes 0 1.9732
Try::Tiny 0 0.24
URI 0 1.71
URI::Escape 0 3.31
vars 0 1.03
warnings 0 1.34
build_requires:
Module Need Have
-------------------------- ----- --------
Data::Dump 0 1.23
Devel::Hide 0 0.0009
Digest::MD5 0 2.55
ExtUtils::MakeMaker 0 7.10
File::Spec 0 3.62
HTTP::CookieJar 0.008 0.008
HTTP::Request 0 6.11
HTTP::Tiny 0.014 0.056
IO::Handle 0 1.35
IO::Socket::INET 0 1.35
IPC::Open3 0 1.18
JSON 2.90 2.90
Plack::Builder 0 0
Test::LongString 0 0.17
Test::More 0 1.001014
Test::NoWarnings 0 1.04
utf8 0 1.17
configure_requires:
Module Need Have
-------------------------- ----- --------
ExtUtils::MakeMaker 0 7.10
------------------------------
ENVIRONMENT AND OTHER CONTEXT
------------------------------
Environment variables:
AUTOMATED_TESTING = 1
COMSPEC = C:\WINDOWS\system32\cmd.exe
NUMBER_OF_PROCESSORS = 1
PATH = C:\WINDOWS\system32;C:\WINDOWS;C:\WINDOWS\System32\Wbem;C:\Strawberry221\c\bin;C:\Strawberry221\perl\site\bin;C:\Strawberry221\perl\bin;C:\Git\cmd
PERL5LIB =
PERL5OPT =
PERL5_CPANPLUS_IS_RUNNING = 1316
PERL5_CPAN_IS_RUNNING = 1316
PERL5_CPAN_IS_RUNNING_IN_RECURSION = 336,1316
PERL_CR_SMOKER_CURRENT = Dancer-1.3514_04
PERL_CR_SMOKER_RUNONCE = 1
PERL_EXTUTILS_AUTOINSTALL = --defaultdeps
PERL_HASH_SEED = 0x11111111
PERL_MM_USE_DEFAULT = 1
PROCESSOR_IDENTIFIER = x86 Family 16 Model 5 Stepping 3, AuthenticAMD
TEMP = C:\DOCUME~1\c\LOCALS~1\Temp
Perl special variables (and OS-specific diagnostics, for MSWin32):
$^X = C:\Strawberry221\perl\bin\perl.exe
$UID/$EUID = 0 / 0
$GID = 0
$EGID = 0
Win32::GetOSName = WinXP/.Net
Win32::GetOSVersion = Service Pack 3, 5, 1, 2600, 2, 3, 0, 256, 1
Win32::FsType = NTFS
Win32::IsAdminUser = 1
Perl module toolchain versions installed:
Module Have
------------------- --------
CPAN 2.11
CPAN::Meta 2.150005
Cwd 3.62
ExtUtils::CBuilder 0.280224
ExtUtils::Command 7.10
ExtUtils::Install 2.04
ExtUtils::MakeMaker 7.10
ExtUtils::Manifest 1.70
ExtUtils::ParseXS 3.30
File::Spec 3.62
JSON 2.90
JSON::PP 2.27300
Module::Build 0.4216
Module::Signature 0.79
Parse::CPAN::Meta 1.4417
Test::Harness 3.36
Test::More 1.001014
YAML 1.15
YAML::Syck 1.29
version 0.9916
--
Summary of my perl5 (revision 5 version 22 subversion 1) configuration:
Platform:
osname=MSWin32, osvers=4.0, archname=MSWin32-x86-multi-thread-64int
uname='Win32 strawberry-perl 5.22.1.4 #1 Sat Mar 26 14:08:02 2016 i386'
config_args='undef'
hint=recommended, useposix=true, d_sigaction=undef
useithreads=define, usemultiplicity=define
use64bitint=define, use64bitall=undef, uselongdouble=undef
usemymalloc=n, bincompat5005=undef
Compiler:
cc='gcc', ccflags =' -s -O2 -DWIN32 -DPERL_TEXTMODE_SCRIPTS -DPERL_IMPLICIT_CONTEXT -DPERL_IMPLICIT_SYS -fwrapv -fno-strict-aliasing -mms-bitfields',
optimize='-s -O2',
cppflags='-DWIN32'
ccversion='', gccversion='4.9.2', gccosandvers=''
intsize=4, longsize=4, ptrsize=4, doublesize=8, byteorder=12345678, doublekind=3
d_longlong=define, longlongsize=8, d_longdbl=define, longdblsize=12, longdblkind=3
ivtype='long long', ivsize=8, nvtype='double', nvsize=8, Off_t='long long', lseeksize=8
alignbytes=8, prototype=define
Linker and Libraries:
ld='g++', ldflags ='-s -L"C:\STRAWB~1\perl\lib\CORE" -L"C:\STRAWB~1\c\lib"'
libpth=C:\STRAWB~1\c\lib C:\STRAWB~1\c\i686-w64-mingw32\lib C:\STRAWB~1\c\lib\gcc\i686-w64-mingw32\4.9.2
libs=-lmoldname -lkernel32 -luser32 -lgdi32 -lwinspool -lcomdlg32 -ladvapi32 -lshell32 -lole32 -loleaut32 -lnetapi32 -luuid -lws2_32 -lmpr -lwinmm -lversion -lodbc32 -lodbccp32 -lcomctl32
perllibs=-lmoldname -lkernel32 -luser32 -lgdi32 -lwinspool -lcomdlg32 -ladvapi32 -lshell32 -lole32 -loleaut32 -lnetapi32 -luuid -lws2_32 -lmpr -lwinmm -lversion -lodbc32 -lodbccp32 -lcomctl32
libc=, so=dll, useshrplib=true, libperl=libperl522.a
gnulibc_version=''
Dynamic Linking:
dlsrc=dl_win32.xs, dlext=xs.dll, d_dlsymun=undef, ccdlflags=' '
cccdlflags=' ', lddlflags='-mdll -s -L"C:\STRAWB~1\perl\lib\CORE" -L"C:\STRAWB~1\c\lib"'
Characteristics of this binary (from libperl):
Compile-time options: HAS_TIMES HAVE_INTERP_INTERN MULTIPLICITY
PERLIO_LAYERS PERL_DONT_CREATE_GVSV
PERL_HASH_FUNC_ONE_AT_A_TIME_HARD
PERL_IMPLICIT_CONTEXT PERL_IMPLICIT_SYS
PERL_MALLOC_WRAP PERL_NEW_COPY_ON_WRITE
PERL_PRESERVE_IVUV USE_64_BIT_INT USE_ITHREADS
USE_LARGE_FILES USE_LOCALE USE_LOCALE_COLLATE
USE_LOCALE_CTYPE USE_LOCALE_NUMERIC USE_LOCALE_TIME
USE_PERLIO USE_PERL_ATOF
Built under MSWin32
Compiled at Mar 26 2016 14:12:26
%ENV:
PERL5_CPANPLUS_IS_RUNNING="1316"
PERL5_CPAN_IS_RUNNING="1316"
PERL5_CPAN_IS_RUNNING_IN_RECURSION="336,1316"
PERL_CR_SMOKER_CURRENT="Dancer-1.3514_04"
PERL_CR_SMOKER_RUNONCE="1"
PERL_EXTUTILS_AUTOINSTALL="--defaultdeps"
PERL_HASH_SEED="0x11111111"
PERL_MM_USE_DEFAULT="1"
@INC:
C:/Strawberry221/perl/site/lib
C:/Strawberry221/perl/vendor/lib
C:/Strawberry221/perl/lib
.