Template-Mustache v1.1.0 Perl 5 v5.22.3 x86_64-linux-thread-multi

Status
Pass
From
Nigel Horne
Dist
Template-Mustache v1.1.0
Platform
Perl 5 v5.22.3 x86_64-linux-thread-multi
Date
2017-09-27 22:45:52
ID
9d5b11fc-a3d5-11e7-9be1-bbe64cf6c7cd
This distribution has been tested as part of the CPAN Testers
project, supporting the Perl programming language.  See
http://wiki.cpantesters.org/ for more information or email
questions to cpan-testers-discuss@perl.org


--
Dear Yanick Champoux,

This is a computer-generated report for Template-Mustache-1.1.0
on perl 5.22.3, created by CPAN-Reporter-1.2018.

Thank you for uploading your work to CPAN.  Congratulations!
All tests were successful.

Sections of this report:

    * Tester comments
    * Program output
    * Prerequisites
    * Environment and other context

------------------------------
TESTER COMMENTS
------------------------------

Additional comments from tester:

this report is from an automated smoke testing program
and was not reviewed by a human for accuracy

------------------------------
PROGRAM OUTPUT
------------------------------

Output from '/usr/bin/make test':

PERL_DL_NONLAZY=1 "/home/njh/perl5/perlbrew/perls/perl-5.22.3/bin/perl" "-MExtUtils::Command::MM" "-MTest::Harness" "-e" "undef *Test::Harness::Switches; test_harness(0, 'blib/lib', 'blib/arch')" t/*.t
# 
# Versions for all modules listed in MYMETA.json (including optional ones):
# 
# === Configure Requires ===
# 
#     Module              Want Have
#     ------------------- ---- ----
#     ExtUtils::MakeMaker  any 7.30
# 
# === Build Requires ===
# 
#     Module              Want Have
#     ------------------- ---- ----
#     ExtUtils::MakeMaker  any 7.30
# 
# === Test Requires ===
# 
#     Module              Want     Have
#     ------------------- ---- --------
#     ExtUtils::MakeMaker  any     7.30
#     File::Spec           any  3.56_02
#     File::Temp           any   0.2304
#     IO::Handle           any     1.35
#     IPC::Open3           any     1.18
#     Test::Exception      any     0.43
#     Test::More          0.88 1.302086
#     Test::Most           any     0.35
#     Test::Requires       any     0.10
#     base                 any     2.22
# 
# === Test Recommends ===
# 
#     Module         Want     Have
#     ---------- -------- --------
#     CPAN::Meta 2.120900 2.150001
# 
# === Runtime Requires ===
# 
#     Module                Want     Have
#     ----------------- -------- --------
#     Carp                   any     1.36
#     Escape::Houdini        any    0.3.0
#     List::AllUtils         any     0.14
#     Moo                    any 2.003002
#     MooseX::MungeHas       any    0.008
#     Parse::RecDescent 1.967015 1.967015
#     Path::Tiny             any    0.104
#     Scalar::Util           any     1.48
#     Text::Balanced         any     2.03
#     YAML::XS               any     0.65
#     autodie                any     2.26
#     strict                 any     1.09
#     vars                   any     1.03
#     warnings               any     1.34
# 
t/00-report-prereqs.t .................. ok
t/001_spec_compatibility.t ............. skipped: Couldn't find specs; try running `git submodule update --init`
t/basic.t .............................. ok
t/lambdas_receive_render_helper.t ...... ok

       ERROR (line 3): Invalid template: Was expecting eofile but found
                       "{{#section}}" instead

       ERROR (line 2): Invalid template: Was expecting eofile but found
                       "{{#a}}" instead

       ERROR (line 3): Invalid template: Was expecting eofile but found
                       "{{/section}}" instead

       ERROR (line 1): Invalid template: Was expecting eofile but found "{{%
                       something }}" instead
t/parse_errors.t ....................... ok
t/partials.t ........................... ok
t/moose-trait.t ........................ ok
t/00-compile.t ......................... ok
t/read_data_from_classes.t ............. ok
t/read_data_from_hashes.t .............. ok
t/read_data_from_instances.t ........... ok
t/read_data_from_subclass.t ............ ok
t/read_partials_from_file_system.t ..... ok
t/read_partials_from_hashes.t .......... ok
t/read_partials_from_partial_method.t .. ok
t/read_partials_from_subs.t ............ ok
t/read_templates_from_subclass.t ....... ok
t/read_templates_from_file_system.t .... ok

       ERROR (line 1): Invalid template: Was expecting eofile but found
                       "{{#foo}}{{.}}{{#/foo}}" instead
t/sections.t ........................... ok
t/variable-resolution.t ................ ok
All tests successful.
Files=20, Tests=49,  1 wallclock secs ( 0.07 usr  0.02 sys +  3.18 cusr  0.33 csys =  3.60 CPU)
Result: PASS

------------------------------
PREREQUISITES
------------------------------

Prerequisite modules loaded:

requires:

    Module              Need     Have    
    ------------------- -------- --------
    autodie             0        2.26    
    Carp                0        1.36    
    Escape::Houdini     0        0.3.0   
    List::AllUtils      0        0.14    
    Moo                 0        2.003002
    MooseX::MungeHas    0        0.008   
    Parse::RecDescent   1.967015 1.967015
    Path::Tiny          0        0.104   
    perl                5.012000 5.022003
    Scalar::Util        0        1.48    
    strict              0        1.09    
    Text::Balanced      0        2.03    
    vars                0        1.03    
    warnings            0        1.34    
    YAML::XS            0        0.65    

build_requires:

    Module              Need     Have    
    ------------------- -------- --------
    base                0        2.22    
    ExtUtils::MakeMaker 0        7.30    
    File::Spec          0        3.56_02 
    File::Temp          0        0.2304  
    IO::Handle          0        1.35    
    IPC::Open3          0        1.18    
    Test::Exception     0        0.43    
    Test::More          0.88     1.302086
    Test::Most          0        0.35    
    Test::Requires      0        0.10    

configure_requires:

    Module              Need     Have    
    ------------------- -------- --------
    ExtUtils::MakeMaker 0        7.30    


------------------------------
ENVIRONMENT AND OTHER CONTEXT
------------------------------

Environment variables:

    AUTOMATED_TESTING = 1
    HARNESS_OPTIONS = j4
    LANG = en_GB.UTF-8
    LANGUAGE = en_GB:en
    PATH = /home/njh/perl5/perlbrew/bin:/home/njh/perl5/perlbrew/perls/perl-5.22.3/bin:/home/njh/perl5/perlbrew/bin:/usr/bin:/bin
    PERL5LIB = /home/njh/.cpan/build/Parse-RecDescent-1.967015-12/blib/arch:/home/njh/.cpan/build/Parse-RecDescent-1.967015-12/blib/lib:/home/njh/.cpan/build/MooseX-MungeHas-0.008-14/blib/arch:/home/njh/.cpan/build/MooseX-MungeHas-0.008-14/blib/lib:/home/njh/.cpan/build/List-AllUtils-0.14-12/blib/arch:/home/njh/.cpan/build/List-AllUtils-0.14-12/blib/lib:/home/njh/.cpan/build/List-UtilsBy-0.10-12/blib/arch:/home/njh/.cpan/build/List-UtilsBy-0.10-12/blib/lib:/home/njh/.cpan/build/List-SomeUtils-0.56-6/blib/arch:/home/njh/.cpan/build/List-SomeUtils-0.56-6/blib/lib:/home/njh/.cpan/build/List-SomeUtils-XS-0.55-6/blib/arch:/home/njh/.cpan/build/List-SomeUtils-XS-0.55-6/blib/lib:/home/njh/.cpan/build/Test-LeakTrace-0.16-2/blib/arch:/home/njh/.cpan/build/Test-LeakTrace-0.16-2/blib/lib:/home/njh/.cpan/build/Escape-Houdini-0.3.0-14/blib/arch:/home/njh/.cpan/build/Escape-Houdini-0.3.0-14/blib/lib
    PERL5OPT = 
    PERL5_CPANPLUS_IS_RUNNING = 19306
    PERL5_CPAN_IS_RUNNING = 19306
    PERLBREW_BASHRC_VERSION = 0.80
    PERLBREW_HOME = /home/njh/.perlbrew
    PERLBREW_LIB = 
    PERLBREW_MANPATH = /home/njh/perl5/perlbrew/perls/perl-5.22.3/man
    PERLBREW_PATH = /home/njh/perl5/perlbrew/bin:/home/njh/perl5/perlbrew/perls/perl-5.22.3/bin
    PERLBREW_PERL = perl-5.22.3
    PERLBREW_ROOT = /home/njh/perl5/perlbrew
    PERLBREW_VERSION = 0.80
    PERL_LOCAL_LIB_ROOT = 
    SHELL = /bin/sh

Perl special variables (and OS-specific diagnostics, for MSWin32):

    $^X = /home/njh/perl5/perlbrew/perls/perl-5.22.3/bin/perl
    $UID/$EUID = 1000 / 1000
    $GID = 1000 4 24 25 29 30 44 46 108 112 1000
    $EGID = 1000 4 24 25 29 30 44 46 108 112 1000

Perl module toolchain versions installed:

    Module              Have      
    ------------------- ----------
    CPAN                2.16      
    CPAN::Meta          2.150001  
    Cwd                 3.56_02   
    ExtUtils::CBuilder  0.280221  
    ExtUtils::Command   7.30      
    ExtUtils::Install   2.06      
    ExtUtils::MakeMaker 7.30      
    ExtUtils::Manifest  1.70      
    ExtUtils::ParseXS   3.28      
    File::Spec          3.56_02   
    JSON                n/a       
    JSON::PP            2.27300_01
    Module::Build       0.4224    
    Module::Signature   n/a       
    Parse::CPAN::Meta   1.4414_001
    Test::Harness       3.35_01   
    Test::More          1.302086  
    YAML                1.23      
    YAML::Syck          1.30      
    version             0.9909    


--

Summary of my perl5 (revision 5 version 22 subversion 3) configuration:
   
  Platform:
    osname=linux, osvers=4.9.0-2-amd64, archname=x86_64-linux-thread-multi
    uname='linux gateway 4.9.0-2-amd64 #1 smp debian 4.9.18-1 (2017-03-30) x86_64 gnulinux '
    config_args='-de -Dprefix=/home/njh/perl5/perlbrew/perls/perl-5.22.3 -Duseithreads -Dusemultiplicity -Dusedevel -Accflags= -Aeval:scriptdir=/home/njh/perl5/perlbrew/perls/perl-5.22.3/bin'
    hint=recommended, useposix=true, d_sigaction=define
    useithreads=define, usemultiplicity=define
    use64bitint=define, use64bitall=define, uselongdouble=undef
    usemymalloc=n, bincompat5005=undef
  Compiler:
    cc='cc', ccflags ='-D_REENTRANT -D_GNU_SOURCE -fwrapv -fno-strict-aliasing -pipe -fstack-protector-strong -I/usr/local/include -D_LARGEFILE_SOURCE -D_FILE_OFFSET_BITS=64',
    optimize='-O2',
    cppflags='-D_REENTRANT -D_GNU_SOURCE -fwrapv -fno-strict-aliasing -pipe -fstack-protector-strong -I/usr/local/include'
    ccversion='', gccversion='6.3.0 20170516', gccosandvers=''
    intsize=4, longsize=8, ptrsize=8, doublesize=8, byteorder=12345678, doublekind=3
    d_longlong=define, longlongsize=8, d_longdbl=define, longdblsize=16, longdblkind=3
    ivtype='long', ivsize=8, nvtype='double', nvsize=8, Off_t='off_t', lseeksize=8
    alignbytes=8, prototype=define
  Linker and Libraries:
    ld='cc', ldflags =' -fstack-protector-strong -L/usr/local/lib'
    libpth=/usr/local/lib /usr/lib/gcc/x86_64-linux-gnu/6/include-fixed /usr/include/x86_64-linux-gnu /usr/lib /lib/x86_64-linux-gnu /lib/../lib /usr/lib/x86_64-linux-gnu /usr/lib/../lib /lib
    libs=-lpthread -lnsl -lgdbm -ldb -ldl -lm -lcrypt -lutil -lc -lgdbm_compat
    perllibs=-lpthread -lnsl -ldl -lm -lcrypt -lutil -lc
    libc=libc-2.24.so, so=so, useshrplib=false, libperl=libperl.a
    gnulibc_version='2.24'
  Dynamic Linking:
    dlsrc=dl_dlopen.xs, dlext=so, d_dlsymun=undef, ccdlflags='-Wl,-E'
    cccdlflags='-fPIC', lddlflags='-shared -O2 -L/usr/local/lib -fstack-protector-strong'


Characteristics of this binary (from libperl): 
  Compile-time options: HAS_TIMES MULTIPLICITY PERLIO_LAYERS
                        PERL_DONT_CREATE_GVSV
                        PERL_HASH_FUNC_ONE_AT_A_TIME_HARD
                        PERL_IMPLICIT_CONTEXT PERL_MALLOC_WRAP
                        PERL_NEW_COPY_ON_WRITE PERL_PRESERVE_IVUV
                        PERL_USE_DEVEL USE_64_BIT_ALL USE_64_BIT_INT
                        USE_ITHREADS USE_LARGE_FILES USE_LOCALE
                        USE_LOCALE_COLLATE USE_LOCALE_CTYPE
                        USE_LOCALE_NUMERIC USE_LOCALE_TIME USE_PERLIO
                        USE_PERL_ATOF USE_REENTRANT_API
  Built under linux
  Compiled at Jun 29 2017 00:32:32
  %ENV:
    PERL5LIB="/home/njh/.cpan/build/Parse-RecDescent-1.967015-12/blib/arch:/home/njh/.cpan/build/Parse-RecDescent-1.967015-12/blib/lib:/home/njh/.cpan/build/MooseX-MungeHas-0.008-14/blib/arch:/home/njh/.cpan/build/MooseX-MungeHas-0.008-14/blib/lib:/home/njh/.cpan/build/List-AllUtils-0.14-12/blib/arch:/home/njh/.cpan/build/List-AllUtils-0.14-12/blib/lib:/home/njh/.cpan/build/List-UtilsBy-0.10-12/blib/arch:/home/njh/.cpan/build/List-UtilsBy-0.10-12/blib/lib:/home/njh/.cpan/build/List-SomeUtils-0.56-6/blib/arch:/home/njh/.cpan/build/List-SomeUtils-0.56-6/blib/lib:/home/njh/.cpan/build/List-SomeUtils-XS-0.55-6/blib/arch:/home/njh/.cpan/build/List-SomeUtils-XS-0.55-6/blib/lib:/home/njh/.cpan/build/Test-LeakTrace-0.16-2/blib/arch:/home/njh/.cpan/build/Test-LeakTrace-0.16-2/blib/lib:/home/njh/.cpan/build/Escape-Houdini-0.3.0-14/blib/arch:/home/njh/.cpan/build/Escape-Houdini-0.3.0-14/blib/lib"
    PERL5OPT=""
    PERL5_CPANPLUS_IS_RUNNING="19306"
    PERL5_CPAN_IS_RUNNING="19306"
    PERLBREW_BASHRC_VERSION="0.80"
    PERLBREW_HOME="/home/njh/.perlbrew"
    PERLBREW_LIB=""
    PERLBREW_MANPATH="/home/njh/perl5/perlbrew/perls/perl-5.22.3/man"
    PERLBREW_PATH="/home/njh/perl5/perlbrew/bin:/home/njh/perl5/perlbrew/perls/perl-5.22.3/bin"
    PERLBREW_PERL="perl-5.22.3"
    PERLBREW_ROOT="/home/njh/perl5/perlbrew"
    PERLBREW_VERSION="0.80"
    PERL_LOCAL_LIB_ROOT=""
  @INC:
    /home/njh/.cpan/build/Parse-RecDescent-1.967015-12/blib/arch
    /home/njh/.cpan/build/Parse-RecDescent-1.967015-12/blib/lib
    /home/njh/.cpan/build/MooseX-MungeHas-0.008-14/blib/arch
    /home/njh/.cpan/build/MooseX-MungeHas-0.008-14/blib/lib
    /home/njh/.cpan/build/List-AllUtils-0.14-12/blib/arch
    /home/njh/.cpan/build/List-AllUtils-0.14-12/blib/lib
    /home/njh/.cpan/build/List-UtilsBy-0.10-12/blib/arch
    /home/njh/.cpan/build/List-UtilsBy-0.10-12/blib/lib
    /home/njh/.cpan/build/List-SomeUtils-0.56-6/blib/arch
    /home/njh/.cpan/build/List-SomeUtils-0.56-6/blib/lib
    /home/njh/.cpan/build/List-SomeUtils-XS-0.55-6/blib/arch
    /home/njh/.cpan/build/List-SomeUtils-XS-0.55-6/blib/lib
    /home/njh/.cpan/build/Test-LeakTrace-0.16-2/blib/arch
    /home/njh/.cpan/build/Test-LeakTrace-0.16-2/blib/lib
    /home/njh/.cpan/build/Escape-Houdini-0.3.0-14/blib/arch
    /home/njh/.cpan/build/Escape-Houdini-0.3.0-14/blib/lib
    /home/njh/perl5/perlbrew/perls/perl-5.22.3/lib/site_perl/5.22.3/x86_64-linux-thread-multi
    /home/njh/perl5/perlbrew/perls/perl-5.22.3/lib/site_perl/5.22.3
    /home/njh/perl5/perlbrew/perls/perl-5.22.3/lib/5.22.3/x86_64-linux-thread-multi
    /home/njh/perl5/perlbrew/perls/perl-5.22.3/lib/5.22.3
    .