Spreadsheet-ParseXLSX v0.36 Perl 5 v5.36.0 darwin-2level

Status
Pass
From
Amory Meltzer
Dist
Spreadsheet-ParseXLSX v0.36
Platform
Perl 5 v5.36.0 darwin-2level
Date
2025-03-12 16:11:10
ID
9ce6c0dc-ff5c-11ef-a54f-de43ab5adc97
This distribution has been tested as part of the CPAN Testers
project, supporting the Perl programming language.  See
http://wiki.cpantesters.org/ for more information or email
questions to cpan-testers-discuss@perl.org


--
Dear NUDDLEGG,

This is a computer-generated report for Spreadsheet-ParseXLSX-0.36
on perl 5.36.0, created by App::cpanminus::reporter 0.22 (1.7046).

Thank you for uploading your work to CPAN.  Congratulations!
All tests were successful.

Sections of this report:

    * Tester comments
    * Program output
    * Prerequisites
    * Environment and other context

------------------------------
TESTER COMMENTS
------------------------------

Additional comments from tester:

none provided

------------------------------
PROGRAM OUTPUT
------------------------------

Output from '':

Building and testing Spreadsheet-ParseXLSX-0.36
cp lib/Spreadsheet/ParseXLSX/Decryptor/Standard.pm blib/lib/Spreadsheet/ParseXLSX/Decryptor/Standard.pm
cp lib/Spreadsheet/ParseXLSX/Decryptor.pm blib/lib/Spreadsheet/ParseXLSX/Decryptor.pm
cp lib/Spreadsheet/ParseXLSX/Decryptor/Agile.pm blib/lib/Spreadsheet/ParseXLSX/Decryptor/Agile.pm
cp lib/Spreadsheet/ParseXLSX/Cell.pm blib/lib/Spreadsheet/ParseXLSX/Cell.pm
cp lib/Spreadsheet/ParseXLSX.pm blib/lib/Spreadsheet/ParseXLSX.pm
cp lib/Spreadsheet/ParseXLSX/Worksheet.pm blib/lib/Spreadsheet/ParseXLSX/Worksheet.pm
Manifying 6 pod documents
PERL_DL_NONLAZY=1 "/Users/Amory/perl5/perlbrew/perls/perl-5.36.0/bin/perl" "-MExtUtils::Command::MM" "-MTest::Harness" "-e" "undef *Test::Harness::Switches; test_harness(0, 'blib/lib', 'blib/arch')" t/*.t
t/00-compile.t ............. ok
t/author-critic.t .......... skipped: these tests are for testing by the author
t/author-eol.t ............. skipped: these tests are for testing by the author
t/author-no-tabs.t ......... skipped: these tests are for testing by the author
t/author-pod-coverage.t .... skipped: these tests are for testing by the author
t/author-pod-syntax.t ...... skipped: these tests are for testing by the author
t/basic.t .................. ok
t/bug-10.t ................. ok
t/bug-11.t ................. ok
t/bug-12.t ................. ok
t/bug-13.t ................. ok
t/bug-14.t ................. ok
t/bug-15.t ................. ok
t/bug-16.t ................. ok
t/bug-17.t ................. ok
t/bug-2.t .................. ok
t/bug-29.t ................. ok
t/bug-3.t .................. ok
t/bug-32.t ................. ok
t/bug-38.t ................. ok
t/bug-4.t .................. ok
t/bug-41.t ................. ok
t/bug-5.t .................. ok
t/bug-57.t ................. ok
t/bug-6-2.t ................ ok
t/bug-6.t .................. ok
t/bug-61.t ................. ok
t/bug-7.t .................. ok
t/bug-72.t ................. ok
t/bug-8.t .................. ok
t/bug-md-10.t .............. ok
t/bug-md-11.t .............. ok
t/bug-md-7.t ............... ok
t/cell-to-row-col.t ........ ok
t/column-formats.t ......... ok
t/encryption.t ............. ok
t/garbage-collect.t ........ ok
t/hidden-row-and-column.t .. ok
t/hidden-sheet.t ........... ok
t/hyperlinks.t ............. ok
t/page-Setup.t ............. ok
t/rich.t ................... ok
t/tab-color.t .............. ok
t/target-abspath.t ......... ok
All tests successful.

Test Summary Report
-------------------
t/hyperlinks.t           (Wstat: 0 Tests: 58 Failed: 0)
  TODO passed:   47-49, 51-53, 55-57
Files=44, Tests=1288, 27 wallclock secs ( 0.06 usr  0.03 sys + 25.65 cusr  0.58 csys = 26.32 CPU)
Result: PASS

------------------------------
PREREQUISITES
------------------------------

Prerequisite modules loaded:

runtime:

    Module                             Need  Have    
    ---------------------------------- ----- --------
    Archive::Zip                       1.34  1.68    
    Crypt::Mode::CBC                   0     0.085   
    Crypt::Mode::ECB                   0     0.085   
    Digest::SHA                        0     6.02    
    Encode                             0     3.17    
    File::Temp                         0     0.2311  
    Graphics::ColorUtils               0     0.17    
    MIME::Base64                       0     3.16    
    OLE::Storage_Lite                  0     0.22    
    perl                               5.010 5.036000
    Scalar::Util                       0     1.62    
    Spreadsheet::ParseExcel            0     0.66    
    Spreadsheet::ParseExcel::Cell      0     0.66    
    Spreadsheet::ParseExcel::Worksheet 0     0.66    
    XML::Twig                          0     3.53    

build:

    Module                             Need  Have    
    ---------------------------------- ----- --------
    ExtUtils::MakeMaker                0     7.64    

configure:

    Module                             Need  Have    
    ---------------------------------- ----- --------
    ExtUtils::MakeMaker                0     7.64    


------------------------------
ENVIRONMENT AND OTHER CONTEXT
------------------------------

Environment variables:

    LANG = en_US.UTF-8
    LC_ALL = C
    PATH = /Users/Amory/bin:/Users/amory/perl5/perlbrew/bin:/Users/amory/perl5/perlbrew/perls/perl-5.36.0/bin:/opt/homebrew/bin:/opt/homebrew/sbin:/opt/homebrew/opt/python@3.13/libexec/bin:/opt/homebrew/opt/python@3.13/Frameworks/Python.framework/Versions/3.13/lib/python3.13/site-packages:/Users/Amory/.local/bin:/usr/local/bin:/System/Cryptexes/App/usr/bin:/usr/bin:/bin:/usr/sbin:/sbin:/var/run/com.apple.security.cryptexd/codex.system/bootstrap/usr/local/bin:/var/run/com.apple.security.cryptexd/codex.system/bootstrap/usr/bin:/var/run/com.apple.security.cryptexd/codex.system/bootstrap/usr/appleinternal/bin:/Library/Apple/usr/bin:/usr/local/MacGPG2/bin:/Library/Frameworks/Mono.framework/Versions/Current/Commands:/Users/Amory/Documents/git/external/git-extra-commands@unixorn/bin:/Users/Amory/Documents/git/external/tiny-scripts@vitorgalvao:/Users/Amory/Documents/git/external/bash-itunes@illusori:/Users/Amory/Documents/git/external/video_transcoding@lisamelton/bin:/Users/Amory/Documents/git/external/other_video_transcoding@lisamelton:/Users/Amory/Documents/git/personal/lockquote:/Applications/CKAN.app/Contents/MacOS/
    PERL5DB = use Devel::NYTProf
    PERL5_DIR = /Users/Amory/perl5
    PERL5_V = 5.36
    PERLBREW = command perlbrew
    PERLBREW_HOME = /Users/Amory/.perlbrew
    PERLBREW_MANPATH = /Users/amory/perl5/perlbrew/perls/perl-5.36.0/man
    PERLBREW_PATH = /Users/amory/perl5/perlbrew/bin:/Users/amory/perl5/perlbrew/perls/perl-5.36.0/bin
    PERLBREW_PERL = perl-5.36.0
    PERLBREW_ROOT = /Users/amory/perl5/perlbrew
    PERLBREW_SHELLRC_VERSION = 0.98
    PERLBREW_VERSION = 0.98
    PERLDOC_PAGER = sh -c 'col -bx | bat -l man -p'
    PERL_CPANM_OPT = --verify --from https://www.cpan.org
    PERL_MM_USE_DEFAULT = 1
    SHELL = /opt/homebrew/bin/bash
    TERM = xterm-256color
    TMPDIR = /var/folders/3s/yzp_k_q54799t3cx5vg512040000gn/T/

Perl special variables (and OS-specific diagnostics, for MSWin32):

    EGID = 20 20 12 61 79 80 81 98 702 701 33 100 204 250 395 398 399
    EUID = 501
    EXECUTABLE_NAME = /Users/Amory/perl5/perlbrew/perls/perl-5.36.0/bin/perl
    GID = 20 20 12 61 79 80 81 98 702 701 33 100 204 250 395 398 399
    UID = 501

Perl module toolchain versions installed:

    Module              Have    
    ------------------- --------
    CPAN                2.33    
    CPAN::Meta          2.150010
    Cwd                 3.84    
    ExtUtils::CBuilder  0.280236
    ExtUtils::Command   7.64    
    ExtUtils::Install   2.20    
    ExtUtils::MakeMaker 7.64    
    ExtUtils::Manifest  1.73    
    ExtUtils::ParseXS   3.45    
    File::Spec          3.84    
    JSON                4.10    
    JSON::PP            4.07    
    Module::Build       0.4234  
    Module::Signature   0.89    
    Parse::CPAN::Meta   2.150010
    Test::Harness       3.44    
    Test::More          1.302209
    YAML                1.31    
    YAML::Syck          n/a     
    version             0.9929  


--

Summary of my perl5 (revision 5 version 36 subversion 0) configuration:
   
  Platform:
    osname=darwin
    osvers=21.6.0
    archname=darwin-2level
    uname='darwin nayru.fios-router.home 21.6.0 darwin kernel version 21.6.0: wed aug 10 14:28:25 pdt 2022; root:xnu-8020.141.5~2release_arm64_t8110 arm64 '
    config_args='-de -Dprefix=/Users/amory/perl5/perlbrew/perls/perl-5.36.0 -Aeval:scriptdir=/Users/amory/perl5/perlbrew/perls/perl-5.36.0/bin'
    hint=recommended
    useposix=true
    d_sigaction=define
    useithreads=undef
    usemultiplicity=undef
    use64bitint=define
    use64bitall=define
    uselongdouble=undef
    usemymalloc=n
    default_inc_excludes_dot=define
  Compiler:
    cc='cc'
    ccflags ='-fno-common -DPERL_DARWIN -mmacosx-version-min=12.5 -fno-strict-aliasing -pipe -fstack-protector-strong -DPERL_USE_SAFE_PUTENV'
    optimize='-O3'
    cppflags='-fno-common -DPERL_DARWIN -mmacosx-version-min=12.5 -fno-strict-aliasing -pipe -fstack-protector-strong'
    ccversion=''
    gccversion='Apple LLVM 13.1.6 (clang-1316.0.21.2.5)'
    gccosandvers=''
    intsize=4
    longsize=8
    ptrsize=8
    doublesize=8
    byteorder=12345678
    doublekind=3
    d_longlong=define
    longlongsize=8
    d_longdbl=define
    longdblsize=8
    longdblkind=0
    ivtype='long'
    ivsize=8
    nvtype='double'
    nvsize=8
    Off_t='off_t'
    lseeksize=8
    alignbytes=8
    prototype=define
  Linker and Libraries:
    ld='cc'
    ldflags =' -mmacosx-version-min=12.5 -fstack-protector-strong'
    libpth=/Library/Developer/CommandLineTools/usr/lib/clang/13.1.6/lib /Library/Developer/CommandLineTools/SDKs/MacOSX.sdk/usr/lib /Library/Developer/CommandLineTools/usr/lib /usr/lib
    libs= 
    perllibs=
    libc=
    so=dylib
    useshrplib=false
    libperl=libperl.a
    gnulibc_version=''
  Dynamic Linking:
    dlsrc=dl_dlopen.xs
    dlext=bundle
    d_dlsymun=undef
    ccdlflags=' '
    cccdlflags=' '
    lddlflags=' -mmacosx-version-min=12.5 -bundle -undefined dynamic_lookup -fstack-protector-strong'


Characteristics of this binary (from libperl): 
  Compile-time options:
    HAS_TIMES
    PERLIO_LAYERS
    PERL_COPY_ON_WRITE
    PERL_DONT_CREATE_GVSV
    PERL_MALLOC_WRAP
    PERL_OP_PARENT
    PERL_PRESERVE_IVUV
    PERL_USE_SAFE_PUTENV
    USE_64_BIT_ALL
    USE_64_BIT_INT
    USE_LARGE_FILES
    USE_LOCALE
    USE_LOCALE_COLLATE
    USE_LOCALE_CTYPE
    USE_LOCALE_NUMERIC
    USE_LOCALE_TIME
    USE_PERLIO
    USE_PERL_ATOF
  Built under darwin
  Compiled at Sep  6 2022 11:44:09
  %ENV:
    PERL5DB="use Devel::NYTProf"
    PERL5_DIR="/Users/Amory/perl5"
    PERL5_V="5.36"
    PERLBREW="command perlbrew"
    PERLBREW_HOME="/Users/Amory/.perlbrew"
    PERLBREW_MANPATH="/Users/amory/perl5/perlbrew/perls/perl-5.36.0/man"
    PERLBREW_PATH="/Users/amory/perl5/perlbrew/bin:/Users/amory/perl5/perlbrew/perls/perl-5.36.0/bin"
    PERLBREW_PERL="perl-5.36.0"
    PERLBREW_ROOT="/Users/amory/perl5/perlbrew"
    PERLBREW_SHELLRC_VERSION="0.98"
    PERLBREW_VERSION="0.98"
    PERLDOC_PAGER="sh -c 'col -bx | bat -l man -p'"
    PERL_CPANM_OPT="--verify --from https://www.cpan.org"
    PERL_MM_USE_DEFAULT="1"
  @INC:
    /Users/amory/perl5/perlbrew/perls/perl-5.36.0/lib/site_perl/5.36.0/darwin-2level
    /Users/amory/perl5/perlbrew/perls/perl-5.36.0/lib/site_perl/5.36.0
    /Users/amory/perl5/perlbrew/perls/perl-5.36.0/lib/5.36.0/darwin-2level
    /Users/amory/perl5/perlbrew/perls/perl-5.36.0/lib/5.36.0