Module-Setup v0.09 Perl 5 v5.20.3 x86_64-linux
- Status
- Pass
- From
- Andreas J. König (ANDK)
- Dist
-
Module-Setup v0.09
- Platform
- Perl 5 v5.20.3 x86_64-linux
- Date
- 2018-11-18 02:49:47
- ID
- 9cd371a8-eadc-11e8-aa77-ad9603258b13
This distribution has been tested as part of the CPAN Testers
project, supporting the Perl programming language. See
http://wiki.cpantesters.org/ for more information or email
questions to cpan-testers-discuss@perl.org
--
Dear Kazuhiro Osawa,
This is a computer-generated report for Module-Setup-0.09
on perl 5.20.3, created by CPAN-Reporter-1.2018.
Thank you for uploading your work to CPAN. Congratulations!
All tests were successful.
Sections of this report:
* Tester comments
* Program output
* Prerequisites
* Environment and other context
------------------------------
TESTER COMMENTS
------------------------------
Additional comments from tester:
this report is from an automated smoke testing program
and was not reviewed by a human for accuracy
------------------------------
PROGRAM OUTPUT
------------------------------
Output from '/usr/bin/make test':
PERL_DL_NONLAZY=1 "/home/sand/src/perl/repoperls/installed-perls/host/k93msid/v5.20.3/da1c/bin/perl" "-MExtUtils::Command::MM" "-MTest::Harness" "-e" "undef *Test::Harness::Switches; test_harness(0, 'inc', 'blib/lib', 'blib/arch')" t/*.t t/*/*.t
Possible precedence issue with control flow operator at /tmp/loop_over_bdir-15471-Hk2HNF/Module-Setup-0.09-0/inc/Test/Builder.pm line 858.
t/00_compile.t .................................... ok
Possible precedence issue with control flow operator at /tmp/loop_over_bdir-15471-Hk2HNF/Module-Setup-0.09-0/inc/Test/Builder.pm line 858.
t/010_core/detect-flavor-tests-error.t ............ ok
Possible precedence issue with control flow operator at /tmp/loop_over_bdir-15471-Hk2HNF/Module-Setup-0.09-0/inc/Test/Builder.pm line 858.
t/010_core/detect_module_and_flavor_name_error.t .. ok
Possible precedence issue with control flow operator at /tmp/loop_over_bdir-15471-Hk2HNF/Module-Setup-0.09-0/inc/Test/Builder.pm line 858.
t/010_core/dialog.t ............................... ok
Possible precedence issue with control flow operator at /tmp/loop_over_bdir-15471-Hk2HNF/Module-Setup-0.09-0/inc/Test/Builder.pm line 858.
t/010_core/distribute.t ........................... ok
Possible precedence issue with control flow operator at /tmp/loop_over_bdir-15471-Hk2HNF/Module-Setup-0.09-0/inc/Test/Builder.pm line 858.
t/010_core/flavor.t ............................... ok
Possible precedence issue with control flow operator at /tmp/loop_over_bdir-15471-Hk2HNF/Module-Setup-0.09-0/inc/Test/Builder.pm line 858.
t/010_core/load_argv.t ............................ ok
Possible precedence issue with control flow operator at /tmp/loop_over_bdir-15471-Hk2HNF/Module-Setup-0.09-0/inc/Test/Builder.pm line 858.
t/010_core/path.t ................................. ok
Possible precedence issue with control flow operator at /tmp/loop_over_bdir-15471-Hk2HNF/Module-Setup-0.09-0/inc/Test/Builder.pm line 858.
t/010_core/select-flavor.t ........................ ok
Possible precedence issue with control flow operator at /tmp/loop_over_bdir-15471-Hk2HNF/Module-Setup-0.09-0/inc/Test/Builder.pm line 858.
t/010_core/setup_base_dir.t ....................... ok
Possible precedence issue with control flow operator at /tmp/loop_over_bdir-15471-Hk2HNF/Module-Setup-0.09-0/inc/Test/Builder.pm line 858.
t/010_core/setup_options.t ........................ ok
Possible precedence issue with control flow operator at /tmp/loop_over_bdir-15471-Hk2HNF/Module-Setup-0.09-0/inc/Test/Builder.pm line 858.
t/010_core/setup_options_code.t ................... ok
Possible precedence issue with control flow operator at /tmp/loop_over_bdir-15471-Hk2HNF/Module-Setup-0.09-0/inc/Test/Builder.pm line 858.
t/010_core/stdout-log.t ........................... ok
Possible precedence issue with control flow operator at /tmp/loop_over_bdir-15471-Hk2HNF/Module-Setup-0.09-0/inc/Test/Builder.pm line 858.
t/010_core/system.t ............................... ok
Possible precedence issue with control flow operator at /tmp/loop_over_bdir-15471-Hk2HNF/Module-Setup-0.09-0/inc/Test/Builder.pm line 858.
t/010_core/test_util.t ............................ ok
Possible precedence issue with control flow operator at /tmp/loop_over_bdir-15471-Hk2HNF/Module-Setup-0.09-0/inc/Test/Builder.pm line 858.
t/020_run/additional.t ............................ ok
Possible precedence issue with control flow operator at /tmp/loop_over_bdir-15471-Hk2HNF/Module-Setup-0.09-0/inc/Test/Builder.pm line 858.
t/020_run/binary.t ................................ ok
Possible precedence issue with control flow operator at /tmp/loop_over_bdir-15471-Hk2HNF/Module-Setup-0.09-0/inc/Test/Builder.pm line 858.
t/020_run/direct.t ................................ ok
Possible precedence issue with control flow operator at /tmp/loop_over_bdir-15471-Hk2HNF/Module-Setup-0.09-0/inc/Test/Builder.pm line 858.
t/020_run/dupe-flavor.t ........................... ok
Possible precedence issue with control flow operator at /tmp/loop_over_bdir-15471-Hk2HNF/Module-Setup-0.09-0/inc/Test/Builder.pm line 858.
t/020_run/dupe.t .................................. ok
Possible precedence issue with control flow operator at /tmp/loop_over_bdir-15471-Hk2HNF/Module-Setup-0.09-0/inc/Test/Builder.pm line 858.
t/020_run/empty_dir.t ............................. ok
Possible precedence issue with control flow operator at /tmp/loop_over_bdir-15471-Hk2HNF/Module-Setup-0.09-0/inc/Test/Builder.pm line 858.
t/020_run/fail_flavor.t ........................... ok
Possible precedence issue with control flow operator at /tmp/loop_over_bdir-15471-Hk2HNF/Module-Setup-0.09-0/inc/Test/Builder.pm line 858.
t/020_run/hasnt-flavorclass.t ..................... ok
Possible precedence issue with control flow operator at /tmp/loop_over_bdir-15471-Hk2HNF/Module-Setup-0.09-0/inc/Test/Builder.pm line 858.
t/020_run/init.t .................................. ok
Possible precedence issue with control flow operator at /tmp/loop_over_bdir-15471-Hk2HNF/Module-Setup-0.09-0/inc/Test/Builder.pm line 858.
t/020_run/nullflavors.t ........................... ok
Possible precedence issue with control flow operator at /tmp/loop_over_bdir-15471-Hk2HNF/Module-Setup-0.09-0/inc/Test/Builder.pm line 858.
t/020_run/pack-additional.t ....................... ok
Possible precedence issue with control flow operator at /tmp/loop_over_bdir-15471-Hk2HNF/Module-Setup-0.09-0/inc/Test/Builder.pm line 858.
t/020_run/pack.t .................................. ok
Possible precedence issue with control flow operator at /tmp/loop_over_bdir-15471-Hk2HNF/Module-Setup-0.09-0/inc/Test/Builder.pm line 858.
t/020_run/simple.t ................................ ok
Possible precedence issue with control flow operator at /tmp/loop_over_bdir-15471-Hk2HNF/Module-Setup-0.09-0/inc/Test/Builder.pm line 858.
t/030_plugin/append_template_file.t ............... ok
Possible precedence issue with control flow operator at /tmp/loop_over_bdir-15471-Hk2HNF/Module-Setup-0.09-0/inc/Test/Builder.pm line 858.
t/030_plugin/append_template_file2.t .............. ok
Possible precedence issue with control flow operator at /tmp/loop_over_bdir-15471-Hk2HNF/Module-Setup-0.09-0/inc/Test/Builder.pm line 858.
t/030_plugin/illegalplugin.t ...................... ok
Possible precedence issue with control flow operator at /tmp/loop_over_bdir-15471-Hk2HNF/Module-Setup-0.09-0/inc/Test/Builder.pm line 858.
t/030_plugin/illegalpluginconfig.t ................ ok
Possible precedence issue with control flow operator at /tmp/loop_over_bdir-15471-Hk2HNF/Module-Setup-0.09-0/inc/Test/Builder.pm line 858.
t/030_plugin/localplugin.t ........................ ok
Possible precedence issue with control flow operator at /tmp/loop_over_bdir-15471-Hk2HNF/Module-Setup-0.09-0/inc/Test/Builder.pm line 858.
t/030_plugin/plain.t .............................. ok
Possible precedence issue with control flow operator at /tmp/loop_over_bdir-15471-Hk2HNF/Module-Setup-0.09-0/inc/Test/Builder.pm line 858.
t/030_plugin/site_github.t ........................ ok
Possible precedence issue with control flow operator at /tmp/loop_over_bdir-15471-Hk2HNF/Module-Setup-0.09-0/inc/Test/Builder.pm line 858.
t/030_plugin/template.t ........................... ok
Possible precedence issue with control flow operator at /tmp/loop_over_bdir-15471-Hk2HNF/Module-Setup-0.09-0/inc/Test/Builder.pm line 858.
cannot remove path when cwd is /tmp/Out2vIXKDG/Test-Makefile3_3 for /tmp/Out2vIXKDG: at /home/sand/src/perl/repoperls/installed-perls/host/k93msid/v5.20.3/da1c/lib/site_perl/5.20.3/File/Temp.pm line 2628.
t/030_plugin/test_makefile.t ...................... ok
Possible precedence issue with control flow operator at /tmp/loop_over_bdir-15471-Hk2HNF/Module-Setup-0.09-0/inc/Test/Builder.pm line 858.
error: pathspec 'commit' did not match any file(s) known to git
cannot remove path when cwd is /tmp/fHzJGcF_aY/VC-Git3_2 for /tmp/fHzJGcF_aY: at /home/sand/src/perl/repoperls/installed-perls/host/k93msid/v5.20.3/da1c/lib/site_perl/5.20.3/File/Temp.pm line 2628.
t/030_plugin/vc_git.t ............................. ok
Possible precedence issue with control flow operator at /tmp/loop_over_bdir-15471-Hk2HNF/Module-Setup-0.09-0/inc/Test/Builder.pm line 858.
Name "Module::Setup::Flavor::Default::setup_config" used only once: possible typo at t/030_plugin/vc_svk.t line 17.
t/030_plugin/vc_svk.t ............................. ok
Possible precedence issue with control flow operator at /tmp/loop_over_bdir-15471-Hk2HNF/Module-Setup-0.09-0/inc/Test/Builder.pm line 858.
t/030_plugin/vc_svn.t ............................. ok
Possible precedence issue with control flow operator at /tmp/loop_over_bdir-15471-Hk2HNF/Module-Setup-0.09-0/inc/Test/Builder.pm line 858.
t/040_flavor/coderepos.t .......................... ok
Possible precedence issue with control flow operator at /tmp/loop_over_bdir-15471-Hk2HNF/Module-Setup-0.09-0/inc/Test/Builder.pm line 858.
t/040_flavor/default-setup_config.t ............... ok
Possible precedence issue with control flow operator at /tmp/loop_over_bdir-15471-Hk2HNF/Module-Setup-0.09-0/inc/Test/Builder.pm line 858.
t/040_flavor/default.t ............................ ok
Possible precedence issue with control flow operator at /tmp/loop_over_bdir-15471-Hk2HNF/Module-Setup-0.09-0/inc/Test/Builder.pm line 858.
t/040_flavor/github.t ............................. ok
Possible precedence issue with control flow operator at /tmp/loop_over_bdir-15471-Hk2HNF/Module-Setup-0.09-0/inc/Test/Builder.pm line 858.
t/050_helper/basic-callback.t ..................... ok
Possible precedence issue with control flow operator at /tmp/loop_over_bdir-15471-Hk2HNF/Module-Setup-0.09-0/inc/Test/Builder.pm line 858.
t/050_helper/basic-foo.t .......................... ok
Possible precedence issue with control flow operator at /tmp/loop_over_bdir-15471-Hk2HNF/Module-Setup-0.09-0/inc/Test/Builder.pm line 858.
t/050_helper/basic.t .............................. ok
All tests successful.
Files=47, Tests=467, 14 wallclock secs ( 0.14 usr 0.21 sys + 8.22 cusr 2.44 csys = 11.01 CPU)
Result: PASS
------------------------------
PREREQUISITES
------------------------------
Prerequisite modules loaded:
requires:
Module Need Have
---------------------------- ---- --------
Class::Trigger 0 0.14
Cwd 0 3.75
ExtUtils::MakeMaker 0 7.34
File::Basename 0 2.85
File::Find::Rule 0 0.34
File::HomeDir 0 1.004
File::Path 0 2.16
File::Temp 0.2 0.2308
Filter::Util::Call 0 1.49
Getopt::Long 0 2.5
IO::Scalar 0 2.111
LWP::UserAgent 0 6.36
Module::Collect 0.06 0.06
Module::Install::AuthorTests 0 0.002
Module::Install::Repository 0 0.06
Path::Class 0 0.37
Pod::Usage 0 1.63
Scalar::Util 0 1.50
Storable 0 3.11
Template 2.2 2.28
Test::More 0 1.302140
Test::Requires 0 0.10
Text::Patch 0 1.8
YAML 0 1.26
build_requires:
Module Need Have
---------------------------- ---- --------
ExtUtils::MakeMaker 0 7.34
configure_requires:
Module Need Have
---------------------------- ---- --------
ExtUtils::MakeMaker 6.42 7.34
------------------------------
ENVIRONMENT AND OTHER CONTEXT
------------------------------
Environment variables:
AUTOMATED_TESTING = 1
LANG = en_US.UTF-8
PATH = /home/sand/bin:/usr/local/bin:/usr/bin:/bin:/usr/games:/usr/local/perl/bin:/usr/X11/bin:/sbin:/usr/sbin
PERL5LIB = /tmp/loop_over_bdir-15471-Hk2HNF/Text-Patch-1.8-0/blib/arch:/tmp/loop_over_bdir-15471-Hk2HNF/Text-Patch-1.8-0/blib/lib:/tmp/loop_over_bdir-15471-Hk2HNF/Module-Install-AuthorTests-0.002-0/blib/arch:/tmp/loop_over_bdir-15471-Hk2HNF/Module-Install-AuthorTests-0.002-0/blib/lib:/tmp/loop_over_bdir-15471-Hk2HNF/Module-Collect-0.06-0/blib/arch:/tmp/loop_over_bdir-15471-Hk2HNF/Module-Collect-0.06-0/blib/lib:/tmp/loop_over_bdir-15471-Hk2HNF/Module-Install-Repository-0.06-0/blib/arch:/tmp/loop_over_bdir-15471-Hk2HNF/Module-Install-Repository-0.06-0/blib/lib:/tmp/loop_over_bdir-15471-Hk2HNF/Module-Install-ReadmeMarkdownFromPod-0.04-0/blib/arch:/tmp/loop_over_bdir-15471-Hk2HNF/Module-Install-ReadmeMarkdownFromPod-0.04-0/blib/lib:/tmp/loop_over_bdir-15471-Hk2HNF/Module-Install-ManifestSkip-0.24-0/blib/arch:/tmp/loop_over_bdir-15471-Hk2HNF/Module-Install-ManifestSkip-0.24-0/blib/lib:/tmp/loop_over_bdir-15471-Hk2HNF/Module-Manifest-Skip-0.23-0/blib/arch:/tmp/loop_over_bdir-15471-Hk2HNF/Module-Manifest-Skip-0.23-0/blib/lib:/tmp/loop_over_bdir-15471-Hk2HNF/Module-Install-Homepage-0.01-0/blib/arch:/tmp/loop_over_bdir-15471-Hk2HNF/Module-Install-Homepage-0.01-0/blib/lib:/tmp/loop_over_bdir-15471-Hk2HNF/Module-Install-AutoManifest-0.003-0/blib/arch:/tmp/loop_over_bdir-15471-Hk2HNF/Module-Install-AutoManifest-0.003-0/blib/lib:/tmp/loop_over_bdir-15471-Hk2HNF/Module-Install-AutoLicense-0.10-0/blib/arch:/tmp/loop_over_bdir-15471-Hk2HNF/Module-Install-AutoLicense-0.10-0/blib/lib:/tmp/loop_over_bdir-15471-Hk2HNF/Module-Install-1.19-0/blib/arch:/tmp/loop_over_bdir-15471-Hk2HNF/Module-Install-1.19-0/blib/lib:/tmp/loop_over_bdir-15471-Hk2HNF/Module-ScanDeps-1.25-0/blib/arch:/tmp/loop_over_bdir-15471-Hk2HNF/Module-ScanDeps-1.25-0/blib/lib:/tmp/loop_over_bdir-15471-Hk2HNF/App-local-lib-helper-0.07-0/blib/arch:/tmp/loop_over_bdir-15471-Hk2HNF/App-local-lib-helper-0.07-0/blib/lib:/tmp/loop_over_bdir-15471-Hk2HNF/App-cpanminus-1.7044-0/blib/arch:/tmp/loop_over_bdir-15471-Hk2HNF/App-cpanminus-1.7044-0/blib/lib
PERL5OPT =
PERL5_CPANPLUS_IS_RUNNING = 15472
PERL5_CPAN_IS_RUNNING = 15472
PERL5_CPAN_IS_RUNNING_IN_RECURSION = 2358,15472
PERL_CANARY_STABILITY_NOPROMPT = 1
PERL_MM_USE_DEFAULT = 1
PERL_USE_UNSAFE_INC = 1
SHELL = /usr/bin/zsh
TERM = screen
Perl special variables (and OS-specific diagnostics, for MSWin32):
$^X = /home/sand/src/perl/repoperls/installed-perls/host/k93msid/v5.20.3/da1c/bin/perl
$UID/$EUID = 1005 / 1005
$GID = 1005 1005
$EGID = 1005 1005
Perl module toolchain versions installed:
Module Have
------------------- --------
CPAN 2.21
CPAN::Meta 2.150010
Cwd 3.75
ExtUtils::CBuilder 0.280230
ExtUtils::Command 7.34
ExtUtils::Install 2.06
ExtUtils::MakeMaker 7.34
ExtUtils::Manifest 1.70
ExtUtils::ParseXS 3.35
File::Spec 3.75
JSON 2.97001
JSON::PP 2.97001
Module::Build 0.4224
Module::Signature 0.83
Parse::CPAN::Meta 2.150010
Test::Harness 3.42
Test::More 1.302140
YAML 1.26
YAML::Syck 1.31
version 0.9924
--
Summary of my perl5 (revision 5 version 20 subversion 3) configuration:
Derived from: b67331aafd6eff33e3fd904c45e811f69cbfb0b2
Platform:
osname=linux, osvers=4.18.0-2-amd64, archname=x86_64-linux
uname='linux k93msid 4.18.0-2-amd64 #1 smp debian 4.18.10-2 (2018-10-07) x86_64 gnulinux '
config_args='-Dprefix=/home/sand/src/perl/repoperls/installed-perls/host/k93msid/v5.20.3/da1c -Dmyhostname=k93msid -Dinstallusrbinperl=n -Uversiononly -Dusedevel -des -Ui_db -Dlibswanted=cl pthread socket inet nsl gdbm dbm malloc dl ld sun m crypt sec util c cposix posix ucb BSD gdbm_compat -Uuseithreads -Uuselongdouble -DEBUGGING=-g'
hint=recommended, useposix=true, d_sigaction=define
useithreads=undef, usemultiplicity=undef
use64bitint=define, use64bitall=define, uselongdouble=undef
usemymalloc=n, bincompat5005=undef
Compiler:
cc='cc', ccflags ='-fwrapv -fno-strict-aliasing -pipe -fstack-protector -I/usr/local/include -D_LARGEFILE_SOURCE -D_FILE_OFFSET_BITS=64',
optimize='-O2 -g',
cppflags='-fwrapv -fno-strict-aliasing -pipe -fstack-protector -I/usr/local/include'
ccversion='', gccversion='8.2.0', gccosandvers=''
intsize=4, longsize=8, ptrsize=8, doublesize=8, byteorder=12345678
d_longlong=define, longlongsize=8, d_longdbl=define, longdblsize=16
ivtype='long', ivsize=8, nvtype='double', nvsize=8, Off_t='off_t', lseeksize=8
alignbytes=8, prototype=define
Linker and Libraries:
ld='cc', ldflags =' -fstack-protector -L/usr/local/lib'
libpth=/usr/local/lib /usr/lib/gcc/x86_64-linux-gnu/8/include-fixed /usr/include/x86_64-linux-gnu /usr/lib /lib/x86_64-linux-gnu /lib/../lib /usr/lib/x86_64-linux-gnu /usr/lib/../lib /lib
libs=-lpthread -lnsl -ldl -lm -lcrypt -lutil -lc
perllibs=-lpthread -lnsl -ldl -lm -lcrypt -lutil -lc
libc=libc-2.27.so, so=so, useshrplib=false, libperl=libperl.a
gnulibc_version='2.27'
Dynamic Linking:
dlsrc=dl_dlopen.xs, dlext=so, d_dlsymun=undef, ccdlflags='-Wl,-E'
cccdlflags='-fPIC', lddlflags='-shared -O2 -g -L/usr/local/lib -fstack-protector'
Characteristics of this binary (from libperl):
Compile-time options: HAS_TIMES PERLIO_LAYERS PERL_DONT_CREATE_GVSV
PERL_HASH_FUNC_ONE_AT_A_TIME_HARD PERL_MALLOC_WRAP
PERL_NEW_COPY_ON_WRITE PERL_PRESERVE_IVUV
PERL_USE_DEVEL USE_64_BIT_ALL USE_64_BIT_INT
USE_LARGE_FILES USE_LOCALE USE_LOCALE_COLLATE
USE_LOCALE_CTYPE USE_LOCALE_NUMERIC USE_PERLIO
USE_PERL_ATOF
Locally applied patches:
uncommitted-changes
Built under linux
Compiled at Oct 28 2018 22:54:11
%ENV:
PERL5LIB="/tmp/loop_over_bdir-15471-Hk2HNF/Text-Patch-1.8-0/blib/arch:/tmp/loop_over_bdir-15471-Hk2HNF/Text-Patch-1.8-0/blib/lib:/tmp/loop_over_bdir-15471-Hk2HNF/Module-Install-AuthorTests-0.002-0/blib/arch:/tmp/loop_over_bdir-15471-Hk2HNF/Module-Install-AuthorTests-0.002-0/blib/lib:/tmp/loop_over_bdir-15471-Hk2HNF/Module-Collect-0.06-0/blib/arch:/tmp/loop_over_bdir-15471-Hk2HNF/Module-Collect-0.06-0/blib/lib:/tmp/loop_over_bdir-15471-Hk2HNF/Module-Install-Repository-0.06-0/blib/arch:/tmp/loop_over_bdir-15471-Hk2HNF/Module-Install-Repository-0.06-0/blib/lib:/tmp/loop_over_bdir-15471-Hk2HNF/Module-Install-ReadmeMarkdownFromPod-0.04-0/blib/arch:/tmp/loop_over_bdir-15471-Hk2HNF/Module-Install-ReadmeMarkdownFromPod-0.04-0/blib/lib:/tmp/loop_over_bdir-15471-Hk2HNF/Module-Install-ManifestSkip-0.24-0/blib/arch:/tmp/loop_over_bdir-15471-Hk2HNF/Module-Install-ManifestSkip-0.24-0/blib/lib:/tmp/loop_over_bdir-15471-Hk2HNF/Module-Manifest-Skip-0.23-0/blib/arch:/tmp/loop_over_bdir-15471-Hk2HNF/Module-Manifest-Skip-0.23-0/blib/lib:/tmp/loop_over_bdir-15471-Hk2HNF/Module-Install-Homepage-0.01-0/blib/arch:/tmp/loop_over_bdir-15471-Hk2HNF/Module-Install-Homepage-0.01-0/blib/lib:/tmp/loop_over_bdir-15471-Hk2HNF/Module-Install-AutoManifest-0.003-0/blib/arch:/tmp/loop_over_bdir-15471-Hk2HNF/Module-Install-AutoManifest-0.003-0/blib/lib:/tmp/loop_over_bdir-15471-Hk2HNF/Module-Install-AutoLicense-0.10-0/blib/arch:/tmp/loop_over_bdir-15471-Hk2HNF/Module-Install-AutoLicense-0.10-0/blib/lib:/tmp/loop_over_bdir-15471-Hk2HNF/Module-Install-1.19-0/blib/arch:/tmp/loop_over_bdir-15471-Hk2HNF/Module-Install-1.19-0/blib/lib:/tmp/loop_over_bdir-15471-Hk2HNF/Module-ScanDeps-1.25-0/blib/arch:/tmp/loop_over_bdir-15471-Hk2HNF/Module-ScanDeps-1.25-0/blib/lib:/tmp/loop_over_bdir-15471-Hk2HNF/App-local-lib-helper-0.07-0/blib/arch:/tmp/loop_over_bdir-15471-Hk2HNF/App-local-lib-helper-0.07-0/blib/lib:/tmp/loop_over_bdir-15471-Hk2HNF/App-cpanminus-1.7044-0/blib/arch:/tmp/loop_over_bdir-15471-Hk2HNF/App-cpanminus-1.7044-0/blib/lib"
PERL5OPT=""
PERL5_CPANPLUS_IS_RUNNING="15472"
PERL5_CPAN_IS_RUNNING="15472"
PERL5_CPAN_IS_RUNNING_IN_RECURSION="2358,15472"
PERL_CANARY_STABILITY_NOPROMPT="1"
PERL_MM_USE_DEFAULT="1"
PERL_USE_UNSAFE_INC="1"
@INC:
/tmp/loop_over_bdir-15471-Hk2HNF/Text-Patch-1.8-0/blib/arch
/tmp/loop_over_bdir-15471-Hk2HNF/Text-Patch-1.8-0/blib/lib
/tmp/loop_over_bdir-15471-Hk2HNF/Module-Install-AuthorTests-0.002-0/blib/arch
/tmp/loop_over_bdir-15471-Hk2HNF/Module-Install-AuthorTests-0.002-0/blib/lib
/tmp/loop_over_bdir-15471-Hk2HNF/Module-Collect-0.06-0/blib/arch
/tmp/loop_over_bdir-15471-Hk2HNF/Module-Collect-0.06-0/blib/lib
/tmp/loop_over_bdir-15471-Hk2HNF/Module-Install-Repository-0.06-0/blib/arch
/tmp/loop_over_bdir-15471-Hk2HNF/Module-Install-Repository-0.06-0/blib/lib
/tmp/loop_over_bdir-15471-Hk2HNF/Module-Install-ReadmeMarkdownFromPod-0.04-0/blib/arch
/tmp/loop_over_bdir-15471-Hk2HNF/Module-Install-ReadmeMarkdownFromPod-0.04-0/blib/lib
/tmp/loop_over_bdir-15471-Hk2HNF/Module-Install-ManifestSkip-0.24-0/blib/arch
/tmp/loop_over_bdir-15471-Hk2HNF/Module-Install-ManifestSkip-0.24-0/blib/lib
/tmp/loop_over_bdir-15471-Hk2HNF/Module-Manifest-Skip-0.23-0/blib/arch
/tmp/loop_over_bdir-15471-Hk2HNF/Module-Manifest-Skip-0.23-0/blib/lib
/tmp/loop_over_bdir-15471-Hk2HNF/Module-Install-Homepage-0.01-0/blib/arch
/tmp/loop_over_bdir-15471-Hk2HNF/Module-Install-Homepage-0.01-0/blib/lib
/tmp/loop_over_bdir-15471-Hk2HNF/Module-Install-AutoManifest-0.003-0/blib/arch
/tmp/loop_over_bdir-15471-Hk2HNF/Module-Install-AutoManifest-0.003-0/blib/lib
/tmp/loop_over_bdir-15471-Hk2HNF/Module-Install-AutoLicense-0.10-0/blib/arch
/tmp/loop_over_bdir-15471-Hk2HNF/Module-Install-AutoLicense-0.10-0/blib/lib
/tmp/loop_over_bdir-15471-Hk2HNF/Module-Install-1.19-0/blib/arch
/tmp/loop_over_bdir-15471-Hk2HNF/Module-Install-1.19-0/blib/lib
/tmp/loop_over_bdir-15471-Hk2HNF/Module-ScanDeps-1.25-0/blib/arch
/tmp/loop_over_bdir-15471-Hk2HNF/Module-ScanDeps-1.25-0/blib/lib
/tmp/loop_over_bdir-15471-Hk2HNF/App-local-lib-helper-0.07-0/blib/arch
/tmp/loop_over_bdir-15471-Hk2HNF/App-local-lib-helper-0.07-0/blib/lib
/tmp/loop_over_bdir-15471-Hk2HNF/App-cpanminus-1.7044-0/blib/arch
/tmp/loop_over_bdir-15471-Hk2HNF/App-cpanminus-1.7044-0/blib/lib
/home/sand/src/perl/repoperls/installed-perls/host/k93msid/v5.20.3/da1c/lib/site_perl/5.20.3/x86_64-linux
/home/sand/src/perl/repoperls/installed-perls/host/k93msid/v5.20.3/da1c/lib/site_perl/5.20.3
/home/sand/src/perl/repoperls/installed-perls/host/k93msid/v5.20.3/da1c/lib/5.20.3/x86_64-linux
/home/sand/src/perl/repoperls/installed-perls/host/k93msid/v5.20.3/da1c/lib/5.20.3
.