File-ShareDir-Install v0.14 Perl 5 v5.34.0 x86_64-linux-thread-multi
- Status
- Pass
- From
- Kurt vom Walde
- Dist
-
File-ShareDir-Install v0.14
- Platform
- Perl 5 v5.34.0 x86_64-linux-thread-multi
- Date
- 2022-11-30 22:09:08
- ID
- 9cab8fcc-70fb-11ed-b0d6-d3d6c6bd5ccd
This distribution has been tested as part of the CPAN Testers
project, supporting the Perl programming language. See
http://wiki.cpantesters.org/ for more information or email
questions to cpan-testers-discuss@perl.org
--
Dear ETHER,
This is a computer-generated report for File-ShareDir-Install-0.14
on perl 5.34.0, created by App::cpanminus::reporter 0.17 (1.7044).
Thank you for uploading your work to CPAN. Congratulations!
All tests were successful.
Sections of this report:
* Tester comments
* Program output
* Prerequisites
* Environment and other context
------------------------------
TESTER COMMENTS
------------------------------
Additional comments from tester:
none provided
------------------------------
PROGRAM OUTPUT
------------------------------
Output from '':
Building and testing File-ShareDir-Install-0.14
cp lib/File/ShareDir/Install.pm blib/lib/File/ShareDir/Install.pm
Manifying 1 pod document
PERL_DL_NONLAZY=1 "/home/f/.plenv/versions/5.34.0/bin/perl5.34.0" "-MExtUtils::Command::MM" "-MTest::Harness" "-e" "undef *Test::Harness::Switches; test_harness(0, 'blib/lib', 'blib/arch')" t/*.t
t/10_makefile.t ........ ok
t/11_dotfile.t ......... ok
t/12_delete.t .......... ok
#
# Versions for all modules listed in MYMETA.json (including optional ones):
#
# === Configure Requires ===
#
# Module Want Have
# ------------------- ---- ----
# ExtUtils::MakeMaker any 7.62
#
# === Build Requires ===
#
# Module Want Have
# ------------------- ---- ----
# ExtUtils::MakeMaker any 7.62
#
# === Test Requires ===
#
# Module Want Have
# ------------------- ---- --------
# ExtUtils::MakeMaker any 7.62
# File::Path any 2.18
# File::Spec any 3.80
# Test::More any 1.302186
#
# === Test Recommends ===
#
# Module Want Have
# ---------- -------- --------
# CPAN::Meta 2.120900 2.150010
#
# === Runtime Requires ===
#
# Module Want Have
# ---------- ---- ----
# Carp any 1.52
# Exporter any 5.76
# File::Spec any 3.80
# IO::Dir any 1.46
# strict any 1.12
# warnings any 1.51
#
# === Other Modules ===
#
# Module Have
# --------------- -------
# Encode 3.08
# File::Temp 0.2311
# JSON::PP 4.06
# Module::Runtime 0.016
# Pod::Coverage missing
# Sub::Name 0.26
# YAML missing
# autodie 2.34
#
t/00-report-prereqs.t .. ok
All tests successful.
Files=4, Tests=39, 3 wallclock secs ( 0.03 usr 0.01 sys + 2.63 cusr 0.39 csys = 3.06 CPU)
Result: PASS
------------------------------
PREREQUISITES
------------------------------
Prerequisite modules loaded:
No requirements found
------------------------------
ENVIRONMENT AND OTHER CONTEXT
------------------------------
Environment variables:
LANG = de_DE.UTF-8
LC_CTYPE = de_DE.UTF-8
PATH = /home/f/.plenv/versions/5.34.0/bin:/home/f/.plenv/libexec:/home/f/.plenv/plugins/perl-build/bin:/home/f/.p6env/shims:/home/f/.p6env/bin:/home/f/.plenv/shims:/home/f/.plenv/bin:/usr/local/sbin:/usr/local/bin:/usr/bin:/usr/bin/core_perl:/usr/bin/vendor_perl:/home/f/bin
SHELL = /usr/bin/zsh
TERM = screen-256color
Perl special variables (and OS-specific diagnostics, for MSWin32):
EGID = 1000 10 14 1000
EUID = 1000
EXECUTABLE_NAME = /home/f/.plenv/versions/5.34.0/bin/perl5.34.0
GID = 1000 10 14 1000
UID = 1000
Perl module toolchain versions installed:
Module Have
------------------- --------
CPAN 2.28
CPAN::Meta 2.150010
Cwd 3.80
ExtUtils::CBuilder 0.280236
ExtUtils::Command 7.62
ExtUtils::Install 2.20
ExtUtils::MakeMaker 7.62
ExtUtils::Manifest 1.73
ExtUtils::ParseXS 3.43
File::Spec 3.80
JSON 4.10
JSON::PP 4.06
Module::Build 0.4231
Module::Signature n/a
Parse::CPAN::Meta 2.150010
Test::Harness 3.43
Test::More 1.302186
YAML 1.30
YAML::Syck n/a
version 0.9928
--
Summary of my perl5 (revision 5 version 34 subversion 0) configuration:
Platform:
osname=linux
osvers=5.10.63-1-lts
archname=x86_64-linux-thread-multi
uname='linux blake 5.10.63-1-lts #1 smp wed, 08 sep 2021 15:10:58 +0000 x86_64 gnulinux '
config_args='-Dprefix=/home/f/.plenv/versions/5.34.0 -de -Dversiononly -Dusethreads -A'eval:scriptdir=/home/f/.plenv/versions/5.34.0/bin''
hint=recommended
useposix=true
d_sigaction=define
useithreads=define
usemultiplicity=define
use64bitint=define
use64bitall=define
uselongdouble=undef
usemymalloc=n
default_inc_excludes_dot=define
Compiler:
cc='cc'
ccflags ='-D_REENTRANT -D_GNU_SOURCE -fwrapv -fno-strict-aliasing -pipe -fstack-protector-strong -I/usr/local/include -D_LARGEFILE_SOURCE -D_FILE_OFFSET_BITS=64 -D_FORTIFY_SOURCE=2'
optimize='-O2'
cppflags='-D_REENTRANT -D_GNU_SOURCE -fwrapv -fno-strict-aliasing -pipe -fstack-protector-strong -I/usr/local/include'
ccversion=''
gccversion='11.1.0'
gccosandvers=''
intsize=4
longsize=8
ptrsize=8
doublesize=8
byteorder=12345678
doublekind=3
d_longlong=define
longlongsize=8
d_longdbl=define
longdblsize=16
longdblkind=3
ivtype='long'
ivsize=8
nvtype='double'
nvsize=8
Off_t='off_t'
lseeksize=8
alignbytes=8
prototype=define
Linker and Libraries:
ld='cc'
ldflags =' -fstack-protector-strong -L/usr/local/lib'
libpth=/usr/local/lib /lib/../lib /usr/lib/../lib /lib /usr/lib /lib64 /usr/lib64
libs=-lpthread -lnsl -lgdbm -ldb -ldl -lm -lcrypt -lutil -lc -lgdbm_compat
perllibs=-lpthread -lnsl -ldl -lm -lcrypt -lutil -lc
libc=libc-2.33.so
so=so
useshrplib=false
libperl=libperl.a
gnulibc_version='2.33'
Dynamic Linking:
dlsrc=dl_dlopen.xs
dlext=so
d_dlsymun=undef
ccdlflags='-Wl,-E'
cccdlflags='-fPIC'
lddlflags='-shared -O2 -L/usr/local/lib -fstack-protector-strong'
Characteristics of this binary (from libperl):
Compile-time options:
HAS_TIMES
MULTIPLICITY
PERLIO_LAYERS
PERL_COPY_ON_WRITE
PERL_DONT_CREATE_GVSV
PERL_IMPLICIT_CONTEXT
PERL_MALLOC_WRAP
PERL_OP_PARENT
PERL_PRESERVE_IVUV
USE_64_BIT_ALL
USE_64_BIT_INT
USE_ITHREADS
USE_LARGE_FILES
USE_LOCALE
USE_LOCALE_COLLATE
USE_LOCALE_CTYPE
USE_LOCALE_NUMERIC
USE_LOCALE_TIME
USE_PERLIO
USE_PERL_ATOF
USE_REENTRANT_API
USE_THREAD_SAFE_LOCALE
Built under linux
Compiled at Sep 13 2021 12:31:25
@INC:
/home/f/.plenv/versions/5.34.0/lib/perl5/site_perl/5.34.0/x86_64-linux-thread-multi
/home/f/.plenv/versions/5.34.0/lib/perl5/site_perl/5.34.0
/home/f/.plenv/versions/5.34.0/lib/perl5/5.34.0/x86_64-linux-thread-multi
/home/f/.plenv/versions/5.34.0/lib/perl5/5.34.0