Report for XHTML-MediaWiki-0.11

Back
From: metabase:user:0d96120c-29e2-11e5-b049-ede3035d37de
Subject: PASS XHTML-MediaWiki-0.11 v5.22.0 GNU/Linux
Date: 2015-07-24T03:53:58Z

This distribution has been tested as part of the CPAN Testers
project, supporting the Perl programming language.  See
http://wiki.cpantesters.org/ for more information or email
questions to cpan-testers-discuss@perl.org


--
Dear G. Allen Morris III,

This is a computer-generated report for XHTML-MediaWiki-0.11
on perl 5.22.0, created by CPAN-Reporter-1.2014.

Thank you for uploading your work to CPAN.  Congratulations!
All tests were successful.

Sections of this report:

    * Tester comments
    * Program output
    * Prerequisites
    * Environment and other context

------------------------------
TESTER COMMENTS
------------------------------

Additional comments from tester:

this report is from an automated smoke testing program
and was not reviewed by a human for accuracy

------------------------------
PROGRAM OUTPUT
------------------------------

Output from './Build test':

Unescaped left brace in regex is deprecated, passed through in regex; marked by <-- HERE in m/{{ <-- HERE \s*([a-zA-Z0-9][a-z0-9|]*)\s*}}/ at /data/.cpan/build/XHTML-MediaWiki-0.11-GzsFwq/blib/lib/XHTML/MediaWiki.pm line 1052.
t/blending.t ...... ok
Unescaped left brace in regex is deprecated, passed through in regex; marked by <-- HERE in m/{{ <-- HERE \s*([a-zA-Z0-9][a-z0-9|]*)\s*}}/ at /data/.cpan/build/XHTML-MediaWiki-0.11-GzsFwq/blib/lib/XHTML/MediaWiki.pm line 1052.
t/cdata.t ......... ok
t/changes.t ....... skipped: Need Test::CheckChanges
Unescaped left brace in regex is deprecated, passed through in regex; marked by <-- HERE in m/{{ <-- HERE \s*([a-zA-Z0-9][a-z0-9|]*)\s*}}/ at /data/.cpan/build/XHTML-MediaWiki-0.11-GzsFwq/blib/lib/XHTML/MediaWiki.pm line 1052.
t/comment.t ....... ok
Unescaped left brace in regex is deprecated, passed through in regex; marked by <-- HERE in m/{{ <-- HERE \s*([a-zA-Z0-9][a-z0-9|]*)\s*}}/ at /data/.cpan/build/XHTML-MediaWiki-0.11-GzsFwq/blib/lib/XHTML/MediaWiki.pm line 1052.
t/div.t ........... ok
Unescaped left brace in regex is deprecated, passed through in regex; marked by <-- HERE in m/{{ <-- HERE \s*([a-zA-Z0-9][a-z0-9|]*)\s*}}/ at /data/.cpan/build/XHTML-MediaWiki-0.11-GzsFwq/blib/lib/XHTML/MediaWiki.pm line 1052.
t/footnotes.t ..... ok
Unescaped left brace in regex is deprecated, passed through in regex; marked by <-- HERE in m/{{ <-- HERE \s*([a-zA-Z0-9][a-z0-9|]*)\s*}}/ at /data/.cpan/build/XHTML-MediaWiki-0.11-GzsFwq/blib/lib/XHTML/MediaWiki.pm line 1052.
t/headers.t ....... ok
Unescaped left brace in regex is deprecated, passed through in regex; marked by <-- HERE in m/{{ <-- HERE \s*([a-zA-Z0-9][a-z0-9|]*)\s*}}/ at /data/.cpan/build/XHTML-MediaWiki-0.11-GzsFwq/blib/lib/XHTML/MediaWiki.pm line 1052.
t/html.t .......... ok
Unescaped left brace in regex is deprecated, passed through in regex; marked by <-- HERE in m/{{ <-- HERE \s*([a-zA-Z0-9][a-z0-9|]*)\s*}}/ at /data/.cpan/build/XHTML-MediaWiki-0.11-GzsFwq/blib/lib/XHTML/MediaWiki.pm line 1052.
t/line.t .......... ok
Unescaped left brace in regex is deprecated, passed through in regex; marked by <-- HERE in m/{{ <-- HERE \s*([a-zA-Z0-9][a-z0-9|]*)\s*}}/ at /data/.cpan/build/XHTML-MediaWiki-0.11-GzsFwq/blib/lib/XHTML/MediaWiki.pm line 1052.
t/links.t ......... ok
Unescaped left brace in regex is deprecated, passed through in regex; marked by <-- HERE in m/{{ <-- HERE \s*([a-zA-Z0-9][a-z0-9|]*)\s*}}/ at /data/.cpan/build/XHTML-MediaWiki-0.11-GzsFwq/blib/lib/XHTML/MediaWiki.pm line 1052.
Use of uninitialized value in repeat (x) at /data/.cpan/build/XHTML-MediaWiki-0.11-GzsFwq/blib/lib/XHTML/MediaWiki.pm line 204.
t/misc.t .......... ok
Unescaped left brace in regex is deprecated, passed through in regex; marked by <-- HERE in m/{{ <-- HERE \s*([a-zA-Z0-9][a-z0-9|]*)\s*}}/ at /data/.cpan/build/XHTML-MediaWiki-0.11-GzsFwq/blib/lib/XHTML/MediaWiki.pm line 1052.
t/nowiki.t ........ ok
Unescaped left brace in regex is deprecated, passed through in regex; marked by <-- HERE in m/{{ <-- HERE \s*([a-zA-Z0-9][a-z0-9|]*)\s*}}/ at /data/.cpan/build/XHTML-MediaWiki-0.11-GzsFwq/blib/lib/XHTML/MediaWiki.pm line 1052.
t/ordered.t ....... ok
Unescaped left brace in regex is deprecated, passed through in regex; marked by <-- HERE in m/{{ <-- HERE \s*([a-zA-Z0-9][a-z0-9|]*)\s*}}/ at /data/.cpan/build/XHTML-MediaWiki-0.11-GzsFwq/blib/lib/XHTML/MediaWiki.pm line 1052.
t/para_break.t .... ok
Unescaped left brace in regex is deprecated, passed through in regex; marked by <-- HERE in m/{{ <-- HERE \s*([a-zA-Z0-9][a-z0-9|]*)\s*}}/ at /data/.cpan/build/XHTML-MediaWiki-0.11-GzsFwq/blib/lib/XHTML/MediaWiki.pm line 1052.
t/paragraph.t ..... ok
t/pod.t ........... ok
t/pod_coverage.t .. ok
Unescaped left brace in regex is deprecated, passed through in regex; marked by <-- HERE in m/{{ <-- HERE \s*([a-zA-Z0-9][a-z0-9|]*)\s*}}/ at /data/.cpan/build/XHTML-MediaWiki-0.11-GzsFwq/blib/lib/XHTML/MediaWiki.pm line 1052.
t/pre.t ........... ok
Unescaped left brace in regex is deprecated, passed through in regex; marked by <-- HERE in m/{{ <-- HERE \s*([a-zA-Z0-9][a-z0-9|]*)\s*}}/ at /data/.cpan/build/XHTML-MediaWiki-0.11-GzsFwq/blib/lib/XHTML/MediaWiki.pm line 1052.
t/prewiki.t ....... ok
Unescaped left brace in regex is deprecated, passed through in regex; marked by <-- HERE in m/{{ <-- HERE \s*([a-zA-Z0-9][a-z0-9|]*)\s*}}/ at /data/.cpan/build/XHTML-MediaWiki-0.11-GzsFwq/blib/lib/XHTML/MediaWiki.pm line 1052.
t/template.t ...... ok
Unescaped left brace in regex is deprecated, passed through in regex; marked by <-- HERE in m/{{ <-- HERE \s*([a-zA-Z0-9][a-z0-9|]*)\s*}}/ at /data/.cpan/build/XHTML-MediaWiki-0.11-GzsFwq/blib/lib/XHTML/MediaWiki.pm line 1052.
t/test02.t ........ ok
Unescaped left brace in regex is deprecated, passed through in regex; marked by <-- HERE in m/{{ <-- HERE \s*([a-zA-Z0-9][a-z0-9|]*)\s*}}/ at /data/.cpan/build/XHTML-MediaWiki-0.11-GzsFwq/blib/lib/XHTML/MediaWiki.pm line 1052.
t/unordered.t ..... ok
All tests successful.
Files=22, Tests=48,  1 wallclock secs ( 0.05 usr  0.02 sys +  1.09 cusr  0.16 csys =  1.32 CPU)
Result: PASS

------------------------------
PREREQUISITES
------------------------------

Prerequisite modules loaded:

requires:

    Module           Need      Have    
    ---------------- --------- --------
    HTML::Parser     0         3.71    
    Params::Validate 0.85      1.20    
    perl             5.006_001 5.022000
    URI::Escape      0         3.31    

build_requires:

    Module           Need      Have    
    ---------------- --------- --------
    Test::XML        0         0.08    

configure_requires:

    Module           Need      Have    
    ---------------- --------- --------
    Module::Build    0.36      0.4214  


------------------------------
ENVIRONMENT AND OTHER CONTEXT
------------------------------

Environment variables:

    AUTOMATED_TESTING = 1
    LANG = en_US.UTF-8
    NONINTERACTIVE_TESTING = 1
    PATH = /home/perltest/sysperl/bin:/home/perltest/perl5/perlbrew/bin:/home/perltest/perl5/perlbrew/perls/perl-5.22.0/bin:/home/perltest/perltest/bin:/home/perltest/perl5/perlbrew/bin:/home/perltest/perl5/perlbrew/perls/perl-5.18.4-ld/bin:/usr/local/sbin:/usr/local/bin:/usr/sbin:/usr/bin:/sbin:/bin:/usr/games:/usr/local/games:/home/perltest/perltest/bin
    PERL5LIB = /home/perltest/.cpan/build/XML-SAX-Writer-0.56-pToJNK/blib/arch:/home/perltest/.cpan/build/XML-SAX-Writer-0.56-pToJNK/blib/lib:/home/perltest/.cpan/build/XML-Filter-BufferText-1.01-BKSuiW/blib/arch:/home/perltest/.cpan/build/XML-Filter-BufferText-1.01-BKSuiW/blib/lib:/home/perltest/.cpan/build/XML-SAX-0.99-KvB5wq/blib/arch:/home/perltest/.cpan/build/XML-SAX-0.99-KvB5wq/blib/lib:/home/perltest/.cpan/build/XML-NamespaceSupport-1.11-ePdYA5/blib/arch:/home/perltest/.cpan/build/XML-NamespaceSupport-1.11-ePdYA5/blib/lib:/home/perltest/.cpan/build/XML-SAX-Base-1.08-cRsKU8/blib/arch:/home/perltest/.cpan/build/XML-SAX-Base-1.08-cRsKU8/blib/lib:/home/perltest/.cpan/build/XML-Twig-3.49-JLHPcm/blib/arch:/home/perltest/.cpan/build/XML-Twig-3.49-JLHPcm/blib/lib:/home/perltest/.cpan/build/XML-XPath-1.13-jyU2rO/blib/arch:/home/perltest/.cpan/build/XML-XPath-1.13-jyU2rO/blib/lib:/home/perltest/.cpan/build/Test-XML-0.08-mNWRvn/blib/arch:/home/perltest/.cpan/build/Test-XML-0.08-mNWRvn/blib/lib:/home/perltest/.cpan/build/XML-SemanticDiff-1.0004-Epk6Fr/blib/arch:/home/perltest/.cpan/build/XML-SemanticDiff-1.0004-Epk6Fr/blib/lib:/home/perltest/.cpan/build/XML-Parser-2.44-jLnYSg/blib/arch:/home/perltest/.cpan/build/XML-Parser-2.44-jLnYSg/blib/lib:/home/perltest/sysperl/lib/perl5
    PERL5OPT = 
    PERL5_CPANPLUS_IS_RUNNING = 23010
    PERL5_CPAN_IS_RUNNING = 23010
    PERL5_CPAN_IS_RUNNING_IN_RECURSION = 2027,23010
    PERLBREW_BASHRC_VERSION = 0.73
    PERLBREW_HOME = /home/perltest/.perlbrew
    PERLBREW_LIB = 
    PERLBREW_MANPATH = /home/perltest/perl5/perlbrew/perls/perl-5.22.0/man
    PERLBREW_PATH = /home/perltest/perl5/perlbrew/bin:/home/perltest/perl5/perlbrew/perls/perl-5.22.0/bin
    PERLBREW_PERL = perl-5.22.0
    PERLBREW_ROOT = /home/perltest/perl5/perlbrew
    PERLBREW_VERSION = 0.73
    PERL_CR_SMOKER_CURRENT = Wiki-Toolkit-Formatter-XHTMLMediaWiki-0.04
    PERL_EXTUTILS_AUTOINSTALL = --defaultdeps
    PERL_LOCAL_LIB_ROOT = /home/perltest/sysperl:
    PERL_MB_OPT = --install_base "//home/perltest/sysperl"
    PERL_MM_OPT = INSTALL_BASE=/home/perltest/sysperl
    PERL_MM_USE_DEFAULT = 1
    SHELL = /bin/bash
    TERM = screen

Perl special variables (and OS-specific diagnostics, for MSWin32):

    $^X = /data/perl5/perlbrew/perls/perl-5.22.0/bin/perl
    $UID/$EUID = 2000 / 2000
    $GID = 2000 2000
    $EGID = 2000 2000

Perl module toolchain versions installed:

    Module              Have    
    ------------------- --------
    CPAN                2.11    
    CPAN::Meta          2.150001
    Cwd                 3.56    
    ExtUtils::CBuilder  0.280221
    ExtUtils::Command   1.20    
    ExtUtils::Install   2.04    
    ExtUtils::MakeMaker 7.04_01 
    ExtUtils::Manifest  1.70    
    ExtUtils::ParseXS   3.28    
    File::Spec          3.56    
    JSON                2.90    
    JSON::PP            2.27300 
    Module::Build       0.4214  
    Module::Signature   n/a     
    Parse::CPAN::Meta   1.4414  
    Test::Harness       3.35    
    Test::More          1.001014
    YAML                1.15    
    YAML::Syck          n/a     
    version             0.9909  


--

Summary of my perl5 (revision 5 version 22 subversion 0) configuration:
   
  Platform:
    osname=linux, osvers=3.19.0-18-generic, archname=x86_64-linux
    uname='linux perltest.antelope.net 3.19.0-18-generic #18-ubuntu smp tue may 19 18:31:35 utc 2015 x86_64 x86_64 x86_64 gnulinux '
    config_args='-de -Dprefix=/home/perltest/perl5/perlbrew/perls/perl-5.22.0 -Aeval:scriptdir=/home/perltest/perl5/perlbrew/perls/perl-5.22.0/bin'
    hint=recommended, useposix=true, d_sigaction=define
    useithreads=undef, usemultiplicity=undef
    use64bitint=define, use64bitall=define, uselongdouble=undef
    usemymalloc=n, bincompat5005=undef
  Compiler:
    cc='cc', ccflags ='-fwrapv -fno-strict-aliasing -pipe -fstack-protector-strong -I/usr/local/include -D_LARGEFILE_SOURCE -D_FILE_OFFSET_BITS=64',
    optimize='-O2',
    cppflags='-fwrapv -fno-strict-aliasing -pipe -fstack-protector-strong -I/usr/local/include'
    ccversion='', gccversion='4.9.2', gccosandvers=''
    intsize=4, longsize=8, ptrsize=8, doublesize=8, byteorder=12345678, doublekind=3
    d_longlong=define, longlongsize=8, d_longdbl=define, longdblsize=16, longdblkind=3
    ivtype='long', ivsize=8, nvtype='double', nvsize=8, Off_t='off_t', lseeksize=8
    alignbytes=8, prototype=define
  Linker and Libraries:
    ld='cc', ldflags =' -fstack-protector-strong -L/usr/local/lib'
    libpth=/usr/local/lib /usr/lib/gcc/x86_64-linux-gnu/4.9/include-fixed /usr/include/x86_64-linux-gnu /usr/lib /lib/x86_64-linux-gnu /lib/../lib /usr/lib/x86_64-linux-gnu /usr/lib/../lib /lib
    libs=-lpthread -lnsl -ldb -ldl -lm -lcrypt -lutil -lc
    perllibs=-lpthread -lnsl -ldl -lm -lcrypt -lutil -lc
    libc=libc-2.21.so, so=so, useshrplib=false, libperl=libperl.a
    gnulibc_version='2.21'
  Dynamic Linking:
    dlsrc=dl_dlopen.xs, dlext=so, d_dlsymun=undef, ccdlflags='-Wl,-E'
    cccdlflags='-fPIC', lddlflags='-shared -O2 -L/usr/local/lib -fstack-protector-strong'


Characteristics of this binary (from libperl): 
  Compile-time options: HAS_TIMES PERLIO_LAYERS PERL_DONT_CREATE_GVSV
                        PERL_HASH_FUNC_ONE_AT_A_TIME_HARD PERL_MALLOC_WRAP
                        PERL_NEW_COPY_ON_WRITE PERL_PRESERVE_IVUV
                        USE_64_BIT_ALL USE_64_BIT_INT USE_LARGE_FILES
                        USE_LOCALE USE_LOCALE_COLLATE USE_LOCALE_CTYPE
                        USE_LOCALE_NUMERIC USE_LOCALE_TIME USE_PERLIO
                        USE_PERL_ATOF
  Locally applied patches:
	Devel::PatchPerl 1.38
  Built under linux
  Compiled at Jul 15 2015 23:22:15
  %ENV:
    PERL5LIB="/home/perltest/.cpan/build/XML-SAX-Writer-0.56-pToJNK/blib/arch:/home/perltest/.cpan/build/XML-SAX-Writer-0.56-pToJNK/blib/lib:/home/perltest/.cpan/build/XML-Filter-BufferText-1.01-BKSuiW/blib/arch:/home/perltest/.cpan/build/XML-Filter-BufferText-1.01-BKSuiW/blib/lib:/home/perltest/.cpan/build/XML-SAX-0.99-KvB5wq/blib/arch:/home/perltest/.cpan/build/XML-SAX-0.99-KvB5wq/blib/lib:/home/perltest/.cpan/build/XML-NamespaceSupport-1.11-ePdYA5/blib/arch:/home/perltest/.cpan/build/XML-NamespaceSupport-1.11-ePdYA5/blib/lib:/home/perltest/.cpan/build/XML-SAX-Base-1.08-cRsKU8/blib/arch:/home/perltest/.cpan/build/XML-SAX-Base-1.08-cRsKU8/blib/lib:/home/perltest/.cpan/build/XML-Twig-3.49-JLHPcm/blib/arch:/home/perltest/.cpan/build/XML-Twig-3.49-JLHPcm/blib/lib:/home/perltest/.cpan/build/XML-XPath-1.13-jyU2rO/blib/arch:/home/perltest/.cpan/build/XML-XPath-1.13-jyU2rO/blib/lib:/home/perltest/.cpan/build/Test-XML-0.08-mNWRvn/blib/arch:/home/perltest/.cpan/build/Test-XML-0.08-mNWRvn/blib/lib:/home/perltest/.cpan/build/XML-SemanticDiff-1.0004-Epk6Fr/blib/arch:/home/perltest/.cpan/build/XML-SemanticDiff-1.0004-Epk6Fr/blib/lib:/home/perltest/.cpan/build/XML-Parser-2.44-jLnYSg/blib/arch:/home/perltest/.cpan/build/XML-Parser-2.44-jLnYSg/blib/lib:/home/perltest/sysperl/lib/perl5"
    PERL5OPT=""
    PERL5_CPANPLUS_IS_RUNNING="23010"
    PERL5_CPAN_IS_RUNNING="23010"
    PERL5_CPAN_IS_RUNNING_IN_RECURSION="2027,23010"
    PERLBREW_BASHRC_VERSION="0.73"
    PERLBREW_HOME="/home/perltest/.perlbrew"
    PERLBREW_LIB=""
    PERLBREW_MANPATH="/home/perltest/perl5/perlbrew/perls/perl-5.22.0/man"
    PERLBREW_PATH="/home/perltest/perl5/perlbrew/bin:/home/perltest/perl5/perlbrew/perls/perl-5.22.0/bin"
    PERLBREW_PERL="perl-5.22.0"
    PERLBREW_ROOT="/home/perltest/perl5/perlbrew"
    PERLBREW_VERSION="0.73"
    PERL_CR_SMOKER_CURRENT="Wiki-Toolkit-Formatter-XHTMLMediaWiki-0.04"
    PERL_EXTUTILS_AUTOINSTALL="--defaultdeps"
    PERL_LOCAL_LIB_ROOT="/home/perltest/sysperl:"
    PERL_MB_OPT="--install_base "//home/perltest/sysperl""
    PERL_MM_OPT="INSTALL_BASE=/home/perltest/sysperl"
    PERL_MM_USE_DEFAULT="1"
  @INC:
    /home/perltest/.cpan/build/XML-SAX-Writer-0.56-pToJNK/blib/arch
    /home/perltest/.cpan/build/XML-SAX-Writer-0.56-pToJNK/blib/lib
    /home/perltest/.cpan/build/XML-Filter-BufferText-1.01-BKSuiW/blib/arch
    /home/perltest/.cpan/build/XML-Filter-BufferText-1.01-BKSuiW/blib/lib
    /home/perltest/.cpan/build/XML-SAX-0.99-KvB5wq/blib/arch
    /home/perltest/.cpan/build/XML-SAX-0.99-KvB5wq/blib/lib
    /home/perltest/.cpan/build/XML-NamespaceSupport-1.11-ePdYA5/blib/arch
    /home/perltest/.cpan/build/XML-NamespaceSupport-1.11-ePdYA5/blib/lib
    /home/perltest/.cpan/build/XML-SAX-Base-1.08-cRsKU8/blib/arch
    /home/perltest/.cpan/build/XML-SAX-Base-1.08-cRsKU8/blib/lib
    /home/perltest/.cpan/build/XML-Twig-3.49-JLHPcm/blib/arch
    /home/perltest/.cpan/build/XML-Twig-3.49-JLHPcm/blib/lib
    /home/perltest/.cpan/build/XML-XPath-1.13-jyU2rO/blib/arch
    /home/perltest/.cpan/build/XML-XPath-1.13-jyU2rO/blib/lib
    /home/perltest/.cpan/build/Test-XML-0.08-mNWRvn/blib/arch
    /home/perltest/.cpan/build/Test-XML-0.08-mNWRvn/blib/lib
    /home/perltest/.cpan/build/XML-SemanticDiff-1.0004-Epk6Fr/blib/arch
    /home/perltest/.cpan/build/XML-SemanticDiff-1.0004-Epk6Fr/blib/lib
    /home/perltest/.cpan/build/XML-Parser-2.44-jLnYSg/blib/arch
    /home/perltest/.cpan/build/XML-Parser-2.44-jLnYSg/blib/lib
    /home/perltest/sysperl/lib/perl5/x86_64-linux
    /home/perltest/sysperl/lib/perl5
    /home/perltest/perl5/perlbrew/perls/perl-5.22.0/lib/site_perl/5.22.0/x86_64-linux
    /home/perltest/perl5/perlbrew/perls/perl-5.22.0/lib/site_perl/5.22.0
    /home/perltest/perl5/perlbrew/perls/perl-5.22.0/lib/5.22.0/x86_64-linux
    /home/perltest/perl5/perlbrew/perls/perl-5.22.0/lib/5.22.0
    .