Data-Pipeline v0.02 Perl 5 v5.27.4 x86_64-linux

Status
Pass
From
Slaven Rezić (SREZIC)
Dist
Data-Pipeline v0.02
Platform
Perl 5 v5.27.4 x86_64-linux
Date
2017-09-26 16:06:10
ID
9ca0ade6-a2d4-11e7-9be8-edbc44a25f6e
This distribution has been tested as part of the CPAN Testers
project, supporting the Perl programming language.  See
http://wiki.cpantesters.org/ for more information or email
questions to cpan-testers-discuss@perl.org


--
Dear James G Smith,

This is a computer-generated report for Data-Pipeline-0.02
on perl 5.27.4, created by CPAN-Reporter-1.2018.

Thank you for uploading your work to CPAN.  Congratulations!
All tests were successful.

Sections of this report:

    * Tester comments
    * Program output
    * Prerequisites
    * Environment and other context

------------------------------
TESTER COMMENTS
------------------------------

Additional comments from tester:

none provided

------------------------------
PROGRAM OUTPUT
------------------------------

Output from '/usr/bin/make test':

Skip blib/lib/Data/Pipeline/Iterator/Output.pm (unchanged)
Skip blib/lib/Data/Pipeline/Aggregator/Union.pm (unchanged)
Skip blib/lib/Data/Pipeline/Action.pm (unchanged)
Skip blib/lib/Data/Pipeline/Adapter/StringBuilder.pm (unchanged)
Skip blib/lib/Data/Pipeline/Aggregator.pm (unchanged)
Skip blib/lib/Data/Pipeline/Action/Filter.pm (unchanged)
Skip blib/lib/Data/Pipeline/Machine.pm (unchanged)
Skip blib/lib/Data/Pipeline/Action/Identity.pm (unchanged)
Skip blib/lib/Data/Pipeline/Adapter/RSS.pm (unchanged)
Skip blib/lib/Data/Pipeline/Action/Regex.pm (unchanged)
Skip blib/lib/Data/Pipeline/Action/Unique.pm (unchanged)
Skip blib/lib/Data/Pipeline/Iterator/Options.pm (unchanged)
Skip blib/lib/Data/Pipeline/Action/ForEach.pm (unchanged)
Skip blib/lib/Data/Pipeline/Iterator.pm (unchanged)
Skip blib/lib/Data/Pipeline/Adapter/UrlBuilder.pm (unchanged)
Skip blib/lib/Data/Pipeline/Aggregator/Pipeline.pm (unchanged)
Skip blib/lib/Data/Pipeline/Adapter/CSV.pm (unchanged)
Skip blib/lib/Data/Pipeline/Action/StringReplace.pm (unchanged)
Skip blib/lib/Data/Pipeline/Adapter.pm (unchanged)
Skip blib/lib/Data/Pipeline/Action/ExcludeFields.pm (unchanged)
Skip blib/lib/Data/Pipeline/Adapter/SPARQL.pm (unchanged)
Skip blib/lib/Data/Pipeline/Action/Tail.pm (unchanged)
Skip blib/lib/Data/Pipeline/Iterator/Source.pm (unchanged)
Skip blib/lib/Data/Pipeline/Adapter/Array.pm (unchanged)
Skip blib/lib/Data/Pipeline/Adapter/JSON.pm (unchanged)
Skip blib/lib/Data/Pipeline/Adapter/FetchPage.pm (unchanged)
Skip blib/lib/Data/Pipeline/Action/Rename.pm (unchanged)
Skip blib/lib/Data/Pipeline.pm (unchanged)
Skip blib/lib/Data/Pipeline/Action/Count.pm (unchanged)
Skip blib/lib/Data/Pipeline/Action/Truncate.pm (unchanged)
Skip blib/lib/Data/Pipeline/Iterator/ArrayOptions.pm (unchanged)
Skip blib/lib/Data/Pipeline/Aggregator/Machine.pm (unchanged)
cp lib/Data/Pipeline/Parser.pm blib/lib/Data/Pipeline/Parser.pm
Skip blib/lib/Data/Pipeline/Types.pm (unchanged)
Skip blib/lib/Data/Pipeline/Machine/Surrogate.pm (unchanged)
"/bbbike/perl-5.27.4/bin/perl5.27.4" "-Iinc" "-Iblib/arch" "-Iinc" "-Iblib/lib" parser.PL parser
143 shift/reduce conflicts and 259 reduce/reduce conflicts
PERL_DL_NONLAZY=1 "/bbbike/perl-5.27.4/bin/perl5.27.4" "-MExtUtils::Command::MM" "-MTest::Harness" "-e" "undef *Test::Harness::Switches; test_harness(0, 'inc', 'blib/lib', 'blib/arch')" t/*.t
Class::MOP::load_class is deprecated at /opt/perl-5.27.4/lib/site_perl/5.27.4/x86_64-linux/Class/MOP.pm line 69.
	Class::MOP::load_class("Data::Pipeline::Aggregator::Machine") called at /tmpfs/.cpan-build-cpansand/2017092615/Data-Pipeline-0.02-0/blib/lib/Data/Pipeline/Machine.pm line 20
	Data::Pipeline::Machine::BEGIN() called at /tmpfs/.cpan-build-cpansand/2017092615/Data-Pipeline-0.02-0/blib/lib/Data/Pipeline/Machine.pm line 22
	eval {...} called at /tmpfs/.cpan-build-cpansand/2017092615/Data-Pipeline-0.02-0/blib/lib/Data/Pipeline/Machine.pm line 22
	require Data/Pipeline/Machine.pm called at /tmpfs/.cpan-build-cpansand/2017092615/Data-Pipeline-0.02-0/blib/lib/Data/Pipeline/Aggregator/Machine.pm line 6
	Data::Pipeline::Aggregator::Machine::BEGIN() called at /tmpfs/.cpan-build-cpansand/2017092615/Data-Pipeline-0.02-0/blib/lib/Data/Pipeline/Machine.pm line 22
	eval {...} called at /tmpfs/.cpan-build-cpansand/2017092615/Data-Pipeline-0.02-0/blib/lib/Data/Pipeline/Machine.pm line 22
	require Data/Pipeline/Aggregator/Machine.pm called at /tmpfs/.cpan-build-cpansand/2017092615/Data-Pipeline-0.02-0/blib/lib/Data/Pipeline/Adapter.pm line 9
	Data::Pipeline::Adapter::BEGIN() called at /tmpfs/.cpan-build-cpansand/2017092615/Data-Pipeline-0.02-0/blib/lib/Data/Pipeline/Machine.pm line 22
	eval {...} called at /tmpfs/.cpan-build-cpansand/2017092615/Data-Pipeline-0.02-0/blib/lib/Data/Pipeline/Machine.pm line 22
	require Data/Pipeline/Adapter.pm called at t/00-compile.t line 16
	main::BEGIN() called at /tmpfs/.cpan-build-cpansand/2017092615/Data-Pipeline-0.02-0/blib/lib/Data/Pipeline/Machine.pm line 22
	eval {...} called at /tmpfs/.cpan-build-cpansand/2017092615/Data-Pipeline-0.02-0/blib/lib/Data/Pipeline/Machine.pm line 22
	eval 'package main;
BEGIN { ${^WARNING_BITS} = $args[-1] if defined $args[-1] }
#line 16 t/00-compile.t
use Data::Pipeline::Adapter @{$args[0]};
1;
' called at /opt/perl-5.27.4/lib/site_perl/5.27.4/Test/More.pm line 1031
	Test::More::_eval("package main;\x{a}BEGIN { \${^WARNING_BITS} = \$args[-1] if defined"..., ARRAY(0x25f9b78), undef) called at /opt/perl-5.27.4/lib/site_perl/5.27.4/Test/More.pm line 1007
	Test::More::use_ok("Data::Pipeline::Adapter") called at t/00-compile.t line 16
	main::BEGIN() called at /tmpfs/.cpan-build-cpansand/2017092615/Data-Pipeline-0.02-0/blib/lib/Data/Pipeline/Machine.pm line 22
	eval {...} called at /tmpfs/.cpan-build-cpansand/2017092615/Data-Pipeline-0.02-0/blib/lib/Data/Pipeline/Machine.pm line 22
t/00-compile.t ......... ok
t/01-iteratorsource.t .. ok
t/02-iterator.t ........ ok
Class::MOP::load_class is deprecated at /opt/perl-5.27.4/lib/site_perl/5.27.4/x86_64-linux/Class/MOP.pm line 69.
	Class::MOP::load_class("Data::Pipeline::Aggregator::Machine") called at /tmpfs/.cpan-build-cpansand/2017092615/Data-Pipeline-0.02-0/blib/lib/Data/Pipeline/Machine.pm line 20
	Data::Pipeline::Machine::BEGIN() called at /tmpfs/.cpan-build-cpansand/2017092615/Data-Pipeline-0.02-0/blib/lib/Data/Pipeline/Machine.pm line 22
	eval {...} called at /tmpfs/.cpan-build-cpansand/2017092615/Data-Pipeline-0.02-0/blib/lib/Data/Pipeline/Machine.pm line 22
	require Data/Pipeline/Machine.pm called at /tmpfs/.cpan-build-cpansand/2017092615/Data-Pipeline-0.02-0/blib/lib/Data/Pipeline/Aggregator/Machine.pm line 6
	Data::Pipeline::Aggregator::Machine::BEGIN() called at /tmpfs/.cpan-build-cpansand/2017092615/Data-Pipeline-0.02-0/blib/lib/Data/Pipeline/Machine.pm line 22
	eval {...} called at /tmpfs/.cpan-build-cpansand/2017092615/Data-Pipeline-0.02-0/blib/lib/Data/Pipeline/Machine.pm line 22
	require Data/Pipeline/Aggregator/Machine.pm called at /tmpfs/.cpan-build-cpansand/2017092615/Data-Pipeline-0.02-0/blib/lib/Data/Pipeline/Adapter.pm line 9
	Data::Pipeline::Adapter::BEGIN() called at /tmpfs/.cpan-build-cpansand/2017092615/Data-Pipeline-0.02-0/blib/lib/Data/Pipeline/Machine.pm line 22
	eval {...} called at /tmpfs/.cpan-build-cpansand/2017092615/Data-Pipeline-0.02-0/blib/lib/Data/Pipeline/Machine.pm line 22
	require Data/Pipeline/Adapter.pm called at /opt/perl-5.27.4/lib/site_perl/5.27.4/Module/Runtime.pm line 317
	Module::Runtime::require_module("Data::Pipeline::Adapter") called at /opt/perl-5.27.4/lib/site_perl/5.27.4/Module/Runtime.pm line 394
	eval {...} called at /opt/perl-5.27.4/lib/site_perl/5.27.4/Module/Runtime.pm line 394
	Module::Runtime::use_package_optimistically("Data::Pipeline::Adapter") called at /opt/perl-5.27.4/lib/site_perl/5.27.4/x86_64-linux/Moose/Util.pm line 352
	Moose::Util::_load_user_class("Data::Pipeline::Adapter", undef) called at /opt/perl-5.27.4/lib/site_perl/5.27.4/x86_64-linux/Moose/Meta/Class.pm line 569
	Moose::Meta::Class::superclasses(undef, "Data::Pipeline::Adapter") called at /opt/perl-5.27.4/lib/site_perl/5.27.4/x86_64-linux/Moose.pm line 53
	Moose::extends(Moose::Meta::Class=HASH(0x316a9b8), "Data::Pipeline::Adapter") called at /opt/perl-5.27.4/lib/site_perl/5.27.4/x86_64-linux/Moose/Exporter.pm line 419
	Moose::extends("Data::Pipeline::Adapter") called at /tmpfs/.cpan-build-cpansand/2017092615/Data-Pipeline-0.02-0/blib/lib/Data/Pipeline/Adapter/Array.pm line 4
	require Data/Pipeline/Adapter/Array.pm called at t/03-arraysource.t line 3
	main::BEGIN() called at /tmpfs/.cpan-build-cpansand/2017092615/Data-Pipeline-0.02-0/blib/lib/Data/Pipeline/Machine.pm line 22
	eval {...} called at /tmpfs/.cpan-build-cpansand/2017092615/Data-Pipeline-0.02-0/blib/lib/Data/Pipeline/Machine.pm line 22
Class::MOP::load_class is deprecated at /opt/perl-5.27.4/lib/site_perl/5.27.4/x86_64-linux/Class/MOP.pm line 69.
	Class::MOP::load_class("Data::Pipeline::Iterator") called at /tmpfs/.cpan-build-cpansand/2017092615/Data-Pipeline-0.02-0/blib/lib/Data/Pipeline/Types.pm line 123
	Data::Pipeline::Types::__ANON__(Data::Pipeline::Iterator::Source=HASH(0x344d6d0)) called at /opt/perl-5.27.4/lib/site_perl/5.27.4/x86_64-linux/Moose/Meta/TypeCoercion.pm line 65
	Moose::Meta::TypeCoercion::__ANON__(Data::Pipeline::Iterator::Source=HASH(0x344d6d0)) called at /opt/perl-5.27.4/lib/site_perl/5.27.4/x86_64-linux/Moose/Meta/TypeCoercion.pm line 100
	Moose::Meta::TypeCoercion::coerce(Moose::Meta::TypeCoercion=HASH(0x31de2c0), Data::Pipeline::Iterator::Source=HASH(0x344d6d0)) called at /opt/perl-5.27.4/lib/site_perl/5.27.4/x86_64-linux/Moose/Meta/TypeConstraint.pm line 145
	Moose::Meta::TypeConstraint::coerce(Moose::Meta::TypeConstraint=HASH(0x32a9330), Data::Pipeline::Iterator::Source=HASH(0x344d6d0)) called at /opt/perl-5.27.4/lib/site_perl/5.27.4/MooseX/Types.pm line 494
	MooseX::Types::__ANON__(Data::Pipeline::Iterator::Source=HASH(0x344d6d0)) called at t/03-arraysource.t line 17
t/03-arraysource.t ..... ok
Class::MOP::load_class is deprecated at /opt/perl-5.27.4/lib/site_perl/5.27.4/x86_64-linux/Class/MOP.pm line 69.
	Class::MOP::load_class("Data::Pipeline::Aggregator::Machine") called at /tmpfs/.cpan-build-cpansand/2017092615/Data-Pipeline-0.02-0/blib/lib/Data/Pipeline/Machine.pm line 20
	Data::Pipeline::Machine::BEGIN() called at /tmpfs/.cpan-build-cpansand/2017092615/Data-Pipeline-0.02-0/blib/lib/Data/Pipeline/Machine.pm line 22
	eval {...} called at /tmpfs/.cpan-build-cpansand/2017092615/Data-Pipeline-0.02-0/blib/lib/Data/Pipeline/Machine.pm line 22
	require Data/Pipeline/Machine.pm called at /tmpfs/.cpan-build-cpansand/2017092615/Data-Pipeline-0.02-0/blib/lib/Data/Pipeline/Aggregator/Machine.pm line 6
	Data::Pipeline::Aggregator::Machine::BEGIN() called at /tmpfs/.cpan-build-cpansand/2017092615/Data-Pipeline-0.02-0/blib/lib/Data/Pipeline/Machine.pm line 22
	eval {...} called at /tmpfs/.cpan-build-cpansand/2017092615/Data-Pipeline-0.02-0/blib/lib/Data/Pipeline/Machine.pm line 22
	require Data/Pipeline/Aggregator/Machine.pm called at /tmpfs/.cpan-build-cpansand/2017092615/Data-Pipeline-0.02-0/blib/lib/Data/Pipeline/Adapter.pm line 9
	Data::Pipeline::Adapter::BEGIN() called at /tmpfs/.cpan-build-cpansand/2017092615/Data-Pipeline-0.02-0/blib/lib/Data/Pipeline/Machine.pm line 22
	eval {...} called at /tmpfs/.cpan-build-cpansand/2017092615/Data-Pipeline-0.02-0/blib/lib/Data/Pipeline/Machine.pm line 22
	require Data/Pipeline/Adapter.pm called at /opt/perl-5.27.4/lib/site_perl/5.27.4/Module/Runtime.pm line 317
	Module::Runtime::require_module("Data::Pipeline::Adapter") called at /opt/perl-5.27.4/lib/site_perl/5.27.4/Module/Runtime.pm line 394
	eval {...} called at /opt/perl-5.27.4/lib/site_perl/5.27.4/Module/Runtime.pm line 394
	Module::Runtime::use_package_optimistically("Data::Pipeline::Adapter") called at /opt/perl-5.27.4/lib/site_perl/5.27.4/x86_64-linux/Moose/Util.pm line 352
	Moose::Util::_load_user_class("Data::Pipeline::Adapter", undef) called at /opt/perl-5.27.4/lib/site_perl/5.27.4/x86_64-linux/Moose/Meta/Class.pm line 569
	Moose::Meta::Class::superclasses(undef, "Data::Pipeline::Adapter") called at /opt/perl-5.27.4/lib/site_perl/5.27.4/x86_64-linux/Moose.pm line 53
	Moose::extends(Moose::Meta::Class=HASH(0x2e88518), "Data::Pipeline::Adapter") called at /opt/perl-5.27.4/lib/site_perl/5.27.4/x86_64-linux/Moose/Exporter.pm line 419
	Moose::extends("Data::Pipeline::Adapter") called at /tmpfs/.cpan-build-cpansand/2017092615/Data-Pipeline-0.02-0/blib/lib/Data/Pipeline/Adapter/Array.pm line 4
	require Data/Pipeline/Adapter/Array.pm called at t/04-count.t line 4
	main::BEGIN() called at /tmpfs/.cpan-build-cpansand/2017092615/Data-Pipeline-0.02-0/blib/lib/Data/Pipeline/Machine.pm line 22
	eval {...} called at /tmpfs/.cpan-build-cpansand/2017092615/Data-Pipeline-0.02-0/blib/lib/Data/Pipeline/Machine.pm line 22
t/04-count.t ........... ok
Class::MOP::load_class is deprecated at /opt/perl-5.27.4/lib/site_perl/5.27.4/x86_64-linux/Class/MOP.pm line 69.
	Class::MOP::load_class("Data::Pipeline::Aggregator::Machine") called at /tmpfs/.cpan-build-cpansand/2017092615/Data-Pipeline-0.02-0/blib/lib/Data/Pipeline/Machine.pm line 20
	Data::Pipeline::Machine::BEGIN() called at /tmpfs/.cpan-build-cpansand/2017092615/Data-Pipeline-0.02-0/blib/lib/Data/Pipeline/Machine.pm line 22
	eval {...} called at /tmpfs/.cpan-build-cpansand/2017092615/Data-Pipeline-0.02-0/blib/lib/Data/Pipeline/Machine.pm line 22
	require Data/Pipeline/Machine.pm called at /tmpfs/.cpan-build-cpansand/2017092615/Data-Pipeline-0.02-0/blib/lib/Data/Pipeline/Aggregator/Machine.pm line 6
	Data::Pipeline::Aggregator::Machine::BEGIN() called at /tmpfs/.cpan-build-cpansand/2017092615/Data-Pipeline-0.02-0/blib/lib/Data/Pipeline/Machine.pm line 22
	eval {...} called at /tmpfs/.cpan-build-cpansand/2017092615/Data-Pipeline-0.02-0/blib/lib/Data/Pipeline/Machine.pm line 22
	require Data/Pipeline/Aggregator/Machine.pm called at /tmpfs/.cpan-build-cpansand/2017092615/Data-Pipeline-0.02-0/blib/lib/Data/Pipeline/Adapter.pm line 9
	Data::Pipeline::Adapter::BEGIN() called at /tmpfs/.cpan-build-cpansand/2017092615/Data-Pipeline-0.02-0/blib/lib/Data/Pipeline/Machine.pm line 22
	eval {...} called at /tmpfs/.cpan-build-cpansand/2017092615/Data-Pipeline-0.02-0/blib/lib/Data/Pipeline/Machine.pm line 22
	require Data/Pipeline/Adapter.pm called at /opt/perl-5.27.4/lib/site_perl/5.27.4/Module/Runtime.pm line 317
	Module::Runtime::require_module("Data::Pipeline::Adapter") called at /opt/perl-5.27.4/lib/site_perl/5.27.4/Module/Runtime.pm line 394
	eval {...} called at /opt/perl-5.27.4/lib/site_perl/5.27.4/Module/Runtime.pm line 394
	Module::Runtime::use_package_optimistically("Data::Pipeline::Adapter") called at /opt/perl-5.27.4/lib/site_perl/5.27.4/x86_64-linux/Moose/Util.pm line 352
	Moose::Util::_load_user_class("Data::Pipeline::Adapter", undef) called at /opt/perl-5.27.4/lib/site_perl/5.27.4/x86_64-linux/Moose/Meta/Class.pm line 569
	Moose::Meta::Class::superclasses(undef, "Data::Pipeline::Adapter") called at /opt/perl-5.27.4/lib/site_perl/5.27.4/x86_64-linux/Moose.pm line 53
	Moose::extends(Moose::Meta::Class=HASH(0x3ab3ec8), "Data::Pipeline::Adapter") called at /opt/perl-5.27.4/lib/site_perl/5.27.4/x86_64-linux/Moose/Exporter.pm line 419
	Moose::extends("Data::Pipeline::Adapter") called at /tmpfs/.cpan-build-cpansand/2017092615/Data-Pipeline-0.02-0/blib/lib/Data/Pipeline/Adapter/Array.pm line 4
	require Data/Pipeline/Adapter/Array.pm called at t/05-truncate.t line 4
	main::BEGIN() called at /tmpfs/.cpan-build-cpansand/2017092615/Data-Pipeline-0.02-0/blib/lib/Data/Pipeline/Machine.pm line 22
	eval {...} called at /tmpfs/.cpan-build-cpansand/2017092615/Data-Pipeline-0.02-0/blib/lib/Data/Pipeline/Machine.pm line 22
t/05-truncate.t ........ ok
Class::MOP::load_class is deprecated at /opt/perl-5.27.4/lib/site_perl/5.27.4/x86_64-linux/Class/MOP.pm line 69.
	Class::MOP::load_class("Data::Pipeline::Aggregator::Pipeline") called at /tmpfs/.cpan-build-cpansand/2017092615/Data-Pipeline-0.02-0/blib/lib/Data/Pipeline.pm line 70
	eval {...} called at /tmpfs/.cpan-build-cpansand/2017092615/Data-Pipeline-0.02-0/blib/lib/Data/Pipeline.pm line 70
	Data::Pipeline::_find_class("Pipeline") called at /tmpfs/.cpan-build-cpansand/2017092615/Data-Pipeline-0.02-0/blib/lib/Data/Pipeline.pm line 23
	Data::Pipeline::import("Data::Pipeline", "Pipeline", "Truncate", "Count", "Array") called at t/06-pipeline.t line 4
	main::BEGIN() called at t/06-pipeline.t line 4
	eval {...} called at t/06-pipeline.t line 4
Class::MOP::load_class is deprecated at /opt/perl-5.27.4/lib/site_perl/5.27.4/x86_64-linux/Class/MOP.pm line 69.
	Class::MOP::load_class("Data::Pipeline::Aggregator::Machine") called at /tmpfs/.cpan-build-cpansand/2017092615/Data-Pipeline-0.02-0/blib/lib/Data/Pipeline/Machine.pm line 20
	Data::Pipeline::Machine::BEGIN() called at /tmpfs/.cpan-build-cpansand/2017092615/Data-Pipeline-0.02-0/blib/lib/Data/Pipeline/Machine.pm line 22
	eval {...} called at /tmpfs/.cpan-build-cpansand/2017092615/Data-Pipeline-0.02-0/blib/lib/Data/Pipeline/Machine.pm line 22
	require Data/Pipeline/Machine.pm called at /tmpfs/.cpan-build-cpansand/2017092615/Data-Pipeline-0.02-0/blib/lib/Data/Pipeline/Aggregator/Pipeline.pm line 10
	Data::Pipeline::Aggregator::Pipeline::BEGIN() called at /tmpfs/.cpan-build-cpansand/2017092615/Data-Pipeline-0.02-0/blib/lib/Data/Pipeline/Machine.pm line 22
	eval {...} called at /tmpfs/.cpan-build-cpansand/2017092615/Data-Pipeline-0.02-0/blib/lib/Data/Pipeline/Machine.pm line 22
	require Data/Pipeline/Aggregator/Pipeline.pm called at /opt/perl-5.27.4/lib/site_perl/5.27.4/Module/Runtime.pm line 317
	Module::Runtime::require_module("Data::Pipeline::Aggregator::Pipeline") called at /opt/perl-5.27.4/lib/site_perl/5.27.4/Class/Load.pm line 174
	Class::Load::try {...} () called at /opt/perl-5.27.4/lib/site_perl/5.27.4/Try/Tiny.pm line 99
	eval {...} called at /opt/perl-5.27.4/lib/site_perl/5.27.4/Try/Tiny.pm line 94
	Try::Tiny::try(CODE(0x3055868), Try::Tiny::Catch=REF(0x317f3b0)) called at /opt/perl-5.27.4/lib/site_perl/5.27.4/Class/Load.pm line 180
	Class::Load::try_load_class("Data::Pipeline::Aggregator::Pipeline", undef) called at /opt/perl-5.27.4/lib/site_perl/5.27.4/Class/Load.pm line 35
	Class::Load::load_class("Data::Pipeline::Aggregator::Pipeline") called at /tmpfs/.cpan-build-cpansand/2017092615/Data-Pipeline-0.02-0/blib/lib/Data/Pipeline.pm line 70
	eval {...} called at /tmpfs/.cpan-build-cpansand/2017092615/Data-Pipeline-0.02-0/blib/lib/Data/Pipeline.pm line 70
	Data::Pipeline::_find_class("Pipeline") called at /tmpfs/.cpan-build-cpansand/2017092615/Data-Pipeline-0.02-0/blib/lib/Data/Pipeline.pm line 23
	Data::Pipeline::import("Data::Pipeline", "Pipeline", "Truncate", "Count", "Array") called at t/06-pipeline.t line 4
	main::BEGIN() called at /tmpfs/.cpan-build-cpansand/2017092615/Data-Pipeline-0.02-0/blib/lib/Data/Pipeline/Machine.pm line 22
	eval {...} called at /tmpfs/.cpan-build-cpansand/2017092615/Data-Pipeline-0.02-0/blib/lib/Data/Pipeline/Machine.pm line 22
Class::MOP::load_class is deprecated at /opt/perl-5.27.4/lib/site_perl/5.27.4/x86_64-linux/Class/MOP.pm line 69.
	Class::MOP::load_class("Data::Pipeline::Iterator") called at /tmpfs/.cpan-build-cpansand/2017092615/Data-Pipeline-0.02-0/blib/lib/Data/Pipeline/Types.pm line 133
	Data::Pipeline::Types::__ANON__(Data::Pipeline::Adapter::Array=HASH(0x316ef48)) called at /opt/perl-5.27.4/lib/site_perl/5.27.4/x86_64-linux/Moose/Meta/TypeCoercion.pm line 65
	Moose::Meta::TypeCoercion::__ANON__(Data::Pipeline::Adapter::Array=HASH(0x316ef48)) called at /opt/perl-5.27.4/lib/site_perl/5.27.4/x86_64-linux/Moose/Meta/TypeCoercion.pm line 100
	Moose::Meta::TypeCoercion::coerce(Moose::Meta::TypeCoercion=HASH(0x317b230), Data::Pipeline::Adapter::Array=HASH(0x316ef48)) called at /opt/perl-5.27.4/lib/site_perl/5.27.4/x86_64-linux/Moose/Meta/TypeConstraint.pm line 145
	Moose::Meta::TypeConstraint::coerce(Moose::Meta::TypeConstraint=HASH(0x3144208), Data::Pipeline::Adapter::Array=HASH(0x316ef48)) called at /opt/perl-5.27.4/lib/site_perl/5.27.4/MooseX/Types.pm line 494
	MooseX::Types::__ANON__(Data::Pipeline::Adapter::Array=HASH(0x316ef48)) called at /tmpfs/.cpan-build-cpansand/2017092615/Data-Pipeline-0.02-0/blib/lib/Data/Pipeline/Aggregator/Pipeline.pm line 47
	Data::Pipeline::Aggregator::Pipeline::transform(Data::Pipeline::Aggregator::Pipeline=HASH(0x337fd90), Data::Pipeline::Adapter::Array=HASH(0x316ef48)) called at t/06-pipeline.t line 19
t/06-pipeline.t ........ ok
Class::MOP::load_class is deprecated at /opt/perl-5.27.4/lib/site_perl/5.27.4/x86_64-linux/Class/MOP.pm line 69.
	Class::MOP::load_class("Data::Pipeline::Aggregator::Pipeline") called at /tmpfs/.cpan-build-cpansand/2017092615/Data-Pipeline-0.02-0/blib/lib/Data/Pipeline.pm line 70
	eval {...} called at /tmpfs/.cpan-build-cpansand/2017092615/Data-Pipeline-0.02-0/blib/lib/Data/Pipeline.pm line 70
	Data::Pipeline::_find_class("Pipeline") called at /tmpfs/.cpan-build-cpansand/2017092615/Data-Pipeline-0.02-0/blib/lib/Data/Pipeline.pm line 23
	Data::Pipeline::import("Data::Pipeline", "Pipeline", "Count", "CSV") called at t/07-csvsource.t line 23
	main::BEGIN() called at t/07-csvsource.t line 23
	eval {...} called at t/07-csvsource.t line 23
Class::MOP::load_class is deprecated at /opt/perl-5.27.4/lib/site_perl/5.27.4/x86_64-linux/Class/MOP.pm line 69.
	Class::MOP::load_class("Data::Pipeline::Aggregator::Machine") called at /tmpfs/.cpan-build-cpansand/2017092615/Data-Pipeline-0.02-0/blib/lib/Data/Pipeline/Machine.pm line 20
	Data::Pipeline::Machine::BEGIN() called at /tmpfs/.cpan-build-cpansand/2017092615/Data-Pipeline-0.02-0/blib/lib/Data/Pipeline/Machine.pm line 22
	eval {...} called at /tmpfs/.cpan-build-cpansand/2017092615/Data-Pipeline-0.02-0/blib/lib/Data/Pipeline/Machine.pm line 22
	require Data/Pipeline/Machine.pm called at /tmpfs/.cpan-build-cpansand/2017092615/Data-Pipeline-0.02-0/blib/lib/Data/Pipeline/Aggregator/Pipeline.pm line 10
	Data::Pipeline::Aggregator::Pipeline::BEGIN() called at /tmpfs/.cpan-build-cpansand/2017092615/Data-Pipeline-0.02-0/blib/lib/Data/Pipeline/Machine.pm line 22
	eval {...} called at /tmpfs/.cpan-build-cpansand/2017092615/Data-Pipeline-0.02-0/blib/lib/Data/Pipeline/Machine.pm line 22
	require Data/Pipeline/Aggregator/Pipeline.pm called at /opt/perl-5.27.4/lib/site_perl/5.27.4/Module/Runtime.pm line 317
	Module::Runtime::require_module("Data::Pipeline::Aggregator::Pipeline") called at /opt/perl-5.27.4/lib/site_perl/5.27.4/Class/Load.pm line 174
	Class::Load::try {...} () called at /opt/perl-5.27.4/lib/site_perl/5.27.4/Try/Tiny.pm line 99
	eval {...} called at /opt/perl-5.27.4/lib/site_perl/5.27.4/Try/Tiny.pm line 94
	Try::Tiny::try(CODE(0x1fa8140), Try::Tiny::Catch=REF(0x29273f0)) called at /opt/perl-5.27.4/lib/site_perl/5.27.4/Class/Load.pm line 180
	Class::Load::try_load_class("Data::Pipeline::Aggregator::Pipeline", undef) called at /opt/perl-5.27.4/lib/site_perl/5.27.4/Class/Load.pm line 35
	Class::Load::load_class("Data::Pipeline::Aggregator::Pipeline") called at /tmpfs/.cpan-build-cpansand/2017092615/Data-Pipeline-0.02-0/blib/lib/Data/Pipeline.pm line 70
	eval {...} called at /tmpfs/.cpan-build-cpansand/2017092615/Data-Pipeline-0.02-0/blib/lib/Data/Pipeline.pm line 70
	Data::Pipeline::_find_class("Pipeline") called at /tmpfs/.cpan-build-cpansand/2017092615/Data-Pipeline-0.02-0/blib/lib/Data/Pipeline.pm line 23
	Data::Pipeline::import("Data::Pipeline", "Pipeline", "Count", "CSV") called at t/07-csvsource.t line 23
	main::BEGIN() called at /tmpfs/.cpan-build-cpansand/2017092615/Data-Pipeline-0.02-0/blib/lib/Data/Pipeline/Machine.pm line 22
	eval {...} called at /tmpfs/.cpan-build-cpansand/2017092615/Data-Pipeline-0.02-0/blib/lib/Data/Pipeline/Machine.pm line 22
Class::MOP::load_class is deprecated at /opt/perl-5.27.4/lib/site_perl/5.27.4/x86_64-linux/Class/MOP.pm line 69.
	Class::MOP::load_class("Data::Pipeline::Iterator") called at /tmpfs/.cpan-build-cpansand/2017092615/Data-Pipeline-0.02-0/blib/lib/Data/Pipeline/Types.pm line 133
	Data::Pipeline::Types::__ANON__(Data::Pipeline::Adapter::CSV=HASH(0x2b40008)) called at /opt/perl-5.27.4/lib/site_perl/5.27.4/x86_64-linux/Moose/Meta/TypeCoercion.pm line 65
	Moose::Meta::TypeCoercion::__ANON__(Data::Pipeline::Adapter::CSV=HASH(0x2b40008)) called at /opt/perl-5.27.4/lib/site_perl/5.27.4/x86_64-linux/Moose/Meta/TypeCoercion.pm line 100
	Moose::Meta::TypeCoercion::coerce(Moose::Meta::TypeCoercion=HASH(0x28256d8), Data::Pipeline::Adapter::CSV=HASH(0x2b40008)) called at /opt/perl-5.27.4/lib/site_perl/5.27.4/x86_64-linux/Moose/Meta/TypeConstraint.pm line 145
	Moose::Meta::TypeConstraint::coerce(Moose::Meta::TypeConstraint=HASH(0x28340c0), Data::Pipeline::Adapter::CSV=HASH(0x2b40008)) called at /opt/perl-5.27.4/lib/site_perl/5.27.4/MooseX/Types.pm line 494
	MooseX::Types::__ANON__(Data::Pipeline::Adapter::CSV=HASH(0x2b40008)) called at /tmpfs/.cpan-build-cpansand/2017092615/Data-Pipeline-0.02-0/blib/lib/Data/Pipeline/Action.pm line 23
	Data::Pipeline::Action::transform(Data::Pipeline::Action::Count=HASH(0x150a538), Data::Pipeline::Adapter::CSV=HASH(0x2b40008)) called at t/07-csvsource.t line 26
t/07-csvsource.t ....... ok
Class::MOP::load_class is deprecated at /opt/perl-5.27.4/lib/site_perl/5.27.4/x86_64-linux/Class/MOP.pm line 69.
	Class::MOP::load_class("Data::Pipeline::Adapter::Array") called at /tmpfs/.cpan-build-cpansand/2017092615/Data-Pipeline-0.02-0/blib/lib/Data/Pipeline/Types.pm line 78
	Data::Pipeline::Types::__ANON__(ARRAY(0x93a5d8)) called at /opt/perl-5.27.4/lib/site_perl/5.27.4/x86_64-linux/Moose/Meta/TypeCoercion.pm line 65
	Moose::Meta::TypeCoercion::__ANON__(ARRAY(0x93a5d8)) called at /opt/perl-5.27.4/lib/site_perl/5.27.4/x86_64-linux/Moose/Meta/TypeCoercion.pm line 100
	Moose::Meta::TypeCoercion::coerce(Moose::Meta::TypeCoercion=HASH(0x138c188), ARRAY(0x93a5d8)) called at /opt/perl-5.27.4/lib/site_perl/5.27.4/x86_64-linux/Moose/Meta/TypeConstraint.pm line 145
	Moose::Meta::TypeConstraint::coerce(Moose::Meta::TypeConstraint=HASH(0x138bf30), ARRAY(0x93a5d8)) called at /opt/perl-5.27.4/lib/site_perl/5.27.4/MooseX/Types.pm line 494
	MooseX::Types::__ANON__(ARRAY(0x93a5d8)) called at t/08-types.t line 28
Class::MOP::load_class is deprecated at /opt/perl-5.27.4/lib/site_perl/5.27.4/x86_64-linux/Class/MOP.pm line 69.
	Class::MOP::load_class("Data::Pipeline::Aggregator::Machine") called at /tmpfs/.cpan-build-cpansand/2017092615/Data-Pipeline-0.02-0/blib/lib/Data/Pipeline/Machine.pm line 20
	Data::Pipeline::Machine::BEGIN() called at /tmpfs/.cpan-build-cpansand/2017092615/Data-Pipeline-0.02-0/blib/lib/Data/Pipeline/Machine.pm line 22
	eval {...} called at /tmpfs/.cpan-build-cpansand/2017092615/Data-Pipeline-0.02-0/blib/lib/Data/Pipeline/Machine.pm line 22
	require Data/Pipeline/Machine.pm called at /tmpfs/.cpan-build-cpansand/2017092615/Data-Pipeline-0.02-0/blib/lib/Data/Pipeline/Aggregator/Machine.pm line 6
	Data::Pipeline::Aggregator::Machine::BEGIN() called at /tmpfs/.cpan-build-cpansand/2017092615/Data-Pipeline-0.02-0/blib/lib/Data/Pipeline/Machine.pm line 22
	eval {...} called at /tmpfs/.cpan-build-cpansand/2017092615/Data-Pipeline-0.02-0/blib/lib/Data/Pipeline/Machine.pm line 22
	require Data/Pipeline/Aggregator/Machine.pm called at /tmpfs/.cpan-build-cpansand/2017092615/Data-Pipeline-0.02-0/blib/lib/Data/Pipeline/Adapter.pm line 9
	Data::Pipeline::Adapter::BEGIN() called at /tmpfs/.cpan-build-cpansand/2017092615/Data-Pipeline-0.02-0/blib/lib/Data/Pipeline/Machine.pm line 22
	eval {...} called at /tmpfs/.cpan-build-cpansand/2017092615/Data-Pipeline-0.02-0/blib/lib/Data/Pipeline/Machine.pm line 22
	require Data/Pipeline/Adapter.pm called at /opt/perl-5.27.4/lib/site_perl/5.27.4/Module/Runtime.pm line 317
	Module::Runtime::require_module("Data::Pipeline::Adapter") called at /opt/perl-5.27.4/lib/site_perl/5.27.4/Module/Runtime.pm line 394
	eval {...} called at /opt/perl-5.27.4/lib/site_perl/5.27.4/Module/Runtime.pm line 394
	Module::Runtime::use_package_optimistically("Data::Pipeline::Adapter") called at /opt/perl-5.27.4/lib/site_perl/5.27.4/x86_64-linux/Moose/Util.pm line 352
	Moose::Util::_load_user_class("Data::Pipeline::Adapter", undef) called at /opt/perl-5.27.4/lib/site_perl/5.27.4/x86_64-linux/Moose/Meta/Class.pm line 569
	Moose::Meta::Class::superclasses(undef, "Data::Pipeline::Adapter") called at /opt/perl-5.27.4/lib/site_perl/5.27.4/x86_64-linux/Moose.pm line 53
	Moose::extends(Moose::Meta::Class=HASH(0x1dce910), "Data::Pipeline::Adapter") called at /opt/perl-5.27.4/lib/site_perl/5.27.4/x86_64-linux/Moose/Exporter.pm line 419
	Moose::extends("Data::Pipeline::Adapter") called at /tmpfs/.cpan-build-cpansand/2017092615/Data-Pipeline-0.02-0/blib/lib/Data/Pipeline/Adapter/Array.pm line 4
	require Data/Pipeline/Adapter/Array.pm called at /opt/perl-5.27.4/lib/site_perl/5.27.4/Module/Runtime.pm line 317
	Module::Runtime::require_module("Data::Pipeline::Adapter::Array") called at /opt/perl-5.27.4/lib/site_perl/5.27.4/Class/Load.pm line 174
	Class::Load::try {...} () called at /opt/perl-5.27.4/lib/site_perl/5.27.4/Try/Tiny.pm line 99
	eval {...} called at /opt/perl-5.27.4/lib/site_perl/5.27.4/Try/Tiny.pm line 94
	Try::Tiny::try(CODE(0x1da4030), Try::Tiny::Catch=REF(0x1d73318)) called at /opt/perl-5.27.4/lib/site_perl/5.27.4/Class/Load.pm line 180
	Class::Load::try_load_class("Data::Pipeline::Adapter::Array", undef) called at /opt/perl-5.27.4/lib/site_perl/5.27.4/Class/Load.pm line 35
	Class::Load::load_class("Data::Pipeline::Adapter::Array") called at /tmpfs/.cpan-build-cpansand/2017092615/Data-Pipeline-0.02-0/blib/lib/Data/Pipeline/Types.pm line 78
	Data::Pipeline::Types::__ANON__(ARRAY(0x93a5d8)) called at /opt/perl-5.27.4/lib/site_perl/5.27.4/x86_64-linux/Moose/Meta/TypeCoercion.pm line 65
	Moose::Meta::TypeCoercion::__ANON__(ARRAY(0x93a5d8)) called at /opt/perl-5.27.4/lib/site_perl/5.27.4/x86_64-linux/Moose/Meta/TypeCoercion.pm line 100
	Moose::Meta::TypeCoercion::coerce(Moose::Meta::TypeCoercion=HASH(0x138c188), ARRAY(0x93a5d8)) called at /opt/perl-5.27.4/lib/site_perl/5.27.4/x86_64-linux/Moose/Meta/TypeConstraint.pm line 145
	Moose::Meta::TypeConstraint::coerce(Moose::Meta::TypeConstraint=HASH(0x138bf30), ARRAY(0x93a5d8)) called at /opt/perl-5.27.4/lib/site_perl/5.27.4/MooseX/Types.pm line 494
	MooseX::Types::__ANON__(ARRAY(0x93a5d8)) called at t/08-types.t line 28
t/08-types.t ........... ok
t/09-rename.t .......... ok
Class::MOP::load_class is deprecated at /opt/perl-5.27.4/lib/site_perl/5.27.4/x86_64-linux/Class/MOP.pm line 69.
	Class::MOP::load_class("Data::Pipeline::Aggregator::Machine") called at /tmpfs/.cpan-build-cpansand/2017092615/Data-Pipeline-0.02-0/blib/lib/Data/Pipeline/Machine.pm line 20
	Data::Pipeline::Machine::BEGIN() called at /tmpfs/.cpan-build-cpansand/2017092615/Data-Pipeline-0.02-0/blib/lib/Data/Pipeline/Machine.pm line 22
	eval {...} called at /tmpfs/.cpan-build-cpansand/2017092615/Data-Pipeline-0.02-0/blib/lib/Data/Pipeline/Machine.pm line 22
	require Data/Pipeline/Machine.pm called at t/11-machine.t line 6
	My::Machine::BEGIN() called at /tmpfs/.cpan-build-cpansand/2017092615/Data-Pipeline-0.02-0/blib/lib/Data/Pipeline/Machine.pm line 22
	eval {...} called at /tmpfs/.cpan-build-cpansand/2017092615/Data-Pipeline-0.02-0/blib/lib/Data/Pipeline/Machine.pm line 22
Class::MOP::load_class is deprecated at /opt/perl-5.27.4/lib/site_perl/5.27.4/x86_64-linux/Class/MOP.pm line 69.
	Class::MOP::load_class("Data::Pipeline::Aggregator::Array") called at /tmpfs/.cpan-build-cpansand/2017092615/Data-Pipeline-0.02-0/blib/lib/Data/Pipeline.pm line 70
	eval {...} called at /tmpfs/.cpan-build-cpansand/2017092615/Data-Pipeline-0.02-0/blib/lib/Data/Pipeline.pm line 70
	Data::Pipeline::_find_class("Array") called at /tmpfs/.cpan-build-cpansand/2017092615/Data-Pipeline-0.02-0/blib/lib/Data/Pipeline.pm line 23
	Data::Pipeline::import("Data::Pipeline", "Array", "Count", "CSV") called at t/11-machine.t line 7
	My::Machine::BEGIN() called at t/11-machine.t line 7
	eval {...} called at t/11-machine.t line 7
Class::MOP::load_class is deprecated at /opt/perl-5.27.4/lib/site_perl/5.27.4/x86_64-linux/Class/MOP.pm line 69.
	Class::MOP::load_class("Data::Pipeline::Iterator") called at /tmpfs/.cpan-build-cpansand/2017092615/Data-Pipeline-0.02-0/blib/lib/Data/Pipeline/Types.pm line 133
	Data::Pipeline::Types::__ANON__(Data::Pipeline::Adapter::Array=HASH(0x14ed828)) called at /opt/perl-5.27.4/lib/site_perl/5.27.4/x86_64-linux/Moose/Meta/TypeCoercion.pm line 65
	Moose::Meta::TypeCoercion::__ANON__(Data::Pipeline::Adapter::Array=HASH(0x14ed828)) called at /opt/perl-5.27.4/lib/site_perl/5.27.4/x86_64-linux/Moose/Meta/TypeCoercion.pm line 100
	Moose::Meta::TypeCoercion::coerce(Moose::Meta::TypeCoercion=HASH(0x2955930), Data::Pipeline::Adapter::Array=HASH(0x14ed828)) called at /opt/perl-5.27.4/lib/site_perl/5.27.4/x86_64-linux/Moose/Meta/TypeConstraint.pm line 145
	Moose::Meta::TypeConstraint::coerce(Moose::Meta::TypeConstraint=HASH(0x290eac8), Data::Pipeline::Adapter::Array=HASH(0x14ed828)) called at /opt/perl-5.27.4/lib/site_perl/5.27.4/MooseX/Types.pm line 494
	MooseX::Types::__ANON__(Data::Pipeline::Adapter::Array=HASH(0x14ed828)) called at /tmpfs/.cpan-build-cpansand/2017092615/Data-Pipeline-0.02-0/blib/lib/Data/Pipeline/Aggregator/Pipeline.pm line 30
	Data::Pipeline::Aggregator::Pipeline::from(Data::Pipeline::Aggregator::Pipeline=HASH(0x2cc3958), "array", Data::Pipeline::Iterator=HASH(0x2cabef8)) called at /tmpfs/.cpan-build-cpansand/2017092615/Data-Pipeline-0.02-0/blib/lib/Data/Pipeline/Aggregator/Machine.pm line 124
	Data::Pipeline::Aggregator::Machine::__ANON__() called at /tmpfs/.cpan-build-cpansand/2017092615/Data-Pipeline-0.02-0/blib/lib/Data/Pipeline/Machine.pm line 162
	Data::Pipeline::Machine::with_options(CODE(0x2cdd000), HASH(0x2cdd0d8)) called at /tmpfs/.cpan-build-cpansand/2017092615/Data-Pipeline-0.02-0/blib/lib/Data/Pipeline/Aggregator/Machine.pm line 125
	Data::Pipeline::Aggregator::Machine::from(Data::Pipeline::Aggregator::Machine=HASH(0x298b8d0), "foo", "array", Data::Pipeline::Iterator=HASH(0x2cabef8)) called at /tmpfs/.cpan-build-cpansand/2017092615/Data-Pipeline-0.02-0/blib/lib/Data/Pipeline/Machine/Surrogate.pm line 38
	Data::Pipeline::Machine::Surrogate::from(Data::Pipeline::Machine::Surrogate=HASH(0x2caa690)) called at /tmpfs/.cpan-build-cpansand/2017092615/Data-Pipeline-0.02-0/blib/lib/Data/Pipeline/Types.pm line 143
	Data::Pipeline::Types::__ANON__(Data::Pipeline::Machine::Surrogate=HASH(0x2caa690)) called at /opt/perl-5.27.4/lib/site_perl/5.27.4/x86_64-linux/Moose/Meta/TypeCoercion.pm line 65
	Moose::Meta::TypeCoercion::__ANON__(Data::Pipeline::Machine::Surrogate=HASH(0x2caa690)) called at /opt/perl-5.27.4/lib/site_perl/5.27.4/x86_64-linux/Moose/Meta/TypeCoercion.pm line 100
	Moose::Meta::TypeCoercion::coerce(Moose::Meta::TypeCoercion=HASH(0x2955930), Data::Pipeline::Machine::Surrogate=HASH(0x2caa690)) called at /opt/perl-5.27.4/lib/site_perl/5.27.4/x86_64-linux/Moose/Meta/TypeConstraint.pm line 145
	Moose::Meta::TypeConstraint::coerce(Moose::Meta::TypeConstraint=HASH(0x290eac8), Data::Pipeline::Machine::Surrogate=HASH(0x2caa690)) called at /opt/perl-5.27.4/lib/site_perl/5.27.4/MooseX/Types.pm line 494
	MooseX::Types::__ANON__(Data::Pipeline::Machine::Surrogate=HASH(0x2caa690)) called at /tmpfs/.cpan-build-cpansand/2017092615/Data-Pipeline-0.02-0/blib/lib/Data/Pipeline/Aggregator/Pipeline.pm line 30
	Data::Pipeline::Aggregator::Pipeline::from(Data::Pipeline::Aggregator::Pipeline=HASH(0x2cdc7a8), "array", ARRAY(0x2cdca78)) called at /tmpfs/.cpan-build-cpansand/2017092615/Data-Pipeline-0.02-0/blib/lib/Data/Pipeline/Aggregator/Machine.pm line 124
	Data::Pipeline::Aggregator::Machine::__ANON__() called at /tmpfs/.cpan-build-cpansand/2017092615/Data-Pipeline-0.02-0/blib/lib/Data/Pipeline/Machine.pm line 162
	Data::Pipeline::Machine::with_options(CODE(0x2cdce08), HASH(0x1a9c358)) called at /tmpfs/.cpan-build-cpansand/2017092615/Data-Pipeline-0.02-0/blib/lib/Data/Pipeline/Aggregator/Machine.pm line 125
	Data::Pipeline::Aggregator::Machine::from(Data::Pipeline::Aggregator::Machine=HASH(0x298b8d0), "array", ARRAY(0x2cdca78)) called at inline delegation in Data::Pipeline::Machine for _m->from (attribute declared in /tmpfs/.cpan-build-cpansand/2017092615/Data-Pipeline-0.02-0/blib/lib/Data/Pipeline/Machine.pm at line 31) line 18
	Data::Pipeline::Machine::from(My::Machine=HASH(0x2cdc7f0), "array", ARRAY(0x2cdca78)) called at t/11-machine.t line 42
t/11-machine.t ......... ok
Class::MOP::load_class is deprecated at /opt/perl-5.27.4/lib/site_perl/5.27.4/x86_64-linux/Class/MOP.pm line 69.
	Class::MOP::load_class("Data::Pipeline::Aggregator::Pipeline") called at /tmpfs/.cpan-build-cpansand/2017092615/Data-Pipeline-0.02-0/blib/lib/Data/Pipeline.pm line 70
	eval {...} called at /tmpfs/.cpan-build-cpansand/2017092615/Data-Pipeline-0.02-0/blib/lib/Data/Pipeline.pm line 70
	Data::Pipeline::_find_class("Pipeline") called at /tmpfs/.cpan-build-cpansand/2017092615/Data-Pipeline-0.02-0/blib/lib/Data/Pipeline.pm line 23
	Data::Pipeline::import("Data::Pipeline", "Pipeline", "Count", "Array") called at t/12-options.t line 3
	main::BEGIN() called at t/12-options.t line 3
	eval {...} called at t/12-options.t line 3
Class::MOP::load_class is deprecated at /opt/perl-5.27.4/lib/site_perl/5.27.4/x86_64-linux/Class/MOP.pm line 69.
	Class::MOP::load_class("Data::Pipeline::Aggregator::Machine") called at /tmpfs/.cpan-build-cpansand/2017092615/Data-Pipeline-0.02-0/blib/lib/Data/Pipeline/Machine.pm line 20
	Data::Pipeline::Machine::BEGIN() called at /tmpfs/.cpan-build-cpansand/2017092615/Data-Pipeline-0.02-0/blib/lib/Data/Pipeline/Machine.pm line 22
	eval {...} called at /tmpfs/.cpan-build-cpansand/2017092615/Data-Pipeline-0.02-0/blib/lib/Data/Pipeline/Machine.pm line 22
	require Data/Pipeline/Machine.pm called at /tmpfs/.cpan-build-cpansand/2017092615/Data-Pipeline-0.02-0/blib/lib/Data/Pipeline/Aggregator/Pipeline.pm line 10
	Data::Pipeline::Aggregator::Pipeline::BEGIN() called at /tmpfs/.cpan-build-cpansand/2017092615/Data-Pipeline-0.02-0/blib/lib/Data/Pipeline/Machine.pm line 22
	eval {...} called at /tmpfs/.cpan-build-cpansand/2017092615/Data-Pipeline-0.02-0/blib/lib/Data/Pipeline/Machine.pm line 22
	require Data/Pipeline/Aggregator/Pipeline.pm called at /opt/perl-5.27.4/lib/site_perl/5.27.4/Module/Runtime.pm line 317
	Module::Runtime::require_module("Data::Pipeline::Aggregator::Pipeline") called at /opt/perl-5.27.4/lib/site_perl/5.27.4/Class/Load.pm line 174
	Class::Load::try {...} () called at /opt/perl-5.27.4/lib/site_perl/5.27.4/Try/Tiny.pm line 99
	eval {...} called at /opt/perl-5.27.4/lib/site_perl/5.27.4/Try/Tiny.pm line 94
	Try::Tiny::try(CODE(0x23173c0), Try::Tiny::Catch=REF(0x23174e0)) called at /opt/perl-5.27.4/lib/site_perl/5.27.4/Class/Load.pm line 180
	Class::Load::try_load_class("Data::Pipeline::Aggregator::Pipeline", undef) called at /opt/perl-5.27.4/lib/site_perl/5.27.4/Class/Load.pm line 35
	Class::Load::load_class("Data::Pipeline::Aggregator::Pipeline") called at /tmpfs/.cpan-build-cpansand/2017092615/Data-Pipeline-0.02-0/blib/lib/Data/Pipeline.pm line 70
	eval {...} called at /tmpfs/.cpan-build-cpansand/2017092615/Data-Pipeline-0.02-0/blib/lib/Data/Pipeline.pm line 70
	Data::Pipeline::_find_class("Pipeline") called at /tmpfs/.cpan-build-cpansand/2017092615/Data-Pipeline-0.02-0/blib/lib/Data/Pipeline.pm line 23
	Data::Pipeline::import("Data::Pipeline", "Pipeline", "Count", "Array") called at t/12-options.t line 3
	main::BEGIN() called at /tmpfs/.cpan-build-cpansand/2017092615/Data-Pipeline-0.02-0/blib/lib/Data/Pipeline/Machine.pm line 22
	eval {...} called at /tmpfs/.cpan-build-cpansand/2017092615/Data-Pipeline-0.02-0/blib/lib/Data/Pipeline/Machine.pm line 22
Class::MOP::load_class is deprecated at /opt/perl-5.27.4/lib/site_perl/5.27.4/x86_64-linux/Class/MOP.pm line 69.
	Class::MOP::load_class("Data::Pipeline::Adapter::Array") called at /tmpfs/.cpan-build-cpansand/2017092615/Data-Pipeline-0.02-0/blib/lib/Data/Pipeline/Types.pm line 83
	Data::Pipeline::Types::__ANON__("abcs") called at /opt/perl-5.27.4/lib/site_perl/5.27.4/x86_64-linux/Moose/Meta/TypeCoercion.pm line 65
	Moose::Meta::TypeCoercion::__ANON__("abcs") called at /opt/perl-5.27.4/lib/site_perl/5.27.4/x86_64-linux/Moose/Meta/TypeCoercion.pm line 100
	Moose::Meta::TypeCoercion::coerce(Moose::Meta::TypeCoercion=HASH(0x22f9c90), "abcs") called at /opt/perl-5.27.4/lib/site_perl/5.27.4/x86_64-linux/Moose/Meta/TypeConstraint.pm line 145
	Moose::Meta::TypeConstraint::coerce(Moose::Meta::TypeConstraint=HASH(0x22f94b8), "abcs") called at /opt/perl-5.27.4/lib/site_perl/5.27.4/MooseX/Types.pm line 494
	MooseX::Types::__ANON__("abcs") called at /opt/perl-5.27.4/lib/site_perl/5.27.4/Sub/Exporter/ForMethods.pm line 102
	Data::Pipeline::Types::to_Adapter("abcs") called at /tmpfs/.cpan-build-cpansand/2017092615/Data-Pipeline-0.02-0/blib/lib/Data/Pipeline/Types.pm line 128
	Data::Pipeline::Types::__ANON__("abcs") called at /opt/perl-5.27.4/lib/site_perl/5.27.4/x86_64-linux/Moose/Meta/TypeCoercion.pm line 65
	Moose::Meta::TypeCoercion::__ANON__("abcs") called at /opt/perl-5.27.4/lib/site_perl/5.27.4/x86_64-linux/Moose/Meta/TypeCoercion.pm line 100
	Moose::Meta::TypeCoercion::coerce(Moose::Meta::TypeCoercion=HASH(0x2334e50), "abcs") called at /opt/perl-5.27.4/lib/site_perl/5.27.4/x86_64-linux/Moose/Meta/TypeConstraint.pm line 145
	Moose::Meta::TypeConstraint::coerce(Moose::Meta::TypeConstraint=HASH(0x2219b98), "abcs") called at /opt/perl-5.27.4/lib/site_perl/5.27.4/MooseX/Types.pm line 494
	MooseX::Types::__ANON__("abcs") called at /tmpfs/.cpan-build-cpansand/2017092615/Data-Pipeline-0.02-0/blib/lib/Data/Pipeline/Iterator/Options.pm line 45
	Data::Pipeline::Iterator::Options::build_source(Data::Pipeline::Iterator::Options=HASH(0x25210b0)) called at /tmpfs/.cpan-build-cpansand/2017092615/Data-Pipeline-0.02-0/blib/lib/Data/Pipeline/Iterator/Options.pm line 24
	Data::Pipeline::Iterator::Options::__ANON__(Data::Pipeline::Iterator::Options=HASH(0x25210b0)) called at accessor Data::Pipeline::Iterator::Options::source (defined at /tmpfs/.cpan-build-cpansand/2017092615/Data-Pipeline-0.02-0/blib/lib/Data/Pipeline/Iterator/Options.pm line 27) line 17
	Data::Pipeline::Iterator::Options::source(Data::Pipeline::Iterator::Options=HASH(0x25210b0)) called at /tmpfs/.cpan-build-cpansand/2017092615/Data-Pipeline-0.02-0/blib/lib/Data/Pipeline/Iterator.pm line 53
	Data::Pipeline::Iterator::finished(Data::Pipeline::Iterator::Options=HASH(0x25210b0)) called at t/12-options.t line 23
t/12-options.t ......... ok
Class::MOP::load_class is deprecated at /opt/perl-5.27.4/lib/site_perl/5.27.4/x86_64-linux/Class/MOP.pm line 69.
	Class::MOP::load_class("Data::Pipeline::Aggregator::Pipeline") called at /tmpfs/.cpan-build-cpansand/2017092615/Data-Pipeline-0.02-0/blib/lib/Data/Pipeline.pm line 70
	eval {...} called at /tmpfs/.cpan-build-cpansand/2017092615/Data-Pipeline-0.02-0/blib/lib/Data/Pipeline.pm line 70
	Data::Pipeline::_find_class("Pipeline") called at /tmpfs/.cpan-build-cpansand/2017092615/Data-Pipeline-0.02-0/blib/lib/Data/Pipeline.pm line 23
	Data::Pipeline::import("Data::Pipeline", "Pipeline", "UrlBuilder") called at t/13-uribuilder.t line 3
	main::BEGIN() called at t/13-uribuilder.t line 3
	eval {...} called at t/13-uribuilder.t line 3
Class::MOP::load_class is deprecated at /opt/perl-5.27.4/lib/site_perl/5.27.4/x86_64-linux/Class/MOP.pm line 69.
	Class::MOP::load_class("Data::Pipeline::Aggregator::Machine") called at /tmpfs/.cpan-build-cpansand/2017092615/Data-Pipeline-0.02-0/blib/lib/Data/Pipeline/Machine.pm line 20
	Data::Pipeline::Machine::BEGIN() called at /tmpfs/.cpan-build-cpansand/2017092615/Data-Pipeline-0.02-0/blib/lib/Data/Pipeline/Machine.pm line 22
	eval {...} called at /tmpfs/.cpan-build-cpansand/2017092615/Data-Pipeline-0.02-0/blib/lib/Data/Pipeline/Machine.pm line 22
	require Data/Pipeline/Machine.pm called at /tmpfs/.cpan-build-cpansand/2017092615/Data-Pipeline-0.02-0/blib/lib/Data/Pipeline/Aggregator/Pipeline.pm line 10
	Data::Pipeline::Aggregator::Pipeline::BEGIN() called at /tmpfs/.cpan-build-cpansand/2017092615/Data-Pipeline-0.02-0/blib/lib/Data/Pipeline/Machine.pm line 22
	eval {...} called at /tmpfs/.cpan-build-cpansand/2017092615/Data-Pipeline-0.02-0/blib/lib/Data/Pipeline/Machine.pm line 22
	require Data/Pipeline/Aggregator/Pipeline.pm called at /opt/perl-5.27.4/lib/site_perl/5.27.4/Module/Runtime.pm line 317
	Module::Runtime::require_module("Data::Pipeline::Aggregator::Pipeline") called at /opt/perl-5.27.4/lib/site_perl/5.27.4/Class/Load.pm line 174
	Class::Load::try {...} () called at /opt/perl-5.27.4/lib/site_perl/5.27.4/Try/Tiny.pm line 99
	eval {...} called at /opt/perl-5.27.4/lib/site_perl/5.27.4/Try/Tiny.pm line 94
	Try::Tiny::try(CODE(0x33b7fc0), Try::Tiny::Catch=REF(0x33a5fd0)) called at /opt/perl-5.27.4/lib/site_perl/5.27.4/Class/Load.pm line 180
	Class::Load::try_load_class("Data::Pipeline::Aggregator::Pipeline", undef) called at /opt/perl-5.27.4/lib/site_perl/5.27.4/Class/Load.pm line 35
	Class::Load::load_class("Data::Pipeline::Aggregator::Pipeline") called at /tmpfs/.cpan-build-cpansand/2017092615/Data-Pipeline-0.02-0/blib/lib/Data/Pipeline.pm line 70
	eval {...} called at /tmpfs/.cpan-build-cpansand/2017092615/Data-Pipeline-0.02-0/blib/lib/Data/Pipeline.pm line 70
	Data::Pipeline::_find_class("Pipeline") called at /tmpfs/.cpan-build-cpansand/2017092615/Data-Pipeline-0.02-0/blib/lib/Data/Pipeline.pm line 23
	Data::Pipeline::import("Data::Pipeline", "Pipeline", "UrlBuilder") called at t/13-uribuilder.t line 3
	main::BEGIN() called at /tmpfs/.cpan-build-cpansand/2017092615/Data-Pipeline-0.02-0/blib/lib/Data/Pipeline/Machine.pm line 22
	eval {...} called at /tmpfs/.cpan-build-cpansand/2017092615/Data-Pipeline-0.02-0/blib/lib/Data/Pipeline/Machine.pm line 22
Class::MOP::load_class is deprecated at /opt/perl-5.27.4/lib/site_perl/5.27.4/x86_64-linux/Class/MOP.pm line 69.
	Class::MOP::load_class("Data::Pipeline::Iterator") called at /tmpfs/.cpan-build-cpansand/2017092615/Data-Pipeline-0.02-0/blib/lib/Data/Pipeline/Types.pm line 133
	Data::Pipeline::Types::__ANON__(Data::Pipeline::Adapter::UrlBuilder=HASH(0x3603da0)) called at /opt/perl-5.27.4/lib/site_perl/5.27.4/x86_64-linux/Moose/Meta/TypeCoercion.pm line 65
	Moose::Meta::TypeCoercion::__ANON__(Data::Pipeline::Adapter::UrlBuilder=HASH(0x3603da0)) called at /opt/perl-5.27.4/lib/site_perl/5.27.4/x86_64-linux/Moose/Meta/TypeCoercion.pm line 100
	Moose::Meta::TypeCoercion::coerce(Moose::Meta::TypeCoercion=HASH(0x33b3e78), Data::Pipeline::Adapter::UrlBuilder=HASH(0x3603da0)) called at /opt/perl-5.27.4/lib/site_perl/5.27.4/x86_64-linux/Moose/Meta/TypeConstraint.pm line 145
	Moose::Meta::TypeConstraint::coerce(Moose::Meta::TypeConstraint=HASH(0x32a38d8), Data::Pipeline::Adapter::UrlBuilder=HASH(0x3603da0)) called at /opt/perl-5.27.4/lib/site_perl/5.27.4/MooseX/Types.pm line 494
	MooseX::Types::__ANON__(Data::Pipeline::Adapter::UrlBuilder=HASH(0x3603da0)) called at /tmpfs/.cpan-build-cpansand/2017092615/Data-Pipeline-0.02-0/blib/lib/Data/Pipeline/Aggregator/Pipeline.pm line 47
	Data::Pipeline::Aggregator::Pipeline::transform(Data::Pipeline::Aggregator::Pipeline=HASH(0x3619e10), Data::Pipeline::Adapter::UrlBuilder=HASH(0x3603da0)) called at t/13-uribuilder.t line 16
t/13-uribuilder.t ...... ok
Unescaped left brace in regex is deprecated here (and will be fatal in Perl 5.30), passed through in regex; marked by <-- HERE in m/([^\\]){ <-- HERE / at unkown line 144.
Unescaped left brace in regex is deprecated here (and will be fatal in Perl 5.30), passed through in regex; marked by <-- HERE in m/([^\\]){ <-- HERE / at unkown line 146.
Unescaped left brace in regex is deprecated here (and will be fatal in Perl 5.30), passed through in regex; marked by <-- HERE in m/([^\\]){ <-- HERE / at unkown line 151.
Unescaped left brace in regex is deprecated here (and will be fatal in Perl 5.30), passed through in regex; marked by <-- HERE in m/([^\\]){ <-- HERE / at unkown line 153.
Class::MOP::load_class is deprecated at /opt/perl-5.27.4/lib/site_perl/5.27.4/x86_64-linux/Class/MOP.pm line 69.
	Class::MOP::load_class("Data::Pipeline::Aggregator::Machine") called at /tmpfs/.cpan-build-cpansand/2017092615/Data-Pipeline-0.02-0/blib/lib/Data/Pipeline/Machine.pm line 20
	Data::Pipeline::Machine::BEGIN() called at /tmpfs/.cpan-build-cpansand/2017092615/Data-Pipeline-0.02-0/blib/lib/Data/Pipeline/Machine.pm line 22
	eval {...} called at /tmpfs/.cpan-build-cpansand/2017092615/Data-Pipeline-0.02-0/blib/lib/Data/Pipeline/Machine.pm line 22
	require Data/Pipeline/Machine.pm called at unkown line 638
	Data::Pipeline::Parser::BEGIN() called at /tmpfs/.cpan-build-cpansand/2017092615/Data-Pipeline-0.02-0/blib/lib/Data/Pipeline/Machine.pm line 22
	eval {...} called at /tmpfs/.cpan-build-cpansand/2017092615/Data-Pipeline-0.02-0/blib/lib/Data/Pipeline/Machine.pm line 22
	require Data/Pipeline/Parser.pm called at t/20-script.t line 3
	main::BEGIN() called at /tmpfs/.cpan-build-cpansand/2017092615/Data-Pipeline-0.02-0/blib/lib/Data/Pipeline/Machine.pm line 22
	eval {...} called at /tmpfs/.cpan-build-cpansand/2017092615/Data-Pipeline-0.02-0/blib/lib/Data/Pipeline/Machine.pm line 22
Class::MOP::load_class is deprecated at /opt/perl-5.27.4/lib/site_perl/5.27.4/x86_64-linux/Class/MOP.pm line 69.
	Class::MOP::load_class("Data::Pipeline::Adapter::Array") called at unkown line 1005
	eval {...} called at unkown line 1005
	Data::Pipeline::Parser::_load_filter(Data::Pipeline::Parser=HASH(0x200efd8), "Adapter", "Array") called at unkown line 988
	Data::Pipeline::Parser::load_actions(Data::Pipeline::Parser=HASH(0x200efd8), "Adapter", "Array") called at unkown line 264
	Data::Pipeline::Parser::__ANON__() called at unkown line 61
	Data::Pipeline::Parser::__ANON__() called at unkown line 978
	Data::Pipeline::Parser::_eval_in_m(Data::Pipeline::Parser=HASH(0x200efd8), "", CODE(0x1fd2e70)) called at unkown line 883
	Data::Pipeline::Parser::parse(Data::Pipeline::Parser=HASH(0x1fda318), HASH(0x8cc190), "\x{a}    IN: Array\x{a}    OUT: Array\x{a}    USE: Identity\x{a}\x{a}    PIPELINE"..., HASH(0x8e76d0)) called at t/20-script.t line 9
Class::MOP::load_class is deprecated at /opt/perl-5.27.4/lib/site_perl/5.27.4/x86_64-linux/Class/MOP.pm line 69.
	Class::MOP::load_class("Data::Pipeline::Iterator") called at /tmpfs/.cpan-build-cpansand/2017092615/Data-Pipeline-0.02-0/blib/lib/Data/Pipeline/Types.pm line 133
	Data::Pipeline::Types::__ANON__(Data::Pipeline::Adapter::Array=HASH(0x1fae548)) called at /opt/perl-5.27.4/lib/site_perl/5.27.4/x86_64-linux/Moose/Meta/TypeCoercion.pm line 65
	Moose::Meta::TypeCoercion::__ANON__(Data::Pipeline::Adapter::Array=HASH(0x1fae548)) called at /opt/perl-5.27.4/lib/site_perl/5.27.4/x86_64-linux/Moose/Meta/TypeCoercion.pm line 100
	Moose::Meta::TypeCoercion::coerce(Moose::Meta::TypeCoercion=HASH(0x1e78530), Data::Pipeline::Adapter::Array=HASH(0x1fae548)) called at /opt/perl-5.27.4/lib/site_perl/5.27.4/x86_64-linux/Moose/Meta/TypeConstraint.pm line 145
	Moose::Meta::TypeConstraint::coerce(Moose::Meta::TypeConstraint=HASH(0x14a3f78), Data::Pipeline::Adapter::Array=HASH(0x1fae548)) called at /opt/perl-5.27.4/lib/site_perl/5.27.4/MooseX/Types.pm line 494
	MooseX::Types::__ANON__(Data::Pipeline::Adapter::Array=HASH(0x1fae548)) called at /tmpfs/.cpan-build-cpansand/2017092615/Data-Pipeline-0.02-0/blib/lib/Data/Pipeline/Aggregator/Pipeline.pm line 30
	Data::Pipeline::Aggregator::Pipeline::from(Data::Pipeline::Aggregator::Pipeline=HASH(0x101ba48), "array", ARRAY(0x8e76d0)) called at /tmpfs/.cpan-build-cpansand/2017092615/Data-Pipeline-0.02-0/blib/lib/Data/Pipeline/Aggregator/Machine.pm line 124
	Data::Pipeline::Aggregator::Machine::__ANON__() called at /tmpfs/.cpan-build-cpansand/2017092615/Data-Pipeline-0.02-0/blib/lib/Data/Pipeline/Machine.pm line 162
	Data::Pipeline::Machine::with_options(CODE(0xff5c08), HASH(0x8f5eb8)) called at /tmpfs/.cpan-build-cpansand/2017092615/Data-Pipeline-0.02-0/blib/lib/Data/Pipeline/Aggregator/Machine.pm line 125
	Data::Pipeline::Aggregator::Machine::from(Data::Pipeline::Aggregator::Machine=HASH(0x1fc4e70), "array", ARRAY(0x8e76d0)) called at unkown line 966
	Data::Pipeline::Parser::run(Data::Pipeline::Parser=HASH(0x200efd8), "from", HASH(0x1fd31e8), "to", ARRAY(0x1faea70)) called at t/20-script.t line 24
t/20-script.t .......... ok
All tests successful.
Files=14, Tests=137,  6 wallclock secs ( 0.04 usr  0.08 sys +  5.53 cusr  0.56 csys =  6.21 CPU)
Result: PASS

------------------------------
PREREQUISITES
------------------------------

Prerequisite modules loaded:

requires:

    Module              Need Have    
    ------------------- ---- --------
    Moose               2.06 2.2006  

build_requires:

    Module              Need Have    
    ------------------- ---- --------
    ExtUtils::MakeMaker 6.36 7.30    
    Test::More          0    1.302096

configure_requires:

    Module              Need Have    
    ------------------- ---- --------
    ExtUtils::MakeMaker 6.36 7.30    


------------------------------
ENVIRONMENT AND OTHER CONTEXT
------------------------------

Environment variables:

    LANG = C
    LC_ALL = de_DE.UTF-8
    PATH = /usr/local/bin:/usr/bin:/bin:/usr/local/sbin:/usr/sbin:/sbin:/home/cpansand/bin/linux-gnu:/home/cpansand/bin/sh:/home/cpansand/bin:/usr/games:/home/cpansand/devel:/home/eserte/src/srezic-misc/scripts
    PERL5LIB = 
    PERL5OPT = 
    PERL5_CPANPLUS_IS_RUNNING = 10690
    PERL5_CPAN_IS_RUNNING = 10690
    PERL5_CPAN_IS_RUNNING_IN_RECURSION = 6507,10690
    PERLDOC = -MPod::Perldoc::ToTextOverstrike
    PERL_BATCH = yes
    PERL_CANARY_STABILITY_NOPROMPT = 1
    PERL_CPAN_REPORTER_CONFIG = /var/tmp/cpansmoker-1023/2017092609/cpanreporter_001_config.ini
    PERL_EXTUTILS_AUTOINSTALL = --defaultdeps
    PERL_PARALLEL_SMOKER = yes
    PERL_USE_UNSAFE_INC = 1
    SHELL = /bin/zsh
    TERM = screen
    TMPDIR = /var/tmp/cpansmoker-1023/2017092609

Perl special variables (and OS-specific diagnostics, for MSWin32):

    $^X = /bbbike/perl-5.27.4/bin/perl5.27.4
    $UID/$EUID = 1023 / 1023
    $GID = 1023 1023
    $EGID = 1023 1023

Perl module toolchain versions installed:

    Module              Have    
    ------------------- --------
    CPAN                2.18    
    CPAN::Meta          2.150010
    Cwd                 3.62    
    ExtUtils::CBuilder  0.280226
    ExtUtils::Command   7.30    
    ExtUtils::Install   2.14    
    ExtUtils::MakeMaker 7.30    
    ExtUtils::Manifest  1.70    
    ExtUtils::ParseXS   3.35    
    File::Spec          3.62    
    JSON                2.94    
    JSON::PP            2.94    
    Module::Build       0.4224  
    Module::Signature   0.81    
    Parse::CPAN::Meta   2.150010
    Test::Harness       3.39    
    Test::More          1.302096
    YAML                1.23    
    YAML::Syck          1.30    
    version             0.9918  


--

Summary of my perl5 (revision 5 version 27 subversion 4) configuration:
   
  Platform:
    osname=linux
    osvers=3.16.0-4-amd64
    archname=x86_64-linux
    uname='linux eserte 3.16.0-4-amd64 #1 smp debian 3.16.43-2+deb8u2 (2017-06-26) x86_64 gnulinux '
    config_args='-ds -e -Dprefix=/opt/perl-5.27.4 -Dusedevel -Dusemallocwrap=no -Dcf_email=srezic@cpan.org'
    hint=recommended
    useposix=true
    d_sigaction=define
    useithreads=undef
    usemultiplicity=undef
    use64bitint=define
    use64bitall=define
    uselongdouble=undef
    usemymalloc=n
    default_inc_excludes_dot=define
    bincompat5005=undef
  Compiler:
    cc='cc'
    ccflags ='-fwrapv -fno-strict-aliasing -pipe -fstack-protector-strong -I/usr/local/include -D_LARGEFILE_SOURCE -D_FILE_OFFSET_BITS=64 -D_FORTIFY_SOURCE=2'
    optimize='-O2'
    cppflags='-fwrapv -fno-strict-aliasing -pipe -fstack-protector-strong -I/usr/local/include'
    ccversion=''
    gccversion='4.9.2'
    gccosandvers=''
    intsize=4
    longsize=8
    ptrsize=8
    doublesize=8
    byteorder=12345678
    doublekind=3
    d_longlong=define
    longlongsize=8
    d_longdbl=define
    longdblsize=16
    longdblkind=3
    ivtype='long'
    ivsize=8
    nvtype='double'
    nvsize=8
    Off_t='off_t'
    lseeksize=8
    alignbytes=8
    prototype=define
  Linker and Libraries:
    ld='cc'
    ldflags =' -fstack-protector-strong -L/usr/local/lib'
    libpth=/usr/local/lib /usr/lib/gcc/x86_64-linux-gnu/4.9/include-fixed /usr/include/x86_64-linux-gnu /usr/lib /lib/x86_64-linux-gnu /lib/../lib /usr/lib/x86_64-linux-gnu /usr/lib/../lib /lib
    libs=-lpthread -lnsl -lgdbm -ldb -ldl -lm -lcrypt -lutil -lc -lgdbm_compat
    perllibs=-lpthread -lnsl -ldl -lm -lcrypt -lutil -lc
    libc=libc-2.19.so
    so=so
    useshrplib=false
    libperl=libperl.a
    gnulibc_version='2.19'
  Dynamic Linking:
    dlsrc=dl_dlopen.xs
    dlext=so
    d_dlsymun=undef
    ccdlflags='-Wl,-E'
    cccdlflags='-fPIC'
    lddlflags='-shared -O2 -L/usr/local/lib -fstack-protector-strong'


Characteristics of this binary (from libperl): 
  Compile-time options:
    HAS_TIMES
    PERLIO_LAYERS
    PERL_COPY_ON_WRITE
    PERL_DONT_CREATE_GVSV
    PERL_OP_PARENT
    PERL_PRESERVE_IVUV
    PERL_USE_DEVEL
    USE_64_BIT_ALL
    USE_64_BIT_INT
    USE_LARGE_FILES
    USE_LOCALE
    USE_LOCALE_COLLATE
    USE_LOCALE_CTYPE
    USE_LOCALE_NUMERIC
    USE_LOCALE_TIME
    USE_PERLIO
    USE_PERL_ATOF
  Built under linux
  Compiled at Sep 20 2017 22:26:56
  %ENV:
    PERL5LIB=""
    PERL5OPT=""
    PERL5_CPANPLUS_IS_RUNNING="10690"
    PERL5_CPAN_IS_RUNNING="10690"
    PERL5_CPAN_IS_RUNNING_IN_RECURSION="6507,10690"
    PERLDOC="-MPod::Perldoc::ToTextOverstrike"
    PERL_BATCH="yes"
    PERL_CANARY_STABILITY_NOPROMPT="1"
    PERL_CPAN_REPORTER_CONFIG="/var/tmp/cpansmoker-1023/2017092609/cpanreporter_001_config.ini"
    PERL_EXTUTILS_AUTOINSTALL="--defaultdeps"
    PERL_PARALLEL_SMOKER="yes"
    PERL_USE_UNSAFE_INC="1"
  @INC:
    /opt/perl-5.27.4/lib/site_perl/5.27.4/x86_64-linux
    /opt/perl-5.27.4/lib/site_perl/5.27.4
    /opt/perl-5.27.4/lib/5.27.4/x86_64-linux
    /opt/perl-5.27.4/lib/5.27.4
    .