Back
From: metabase:user:e3434da8-b236-11df-85ca-0247c6d74bde
Subject: PASS HTTP-WebTest-2.04 v5.13.5 GNU/Linux
Date: 2010-10-10T16:58:31Z
This distribution has been tested as part of the CPAN Testers
project, supporting the Perl programming language. See
http://wiki.cpantesters.org/ for more information or email
questions to cpan-testers-discuss@perl.org
--
Dear Ilya Martynov,
This is a computer-generated report for HTTP-WebTest-2.04
on perl 5.13.5, created by CPAN-Reporter-1.1801.
Thank you for uploading your work to CPAN. Congratulations!
All tests were successful.
Sections of this report:
* Tester comments
* Program output
* Prerequisites
* Environment and other context
------------------------------
TESTER COMMENTS
------------------------------
Additional comments from tester:
this report is from an automated smoke testing program
and was not reviewed by a human for accuracy
------------------------------
PROGRAM OUTPUT
------------------------------
Output from '/usr/bin/make test':
PERL_DL_NONLAZY=1 /home/cpt0/cpantesting/perl-5.13.5/bin/perl "-MExtUtils::Command::MM" "-e" "test_harness(0, 'blib/lib', 'blib/arch')" t/*.t
t/01-api.t ............ ok
t/02-generic.t ........ ok
t/03-proxy.t .......... ok
t/05-report.t ......... ok
t/05a-email-report.t .. ok
Use of uninitialized value $extracted in string eq at /home/cpt0/.cpan/build/HTTP-WebTest-2.04-8wp7Jq/blib/lib/HTTP/WebTest/Parser.pm line 237.
Use of uninitialized value $extracted in string eq at /home/cpt0/.cpan/build/HTTP-WebTest-2.04-8wp7Jq/blib/lib/HTTP/WebTest/Parser.pm line 237.
Use of uninitialized value $extracted in string eq at /home/cpt0/.cpan/build/HTTP-WebTest-2.04-8wp7Jq/blib/lib/HTTP/WebTest/Parser.pm line 262.
t/06-parser.t ......... ok
t/07-compat.t ......... ok
t/08-plugins.t ........ ok
t/09-hooks.t .......... ok
t/10-click.t .......... ok
t/11-delay.t .......... ok
t/12-request.t ........ ok
t/13-harness.t ........ ok
All tests successful.
Files=13, Tests=247, 32 wallclock secs ( 0.08 usr 0.02 sys + 3.20 cusr 0.44 csys = 3.74 CPU)
Result: PASS
------------------------------
PREREQUISITES
------------------------------
Prerequisite modules loaded:
requires:
Module Need Have
--------------------- ---- -------
Algorithm::Diff 0 1.1902
CGI::Cookie 0 1.29
LWP 5.6 5.837
MIME::Base64 0 3.09
Net::SMTP 0 2.31
Pod::Man 1.14 2.23
Pod::Usage 0 1.36
Test::Builder::Tester 0 1.21_01
Test::MockObject 0.07 1.09
Test::More 0 0.97_01
Text::Balanced 0 2.02
Time::HiRes 0 1.9721
URI 0 1.55
build_requires:
Module Need Have
--------------------- ---- -------
ExtUtils::MakeMaker 0 6.57_05
------------------------------
ENVIRONMENT AND OTHER CONTEXT
------------------------------
Environment variables:
AUTOMATED_TESTING = 1
LANG = en_US.utf8
PATH = /usr/local/bin:/usr/bin:/bin:/usr/local/games:/usr/games
PERL5LIB = /home/cpt0/.cpan/build/Test-MockObject-1.09-E066h2/blib/arch:/home/cpt0/.cpan/build/Test-MockObject-1.09-E066h2/blib/lib:/home/cpt0/.cpan/build/UNIVERSAL-can-1.16-usREll/blib/arch:/home/cpt0/.cpan/build/UNIVERSAL-can-1.16-usREll/blib/lib:/home/cpt0/.cpan/build/Algorithm-Diff-1.1902-EN3U_v/blib/arch:/home/cpt0/.cpan/build/Algorithm-Diff-1.1902-EN3U_v/blib/lib:/home/cpt0/.cpan/build/UNIVERSAL-isa-1.03-9eU1SI/blib/arch:/home/cpt0/.cpan/build/UNIVERSAL-isa-1.03-9eU1SI/blib/lib
PERL5OPT =
PERL5_CPANPLUS_IS_RUNNING = 23840
PERL5_CPAN_IS_RUNNING = 23840
PERL5_CPAN_IS_RUNNING_IN_RECURSION = 4595,23840
PERL_CR_SMOKER_CURRENT = HTTP-WebTest-Plugin-Sticky-0.02
PERL_EXTUTILS_AUTOINSTALL = --defaultdeps
PERL_MM_USE_DEFAULT = 1
SHELL = /bin/bash
TERM = screen-bce
Perl special variables (and OS-specific diagnostics, for MSWin32):
$^X = /home/cpt0/cpantesting/perl-5.13.5/bin/perl
$UID/$EUID = 1001 / 1001
$GID = 1001 20 24 25 27 29 30 44 46 100 102 106 112 114 1001
$EGID = 1001 20 24 25 27 29 30 44 46 100 102 106 112 114 1001
Perl module toolchain versions installed:
Module Have
------------------- -------
CPAN 1.94_57
Cwd 3.31
ExtUtils::CBuilder 0.2703
ExtUtils::Command 1.16
ExtUtils::Install 1.55
ExtUtils::MakeMaker 6.57_05
ExtUtils::Manifest 1.58
ExtUtils::ParseXS 2.2207
File::Spec 3.31_01
Module::Build 0.3607
Module::Signature n/a
Test::Harness 3.22
Test::More 0.97_01
YAML 0.72
YAML::Syck n/a
version 0.82
--
Summary of my perl5 (revision 5 version 13 subversion 5) configuration:
Platform:
osname=linux, osvers=2.6.34-0.slh.9-sidux-amd64, archname=x86_64-linux-thread-multi
uname='linux verona 2.6.34-0.slh.9-sidux-amd64 #1 smp preempt sat jun 12 23:27:41 utc 2010 x86_64 gnulinux '
config_args='-Dusethreads -Dprefix=/home/cpt0/cpantesting/perl-5.13.5'
hint=recommended, useposix=true, d_sigaction=define
useithreads=define, usemultiplicity=define
useperlio=define, d_sfio=undef, uselargefiles=define, usesocks=undef
use64bitint=define, use64bitall=define, uselongdouble=undef
usemymalloc=n, bincompat5005=undef
Compiler:
cc='cc', ccflags ='-D_REENTRANT -D_GNU_SOURCE -fno-strict-aliasing -pipe -fstack-protector -I/usr/local/include -D_LARGEFILE_SOURCE -D_FILE_OFFSET_BITS=64',
optimize='-O2',
cppflags='-D_REENTRANT -D_GNU_SOURCE -fno-strict-aliasing -pipe -fstack-protector -I/usr/local/include'
ccversion='', gccversion='4.4.5 20100909 (prerelease)', gccosandvers=''
intsize=4, longsize=8, ptrsize=8, doublesize=8, byteorder=12345678
d_longlong=define, longlongsize=8, d_longdbl=define, longdblsize=16
ivtype='long', ivsize=8, nvtype='double', nvsize=8, Off_t='off_t', lseeksize=8
alignbytes=8, prototype=define
Linker and Libraries:
ld='cc', ldflags =' -fstack-protector -L/usr/local/lib'
libpth=/usr/local/lib /lib /usr/lib /lib64 /usr/lib64
libs=-lnsl -lgdbm -ldb -ldl -lm -lcrypt -lutil -lpthread -lc -lgdbm_compat
perllibs=-lnsl -ldl -lm -lcrypt -lutil -lpthread -lc
libc=/lib/libc-2.11.1.so, so=so, useshrplib=false, libperl=libperl.a
gnulibc_version='2.11.1'
Dynamic Linking:
dlsrc=dl_dlopen.xs, dlext=so, d_dlsymun=undef, ccdlflags='-Wl,-E'
cccdlflags='-fPIC', lddlflags='-shared -O2 -L/usr/local/lib -fstack-protector'
Characteristics of this binary (from libperl):
Compile-time options: MULTIPLICITY PERL_DONT_CREATE_GVSV
PERL_IMPLICIT_CONTEXT PERL_MALLOC_WRAP USE_64_BIT_ALL
USE_64_BIT_INT USE_ITHREADS USE_LARGE_FILES
USE_PERLIO USE_PERL_ATOF USE_REENTRANT_API
Built under linux
Compiled at Sep 20 2010 22:36:59
%ENV:
PERL5LIB="/home/cpt0/.cpan/build/Test-MockObject-1.09-E066h2/blib/arch:/home/cpt0/.cpan/build/Test-MockObject-1.09-E066h2/blib/lib:/home/cpt0/.cpan/build/UNIVERSAL-can-1.16-usREll/blib/arch:/home/cpt0/.cpan/build/UNIVERSAL-can-1.16-usREll/blib/lib:/home/cpt0/.cpan/build/Algorithm-Diff-1.1902-EN3U_v/blib/arch:/home/cpt0/.cpan/build/Algorithm-Diff-1.1902-EN3U_v/blib/lib:/home/cpt0/.cpan/build/UNIVERSAL-isa-1.03-9eU1SI/blib/arch:/home/cpt0/.cpan/build/UNIVERSAL-isa-1.03-9eU1SI/blib/lib"
PERL5OPT=""
PERL5_CPANPLUS_IS_RUNNING="23840"
PERL5_CPAN_IS_RUNNING="23840"
PERL5_CPAN_IS_RUNNING_IN_RECURSION="4595,23840"
PERL_CR_SMOKER_CURRENT="HTTP-WebTest-Plugin-Sticky-0.02"
PERL_EXTUTILS_AUTOINSTALL="--defaultdeps"
PERL_MM_USE_DEFAULT="1"
@INC:
/home/cpt0/.cpan/build/Test-MockObject-1.09-E066h2/blib/arch
/home/cpt0/.cpan/build/Test-MockObject-1.09-E066h2/blib/lib
/home/cpt0/.cpan/build/UNIVERSAL-can-1.16-usREll/blib/arch
/home/cpt0/.cpan/build/UNIVERSAL-can-1.16-usREll/blib/lib
/home/cpt0/.cpan/build/Algorithm-Diff-1.1902-EN3U_v/blib/arch
/home/cpt0/.cpan/build/Algorithm-Diff-1.1902-EN3U_v/blib/lib
/home/cpt0/.cpan/build/UNIVERSAL-isa-1.03-9eU1SI/blib/arch
/home/cpt0/.cpan/build/UNIVERSAL-isa-1.03-9eU1SI/blib/lib
/home/cpt0/cpantesting/perl-5.13.5/lib/site_perl/5.13.5/x86_64-linux-thread-multi
/home/cpt0/cpantesting/perl-5.13.5/lib/site_perl/5.13.5
/home/cpt0/cpantesting/perl-5.13.5/lib/5.13.5/x86_64-linux-thread-multi
/home/cpt0/cpantesting/perl-5.13.5/lib/5.13.5
.