XML-Catalogs-HTML vv1.8.0 Perl 5 v5.36.0 amd64-freebsd-ld
- Status
- Pass
- From
- Slaven Rezić
- Dist
-
XML-Catalogs-HTML vv1.8.0
- Platform
- Perl 5 v5.36.0 amd64-freebsd-ld
- Date
- 2023-11-30 21:15:39
- ID
- 9c7e3f1a-8fc5-11ee-b093-dfec6d8775ea
This distribution has been tested as part of the CPAN Testers
project, supporting the Perl programming language. See
http://wiki.cpantesters.org/ for more information or email
questions to cpan-testers-discuss@perl.org
--
Dear ikegami,
This is a computer-generated report for XML-Catalogs-HTML-v1.8.0
on perl 5.36.0, created by CPAN-Reporter-1.2018.
Thank you for uploading your work to CPAN. Congratulations!
All tests were successful.
Sections of this report:
* Tester comments
* Program output
* Prerequisites
* Environment and other context
------------------------------
TESTER COMMENTS
------------------------------
Additional comments from tester:
none provided
------------------------------
PROGRAM OUTPUT
------------------------------
Output from '/usr/bin/make test':
Skip blib/lib/auto/share/module/XML-Catalogs-HTML/html401-loose.dtd (unchanged)
Skip blib/lib/auto/share/module/XML-Catalogs-HTML/html401-HTMLspecial.ent (unchanged)
Skip blib/lib/auto/share/module/XML-Catalogs-HTML/xhtml1-transitional.dtd (unchanged)
Skip blib/lib/auto/share/module/XML-Catalogs-HTML/xhtml1-frameset.dtd (unchanged)
Skip blib/lib/auto/share/module/XML-Catalogs-HTML/html401-frameset.dtd (unchanged)
Skip blib/lib/auto/share/module/XML-Catalogs-HTML/html401-HTMLsymbol.ent (unchanged)
Skip blib/lib/auto/share/module/XML-Catalogs-HTML/html401-HTMLlat1.ent (unchanged)
Skip blib/lib/auto/share/module/XML-Catalogs-HTML/xhtml1-strict.dtd (unchanged)
Skip blib/lib/auto/share/module/XML-Catalogs-HTML/xhtml-lat1.ent (unchanged)
Skip blib/lib/auto/share/module/XML-Catalogs-HTML/xhtml-symbol.ent (unchanged)
Skip blib/lib/auto/share/module/XML-Catalogs-HTML/catalog.xml (unchanged)
Skip blib/lib/auto/share/module/XML-Catalogs-HTML/xhtml-special.ent (unchanged)
Skip blib/lib/auto/share/module/XML-Catalogs-HTML/html401-strict.dtd (unchanged)
PERL_DL_NONLAZY=1 "/usr/perl5.36.0Dp/bin/perl" "-MExtUtils::Command::MM" "-MTest::Harness" "-e" "undef *Test::Harness::Switches; test_harness(0, 'blib/lib', 'blib/arch')" t/*.t
# Testing XML::Catalogs::HTML v1.8.0
# Using Perl 5.036000
# Carp 1.52
# Class::Inspector 1.36
# Config 5.036000
# Cwd 3.84
# Exporter 5.77
# Exporter::Heavy 5.77
# Exporter::Tiny 1.006001
# Fcntl 1.15
# File::ShareDir 1.118
# File::Spec 3.84
# File::Spec::Unix 3.84
# Lexical::SealRequireHints 0.012
# Lexical::Sub 0.010
# Lexical::Var 0.010
# List::MoreUtils 0.430
# List::MoreUtils::PP 0.430
# List::MoreUtils::XS 0.430
# List::Util 1.63
# POSIX 2.03
# Params::Util 1.102
# Params::Util::PP 1.102
# PerlIO 1.12
# Scalar::Util 1.63
# Test::Builder 1.302198
# Test::Builder::Formatter 1.302198
# Test::Builder::Module 1.302198
# Test::Builder::TodoDiag 1.302198
# Test::More 1.302198
# Test2::API 1.302198
# Test2::API::Context 1.302198
# Test2::API::Instance 1.302198
# Test2::API::Stack 1.302198
# Test2::Event 1.302198
# Test2::Event::Bail 1.302198
# Test2::Event::Diag 1.302198
# Test2::Event::Exception 1.302198
# Test2::Event::Fail 1.302198
# Test2::Event::Note 1.302198
# Test2::Event::Ok 1.302198
# Test2::Event::Pass 1.302198
# Test2::Event::Plan 1.302198
# Test2::Event::Skip 1.302198
# Test2::Event::Subtest 1.302198
# Test2::Event::V2 1.302198
# Test2::Event::Waiting 1.302198
# Test2::EventFacet 1.302198
# Test2::EventFacet::About 1.302198
# Test2::EventFacet::Amnesty 1.302198
# Test2::EventFacet::Assert 1.302198
# Test2::EventFacet::Control 1.302198
# Test2::EventFacet::Error 1.302198
# Test2::EventFacet::Hub 1.302198
# Test2::EventFacet::Info 1.302198
# Test2::EventFacet::Meta 1.302198
# Test2::EventFacet::Parent 1.302198
# Test2::EventFacet::Plan 1.302198
# Test2::EventFacet::Trace 1.302198
# Test2::Formatter 1.302198
# Test2::Formatter::TAP 1.302198
# Test2::Hub 1.302198
# Test2::Hub::Interceptor 1.302198
# Test2::Hub::Interceptor::Terminator 1.302198
# Test2::Hub::Subtest 1.302198
# Test2::Util 1.302198
# Test2::Util::ExternalMeta 1.302198
# Test2::Util::Facets2Legacy 1.302198
# Test2::Util::HashBase 1.302198
# Test2::Util::Trace 1.302198
# Tie::Hash 1.06
# Time::HiRes 1.977
# XML::Catalogs v1.6.0
# XML::Catalogs::HTML v1.8.0
# XSLoader 0.31
# base 2.27
# constant 1.33
# mro 1.26
# overload 1.35
# overloading 0.02
# parent 0.238
# strict 1.12
# utf8 1.24
# vars 1.05
# version 0.9929
# version::regex 0.9929
# warnings 1.58
# warnings::register 1.04
t/00_load.t ................. ok
t/01_devel_mark_check.t ..... skipped: Mark checks are only performed when DEVEL_TESTS=1
t/02_devel_version_check.t .. skipped: Version checks are only performed when DEVEL_TESTS=1
t/03_devel_whitespace.t ..... skipped: Whitespace checks are only performed when DEVEL_TESTS=1
t/04_devel_permissions.t .... skipped: Permission checks are only performed when DEVEL_TESTS=1
t/05_pod.t .................. ok
t/06_devel_pod_coverage.t ... skipped: Pod coverage is only tested when DEVEL_TESTS=1
t/10_libxml.t ............... ok
All tests successful.
Files=8, Tests=5, 1 wallclock secs ( 0.03 usr 0.02 sys + 0.42 cusr 0.06 csys = 0.53 CPU)
Result: PASS
------------------------------
PREREQUISITES
------------------------------
Prerequisite modules loaded:
requires:
Module Need Have
-------------------- ---- --------
parent 0 0.238
strict 0 1.12
version 0 0.9929
warnings 0 1.58
XML::Catalogs 0 v1.6.0
build_requires:
Module Need Have
-------------------- ---- --------
Test::More 0 1.302198
configure_requires:
Module Need Have
-------------------- ---- --------
ExtUtils::MakeMaker 6.52 7.70
! File::Share::Install 0 n/a
------------------------------
ENVIRONMENT AND OTHER CONTEXT
------------------------------
Environment variables:
PATH = /usr/local/bin:/usr/bin:/bin:/usr/local/sbin:/usr/sbin:/sbin:/home/cpansand/bin/sh:/home/cpansand/bin:/usr/games:/home/cpansand/devel:/usr/home/eserte/src/srezic-misc/scripts
PERL5LIB = /home/cpansand/.cpan/build/2023113020/XML-Catalogs-v1.6.0-2/blib/arch:/home/cpansand/.cpan/build/2023113020/XML-Catalogs-v1.6.0-2/blib/lib
PERL5OPT =
PERL5_CPANPLUS_IS_RUNNING = 14134
PERL5_CPAN_IS_RUNNING = 14134
PERL5_CPAN_IS_RUNNING_IN_RECURSION = 12099,14134
PERL_BATCH = yes
PERL_CANARY_STABILITY_NOPROMPT = 1
PERL_CPAN_REPORTER_CONFIG = /var/tmp/cpansmoker-1023/2023113020/cpanreporter_000_config.ini
PERL_EXTUTILS_AUTOINSTALL = --defaultdeps
PERL_USE_UNSAFE_INC = 1
SHELL = /bin/sh
TMPDIR = /var/tmp/cpansmoker-1023/2023113020
Perl special variables (and OS-specific diagnostics, for MSWin32):
$^X = /usr/perl5.36.0Dp/bin/perl
$UID/$EUID = 1023 / 1023
$GID = 1023 1023
$EGID = 1023 1023
Perl module toolchain versions installed:
Module Have
------------------- --------
CPAN 2.36
CPAN::Meta 2.150010
Cwd 3.84
ExtUtils::CBuilder 0.280236
ExtUtils::Command 7.70
ExtUtils::Install 2.20
ExtUtils::MakeMaker 7.70
ExtUtils::Manifest 1.75
ExtUtils::ParseXS 3.51
File::Spec 3.84
JSON 4.10
JSON::PP 4.15
Module::Build 0.4234
Module::Signature n/a
Parse::CPAN::Meta 2.150010
Test::Harness 3.47
Test::More 1.302198
YAML 1.30
YAML::Syck 1.34
version 0.9929
--
Summary of my perl5 (revision 5 version 36 subversion 0) configuration:
Platform:
osname=freebsd
osvers=13.1-stable
archname=amd64-freebsd-ld
uname='freebsd cloud10.bbbike.org 13.1-stable freebsd 13.1-stable #1 stable13-249d205cb: thu may 5 07:39:11 utc 2022 root@cloud10.bbbike.org:usrobjusrhomeprojectsfreebsd-srcamd64.amd64sysgeneric amd64 '
config_args='-ds -e -Dprefix=/usr/perl5.36.0Dp -Duselongdouble -Dcf_email=srezic@cpan.org -Doptimize=-O2 -pipe'
hint=recommended
useposix=true
d_sigaction=define
useithreads=undef
usemultiplicity=undef
use64bitint=define
use64bitall=define
uselongdouble=define
usemymalloc=n
default_inc_excludes_dot=define
Compiler:
cc='cc'
ccflags ='-DHAS_FPSETMASK -DHAS_FLOATINGPOINT_H -fno-strict-aliasing -pipe -fstack-protector-strong -I/usr/local/include'
optimize='-O2 -pipe'
cppflags='-DHAS_FPSETMASK -DHAS_FLOATINGPOINT_H -fno-strict-aliasing -pipe -fstack-protector-strong -I/usr/local/include'
ccversion=''
gccversion='FreeBSD Clang 13.0.0 (git@github.com:llvm/llvm-project.git llvmorg-13.0.0-0-gd7b669b3a303)'
gccosandvers=''
intsize=4
longsize=8
ptrsize=8
doublesize=8
byteorder=12345678
doublekind=3
d_longlong=define
longlongsize=8
d_longdbl=define
longdblsize=16
longdblkind=3
ivtype='long'
ivsize=8
nvtype='long double'
nvsize=16
Off_t='off_t'
lseeksize=8
alignbytes=16
prototype=define
Linker and Libraries:
ld='cc'
ldflags ='-pthread -Wl,-E -fstack-protector-strong -L/usr/local/lib'
libpth=/usr/lib /usr/local/lib /usr/lib/clang/13.0.0/lib
libs=-lpthread -lgdbm -ldl -lm -lcrypt -lutil -lc
perllibs=-lpthread -ldl -lm -lcrypt -lutil -lc
libc=
so=so
useshrplib=false
libperl=libperl.a
gnulibc_version=''
Dynamic Linking:
dlsrc=dl_dlopen.xs
dlext=so
d_dlsymun=undef
ccdlflags=' '
cccdlflags='-DPIC -fPIC'
lddlflags='-shared -L/usr/local/lib -fstack-protector-strong'
Characteristics of this binary (from libperl):
Compile-time options:
HAS_TIMES
PERLIO_LAYERS
PERL_COPY_ON_WRITE
PERL_DONT_CREATE_GVSV
PERL_MALLOC_WRAP
PERL_OP_PARENT
PERL_PRESERVE_IVUV
USE_64_BIT_ALL
USE_64_BIT_INT
USE_LARGE_FILES
USE_LOCALE
USE_LOCALE_COLLATE
USE_LOCALE_CTYPE
USE_LOCALE_NUMERIC
USE_LOCALE_TIME
USE_LONG_DOUBLE
USE_PERLIO
USE_PERL_ATOF
Built under freebsd
Compiled at May 31 2022 04:58:10
%ENV:
PERL5LIB="/home/cpansand/.cpan/build/2023113020/XML-Catalogs-v1.6.0-2/blib/arch:/home/cpansand/.cpan/build/2023113020/XML-Catalogs-v1.6.0-2/blib/lib"
PERL5OPT=""
PERL5_CPANPLUS_IS_RUNNING="14134"
PERL5_CPAN_IS_RUNNING="14134"
PERL5_CPAN_IS_RUNNING_IN_RECURSION="12099,14134"
PERL_BATCH="yes"
PERL_CANARY_STABILITY_NOPROMPT="1"
PERL_CPAN_REPORTER_CONFIG="/var/tmp/cpansmoker-1023/2023113020/cpanreporter_000_config.ini"
PERL_EXTUTILS_AUTOINSTALL="--defaultdeps"
PERL_USE_UNSAFE_INC="1"
@INC:
/home/cpansand/.cpan/build/2023113020/XML-Catalogs-v1.6.0-2/blib/arch
/home/cpansand/.cpan/build/2023113020/XML-Catalogs-v1.6.0-2/blib/lib
/usr/perl5.36.0Dp/lib/site_perl/5.36.0/amd64-freebsd-ld
/usr/perl5.36.0Dp/lib/site_perl/5.36.0
/usr/perl5.36.0Dp/lib/5.36.0/amd64-freebsd-ld
/usr/perl5.36.0Dp/lib/5.36.0
.