Test-CleanNamespaces v0.24 Perl 5 v5.37.7 x86_64-dragonfly
- Status
- Pass
- From
- Carlos Guevara
- Dist
-
Test-CleanNamespaces v0.24
- Platform
- Perl 5 v5.37.7 x86_64-dragonfly
- Date
- 2022-12-12 09:37:36
- ID
- 9c6b4c10-7a00-11ed-b1b6-51bc09e4cbdf
This distribution has been tested as part of the CPAN Testers
project, supporting the Perl programming language. See
http://wiki.cpantesters.org/ for more information or email
questions to cpan-testers-discuss@perl.org
--
Dear Karen Etheridge,
This is a computer-generated report for Test-CleanNamespaces-0.24
on perl 5.37.7, created by CPAN-Reporter-1.2018.
Thank you for uploading your work to CPAN. Congratulations!
All tests were successful.
Sections of this report:
* Tester comments
* Program output
* Prerequisites
* Environment and other context
------------------------------
TESTER COMMENTS
------------------------------
Additional comments from tester:
this report is from an automated smoke testing program
and was not reviewed by a human for accuracy
------------------------------
PROGRAM OUTPUT
------------------------------
Output from '/usr/bin/make test':
PERL_DL_NONLAZY=1 "/home/cpan/bin/perl-blead/bin/perl5.37.7" "-MExtUtils::Command::MM" "-MTest::Harness" "-e" "undef *Test::Harness::Switches; test_harness(0, 'blib/lib', 'blib/arch')" t/*.t
#
# Versions for all modules listed in MYMETA.json (including optional ones):
#
# === Configure Requires ===
#
# Module Want Have
# ------------------------ -------- --------
# CPAN::Meta::Requirements 2.120620 2.140
# ExtUtils::MakeMaker any 7.64
# Module::Metadata any 1.000037
#
# === Build Requires ===
#
# Module Want Have
# ------------------- ---- ----
# ExtUtils::MakeMaker any 7.64
#
# === Test Requires ===
#
# Module Want Have
# --------------------- ----- --------
# ExtUtils::MakeMaker any 7.64
# File::Spec any 3.88
# File::Spec::Functions any 3.88
# File::pushd any 1.016
# Scalar::Util any 1.63
# Sub::Exporter any 0.988
# Test::Deep any 1.130
# Test::More 0.96 1.302191
# Test::Needs any 0.002009
# Test::Tester any 1.302191
# Test::Warnings 0.009 0.031
# constant any 1.33
# if any 0.0610
# lib any 0.65
# namespace::clean any 0.27
# overload any 1.36
# parent any 0.239
#
# === Test Recommends ===
#
# Module Want Have
# ---------- -------- --------
# CPAN::Meta 2.120900 2.150010
#
# === Test Suggests ===
#
# Module Want Have
# --------------------------- -------- --------
# Class::MOP::Class any missing
# Moo any 2.005004
# Moo::Role any 2.005004
# Moose any missing
# Moose::Exporter any missing
# Moose::Role any missing
# MooseX::Role::Parameterized any missing
# Mouse any missing
# Mouse::Role any missing
# Role::Tiny 1.003000 2.002004
# metaclass any missing
#
# === Runtime Requires ===
#
# Module Want Have
# --------------- -------- --------
# Exporter 5.57 5.77
# File::Find any 1.41
# File::Spec any 3.88
# Module::Runtime any 0.016
# Package::Stash 0.14 0.40
# Role::Tiny 1.003000 2.002004
# Sub::Identify any 0.14
# Test::Builder any 1.302191
# strict any 1.12
# warnings any 1.61
#
# === Runtime Recommends ===
#
# Module Want Have
# ------------------ ---- ----
# Package::Stash::XS any 0.30
#
# === Runtime Suggests ===
#
# Module Want Have
# ---------- ---- --------
# Role::Tiny any 2.002004
#
# === Other Modules ===
#
# Module Have
# --------------- -------
# Encode 3.19
# File::Temp 0.2311
# JSON::PP 4.12
# Module::Runtime 0.016
# Pod::Coverage missing
# Sub::Name 0.26
# YAML missing
# autodie 2.34
#
t/00-report-prereqs.t ......... ok
t/basic.t ..................... ok
t/class_mop.t ................. skipped: Need Class::MOP
t/clean-namespaces.t .......... ok
t/find_modules.t .............. ok
t/moo.t ....................... ok
t/moose-parameterized-role.t .. skipped: Need Moose, MooseX::Role::Parameterized
t/moose.t ..................... skipped: Need Moose
t/mouse.t ..................... skipped: Need Mouse
t/overload.t .................. ok
t/role_tiny.t ................. ok
t/self.t ...................... ok
t/zzz-check-breaks.t .......... ok
All tests successful.
Files=13, Tests=134, 2 wallclock secs ( 0.15 usr 0.09 sys + 1.69 cusr 0.27 csys = 2.19 CPU)
Result: PASS
------------------------------
PREREQUISITES
------------------------------
Prerequisite modules loaded:
requires:
Module Need Have
------------------------ -------- --------
Exporter 5.57 5.77
File::Find 0 1.41
File::Spec 0 3.88
Module::Runtime 0 0.016
Package::Stash 0.14 0.40
perl 5.006 5.037007
Role::Tiny 1.003000 2.002004
strict 0 1.12
Sub::Identify 0 0.14
Test::Builder 0 1.302191
warnings 0 1.61
build_requires:
Module Need Have
------------------------ -------- --------
constant 0 1.33
ExtUtils::MakeMaker 0 7.64
File::pushd 0 1.016
File::Spec 0 3.88
File::Spec::Functions 0 3.88
if 0 0.0610
lib 0 0.65
namespace::clean 0 0.27
overload 0 1.36
parent 0 0.239
Scalar::Util 0 1.63
Sub::Exporter 0 0.988
Test::Deep 0 1.130
Test::More 0.96 1.302191
Test::Needs 0 0.002009
Test::Tester 0 1.302191
Test::Warnings 0.009 0.031
configure_requires:
Module Need Have
------------------------ -------- --------
CPAN::Meta::Requirements 2.120620 2.140
ExtUtils::MakeMaker 0 7.64
Module::Metadata 0 1.000037
perl 5.006 5.037007
------------------------------
ENVIRONMENT AND OTHER CONTEXT
------------------------------
Environment variables:
AUTOMATED_TESTING = 1
DATE_MANIP_TEST_DM5 = 1
LC_ALL = C
NONINTERACTIVE_TESTING = 1
NO_NETWORK_TESTING = 1
PATH = /home/cpan/bin/perl-blead/bin:/home/cpan/bin:/sbin:/bin:/usr/sbin:/usr/bin:/usr/games:/usr/local/sbin:/usr/local/bin:/usr/pkg/sbin:/usr/pkg/bin:/home/cpan/bin
PERL5LIB =
PERL5OPT =
PERL5_CPANPLUS_IS_RUNNING = 354314
PERL5_CPAN_IS_RUNNING = 354314
PERL_MM_USE_DEFAULT = 1
PERL_USE_UNSAFE_INC = 1
PERL_VERSION = blead
SHELL = /usr/local/bin/bash
TERM = screen
TMPDIR = /home/cpan/tmp
Perl special variables (and OS-specific diagnostics, for MSWin32):
$^X = /home/cpan/bin/perl-blead/bin/perl5.37.7
$UID/$EUID = 1002 / 1002
$GID = 1002 1002
$EGID = 1002 1002
Perl module toolchain versions installed:
Module Have
------------------- --------
CPAN 2.34
CPAN::Meta 2.150010
Cwd 3.88
ExtUtils::CBuilder 0.280238
ExtUtils::Command 7.64
ExtUtils::Install 2.20
ExtUtils::MakeMaker 7.64
ExtUtils::Manifest 1.73
ExtUtils::ParseXS 3.49
File::Spec 3.88
JSON n/a
JSON::PP 4.12
Module::Build 0.4232
Module::Signature n/a
Parse::CPAN::Meta 2.150010
Test::Harness 3.44
Test::More 1.302191
YAML n/a
YAML::Syck n/a
version 0.9929
--
Summary of my perl5 (revision 5 version 37 subversion 7) configuration:
Commit id: 84fa78b4832e64bc0dfc0ea25843d48b4d9782c7
Platform:
osname=dragonfly
osvers=6.2-release
archname=x86_64-dragonfly
uname='dragonfly cjg-dragonfly6 6.2-release dragonfly v6.2.1-release #1: sun jan 9 20:35:22 est 2022 root@www.shiningsilence.com:usrobjhomejustinrelease6_2sysx86_64_generic x86_64 '
config_args='-des -Dprefix=~/bin/perl-blead -Dscriptdir=~/bin/perl-blead/bin -Dusedevel -Duse64bitall'
hint=recommended
useposix=true
d_sigaction=define
useithreads=undef
usemultiplicity=undef
use64bitint=define
use64bitall=define
uselongdouble=undef
usemymalloc=n
default_inc_excludes_dot=define
Compiler:
cc='cc'
ccflags ='-DHAS_FPSETMASK -DHAS_FLOATINGPOINT_H -fwrapv -fno-strict-aliasing -pipe -fstack-protector-strong -I/usr/local/include -D_FORTIFY_SOURCE=2'
optimize='-O2'
cppflags='-DHAS_FPSETMASK -DHAS_FLOATINGPOINT_H -fwrapv -fno-strict-aliasing -pipe -fstack-protector-strong -I/usr/local/include'
ccversion=''
gccversion='8.3 [DragonFly] Release/2019-02-22'
gccosandvers=''
intsize=4
longsize=8
ptrsize=8
doublesize=8
byteorder=12345678
doublekind=3
d_longlong=define
longlongsize=8
d_longdbl=define
longdblsize=16
longdblkind=3
ivtype='long'
ivsize=8
nvtype='double'
nvsize=8
Off_t='off_t'
lseeksize=8
alignbytes=8
prototype=define
Linker and Libraries:
ld='cc'
ldflags ='-Wl,-E -fstack-protector-strong -L/usr/local/lib'
libpth=/usr/lib /usr/local/lib
libs=-lpthread -ldl -lm -lcrypt -lutil -lc
perllibs=-lpthread -ldl -lm -lcrypt -lutil -lc
libc=
so=so
useshrplib=false
libperl=libperl.a
gnulibc_version=''
Dynamic Linking:
dlsrc=dl_dlopen.xs
dlext=so
d_dlsymun=undef
ccdlflags=' '
cccdlflags='-DPIC -fPIC'
lddlflags='-shared -L/usr/local/lib -fstack-protector-strong'
Characteristics of this binary (from libperl):
Compile-time options:
HAS_TIMES
PERLIO_LAYERS
PERL_COPY_ON_WRITE
PERL_DONT_CREATE_GVSV
PERL_HASH_FUNC_SIPHASH13
PERL_HASH_USE_SBOX32
PERL_MALLOC_WRAP
PERL_OP_PARENT
PERL_PRESERVE_IVUV
PERL_USE_DEVEL
PERL_USE_SAFE_PUTENV
USE_64_BIT_ALL
USE_64_BIT_INT
USE_LARGE_FILES
USE_LOCALE
USE_LOCALE_COLLATE
USE_LOCALE_CTYPE
USE_LOCALE_NUMERIC
USE_LOCALE_TIME
USE_PERLIO
USE_PERL_ATOF
Built under dragonfly
Compiled at Dec 11 2022 22:33:12
%ENV:
PERL5LIB=""
PERL5OPT=""
PERL5_CPANPLUS_IS_RUNNING="354314"
PERL5_CPAN_IS_RUNNING="354314"
PERL_MM_USE_DEFAULT="1"
PERL_USE_UNSAFE_INC="1"
PERL_VERSION="blead"
@INC:
/home/cpan/bin/perl-blead/lib/site_perl/5.37.7/x86_64-dragonfly
/home/cpan/bin/perl-blead/lib/site_perl/5.37.7
/home/cpan/bin/perl-blead/lib/5.37.7/x86_64-dragonfly
/home/cpan/bin/perl-blead/lib/5.37.7
.