Report for MooseX-Types-Structured-0.30

Back
From: metabase:user:314402c4-2aae-11df-837a-5e0a49663a4f
Subject: PASS MooseX-Types-Structured-0.30 v5.21.9 GNU/Linux
Date: 2015-02-21T20:52:55Z

This distribution has been tested as part of the CPAN Testers
project, supporting the Perl programming language.  See
http://wiki.cpantesters.org/ for more information or email
questions to cpan-testers-discuss@perl.org


--
Dear Karen Etheridge,

This is a computer-generated report for MooseX-Types-Structured-0.30
on perl 5.21.9, created by CPAN-Reporter-1.2011.

Thank you for uploading your work to CPAN.  Congratulations!
All tests were successful.

Sections of this report:

    * Tester comments
    * Program output
    * Prerequisites
    * Environment and other context

------------------------------
TESTER COMMENTS
------------------------------

Additional comments from tester:

none provided

------------------------------
PROGRAM OUTPUT
------------------------------

Output from './Build test':

t/00-load.t .................... ok

# Versions for all modules listed in MYMETA.json (including optional ones):
#        Version Module                                      
#   ------------ --------------------------------------------
#       2.143240 CPAN::Meta                                  
#          2.132 CPAN::Meta::Requirements                    
#          2.157 Data::Dumper                                
#           1.18 DateTime                                    
#           0.17 Devel::PartialDump                          
#           7.04 ExtUtils::MakeMaker                         
#           3.54 File::Spec::Functions                       
#           1.41 List::Util                                  
#          0.039 Module::Build::Tiny                         
#         2.1403 Moose                                       
#         2.1403 Moose::Meta::TypeCoercion                   
#         2.1403 Moose::Meta::TypeConstraint                 
#         2.1403 Moose::Meta::TypeConstraint::Parameterizable
#         2.1403 Moose::Util::TypeConstraints                
#           0.45 MooseX::Types                               
#           0.10 MooseX::Types::DateTime                     
#           0.45 MooseX::Types::Moose                        
#           1.41 Scalar::Util                                
#          0.987 Sub::Exporter                               
#          0.014 Test::Fatal                                 
#   1.301001_098 Test::More                                  
#           1.25 overload                                    
#           1.09 strict                                      
#           1.31 warnings                                    
t/00-report-prereqs.t .......... ok
t/01-basic.t ................... ok
t/02-tuple.t ................... ok
t/03-dict.t .................... ok
t/04-combined.t ................ ok
t/04-map.t ..................... ok
t/05-advanced.t ................ ok
t/06-api.t ..................... ok
t/07-coerce.t .................. ok
t/08-examples.t ................ ok
t/09-optional.t ................ ok
t/10-recursion.t ............... ok
t/11-overflow.t ................ ok
t/12-error.t ................... ok
t/13-deeper_error.t ............ ok
t/bug-incorrect-message.t ...... ok
t/bug-is-subtype.t ............. ok
t/bug-mixed-stringy.t .......... ok
t/bug-optional.t ............... ok
t/regressions/01-is_type_of.t .. ok
All tests successful.
Files=21, Tests=357, 21 wallclock secs ( 0.17 usr  0.04 sys + 19.52 cusr  0.72 csys = 20.45 CPU)
Result: PASS

------------------------------
PREREQUISITES
------------------------------

Prerequisite modules loaded:

requires:

    Module                                       Need  Have        
    -------------------------------------------- ----- ------------
    Devel::PartialDump                           0.13  0.17        
    Moose                                        1.08  2.1403      
    Moose::Meta::TypeCoercion                    0     2.1403      
    Moose::Meta::TypeConstraint                  0     2.1403      
    Moose::Meta::TypeConstraint::Parameterizable 0     2.1403      
    Moose::Util::TypeConstraints                 1.06  2.1403      
    MooseX::Types                                0.22  0.45        
    overload                                     0     1.25        
    perl                                         5.008 5.021009    
    Scalar::Util                                 0     1.41        
    Sub::Exporter                                0.982 0.987       

build_requires:

    Module                                       Need  Have        
    -------------------------------------------- ----- ------------
    Data::Dumper                                 0     2.157       
    DateTime                                     0     1.18        
    ExtUtils::MakeMaker                          0     7.04        
    File::Spec::Functions                        0     3.54        
    List::Util                                   0     1.41        
    MooseX::Types::DateTime                      0     0.10        
    MooseX::Types::Moose                         0     0.45        
    strict                                       0     1.09        
    Test::Fatal                                  0     0.014       
    Test::More                                   0.94  1.301001_098
    warnings                                     0     1.31        

configure_requires:

    Module                                       Need  Have        
    -------------------------------------------- ----- ------------
    ExtUtils::MakeMaker                          6.30  7.04        
    Module::Build::Tiny                          0.030 0.039       


------------------------------
ENVIRONMENT AND OTHER CONTEXT
------------------------------

Environment variables:

    DBIC_NO_WARN_BAD_PERL = 1
    LANG = en_US.UTF-8
    LANGUAGE = en_US:en
    PATH = /usr/local/bin:/usr/bin:/bin:/usr/local/sbin:/usr/sbin:/sbin:/home/cpansand/bin/linux-gnu:/home/cpansand/bin/sh:/home/cpansand/bin:/usr/games:/home/cpansand/devel:/home/eserte/src/srezic-misc/scripts
    PERL5LIB = 
    PERL5OPT = 
    PERL5_CPANPLUS_IS_RUNNING = 24238
    PERL5_CPAN_IS_RUNNING = 24238
    PERL5_CPAN_IS_RUNNING_IN_RECURSION = 2593,24238
    PERLDOC = -MPod::Perldoc::ToTextOverstrike
    PERL_BATCH = yes
    PERL_CPAN_REPORTER_CONFIG = /run/user/1023/cpansmoker/DQzBF5bdQq_config.ini
    PERL_EXTUTILS_AUTOINSTALL = --defaultdeps
    PERL_HTML_DISPLAY_CLASS = HTML::Display::Mozilla
    SHELL = /bin/zsh
    TERM = screen
    TMPDIR = /run/user/1023/cpansmoker

Perl special variables (and OS-specific diagnostics, for MSWin32):

    $^X = /opt/perl-5.21.9/bin/perl5.21.9
    $UID/$EUID = 1023 / 1023
    $GID = 1023 1023
    $EGID = 1023 1023

Perl module toolchain versions installed:

    Module              Have        
    ------------------- ------------
    CPAN                2.05        
    CPAN::Meta          2.143240    
    Cwd                 3.54        
    ExtUtils::CBuilder  0.280221    
    ExtUtils::Command   1.20        
    ExtUtils::Install   2.04        
    ExtUtils::MakeMaker 7.04        
    ExtUtils::Manifest  1.70        
    ExtUtils::ParseXS   3.27        
    File::Spec          3.53        
    JSON                2.90        
    JSON::PP            2.27300     
    Module::Build       0.4211      
    Module::Signature   n/a         
    Parse::CPAN::Meta   1.4414      
    Test::Harness       3.35        
    Test::More          1.301001_098
    YAML                1.14        
    YAML::Syck          1.29        
    version             0.9909      


--

Summary of my perl5 (revision 5 version 21 subversion 9) configuration:
   
  Platform:
    osname=linux, osvers=3.16.0-4-amd64, archname=x86_64-linux
    uname='linux cvrsnica-jessie 3.16.0-4-amd64 #1 smp debian 3.16.7-2 (2014-11-06) x86_64 gnulinux '
    config_args='-ds -e -Dprefix=/opt/perl-5.21.9 -Dusedevel -Dusemallocwrap=no'
    hint=recommended, useposix=true, d_sigaction=define
    useithreads=undef, usemultiplicity=undef
    use64bitint=define, use64bitall=define, uselongdouble=undef
    usemymalloc=n, bincompat5005=undef
  Compiler:
    cc='cc', ccflags ='-fwrapv -fno-strict-aliasing -pipe -fstack-protector-strong -I/usr/local/include -D_LARGEFILE_SOURCE -D_FILE_OFFSET_BITS=64 -D_FORTIFY_SOURCE=2',
    optimize='-O2',
    cppflags='-fwrapv -fno-strict-aliasing -pipe -fstack-protector-strong -I/usr/local/include'
    ccversion='', gccversion='4.9.1', gccosandvers=''
    intsize=4, longsize=8, ptrsize=8, doublesize=8, byteorder=12345678, doublekind=3
    d_longlong=define, longlongsize=8, d_longdbl=define, longdblsize=16, longdblkind=3
    ivtype='long', ivsize=8, nvtype='double', nvsize=8, Off_t='off_t', lseeksize=8
    alignbytes=8, prototype=define
  Linker and Libraries:
    ld='cc', ldflags =' -fstack-protector-strong -L/usr/local/lib'
    libpth=/usr/local/lib /usr/lib/gcc/x86_64-linux-gnu/4.9/include-fixed /usr/include/x86_64-linux-gnu /usr/lib /lib/x86_64-linux-gnu /lib/../lib /usr/lib/x86_64-linux-gnu /usr/lib/../lib /lib
    libs=-lpthread -lnsl -lgdbm -ldb -ldl -lm -lcrypt -lutil -lc -lgdbm_compat
    perllibs=-lpthread -lnsl -ldl -lm -lcrypt -lutil -lc
    libc=libc-2.19.so, so=so, useshrplib=false, libperl=libperl.a
    gnulibc_version='2.19'
  Dynamic Linking:
    dlsrc=dl_dlopen.xs, dlext=so, d_dlsymun=undef, ccdlflags='-Wl,-E'
    cccdlflags='-fPIC', lddlflags='-shared -O2 -L/usr/local/lib -fstack-protector-strong'


Characteristics of this binary (from libperl): 
  Compile-time options: HAS_TIMES PERLIO_LAYERS PERL_DONT_CREATE_GVSV
                        PERL_HASH_FUNC_ONE_AT_A_TIME_HARD
                        PERL_NEW_COPY_ON_WRITE PERL_PRESERVE_IVUV
                        PERL_USE_DEVEL USE_64_BIT_ALL USE_64_BIT_INT
                        USE_LARGE_FILES USE_LOCALE USE_LOCALE_COLLATE
                        USE_LOCALE_CTYPE USE_LOCALE_NUMERIC USE_LOCALE_TIME
                        USE_PERLIO USE_PERL_ATOF
  Built under linux
  Compiled at Feb 21 2015 09:40:31
  %ENV:
    PERL5LIB=""
    PERL5OPT=""
    PERL5_CPANPLUS_IS_RUNNING="24238"
    PERL5_CPAN_IS_RUNNING="24238"
    PERL5_CPAN_IS_RUNNING_IN_RECURSION="2593,24238"
    PERLDOC="-MPod::Perldoc::ToTextOverstrike"
    PERL_BATCH="yes"
    PERL_CPAN_REPORTER_CONFIG="/run/user/1023/cpansmoker/DQzBF5bdQq_config.ini"
    PERL_EXTUTILS_AUTOINSTALL="--defaultdeps"
    PERL_HTML_DISPLAY_CLASS="HTML::Display::Mozilla"
  @INC:
    /opt/perl-5.21.9/lib/site_perl/5.21.9/x86_64-linux
    /opt/perl-5.21.9/lib/site_perl/5.21.9
    /opt/perl-5.21.9/lib/5.21.9/x86_64-linux
    /opt/perl-5.21.9/lib/5.21.9
    .