App-perlmv v0.609 Perl 5 v5.12.2 i86pc-solaris-thread-multi-64

Status
Pass
From
Jean-Damien Durand
Dist
App-perlmv v0.609
Platform
Perl 5 v5.12.2 i86pc-solaris-thread-multi-64
Date
2024-03-01T11:55:33
ID
9c255194-d7c2-11ee-b752-d69eb46fd3dd
This distribution has been tested as part of the CPAN Testers
project, supporting the Perl programming language.  See
http://wiki.cpantesters.org/ for more information or email
questions to cpan-testers-discuss@perl.org


--
Dear perlancar,

This is a computer-generated report for App-perlmv-0.609
on perl 5.12.2, created by CPAN-Reporter-1.2019.

Thank you for uploading your work to CPAN.  Congratulations!
All tests were successful.

Sections of this report:

    * Tester comments
    * Program output
    * Prerequisites
    * Environment and other context

------------------------------
TESTER COMMENTS
------------------------------

Additional comments from tester:

this report is from an automated smoke testing program
and was not reviewed by a human for accuracy

------------------------------
PROGRAM OUTPUT
------------------------------

Output from '/usr/bin/make test':

PERL_DL_NONLAZY=1 "/export/home/jddurand/perl-5.12.2/bin/perl" "-MExtUtils::Command::MM" "-MTest::Harness" "-e" "undef *Test::Harness::Switches; test_harness(0, 'blib/lib', 'blib/arch')" t/*.t
t/00-compile.t ........................... ok
t/author-critic.t ........................ skipped: these tests are for testing by the author
t/author-pod-coverage.t .................. skipped: these tests are for testing by the author
t/author-pod-syntax.t .................... skipped: these tests are for testing by the author
t/cp.t ................................... ok
t/ln.t ................................... ok
t/ln_s.t ................................. ok
t/mv.t ................................... ok
t/recursive.t ............................ skipped: TODO
t/release-rinci.t ........................ skipped: these tests are for release candidate testing
ERROR: rename failed `a` -> `b/c/d`: No such file or directory
ERROR: rename failed `a` -> `b/c/d`: No such file or directory
t/rename.t ............................... ok
t/scriptlets.t ........................... ok
t/std_scriptlets-dedup-space.t ........... ok
t/std_scriptlets-keep-one-ext.t .......... ok
t/std_scriptlets-pinyin.t ................ ok
t/std_scriptlets-remove-all-ext.t ........ ok
t/std_scriptlets-remove-common-prefix.t .. ok
t/std_scriptlets-remove-common-suffix.t .. ok
t/std_scriptlets-remove-ext.t ............ ok
t/std_scriptlets-to-number-ext.t ......... ok
t/std_scriptlets-to-number.t ............. ok
t/std_scriptlets-to-timestamp-ext.t ...... ok
t/std_scriptlets-to-timestamp.t .......... ok
t/std_scriptlets-trim.t .................. ok
t/std_scriptlets-unaccent.t .............. ok
All tests successful.
Files=25, Tests=86,  6 wallclock secs ( 0.11 usr  0.08 sys +  3.98 cusr  0.98 csys =  5.15 CPU)
Result: PASS

------------------------------
PREREQUISITES
------------------------------

Prerequisite modules loaded:

requires:

    Module                 Need     Have    
    ---------------------- -------- --------
    Complete::File         0.440    0.443   
    Complete::Util         0.616    0.620   
    Cwd                    0        3.75    
    Exporter               5.57     5.78    
    File::Copy             0        2.18    
    File::Find             0        1.15    
    File::Path             2.07     2.18    
    File::Slurper          0        0.014   
    File::Spec             0        3.75    
    File::Util::Test       0.628    0.631   
    Getopt::Long::Complete 0        0.317   
    Module::List::Tiny     0        0.004003
    perl                   5.010001 5.012002
    strict                 0        1.04    
    vars                   0        1.01    
    warnings               0        1.09    

build_requires:

    Module                 Need     Have    
    ---------------------- -------- --------
    ExtUtils::MakeMaker    0        7.70    
    File::Spec             0        3.75    
    File::Temp             0.2307   0.2311  
    FindBin                0        1.50    
    IO::Handle             0        1.28    
    IPC::Open3             0        1.05    
    Test::Exception        0        0.43    
    Test::More             0.98     1.302198
    Test::Needs            0        0.002010

configure_requires:

    Module                 Need     Have    
    ---------------------- -------- --------
    ExtUtils::MakeMaker    0        7.70    


------------------------------
ENVIRONMENT AND OTHER CONTEXT
------------------------------

Environment variables:

    AUTOMATED_TESTING = 1
    LANG = C
    LC_ALL = C
    LC_CTYPE = C
    LD_LIBRARY_PATH = /export/home/jddurand/opt/openssl-3.0.13/lib/64
    MARPAESLIFPERL_OPTIM = 1
    MARPAESLIFPERL_OPTIM_FLAGS = -xO0
    PATH = /export/home/jddurand/perl5/perlbrew/bin:/export/home/jddurand/opt/bin:/export/home/jddurand/opt/openssl-3.0.13/bin:/export/home/jddurand/perl-5.12.2/bin:/usr/bin:/usr/openwin/bin:/usr/ucb
    PERL5LIB = 
    PERL5OPT = 
    PERL5_CPANPLUS_IS_RUNNING = 24830
    PERL5_CPAN_IS_RUNNING = 24830
    PERL5_CPAN_IS_RUNNING_IN_RECURSION = 18680,24830
    PERLBREW_HOME = /export/home/jddurand/.perlbrew
    PERLBREW_ROOT = /export/home/jddurand/perl5/perlbrew
    PERLBREW_SHELLRC_VERSION = 0.98
    PERL_CR_SMOKER_CURRENT = App-perlmv-0.609
    PERL_EXTUTILS_AUTOINSTALL = --defaultdeps
    PERL_MM_USE_DEFAULT = 1
    SHELL = /usr/bin/zsh
    TERM = xterm

Perl special variables (and OS-specific diagnostics, for MSWin32):

    $^X = /export/home/jddurand/perl-5.12.2/bin/perl
    $UID/$EUID = 65535 / 65535
    $GID = 1 1
    $EGID = 1 1

Perl module toolchain versions installed:

    Module              Have    
    ------------------- --------
    CPAN                1.94_56 
    CPAN::Meta          2.150010
    Cwd                 3.75    
    ExtUtils::CBuilder  0.280236
    ExtUtils::Command   7.70    
    ExtUtils::Install   2.06    
    ExtUtils::MakeMaker 7.70    
    ExtUtils::Manifest  1.70    
    ExtUtils::ParseXS   3.51    
    File::Spec          3.75    
    JSON                4.10    
    JSON::PP            4.16    
    Module::Build       0.4234  
    Module::Signature   n/a     
    Parse::CPAN::Meta   2.150010
    Test2               1.302198
    Test::Harness       3.48    
    Test::More          1.302198
    YAML                1.31    
    YAML::Syck          n/a     
    version             0.9930  


--

Summary of my perl5 (revision 5 version 12 subversion 2) configuration:
   
  Platform:
    osname=solaris, osvers=2.11, archname=i86pc-solaris-thread-multi-64
    uname='sunos unknown 5.11 snv_60 i86pc i386 i86pc '
    config_args='-des -Duse64bitall -Dusethreads -Dprefix=/export/home/jddurand/perl-5.12.2'
    hint=recommended, useposix=true, d_sigaction=define
    useithreads=define, usemultiplicity=define
    useperlio=define, d_sfio=undef, uselargefiles=define, usesocks=undef
    use64bitint=define, use64bitall=define, uselongdouble=undef
    usemymalloc=n, bincompat5005=undef
  Compiler:
    cc='/opt/SUNWspro/bin/cc', ccflags ='-D_REENTRANT -xarch=generic64 -D_LARGEFILE_SOURCE -D_FILE_OFFSET_BITS=64 -DPERL_USE_SAFE_PUTENV',
    optimize='-O',
    cppflags='-D_REENTRANT -xarch=generic64'
    ccversion='Sun C 5.8 Patch 121016-04 2006/10/18', gccversion='', gccosandvers=''
    intsize=4, longsize=8, ptrsize=8, doublesize=8, byteorder=12345678
    d_longlong=define, longlongsize=8, d_longdbl=define, longdblsize=16
    ivtype='long', ivsize=8, nvtype='double', nvsize=8, Off_t='off_t', lseeksize=8
    alignbytes=8, prototype=define
  Linker and Libraries:
    ld='/opt/SUNWspro/bin/cc', ldflags =' -xarch=generic64 -L/opt/SUNWspro/prod/lib/amd64 -L/lib/amd64 '
    libpth=/opt/SUNWspro/prod/lib/amd64 /lib/amd64 /usr/lib /usr/ccs/lib
    libs=-lsocket -lnsl -ldl -lm -lpthread -lc
    perllibs=-lsocket -lnsl -ldl -lm -lpthread -lc
    libc=/lib/libc.so, so=so, useshrplib=false, libperl=libperl.a
    gnulibc_version=''
  Dynamic Linking:
    dlsrc=dl_dlopen.xs, dlext=so, d_dlsymun=undef, ccdlflags=' '
    cccdlflags='-KPIC', lddlflags=' -G -xarch=generic64 -L/opt/SUNWspro/prod/lib/amd64 -L/lib/amd64'


Characteristics of this binary (from libperl): 
  Compile-time options: MULTIPLICITY PERL_DONT_CREATE_GVSV
                        PERL_IMPLICIT_CONTEXT PERL_MALLOC_WRAP
                        PERL_USE_SAFE_PUTENV USE_64_BIT_ALL USE_64_BIT_INT
                        USE_ITHREADS USE_LARGE_FILES USE_PERLIO USE_PERL_ATOF
                        USE_REENTRANT_API
  Built under solaris
  Compiled at Feb 25 2024 15:17:23
  %ENV:
    PERL5LIB=""
    PERL5OPT=""
    PERL5_CPANPLUS_IS_RUNNING="24830"
    PERL5_CPAN_IS_RUNNING="24830"
    PERL5_CPAN_IS_RUNNING_IN_RECURSION="18680,24830"
    PERLBREW_HOME="/export/home/jddurand/.perlbrew"
    PERLBREW_ROOT="/export/home/jddurand/perl5/perlbrew"
    PERLBREW_SHELLRC_VERSION="0.98"
    PERL_CR_SMOKER_CURRENT="App-perlmv-0.609"
    PERL_EXTUTILS_AUTOINSTALL="--defaultdeps"
    PERL_MM_USE_DEFAULT="1"
  @INC:
    /export/home/jddurand/perl-5.12.2/lib/site_perl/5.12.2/i86pc-solaris-thread-multi-64
    /export/home/jddurand/perl-5.12.2/lib/site_perl/5.12.2
    /export/home/jddurand/perl-5.12.2/lib/5.12.2/i86pc-solaris-thread-multi-64
    /export/home/jddurand/perl-5.12.2/lib/5.12.2
    .