Back
From: metabase:user:320bfe00-2aae-11df-837a-5e0a49663a4f
Subject: PASS HTML-Microformats-0.105 v5.25.9 GNU/Linux
Date: 2017-01-22T01:53:45Z
This distribution has been tested as part of the CPAN Testers
project, supporting the Perl programming language. See
http://wiki.cpantesters.org/ for more information or email
questions to cpan-testers-discuss@perl.org
--
Dear Toby Inkster,
This is a computer-generated report for HTML-Microformats-0.105
on perl 5.25.9, created by CPAN-Reporter-1.2018.
Thank you for uploading your work to CPAN. Congratulations!
All tests were successful.
Sections of this report:
* Tester comments
* Program output
* Prerequisites
* Environment and other context
------------------------------
TESTER COMMENTS
------------------------------
Additional comments from tester:
this report is from an automated smoke testing program
and was not reviewed by a human for accuracy
------------------------------
PROGRAM OUTPUT
------------------------------
Output from '/usr/bin/make test':
PERL_DL_NONLAZY=1 "/tmp/basesmoker-reloperl-N8UT/bin/perl" "-MExtUtils::Command::MM" "-MTest::Harness" "-e" "undef *Test::Harness::Switches; test_harness(0, 'inc', 'blib/lib', 'blib/arch')" t/01basic.t t/10hcard.t t/11hcalendar.t t/12hatom.t t/13xfn.t t/14reltag.t t/15rellicense.t
t/01basic.t ....... ok
t/10hcard.t ....... ok
t/11hcalendar.t ... ok
t/12hatom.t ....... ok
t/13xfn.t ......... ok
t/14reltag.t ...... ok
t/15rellicense.t .. ok
All tests successful.
Files=7, Tests=56, 7 wallclock secs ( 0.01 usr 0.05 sys + 5.95 cusr 0.65 csys = 6.66 CPU)
Result: PASS
------------------------------
PREREQUISITES
------------------------------
Prerequisite modules loaded:
requires:
Module Need Have
-------------------------- ----- --------
CGI 0 4.35
CGI::Util 0 4.35
DateTime 0 1.42
DateTime::Duration 0 1.42
DateTime::Format::Builder 0 0.81
DateTime::Format::Natural 0 1.04
DateTime::Format::Strptime 0 1.70
DateTime::Span 0 0.3900
ExtUtils::MakeMaker 6.59 7.24
HTML::HTML5::Parser 0.200 0.301
HTML::HTML5::Sanity 0.100 0.105
HTTP::Date 0 6.02
JSON 2.00 2.90
Locale::Country 0 3.42
Module::Pluggable 0 5.2
Object::AUTHORITY 0 0.104
perl 5.010 5.025009
RDF::Trine 0.130 1.015
Test::More 0.61 1.302075
URI 1.30 1.71
URI::URL 0 5.04
XML::LibXML 1.60 2.0128
build_requires:
Module Need Have
-------------------------- ----- --------
ExtUtils::MakeMaker 6.59 7.24
Test::More 0.61 1.302075
configure_requires:
Module Need Have
-------------------------- ----- --------
ExtUtils::MakeMaker 6.59 7.24
------------------------------
ENVIRONMENT AND OTHER CONTEXT
------------------------------
Environment variables:
AUTOMATED_TESTING = 1
LANG = en_US.UTF-8
PATH = /home/sand/bin:/usr/local/bin:/usr/local/sbin:/usr/sbin:/usr/bin:/sbin:/bin:/usr/games:/usr/local/games:/usr/local/perl/bin:/usr/X11/bin
PERL5LIB =
PERL5OPT =
PERL5_CPANPLUS_IS_RUNNING = 3556
PERL5_CPAN_IS_RUNNING = 3556
PERL_CANARY_STABILITY_NOPROMPT = 1
PERL_MM_USE_DEFAULT = 1
SHELL = /usr/bin/zsh
TERM = screen
Perl special variables (and OS-specific diagnostics, for MSWin32):
$^X = /tmp/basesmoker-reloperl-N8UT/bin/perl
$UID/$EUID = 1005 / 1005
$GID = 1005 1005
$EGID = 1005 1005
Perl module toolchain versions installed:
Module Have
------------------- ----------
CPAN 2.16
CPAN::Meta 2.150010
Cwd 3.66
ExtUtils::CBuilder 0.280225
ExtUtils::Command 7.24
ExtUtils::Install 2.04
ExtUtils::MakeMaker 7.24
ExtUtils::Manifest 1.70
ExtUtils::ParseXS 3.33
File::Spec 3.66
JSON 2.90
JSON::PP 2.27400_02
Module::Build 0.4220
Module::Signature 0.81
Parse::CPAN::Meta 2.150010
Test::Harness 3.36_01
Test::More 1.302075
YAML 1.21
YAML::Syck 1.29
version 0.9917
--
Summary of my perl5 (revision 5 version 25 subversion 9) configuration:
Derived from: 5d577b6f636aba916a1b0519669de4b2454c68ab
Platform:
osname=linux
osvers=4.4.0-59-generic
archname=x86_64-linux-thread-multi-ld
uname='linux k93x64xenial 4.4.0-59-generic #80-ubuntu smp fri jan 6 17:47:47 utc 2017 x86_64 x86_64 x86_64 gnulinux '
config_args='-Dprefix=/home/sand/src/perl/repoperls/installed-perls/host/k93x64xenial/v5.25.9/fa28 -Dmyhostname=k93x64xenial -Dinstallusrbinperl=n -Uversiononly -Dusedevel -des -Ui_db -Dlibswanted=cl pthread socket inet nsl gdbm dbm malloc dl ld sun m crypt sec util c cposix posix ucb BSD gdbm_compat -Duseithreads -Duselongdouble -DDEBUGGING=-g'
hint=recommended
useposix=true
d_sigaction=define
useithreads=define
usemultiplicity=define
use64bitint=define
use64bitall=define
uselongdouble=define
usemymalloc=n
bincompat5005=undef
Compiler:
cc='cc'
ccflags ='-D_REENTRANT -D_GNU_SOURCE -fwrapv -fno-strict-aliasing -pipe -fstack-protector-strong -I/usr/local/include -D_LARGEFILE_SOURCE -D_FILE_OFFSET_BITS=64'
optimize='-O2 -g'
cppflags='-D_REENTRANT -D_GNU_SOURCE -fwrapv -fno-strict-aliasing -pipe -fstack-protector-strong -I/usr/local/include'
ccversion=''
gccversion='5.4.0 20160609'
gccosandvers=''
intsize=4
longsize=8
ptrsize=8
doublesize=8
byteorder=12345678
doublekind=3
d_longlong=define
longlongsize=8
d_longdbl=define
longdblsize=16
longdblkind=3
ivtype='long'
ivsize=8
nvtype='long double'
nvsize=16
Off_t='off_t'
lseeksize=8
alignbytes=16
prototype=define
Linker and Libraries:
ld='cc'
ldflags =' -fstack-protector-strong -L/usr/local/lib'
libpth=/usr/local/lib /usr/lib/gcc/x86_64-linux-gnu/5/include-fixed /usr/include/x86_64-linux-gnu /usr/lib /lib/x86_64-linux-gnu /lib/../lib /usr/lib/x86_64-linux-gnu /usr/lib/../lib /lib
libs=-lpthread -lnsl -ldl -lm -lcrypt -lutil -lc
perllibs=-lpthread -lnsl -ldl -lm -lcrypt -lutil -lc
libc=libc-2.23.so
so=so
useshrplib=false
libperl=libperl.a
gnulibc_version='2.23'
Dynamic Linking:
dlsrc=dl_dlopen.xs
dlext=so
d_dlsymun=undef
ccdlflags='-Wl,-E'
cccdlflags='-fPIC'
lddlflags='-shared -O2 -g -L/usr/local/lib -fstack-protector-strong'
Characteristics of this binary (from libperl):
Compile-time options:
HAS_TIMES
MULTIPLICITY
PERLIO_LAYERS
PERL_COPY_ON_WRITE
PERL_DONT_CREATE_GVSV
PERL_IMPLICIT_CONTEXT
PERL_MALLOC_WRAP
PERL_OP_PARENT
PERL_PRESERVE_IVUV
PERL_USE_DEVEL
USE_64_BIT_ALL
USE_64_BIT_INT
USE_ITHREADS
USE_LARGE_FILES
USE_LOCALE
USE_LOCALE_COLLATE
USE_LOCALE_CTYPE
USE_LOCALE_NUMERIC
USE_LOCALE_TIME
USE_LONG_DOUBLE
USE_PERLIO
USE_PERL_ATOF
USE_REENTRANT_API
Locally applied patches:
uncommitted-changes
Built under linux
Compiled at Jan 21 2017 10:42:44
%ENV:
PERL5LIB=""
PERL5OPT=""
PERL5_CPANPLUS_IS_RUNNING="3556"
PERL5_CPAN_IS_RUNNING="3556"
PERL_CANARY_STABILITY_NOPROMPT="1"
PERL_MM_USE_DEFAULT="1"
@INC:
/home/sand/src/perl/repoperls/installed-perls/host/k93x64xenial/v5.25.9/fa28/lib/site_perl/5.25.9/x86_64-linux-thread-multi-ld
/home/sand/src/perl/repoperls/installed-perls/host/k93x64xenial/v5.25.9/fa28/lib/site_perl/5.25.9
/home/sand/src/perl/repoperls/installed-perls/host/k93x64xenial/v5.25.9/fa28/lib/5.25.9/x86_64-linux-thread-multi-ld
/home/sand/src/perl/repoperls/installed-perls/host/k93x64xenial/v5.25.9/fa28/lib/5.25.9
.