Back
From: metabase:user:7a78640e-b558-11e5-b2cd-310256c0a606
Subject: PASS Data-Sah-Normalize-0.04 v5.20.2 GNU/Linux
Date: 2016-01-13T11:05:51Z
This distribution has been tested as part of the CPAN Testers
project, supporting the Perl programming language. See
http://wiki.cpantesters.org/ for more information or email
questions to cpan-testers-discuss@perl.org
--
Dear PERLANCAR,
This is a computer-generated report for Data-Sah-Normalize-0.04
on perl 5.20.2, created by App::cpanminus::reporter 0.13 (1.7027).
Thank you for uploading your work to CPAN. Congratulations!
All tests were successful.
Sections of this report:
* Tester comments
* Program output
* Prerequisites
* Environment and other context
------------------------------
TESTER COMMENTS
------------------------------
Additional comments from tester:
none provided
------------------------------
PROGRAM OUTPUT
------------------------------
Output from '':
Building and testing Data-Sah-Normalize-0.04
cp lib/Data/Sah/Normalize.pm blib/lib/Data/Sah/Normalize.pm
Manifying 1 pod document
PERL_DL_NONLAZY=1 "/home/rr/perl5/perlbrew/perls/perl-5.20.2/bin/perl" "-MExtUtils::Command::MM" "-MTest::Harness" "-e" "undef *Test::Harness::Switches; test_harness(0, 'blib/lib', 'blib/arch')" t/*.t
t/00-compile.t ............ ok
t/01-basics.t ............. ok
t/release-pod-coverage.t .. skipped: these tests are for release candidate testing
t/release-pod-syntax.t .... skipped: these tests are for release candidate testing
t/release-rinci.t ......... skipped: these tests are for release candidate testing
All tests successful.
Files=5, Tests=5, 0 wallclock secs ( 0.03 usr 0.00 sys + 0.07 cusr 0.00 csys = 0.10 CPU)
Result: PASS
------------------------------
PREREQUISITES
------------------------------
Prerequisite modules loaded:
No requirements found
------------------------------
ENVIRONMENT AND OTHER CONTEXT
------------------------------
Environment variables:
LANG = en_GB.UTF-8
LANGUAGE = en_GB:en
PATH = /home/rr/perl5/perlbrew/bin:/home/rr/perl5/perlbrew/perls/perl-5.20.2/bin:/home/rr/bin:/usr/local/sbin:/usr/local/bin:/usr/sbin:/usr/bin:/sbin:/bin:/usr/games:/usr/local/games
PERLBREW_BASHRC_VERSION = 0.71
PERLBREW_HOME = /home/rr/.perlbrew
PERLBREW_MANPATH = /home/rr/perl5/perlbrew/perls/perl-5.20.2/man
PERLBREW_PATH = /home/rr/perl5/perlbrew/bin:/home/rr/perl5/perlbrew/perls/perl-5.20.2/bin
PERLBREW_PERL = perl-5.20.2
PERLBREW_ROOT = /home/rr/perl5/perlbrew
PERLBREW_VERSION = 0.71
SHELL = /bin/bash
TERM = xterm
Perl special variables (and OS-specific diagnostics, for MSWin32):
EGID = 1000 4 24 27 30 46 108 124 1000
EUID = 1000
EXECUTABLE_NAME = /home/rr/perl5/perlbrew/perls/perl-5.20.2/bin/perl
GID = 1000 4 24 27 30 46 108 124 1000
UID = 1000
Perl module toolchain versions installed:
Module Have
------------------- --------
CPAN 2.05
CPAN::Meta 2.150001
Cwd 3.62
ExtUtils::CBuilder 0.280217
ExtUtils::Command 7.10
ExtUtils::Install 1.67
ExtUtils::MakeMaker 7.10
ExtUtils::Manifest 1.70
ExtUtils::ParseXS 3.24
File::Spec 3.62
JSON 2.90
JSON::PP 2.27300
Module::Build 0.4211
Module::Signature n/a
Parse::CPAN::Meta 1.4417
Test::Harness 3.36
Test::More 1.001014
YAML 1.15
YAML::Syck n/a
version 0.9912
--
Summary of my perl5 (revision 5 version 20 subversion 2) configuration:
Platform:
osname=linux, osvers=3.18.0-031800-generic, archname=x86_64-linux
uname='linux lightheart 3.18.0-031800-generic #201412071935 smp mon dec 8 00:36:34 utc 2014 x86_64 x86_64 x86_64 gnulinux '
config_args='-de -Dprefix=/home/rr/perl5/perlbrew/perls/perl-5.20.2 -Aeval:scriptdir=/home/rr/perl5/perlbrew/perls/perl-5.20.2/bin'
hint=recommended, useposix=true, d_sigaction=define
useithreads=undef, usemultiplicity=undef
use64bitint=define, use64bitall=define, uselongdouble=undef
usemymalloc=n, bincompat5005=undef
Compiler:
cc='cc', ccflags ='-fwrapv -fno-strict-aliasing -pipe -fstack-protector -I/usr/local/include -D_LARGEFILE_SOURCE -D_FILE_OFFSET_BITS=64',
optimize='-O2',
cppflags='-fwrapv -fno-strict-aliasing -pipe -fstack-protector -I/usr/local/include'
ccversion='', gccversion='4.9.2', gccosandvers=''
intsize=4, longsize=8, ptrsize=8, doublesize=8, byteorder=12345678
d_longlong=define, longlongsize=8, d_longdbl=define, longdblsize=16
ivtype='long', ivsize=8, nvtype='double', nvsize=8, Off_t='off_t', lseeksize=8
alignbytes=8, prototype=define
Linker and Libraries:
ld='cc', ldflags =' -fstack-protector -L/usr/local/lib'
libpth=/usr/local/lib /usr/lib/gcc/x86_64-linux-gnu/4.9/include-fixed /usr/include/x86_64-linux-gnu /usr/lib /lib/x86_64-linux-gnu /lib/../lib /usr/lib/x86_64-linux-gnu /usr/lib/../lib /lib
libs=-lnsl -ldl -lm -lcrypt -lutil -lc
perllibs=-lnsl -ldl -lm -lcrypt -lutil -lc
libc=libc-2.21.so, so=so, useshrplib=false, libperl=libperl.a
gnulibc_version='2.21'
Dynamic Linking:
dlsrc=dl_dlopen.xs, dlext=so, d_dlsymun=undef, ccdlflags='-Wl,-E'
cccdlflags='-fPIC', lddlflags='-shared -O2 -L/usr/local/lib -fstack-protector'
Characteristics of this binary (from libperl):
Compile-time options: HAS_TIMES PERLIO_LAYERS PERL_DONT_CREATE_GVSV
PERL_HASH_FUNC_ONE_AT_A_TIME_HARD PERL_MALLOC_WRAP
PERL_NEW_COPY_ON_WRITE PERL_PRESERVE_IVUV
USE_64_BIT_ALL USE_64_BIT_INT USE_LARGE_FILES
USE_LOCALE USE_LOCALE_COLLATE USE_LOCALE_CTYPE
USE_LOCALE_NUMERIC USE_PERLIO USE_PERL_ATOF
Built under linux
Compiled at Apr 7 2015 17:54:44
%ENV:
PERLBREW_BASHRC_VERSION="0.71"
PERLBREW_HOME="/home/rr/.perlbrew"
PERLBREW_MANPATH="/home/rr/perl5/perlbrew/perls/perl-5.20.2/man"
PERLBREW_PATH="/home/rr/perl5/perlbrew/bin:/home/rr/perl5/perlbrew/perls/perl-5.20.2/bin"
PERLBREW_PERL="perl-5.20.2"
PERLBREW_ROOT="/home/rr/perl5/perlbrew"
PERLBREW_VERSION="0.71"
@INC:
/home/rr/perl5/perlbrew/perls/perl-5.20.2/lib/site_perl/5.20.2/x86_64-linux
/home/rr/perl5/perlbrew/perls/perl-5.20.2/lib/site_perl/5.20.2
/home/rr/perl5/perlbrew/perls/perl-5.20.2/lib/5.20.2/x86_64-linux
/home/rr/perl5/perlbrew/perls/perl-5.20.2/lib/5.20.2
.