IO-Iron v0.14 Perl 5 v5.24.1 amd64-freebsd

Status
Pass
From
Slaven Rezić
Dist
IO-Iron v0.14
Platform
Perl 5 v5.24.1 amd64-freebsd
Date
2023-09-13 23:09:36
ID
9bbff97e-528a-11ee-993e-46e76d8775ea
This distribution has been tested as part of the CPAN Testers
project, supporting the Perl programming language.  See
http://wiki.cpantesters.org/ for more information or email
questions to cpan-testers-discuss@perl.org


--
Dear Mikko Koivunalho,

This is a computer-generated report for IO-Iron-0.14
on perl 5.24.1, created by CPAN-Reporter-1.2019.

Thank you for uploading your work to CPAN.  Congratulations!
All tests were successful.

Sections of this report:

    * Tester comments
    * Program output
    * Prerequisites
    * Environment and other context

------------------------------
TESTER COMMENTS
------------------------------

Additional comments from tester:

none provided

------------------------------
PROGRAM OUTPUT
------------------------------

Output from '/usr/bin/make test':

PERL_DL_NONLAZY=1 "/usr/perl5.24.1p/bin/perl" "-MExtUtils::Command::MM" "-MTest::Harness" "-e" "undef *Test::Harness::Switches; test_harness(0, 'blib/lib', 'blib/arch')" t/Iron/*.t t/IronCache/*.t t/IronMQ/*.t t/IronWorker/*.t
# Testing IO::Iron::IronWorker::Client (0.14), Perl 5.024001, /usr/perl5.24.1p/bin/perl
# test ReadIronMQConfig
# Current dir config filename: ./iron.json
# Extra config filename: t/.IronMQTestConfig.json
t/Iron/client_readconfig.t ... ok
# Testing IO::Iron::Common (0.14), Perl 5.024001, /usr/perl5.24.1p/bin/perl
t/Iron/common.t .............. ok
# Testing IO::Iron (0.14), Perl 5.024001, /usr/perl5.24.1p/bin/perl
t/Iron/load.t ................ ok
# Testing IO::Iron::IronCache::Client (0.14) with policies, Perl 5.024001, /usr/perl5.24.1p/bin/perl
t/IronCache/cache_policy.t ... ok
# Testing IO::Iron::IronCache::Client (0.14), Perl 5.024001, /usr/perl5.24.1p/bin/perl
t/IronCache/cache_policy2.t .. ok
# Testing IO::Iron::IronCache::Client (0.14), Perl 5.024001, /usr/perl5.24.1p/bin/perl
t/IronCache/load.t ........... ok
# Testing IO::Iron::IronMQ::Client (0.14), Perl 5.024001, /usr/perl5.24.1p/bin/perl
t/IronMQ/load.t .............. ok
# Testing IO::Iron::IronCache::Client (0.14), Perl 5.024001, /usr/perl5.24.1p/bin/perl
t/IronWorker/load.t .......... ok
All tests successful.
Files=8, Tests=103,  1 wallclock secs ( 0.02 usr  0.03 sys +  0.63 cusr  0.33 csys =  1.01 CPU)
Result: PASS

------------------------------
PREREQUISITES
------------------------------

Prerequisite modules loaded:

requires:

    Module              Need      Have    
    ------------------- --------- --------
    Carp                0         1.50    
    Carp::Assert        0         0.21    
    Carp::Assert::More  0         2.3.0   
    Const::Fast         0         0.014   
    Data::UUID          0         1.226   
    English             0         1.10    
    Exception::Class    0         1.45    
    Exporter            0         5.77    
    File::HomeDir       0         1.006   
    File::Spec          0         3.75    
    Hash::Util          0.06      0.19    
    JSON::MaybeXS       0         1.004005
    Log::Any            0         1.717   
    Params::Validate    0         1.28    
    parent              0         0.239   
    Path::Tiny          0         0.144   
    perl                5.010     5.024001
    REST::Client        0         273     
    Scalar::Util        0         1.63    
    strict              0         1.11    
    Try::Tiny           0         0.31    
    URI::Escape         0         5.21    
    warnings            0         1.36    

build_requires:

    Module              Need      Have    
    ------------------- --------- --------
    Data::Dumper        0         2.183   
    ExtUtils::MakeMaker 0         7.70    
    File::Copy          0         2.31    
    File::Remove        0         1.60    
    FindBin             1.51      1.53    
    lib                 0         0.63    
    Log::Any::Test      0         1.717   
    Test::Exception     0         0.43    
    Test::More          0         1.302195

configure_requires:

    Module              Need      Have    
    ------------------- --------- --------
    ExtUtils::MakeMaker 0         7.70    
    perl                5.010_000 5.024001


------------------------------
ENVIRONMENT AND OTHER CONTEXT
------------------------------

Environment variables:

    LC_ALL = de_DE.ISO8859-1
    PATH = /usr/local/bin:/usr/bin:/bin:/usr/local/sbin:/usr/sbin:/sbin:/home/cpansand/bin/freebsd10.3:/home/cpansand/bin/sh:/home/cpansand/bin:/usr/games:/home/cpansand/devel:/home/eserte/src/srezic-misc/scripts
    PERL5LIB = 
    PERL5OPT = 
    PERL5_CPANPLUS_IS_RUNNING = 1649
    PERL5_CPAN_IS_RUNNING = 1649
    PERL5_CPAN_IS_RUNNING_IN_RECURSION = 1319,1649
    PERLDOC = -MPod::Perldoc::ToTextOverstrike
    PERL_BATCH = yes
    PERL_CANARY_STABILITY_NOPROMPT = 1
    PERL_CPAN_REPORTER_CONFIG = /var/tmp/cpansmoker-1023/2023091215/cpanreporter_000_config.ini
    PERL_EXTUTILS_AUTOINSTALL = --defaultdeps
    PERL_USE_UNSAFE_INC = 1
    SHELL = /usr/local/bin/zsh
    TERM = screen
    TMPDIR = /var/tmp/cpansmoker-1023/2023091215

Perl special variables (and OS-specific diagnostics, for MSWin32):

    $^X = /usr/perl5.24.1p/bin/perl5.24.1
    $UID/$EUID = 1023 / 1023
    $GID = 1023 1023
    $EGID = 1023 1023

Perl module toolchain versions installed:

    Module              Have    
    ------------------- --------
    CPAN                2.34    
    CPAN::Meta          2.150010
    Cwd                 3.75    
    ExtUtils::CBuilder  0.280236
    ExtUtils::Command   7.70    
    ExtUtils::Install   2.22    
    ExtUtils::MakeMaker 7.70    
    ExtUtils::Manifest  1.75    
    ExtUtils::ParseXS   3.51    
    File::Spec          3.75    
    JSON                4.10    
    JSON::PP            4.16    
    Module::Build       0.4234  
    Module::Signature   0.87    
    Parse::CPAN::Meta   2.150010
    Test2               1.302195
    Test::Harness       3.47    
    Test::More          1.302195
    YAML                1.30    
    YAML::Syck          1.34    
    version             0.9929  


--

Summary of my perl5 (revision 5 version 24 subversion 1) configuration:
   
  Platform:
    osname=freebsd, osvers=10.1-release, archname=amd64-freebsd
    uname='freebsd cvrsnica-freebsd-101.herceg.de 10.1-release freebsd 10.1-release #0 r274401: tue nov 11 21:02:49 utc 2014 root@releng1.nyi.freebsd.org:usrobjusrsrcsysgeneric amd64 '
    config_args='-ds -e -Dprefix=/usr/perl5.24.1p -Dcf_email=srezic@cpan.org -Doptimize=-O2 -pipe'
    hint=recommended, useposix=true, d_sigaction=define
    useithreads=undef, usemultiplicity=undef
    use64bitint=define, use64bitall=define, uselongdouble=undef
    usemymalloc=n, bincompat5005=undef
  Compiler:
    cc='cc', ccflags ='-DHAS_FPSETMASK -DHAS_FLOATINGPOINT_H -fno-strict-aliasing -pipe -fstack-protector -I/usr/local/include -D_FORTIFY_SOURCE=2',
    optimize='-O2 -pipe',
    cppflags='-DHAS_FPSETMASK -DHAS_FLOATINGPOINT_H -fno-strict-aliasing -pipe -fstack-protector -I/usr/local/include'
    ccversion='', gccversion='4.2.1 Compatible FreeBSD Clang 3.4.1 (tags/RELEASE_34/dot1-final 208032)', gccosandvers=''
    intsize=4, longsize=8, ptrsize=8, doublesize=8, byteorder=12345678, doublekind=3
    d_longlong=define, longlongsize=8, d_longdbl=define, longdblsize=16, longdblkind=3
    ivtype='long', ivsize=8, nvtype='double', nvsize=8, Off_t='off_t', lseeksize=8
    alignbytes=8, prototype=define
  Linker and Libraries:
    ld='cc', ldflags ='-pthread -Wl,-E  -fstack-protector -L/usr/local/lib'
    libpth=/usr/lib /usr/local/lib /usr/include/clang/3.4.1 /usr/lib
    libs=-lpthread -lgdbm -lm -lcrypt -lutil -lc
    perllibs=-lpthread -lm -lcrypt -lutil -lc
    libc=, so=so, useshrplib=false, libperl=libperl.a
    gnulibc_version=''
  Dynamic Linking:
    dlsrc=dl_dlopen.xs, dlext=so, d_dlsymun=undef, ccdlflags=' '
    cccdlflags='-DPIC -fPIC', lddlflags='-shared  -L/usr/local/lib -fstack-protector'


Characteristics of this binary (from libperl): 
  Compile-time options: HAS_TIMES PERLIO_LAYERS PERL_COPY_ON_WRITE
                        PERL_DONT_CREATE_GVSV
                        PERL_HASH_FUNC_ONE_AT_A_TIME_HARD PERL_MALLOC_WRAP
                        PERL_PRESERVE_IVUV USE_64_BIT_ALL USE_64_BIT_INT
                        USE_LARGE_FILES USE_LOCALE USE_LOCALE_COLLATE
                        USE_LOCALE_CTYPE USE_LOCALE_NUMERIC USE_LOCALE_TIME
                        USE_PERLIO USE_PERL_ATOF
  Built under freebsd
  Compiled at Jan 15 2017 11:45:26
  %ENV:
    PERL5LIB=""
    PERL5OPT=""
    PERL5_CPANPLUS_IS_RUNNING="1649"
    PERL5_CPAN_IS_RUNNING="1649"
    PERL5_CPAN_IS_RUNNING_IN_RECURSION="1319,1649"
    PERLDOC="-MPod::Perldoc::ToTextOverstrike"
    PERL_BATCH="yes"
    PERL_CANARY_STABILITY_NOPROMPT="1"
    PERL_CPAN_REPORTER_CONFIG="/var/tmp/cpansmoker-1023/2023091215/cpanreporter_000_config.ini"
    PERL_EXTUTILS_AUTOINSTALL="--defaultdeps"
    PERL_USE_UNSAFE_INC="1"
  @INC:
    /usr/perl5.24.1p/lib/site_perl/5.24.1/amd64-freebsd
    /usr/perl5.24.1p/lib/site_perl/5.24.1
    /usr/perl5.24.1p/lib/5.24.1/amd64-freebsd
    /usr/perl5.24.1p/lib/5.24.1
    .