Test-CleanNamespaces v0.24 Perl 5 v5.18.3 i386-freebsd-64int

Status
Pass
From
Chris Williams (BINGOS)
Dist
Test-CleanNamespaces v0.24
Platform
Perl 5 v5.18.3 i386-freebsd-64int
Date
2021-09-14 05:28:35
ID
9b8c62c4-151c-11ec-bc66-57723b537541
This distribution has been tested as part of the CPAN Testers
project, supporting the Perl programming language.  See
http://wiki.cpantesters.org/ for more information or email
questions to cpan-testers-discuss@perl.org


--

Dear Karen Etheridge,

This is a computer-generated error report created automatically by
CPANPLUS, version 0.9910. Testers personal comments may appear
at the end of this report.


Thank you for uploading your work to CPAN.  Congratulations!
All tests were successful.

TEST RESULTS:

Below is the error stack from stage 'make test':

PERL_DL_NONLAZY=1 "/usr/home/cpan/pit/64bit/perl-5.18.3/bin/perl" "-MExtUtils::Command::MM" "-MTest::Harness" "-e" "undef *Test::Harness::Switches; test_harness(0, 'blib/lib', 'blib/arch')" t/*.t
# 
# Versions for all modules listed in MYMETA.json (including optional ones):
# 
# === Configure Requires ===
# 
#     Module                       Want     Have
#     ------------------------ -------- --------
#     CPAN::Meta::Requirements 2.120620    2.131
#     ExtUtils::MakeMaker           any     7.62
#     Module::Metadata              any 1.000037
# 
# === Build Requires ===
# 
#     Module              Want Have
#     ------------------- ---- ----
#     ExtUtils::MakeMaker  any 7.62
# 
# === Test Requires ===
# 
#     Module                 Want     Have
#     --------------------- ----- --------
#     ExtUtils::MakeMaker     any     7.62
#     File::Spec              any     3.75
#     File::Spec::Functions   any     3.75
#     File::pushd             any    1.016
#     Scalar::Util            any     1.59
#     Sub::Exporter           any    0.988
#     Test::Deep              any    1.130
#     Test::More             0.96 1.302183
#     Test::Needs             any 0.002009
#     Test::Tester            any 1.302183
#     Test::Warnings        0.009    0.031
#     constant                any     1.27
#     if                      any   0.0602
#     lib                     any     0.63
#     namespace::clean        any     0.27
#     overload                any     1.22
#     parent                  any    0.225
# 
# === Test Recommends ===
# 
#     Module         Want     Have
#     ---------- -------- --------
#     CPAN::Meta 2.120900 2.150010
# 
# === Test Suggests ===
# 
#     Module                          Want    Have
#     --------------------------- -------- -------
#     Class::MOP::Class                any missing
#     Moo                              any missing
#     Moo::Role                        any missing
#     Moose                            any missing
#     Moose::Exporter                  any missing
#     Moose::Role                      any missing
#     MooseX::Role::Parameterized      any missing
#     Mouse                            any missing
#     Mouse::Role                      any missing
#     Role::Tiny                  1.003000 missing
#     metaclass                        any missing
# 
# === Runtime Requires ===
# 
#     Module          Want     Have
#     --------------- ---- --------
#     Exporter        5.57     5.68
#     File::Find       any     1.23
#     File::Spec       any     3.75
#     Module::Runtime  any    0.016
#     Package::Stash  0.14     0.39
#     Sub::Identify    any     0.14
#     Test::Builder    any 1.302183
#     strict           any     1.07
#     warnings         any     1.18
# 
# === Runtime Recommends ===
# 
#     Module             Want Have
#     ------------------ ---- ----
#     Package::Stash::XS  any 0.29
# 
# === Runtime Suggests ===
# 
#     Module     Want    Have
#     ---------- ---- -------
#     Role::Tiny  any missing
# 
# === Other Modules ===
# 
#     Module             Have
#     --------------- -------
#     Encode             2.49
#     File::Temp       0.2311
#     JSON::PP           4.06
#     Module::Runtime   0.016
#     Pod::Coverage   missing
#     Sub::Name          0.26
#     YAML            missing
#     autodie            2.13
# 
t/00-report-prereqs.t ......... ok
t/basic.t ..................... ok
t/class_mop.t ................. skipped: Need Class::MOP
t/clean-namespaces.t .......... ok
t/find_modules.t .............. ok
t/moo.t ....................... skipped: Need Moo 1.000007
t/moose-parameterized-role.t .. skipped: Need Moose, MooseX::Role::Parameterized
t/moose.t ..................... skipped: Need Moose
t/mouse.t ..................... skipped: Need Mouse
t/overload.t .................. ok
t/role_tiny.t ................. skipped: Need Role::Tiny 1.003000
t/self.t ...................... ok
t/zzz-check-breaks.t .......... ok
All tests successful.
Files=13, Tests=86,  5 wallclock secs ( 0.16 usr  0.12 sys +  3.06 cusr  1.44 csys =  4.78 CPU)
Result: PASS


PREREQUISITES:

Here is a list of prerequisites you specified and versions we
managed to load:

	  Module Name                        Have     Want
	  Exporter                           5.68     5.57
	  ExtUtils::MakeMaker                7.62        0
	  File::Find                         1.23        0
	  File::Spec                         3.75        0
	  File::Spec::Functions              3.75        0
	  File::pushd                       1.016        0
	  Module::Runtime                   0.016        0
	  Package::Stash                     0.39     0.14
	  Scalar::Util                       1.59        0
	  Sub::Exporter                     0.988        0
	  Sub::Identify                      0.14        0
	  Test::Builder                  1.302183        0
	  Test::Deep                        1.130        0
	  Test::More                     1.302183     0.96
	  Test::Needs                    0.002009        0
	  Test::Tester                   1.302183        0
	  Test::Warnings                    0.031    0.009
	  constant                           1.27        0
	  if                               0.0602        0
	  lib                                0.63        0
	  namespace::clean                   0.27        0
	  overload                           1.22        0
	  parent                            0.225        0
	  strict                             1.07        0
	  warnings                           1.18        0

Perl module toolchain versions installed:
	Module Name                        Have
	CPANPLUS                         0.9910
	CPANPLUS::Dist::Build              0.90
	Cwd                                3.75
	ExtUtils::CBuilder             0.280236
	ExtUtils::Command                  7.62
	ExtUtils::Install                  2.20
	ExtUtils::MakeMaker                7.62
	ExtUtils::Manifest                 1.73
	ExtUtils::ParseXS                  3.35
	File::Spec                         3.75
	Module::Build                    0.4231
	Pod::Parser                        1.60
	Pod::Simple                        3.28
	Test2                          1.302183
	Test::Harness                      3.42
	Test::More                     1.302183
	version                          0.9929

******************************** NOTE ********************************
The comments above are created mechanically, possibly without manual
checking by the sender.  As there are many people performing automatic
tests on each upload to CPAN, it is likely that you will receive
identical messages about the same problem.

If you believe that the message is mistaken, please reply to the first
one with correction and/or additional informations, and do not take
it personally.  We appreciate your patience. :)
**********************************************************************

Additional comments:


This report was machine-generated by CPANPLUS::Dist::YACSmoke 1.08.
Powered by minismokebox version 0.68

CPANPLUS is prefering Build.PL

------------------------------
ENVIRONMENT AND OTHER CONTEXT
------------------------------

Environment variables:

    AUTOMATED_TESTING = 1
    LANG = C.UTF-8
    NONINTERACTIVE_TESTING = 1
    PATH = /sbin:/bin:/usr/sbin:/usr/bin:/usr/local/sbin:/usr/local/bin:/home/cpan/bin
    PERL5LIB = /usr/home/cpan/pit/jail/nQfmyjzpBK/lib/perl5:/usr/home/cpan/pit/64bit/conf/perl-5.18.3/.cpanplus/5.18.3/build/UoUCqjBZh8/Test-CleanNamespaces-0.24/blib/lib:/usr/home/cpan/pit/64bit/conf/perl-5.18.3/.cpanplus/5.18.3/build/UoUCqjBZh8/Test-CleanNamespaces-0.24/blib/arch
    PERL5_CPANPLUS_IS_RUNNING = 37618
    PERL5_CPANPLUS_IS_VERSION = 0.9910
    PERL5_MINISMOKEBOX = 0.68
    PERL5_YACSMOKE_BASE = /usr/home/cpan/pit/64bit/conf/perl-5.18.3
    PERL_EXTUTILS_AUTOINSTALL = --defaultdeps
    PERL_LOCAL_LIB_ROOT = /usr/home/cpan/pit/jail/nQfmyjzpBK
    PERL_MB_OPT = --install_base "/usr/home/cpan/pit/jail/nQfmyjzpBK"
    PERL_MM_OPT = INSTALL_BASE=/usr/home/cpan/pit/jail/nQfmyjzpBK
    PERL_MM_USE_DEFAULT = 1
    PERL_USE_UNSAFE_INC = 1
    SHELL = /usr/local/bin/bash
    TERM = screen

Perl special variables (and OS-specific diagnostics, for MSWin32):

    Perl: $^X = /usr/home/cpan/pit/64bit/perl-5.18.3/bin/perl
    UID:  $<  = 1002
    EUID: $>  = 1002
    GID:  $(  = 1002 1002
    EGID: $)  = 1002 1002


-------------------------------


--

Summary of my perl5 (revision 5 version 18 subversion 3) configuration:
   
  Platform:
    osname=freebsd, osvers=13.0-release, archname=i386-freebsd-64int
    uname='freebsd fiat 13.0-release freebsd 13.0-release #0 releng13.0-n244733-ea31abc261f: fri apr 9 04:04:45 utc 2021 root@releng1.nyi.freebsd.org:usrobjusrsrci386.i386sysgeneric i386 '
    config_args='-des -Dprefix=/usr/home/cpan/pit/64bit/perl-5.18.3 -Duse64bitint'
    hint=recommended, useposix=true, d_sigaction=define
    useithreads=undef, usemultiplicity=undef
    useperlio=define, d_sfio=undef, uselargefiles=define, usesocks=undef
    use64bitint=define, use64bitall=undef, uselongdouble=undef
    usemymalloc=n, bincompat5005=undef
  Compiler:
    cc='cc', ccflags ='-DHAS_FPSETMASK -DHAS_FLOATINGPOINT_H -fno-strict-aliasing -pipe -fstack-protector -I/usr/local/include',
    optimize='-O2',
    cppflags='-DHAS_FPSETMASK -DHAS_FLOATINGPOINT_H -fno-strict-aliasing -pipe -fstack-protector -I/usr/local/include'
    ccversion='', gccversion='FreeBSD Clang 11.0.1 (git@github.com:llvm/llvm-project.git llvmorg-11.0.1-0-g43ff75f2c3fe)', gccosandvers=''
    intsize=4, longsize=4, ptrsize=4, doublesize=8, byteorder=12345678
    d_longlong=define, longlongsize=8, d_longdbl=define, longdblsize=12
    ivtype='long long', ivsize=8, nvtype='double', nvsize=8, Off_t='off_t', lseeksize=8
    alignbytes=4, prototype=define
  Linker and Libraries:
    ld='cc', ldflags ='-Wl,-E  -fstack-protector -L/usr/local/lib'
    libpth=/usr/lib /usr/local/lib
    libs=-lgdbm -ldl -lm -lcrypt -lutil -lc
    perllibs=-ldl -lm -lcrypt -lutil -lc
    libc=, so=so, useshrplib=false, libperl=libperl.a
    gnulibc_version=''
  Dynamic Linking:
    dlsrc=dl_dlopen.xs, dlext=so, d_dlsymun=undef, ccdlflags=' '
    cccdlflags='-DPIC -fPIC', lddlflags='-shared  -L/usr/local/lib -fstack-protector'


Characteristics of this binary (from libperl): 
  Compile-time options: HAS_TIMES PERLIO_LAYERS PERL_DONT_CREATE_GVSV
                        PERL_HASH_FUNC_ONE_AT_A_TIME_HARD PERL_MALLOC_WRAP
                        PERL_PRESERVE_IVUV PERL_SAWAMPERSAND USE_64_BIT_INT
                        USE_LARGE_FILES USE_LOCALE USE_LOCALE_COLLATE
                        USE_LOCALE_CTYPE USE_LOCALE_NUMERIC USE_PERLIO
                        USE_PERL_ATOF
  Locally applied patches:
	Devel::PatchPerl 2.08
  Built under freebsd
  Compiled at Apr 19 2021 20:46:16
  %ENV:
    PERL5LIB="/usr/home/cpan/pit/jail/nQfmyjzpBK/lib/perl5:/usr/home/cpan/pit/64bit/conf/perl-5.18.3/.cpanplus/5.18.3/build/UoUCqjBZh8/Test-CleanNamespaces-0.24/blib/lib:/usr/home/cpan/pit/64bit/conf/perl-5.18.3/.cpanplus/5.18.3/build/UoUCqjBZh8/Test-CleanNamespaces-0.24/blib/arch"
    PERL5_CPANPLUS_IS_RUNNING="37618"
    PERL5_CPANPLUS_IS_VERSION="0.9910"
    PERL5_MINISMOKEBOX="0.68"
    PERL5_YACSMOKE_BASE="/usr/home/cpan/pit/64bit/conf/perl-5.18.3"
    PERL_EXTUTILS_AUTOINSTALL="--defaultdeps"
    PERL_LOCAL_LIB_ROOT="/usr/home/cpan/pit/jail/nQfmyjzpBK"
    PERL_MB_OPT="--install_base "/usr/home/cpan/pit/jail/nQfmyjzpBK""
    PERL_MM_OPT="INSTALL_BASE=/usr/home/cpan/pit/jail/nQfmyjzpBK"
    PERL_MM_USE_DEFAULT="1"
    PERL_USE_UNSAFE_INC="1"
  @INC:
    /usr/home/cpan/pit/jail/nQfmyjzpBK/lib/perl5/5.18.3/i386-freebsd-64int
    /usr/home/cpan/pit/jail/nQfmyjzpBK/lib/perl5/5.18.3
    /usr/home/cpan/pit/jail/nQfmyjzpBK/lib/perl5/i386-freebsd-64int
    /usr/home/cpan/pit/jail/nQfmyjzpBK/lib/perl5
    /usr/home/cpan/pit/64bit/conf/perl-5.18.3/.cpanplus/5.18.3/build/UoUCqjBZh8/Test-CleanNamespaces-0.24/blib/lib
    /usr/home/cpan/pit/64bit/conf/perl-5.18.3/.cpanplus/5.18.3/build/UoUCqjBZh8/Test-CleanNamespaces-0.24/blib/arch
    /usr/home/cpan/pit/64bit/perl-5.18.3/lib/site_perl/5.18.3/i386-freebsd-64int
    /usr/home/cpan/pit/64bit/perl-5.18.3/lib/site_perl/5.18.3
    /usr/home/cpan/pit/64bit/perl-5.18.3/lib/5.18.3/i386-freebsd-64int
    /usr/home/cpan/pit/64bit/perl-5.18.3/lib/5.18.3
    .