Back
From: metabase:user:d394d7d6-3612-11e0-a2df-96999e3d5801
Subject: PASS SMS-Send-SMSDiscount-1.111780 v5.13.9 GNU/Linux
Date: 2011-06-27T22:12:55Z
This distribution has been tested as part of the CPAN Testers
project, supporting the Perl programming language. See
http://wiki.cpantesters.org/ for more information or email
questions to cpan-testers-discuss@perl.org
--
Dear Mark Hindess,
This is a computer-generated report for SMS-Send-SMSDiscount-1.111780
on perl 5.13.9, created by CPAN-Reporter-1.1902.
Thank you for uploading your work to CPAN. Congratulations!
All tests were successful.
Sections of this report:
* Tester comments
* Program output
* Prerequisites
* Environment and other context
------------------------------
TESTER COMMENTS
------------------------------
Additional comments from tester:
none provided
------------------------------
PROGRAM OUTPUT
------------------------------
Output from '/usr/bin/make test':
PERL_DL_NONLAZY=1 /home/cpantest/perl5/perlbrew/perls/perl-5.13.9/bin/perl5.13.9 "-MExtUtils::Command::MM" "-e" "test_harness(0, 'blib/lib', 'blib/arch')" t/*.t
t/01-simple.t ................ ok
t/author-critic.t ............ skipped: these tests are for testing by the author
t/release-common_spelling.t .. skipped: these tests are for release candidate testing
t/release-eol.t .............. skipped: these tests are for release candidate testing
t/release-kwalitee.t ......... skipped: these tests are for release candidate testing
t/release-no-tabs.t .......... skipped: these tests are for release candidate testing
t/release-pod-coverage.t ..... skipped: these tests are for release candidate testing
t/release-pod-linkcheck.t .... skipped: these tests are for release candidate testing
t/release-pod-no404s.t ....... skipped: these tests are for release candidate testing
t/release-pod-syntax.t ....... skipped: these tests are for release candidate testing
t/release-synopsis.t ......... skipped: these tests are for release candidate testing
All tests successful.
Files=11, Tests=32, 3 wallclock secs ( 0.17 usr 0.06 sys + 1.17 cusr 0.14 csys = 1.54 CPU)
Result: PASS
------------------------------
PREREQUISITES
------------------------------
Prerequisite modules loaded:
requires:
Module Need Have
--------------------- ---- -------
HTTP::Request::Common 0 5.824
LWP::UserAgent 0 5.835
SMS::Send::Driver 0 0.05
URI::Escape 0 3.30
build_requires:
Module Need Have
--------------------- ---- -------
English 0 1.04
LWP::Protocol::https 0 0
LWP::Protocol::PSGI 0 0.02
Plack::Request 0 0.9969
SMS::Send 0 0.05
Test::More 0 0.97_01
configure_requires:
Module Need Have
--------------------- ---- -------
ExtUtils::MakeMaker 6.31 6.57_05
------------------------------
ENVIRONMENT AND OTHER CONTEXT
------------------------------
Environment variables:
LANG = en_GB.UTF-8
LANGUAGE = en_GB:en
PATH = /home/cpantest/bin:/home/cpantest/perl5/bin:/usr/local/bin:/usr/bin:/bin:/usr/local/games:/usr/games
PERL5LIB =
PERL5OPT =
PERL5_CPANPLUS_IS_RUNNING = 15054
PERL5_CPAN_IS_RUNNING = 15054
PERLDB_OPTS = NonStop=1 LineInfo=db.out AutoTrace
PERL_CPANM_OPT = --local-lib=/home/cpantest/perl5
SHELL = /bin/bash
TERM = xterm
Perl special variables (and OS-specific diagnostics, for MSWin32):
$^X = /home/cpantest/perl5/perlbrew/perls/perl-5.13.9/bin/perl5.13.9
$UID/$EUID = 1001 / 1001
$GID = 1001 1001
$EGID = 1001 1001
Perl module toolchain versions installed:
Module Have
------------------- --------
CPAN 1.94_63
Cwd 3.36
ExtUtils::CBuilder 0.280201
ExtUtils::Command 1.16
ExtUtils::Install 1.56
ExtUtils::MakeMaker 6.57_05
ExtUtils::Manifest 1.58
ExtUtils::ParseXS 2.2209
File::Spec 3.33
Module::Build 0.3607
Module::Signature 0.68
Test::Harness 3.22
Test::More 0.97_01
YAML 0.73
YAML::Syck n/a
version 0.88
--
Summary of my perl5 (revision 5 version 13 subversion 9) configuration:
Platform:
osname=linux, osvers=2.6.32-5-686, archname=i686-linux
uname='linux ce 2.6.32-5-686 #1 smp wed jan 12 04:01:41 utc 2011 i686 gnulinux '
config_args='-de -Dprefix=/home/cpantest/perl5/perlbrew/perls/perl-5.13.9 -Dusedevel'
hint=recommended, useposix=true, d_sigaction=define
useithreads=undef, usemultiplicity=undef
useperlio=define, d_sfio=undef, uselargefiles=define, usesocks=undef
use64bitint=undef, use64bitall=undef, uselongdouble=undef
usemymalloc=n, bincompat5005=undef
Compiler:
cc='cc', ccflags ='-fno-strict-aliasing -pipe -fstack-protector -I/usr/local/include -D_LARGEFILE_SOURCE -D_FILE_OFFSET_BITS=64',
optimize='-O2',
cppflags='-fno-strict-aliasing -pipe -fstack-protector -I/usr/local/include'
ccversion='', gccversion='4.4.5', gccosandvers=''
intsize=4, longsize=4, ptrsize=4, doublesize=8, byteorder=1234
d_longlong=define, longlongsize=8, d_longdbl=define, longdblsize=12
ivtype='long', ivsize=4, nvtype='double', nvsize=8, Off_t='off_t', lseeksize=8
alignbytes=4, prototype=define
Linker and Libraries:
ld='cc', ldflags =' -fstack-protector -L/usr/local/lib'
libpth=/usr/local/lib /lib /usr/lib /usr/lib64
libs=-lnsl -ldl -lm -lcrypt -lutil -lc
perllibs=-lnsl -ldl -lm -lcrypt -lutil -lc
libc=/lib/libc-2.11.2.so, so=so, useshrplib=false, libperl=libperl.a
gnulibc_version='2.11.2'
Dynamic Linking:
dlsrc=dl_dlopen.xs, dlext=so, d_dlsymun=undef, ccdlflags='-Wl,-E'
cccdlflags='-fPIC', lddlflags='-shared -O2 -L/usr/local/lib -fstack-protector'
Characteristics of this binary (from libperl):
Compile-time options: PERL_DONT_CREATE_GVSV PERL_MALLOC_WRAP PERL_USE_DEVEL
USE_LARGE_FILES USE_PERLIO USE_PERL_ATOF
Built under linux
Compiled at Feb 11 2011 22:29:42
%ENV:
PERL5LIB=""
PERL5OPT=""
PERL5_CPANPLUS_IS_RUNNING="15054"
PERL5_CPAN_IS_RUNNING="15054"
PERLDB_OPTS="NonStop=1 LineInfo=db.out AutoTrace"
PERL_CPANM_OPT="--local-lib=/home/cpantest/perl5"
@INC:
/home/cpantest/perl5/perlbrew/perls/perl-5.13.9/lib/site_perl/5.13.9/i686-linux
/home/cpantest/perl5/perlbrew/perls/perl-5.13.9/lib/site_perl/5.13.9
/home/cpantest/perl5/perlbrew/perls/perl-5.13.9/lib/5.13.9/i686-linux
/home/cpantest/perl5/perlbrew/perls/perl-5.13.9/lib/5.13.9
.