Metabase-Backend-SQL v1.001 Perl 5 v5.24.3 x86_64-linux-ld

Status
Pass
From
Andreas J. König (ANDK)
Dist
Metabase-Backend-SQL v1.001
Platform
Perl 5 v5.24.3 x86_64-linux-ld
Date
2017-10-28 13:55:07
ID
9b350b7e-bbe7-11e7-80dd-c2a51c58e68b
This distribution has been tested as part of the CPAN Testers
project, supporting the Perl programming language.  See
http://wiki.cpantesters.org/ for more information or email
questions to cpan-testers-discuss@perl.org


--
Dear David Golden,

This is a computer-generated report for Metabase-Backend-SQL-1.001
on perl 5.24.3, created by CPAN-Reporter-1.2018.

Thank you for uploading your work to CPAN.  Congratulations!
All tests were successful.

Sections of this report:

    * Tester comments
    * Program output
    * Prerequisites
    * Environment and other context

------------------------------
TESTER COMMENTS
------------------------------

Additional comments from tester:

this report is from an automated smoke testing program
and was not reviewed by a human for accuracy

------------------------------
PROGRAM OUTPUT
------------------------------

Output from '/usr/bin/make test':

PERL_DL_NONLAZY=1 "/home/sand/src/perl/repoperls/installed-perls/host/k93msid/v5.24.3/0a29/bin/perl" "-MExtUtils::Command::MM" "-MTest::Harness" "-e" "undef *Test::Harness::Switches; test_harness(0, 'blib/lib', 'blib/arch')" t/*.t t/postgres/*.t t/sharded/*.t t/sqlite/*.t
# 
# Versions for all modules listed in MYMETA.json (including optional ones):
# 
# === Configure Requires ===
# 
#     Module              Want Have
#     ------------------- ---- ----
#     ExtUtils::MakeMaker 6.17 7.30
# 
# === Build Requires ===
# 
#     Module              Want Have
#     ------------------- ---- ----
#     ExtUtils::MakeMaker  any 7.30
# 
# === Test Requires ===
# 
#     Module                Want     Have
#     --------------------- ---- --------
#     ExtUtils::MakeMaker    any     7.30
#     File::Spec             any  3.63_01
#     File::Spec::Functions  any  3.63_01
#     Path::Class            any     0.37
#     Test::Deep             any    1.127
#     Test::Fatal            any    0.014
#     Test::More            0.92 1.302106
#     Test::Routine          any    0.025
#     Test::Routine::Util    any    0.025
#     lib                    any     0.63
#     re                     any     0.32
# 
# === Test Recommends ===
# 
#     Module         Want     Have
#     ---------- -------- --------
#     CPAN::Meta 2.120900 2.150010
# 
# === Runtime Requires ===
# 
#     Module                                Want    Have
#     ---------------------------------- ------- -------
#     Carp                                   any    1.40
#     Class::Load                            any    0.24
#     Compress::Zlib                           2   2.074
#     DBD::SQLite                            any    1.54
#     DBI                                      1   1.637
#     DBIx::RunSQL                           any    0.15
#     DBIx::Simple                           any    1.35
#     Data::Stream::Bulk::Array              any    0.11
#     Data::Stream::Bulk::Callback           any    0.11
#     Data::Stream::Bulk::DBI                any    0.11
#     Data::Stream::Bulk::Filter             any    0.11
#     Data::Stream::Bulk::Nil                any    0.11
#     File::Temp                             any  0.2304
#     JSON                                     2    2.94
#     List::AllUtils                         any    0.14
#     List::Util                             any    1.49
#     Metabase::Archive                        1   1.003
#     Metabase::Fact                         any   0.025
#     Metabase::Index                          1   1.003
#     Moose                                  any  2.2006
#     Moose::Role                            any  2.2006
#     Moose::Util::TypeConstraints           any  2.2006
#     MooseX::Types::Path::Class             any    0.09
#     SQL::Abstract                          any    1.84
#     SQL::Translator                    0.11006 0.11021
#     SQL::Translator::Diff                  any   undef
#     SQL::Translator::Schema                any    1.59
#     SQL::Translator::Schema::Constants     any    1.59
#     SQL::Translator::Utils                 any    1.59
#     Storable                               any 3.05_16
#     Try::Tiny                              any    0.28
#     namespace::autoclean                   any    0.28
#     strict                                 any    1.11
#     warnings                               any    1.36
# 
t/00-report-prereqs.t .... ok
t/postgres/archive.t ..... skipped: No $ENV{METABASE_TEST_PG_DBNAME}
t/postgres/index.t ....... skipped: No $ENV{METABASE_TEST_PG_DBNAME}
t/postgres/init-index.t .. skipped: No $ENV{METABASE_TEST_PG_DBNAME}
t/query.t ................ ok
t/sharded/archive.t ...... ok
t/sharded/index.t ........ ok
t/sqlite/archive.t ....... ok
t/sqlite/index.t ......... ok
t/sqlite/init-index.t .... ok
All tests successful.
Files=10, Tests=7, 51 wallclock secs ( 0.06 usr  0.06 sys + 23.46 cusr  1.46 csys = 25.04 CPU)
Result: PASS

------------------------------
PREREQUISITES
------------------------------

Prerequisite modules loaded:

requires:

    Module                             Need     Have    
    ---------------------------------- -------- --------
    Carp                               0        1.40    
    Class::Load                        0        0.24    
    Compress::Zlib                     2        2.074   
    Data::Stream::Bulk::Array          0        0.11    
    Data::Stream::Bulk::Callback       0        0.11    
    Data::Stream::Bulk::DBI            0        0.11    
    Data::Stream::Bulk::Filter         0        0.11    
    Data::Stream::Bulk::Nil            0        0.11    
    DBD::SQLite                        0        1.54    
    DBI                                1        1.637   
    DBIx::RunSQL                       0        0.15    
    DBIx::Simple                       0        1.35    
    File::Temp                         0        0.2304  
    JSON                               2        2.94    
    List::AllUtils                     0        0.14    
    List::Util                         0        1.49    
    Metabase::Archive                  1        1.003   
    Metabase::Fact                     0        0.025   
    Metabase::Index                    1        1.003   
    Moose                              0        2.2006  
    Moose::Role                        0        2.2006  
    Moose::Util::TypeConstraints       0        2.2006  
    MooseX::Types::Path::Class         0        0.09    
    namespace::autoclean               0        0.28    
    perl                               5.010    5.024003
    SQL::Abstract                      0        1.84    
    SQL::Translator                    0.11006  0.11021 
    SQL::Translator::Diff              0        0       
    SQL::Translator::Schema            0        1.59    
    SQL::Translator::Schema::Constants 0        1.59    
    SQL::Translator::Utils             0        1.59    
    Storable                           0        3.05_16 
    strict                             0        1.11    
    Try::Tiny                          0        0.28    
    warnings                           0        1.36    

build_requires:

    Module                             Need     Have    
    ---------------------------------- -------- --------
    ExtUtils::MakeMaker                0        7.30    
    File::Spec                         0        3.63_01 
    File::Spec::Functions              0        3.63_01 
    lib                                0        0.63    
    Path::Class                        0        0.37    
    re                                 0        0.32    
    Test::Deep                         0        1.127   
    Test::Fatal                        0        0.014   
    Test::More                         0.92     1.302106
    Test::Routine                      0        0.025   
    Test::Routine::Util                0        0.025   

configure_requires:

    Module                             Need     Have    
    ---------------------------------- -------- --------
    ExtUtils::MakeMaker                6.17     7.30    
    perl                               5.008001 5.024003


------------------------------
ENVIRONMENT AND OTHER CONTEXT
------------------------------

Environment variables:

    AUTOMATED_TESTING = 1
    LANG = en_US.UTF-8
    PATH = /home/sand/bin:/usr/local/bin:/usr/bin:/bin:/usr/games:/usr/local/perl/bin:/usr/X11/bin:/sbin:/usr/sbin
    PERL5LIB = /tmp/loop_over_bdir-19887-CP1h4G/Metabase-1.003-0/blib/arch:/tmp/loop_over_bdir-19887-CP1h4G/Metabase-1.003-0/blib/lib:/tmp/loop_over_bdir-19887-CP1h4G/Regexp-SQL-LIKE-0.001-0/blib/arch:/tmp/loop_over_bdir-19887-CP1h4G/Regexp-SQL-LIKE-0.001-0/blib/lib:/tmp/loop_over_bdir-19887-CP1h4G/Data-Stream-Bulk-0.11-0/blib/arch:/tmp/loop_over_bdir-19887-CP1h4G/Data-Stream-Bulk-0.11-0/blib/lib:/tmp/loop_over_bdir-19887-CP1h4G/DBIx-Simple-1.35-0/blib/arch:/tmp/loop_over_bdir-19887-CP1h4G/DBIx-Simple-1.35-0/blib/lib:/tmp/loop_over_bdir-19887-CP1h4G/DBIx-RunSQL-0.15-0/blib/arch:/tmp/loop_over_bdir-19887-CP1h4G/DBIx-RunSQL-0.15-0/blib/lib:/tmp/loop_over_bdir-19887-CP1h4G/CPAN-Testers-Common-Utils-0.003-0/blib/arch:/tmp/loop_over_bdir-19887-CP1h4G/CPAN-Testers-Common-Utils-0.003-0/blib/lib
    PERL5OPT = 
    PERL5_CPANPLUS_IS_RUNNING = 19905
    PERL5_CPAN_IS_RUNNING = 19905
    PERL5_CPAN_IS_RUNNING_IN_RECURSION = 1512,19905
    PERL_CANARY_STABILITY_NOPROMPT = 1
    PERL_MM_USE_DEFAULT = 1
    PERL_USE_UNSAFE_INC = 1
    SHELL = /usr/bin/zsh
    TERM = screen

Perl special variables (and OS-specific diagnostics, for MSWin32):

    $^X = /home/sand/src/perl/repoperls/installed-perls/host/k93msid/v5.24.3/0a29/bin/perl
    $UID/$EUID = 1005 / 1005
    $GID = 1005 1005
    $EGID = 1005 1005

Perl module toolchain versions installed:

    Module              Have    
    ------------------- --------
    CPAN                2.18    
    CPAN::Meta          2.150010
    Cwd                 3.63_01 
    ExtUtils::CBuilder  0.280226
    ExtUtils::Command   7.30    
    ExtUtils::Install   2.06    
    ExtUtils::MakeMaker 7.30    
    ExtUtils::Manifest  1.70    
    ExtUtils::ParseXS   3.31    
    File::Spec          3.63_01 
    JSON                2.94    
    JSON::PP            2.94    
    Module::Build       0.4224  
    Module::Signature   0.81    
    Parse::CPAN::Meta   2.150010
    Test::Harness       3.39    
    Test::More          1.302106
    YAML                1.23    
    YAML::Syck          1.30    
    version             0.9916  


--

Summary of my perl5 (revision 5 version 24 subversion 3) configuration:
  Derived from: 9f1d3884c227a955e9ecaaadba4cba3280c47e3a
  Platform:
    osname=linux, osvers=4.12.0-2-amd64, archname=x86_64-linux-ld
    uname='linux k93msid 4.12.0-2-amd64 #1 smp debian 4.12.13-1 (2017-09-19) x86_64 gnulinux '
    config_args='-Dprefix=/home/sand/src/perl/repoperls/installed-perls/host/k93msid/v5.24.3/0a29 -Dmyhostname=k93msid -Dinstallusrbinperl=n -Uversiononly -Dusedevel -des -Ui_db -Dlibswanted=cl pthread socket inet nsl gdbm dbm malloc dl ld sun m crypt sec util c cposix posix ucb BSD gdbm_compat -Uuseithreads -Duselongdouble -DDEBUGGING=both'
    hint=recommended, useposix=true, d_sigaction=define
    useithreads=undef, usemultiplicity=undef
    use64bitint=define, use64bitall=define, uselongdouble=define
    usemymalloc=n, bincompat5005=undef
  Compiler:
    cc='cc', ccflags ='-fwrapv -DDEBUGGING -fno-strict-aliasing -pipe -fstack-protector-strong -I/usr/local/include -D_LARGEFILE_SOURCE -D_FILE_OFFSET_BITS=64 -D_FORTIFY_SOURCE=2',
    optimize='-O2 -g',
    cppflags='-fwrapv -DDEBUGGING -fno-strict-aliasing -pipe -fstack-protector-strong -I/usr/local/include'
    ccversion='', gccversion='7.2.0', gccosandvers=''
    intsize=4, longsize=8, ptrsize=8, doublesize=8, byteorder=12345678, doublekind=3
    d_longlong=define, longlongsize=8, d_longdbl=define, longdblsize=16, longdblkind=3
    ivtype='long', ivsize=8, nvtype='long double', nvsize=16, Off_t='off_t', lseeksize=8
    alignbytes=16, prototype=define
  Linker and Libraries:
    ld='cc', ldflags =' -fstack-protector-strong -L/usr/local/lib'
    libpth=/usr/local/lib /usr/lib/gcc/x86_64-linux-gnu/7/include-fixed /usr/include/x86_64-linux-gnu /usr/lib /lib/x86_64-linux-gnu /lib/../lib /usr/lib/x86_64-linux-gnu /usr/lib/../lib /lib
    libs=-lpthread -lnsl -ldl -lm -lcrypt -lutil -lc
    perllibs=-lpthread -lnsl -ldl -lm -lcrypt -lutil -lc
    libc=libc-2.24.so, so=so, useshrplib=false, libperl=libperl.a
    gnulibc_version='2.24'
  Dynamic Linking:
    dlsrc=dl_dlopen.xs, dlext=so, d_dlsymun=undef, ccdlflags='-Wl,-E'
    cccdlflags='-fPIC', lddlflags='-shared -O2 -g -L/usr/local/lib -fstack-protector-strong'


Characteristics of this binary (from libperl): 
  Compile-time options: DEBUGGING HAS_TIMES PERLIO_LAYERS PERL_COPY_ON_WRITE
                        PERL_DONT_CREATE_GVSV
                        PERL_HASH_FUNC_ONE_AT_A_TIME_HARD PERL_MALLOC_WRAP
                        PERL_PRESERVE_IVUV PERL_USE_DEVEL USE_64_BIT_ALL
                        USE_64_BIT_INT USE_LARGE_FILES USE_LOCALE
                        USE_LOCALE_COLLATE USE_LOCALE_CTYPE
                        USE_LOCALE_NUMERIC USE_LOCALE_TIME USE_LONG_DOUBLE
                        USE_PERLIO USE_PERL_ATOF
  Locally applied patches:
	uncommitted-changes
  Built under linux
  Compiled at Oct  2 2017 07:26:11
  %ENV:
    PERL5LIB="/tmp/loop_over_bdir-19887-CP1h4G/Metabase-1.003-0/blib/arch:/tmp/loop_over_bdir-19887-CP1h4G/Metabase-1.003-0/blib/lib:/tmp/loop_over_bdir-19887-CP1h4G/Regexp-SQL-LIKE-0.001-0/blib/arch:/tmp/loop_over_bdir-19887-CP1h4G/Regexp-SQL-LIKE-0.001-0/blib/lib:/tmp/loop_over_bdir-19887-CP1h4G/Data-Stream-Bulk-0.11-0/blib/arch:/tmp/loop_over_bdir-19887-CP1h4G/Data-Stream-Bulk-0.11-0/blib/lib:/tmp/loop_over_bdir-19887-CP1h4G/DBIx-Simple-1.35-0/blib/arch:/tmp/loop_over_bdir-19887-CP1h4G/DBIx-Simple-1.35-0/blib/lib:/tmp/loop_over_bdir-19887-CP1h4G/DBIx-RunSQL-0.15-0/blib/arch:/tmp/loop_over_bdir-19887-CP1h4G/DBIx-RunSQL-0.15-0/blib/lib:/tmp/loop_over_bdir-19887-CP1h4G/CPAN-Testers-Common-Utils-0.003-0/blib/arch:/tmp/loop_over_bdir-19887-CP1h4G/CPAN-Testers-Common-Utils-0.003-0/blib/lib"
    PERL5OPT=""
    PERL5_CPANPLUS_IS_RUNNING="19905"
    PERL5_CPAN_IS_RUNNING="19905"
    PERL5_CPAN_IS_RUNNING_IN_RECURSION="1512,19905"
    PERL_CANARY_STABILITY_NOPROMPT="1"
    PERL_MM_USE_DEFAULT="1"
    PERL_USE_UNSAFE_INC="1"
  @INC:
    /tmp/loop_over_bdir-19887-CP1h4G/Metabase-1.003-0/blib/arch
    /tmp/loop_over_bdir-19887-CP1h4G/Metabase-1.003-0/blib/lib
    /tmp/loop_over_bdir-19887-CP1h4G/Regexp-SQL-LIKE-0.001-0/blib/arch
    /tmp/loop_over_bdir-19887-CP1h4G/Regexp-SQL-LIKE-0.001-0/blib/lib
    /tmp/loop_over_bdir-19887-CP1h4G/Data-Stream-Bulk-0.11-0/blib/arch
    /tmp/loop_over_bdir-19887-CP1h4G/Data-Stream-Bulk-0.11-0/blib/lib
    /tmp/loop_over_bdir-19887-CP1h4G/DBIx-Simple-1.35-0/blib/arch
    /tmp/loop_over_bdir-19887-CP1h4G/DBIx-Simple-1.35-0/blib/lib
    /tmp/loop_over_bdir-19887-CP1h4G/DBIx-RunSQL-0.15-0/blib/arch
    /tmp/loop_over_bdir-19887-CP1h4G/DBIx-RunSQL-0.15-0/blib/lib
    /tmp/loop_over_bdir-19887-CP1h4G/CPAN-Testers-Common-Utils-0.003-0/blib/arch
    /tmp/loop_over_bdir-19887-CP1h4G/CPAN-Testers-Common-Utils-0.003-0/blib/lib
    /home/sand/src/perl/repoperls/installed-perls/host/k93msid/v5.24.3/0a29/lib/site_perl/5.24.3/x86_64-linux-ld
    /home/sand/src/perl/repoperls/installed-perls/host/k93msid/v5.24.3/0a29/lib/site_perl/5.24.3
    /home/sand/src/perl/repoperls/installed-perls/host/k93msid/v5.24.3/0a29/lib/5.24.3/x86_64-linux-ld
    /home/sand/src/perl/repoperls/installed-perls/host/k93msid/v5.24.3/0a29/lib/5.24.3
    .