CatalystX-OAuth2 v0.001009 Perl 5 v5.18.2 MSWin32-x86-multi-thread

Status
Pass
From
Alexandr Ciornii (CHORNY)
Dist
CatalystX-OAuth2 v0.001009
Platform
Perl 5 v5.18.2 MSWin32-x86-multi-thread
Date
2018-01-21 19:24:33
ID
9b04832c-6c8f-1014-ad42-cf3c90d8030c
This distribution has been tested as part of the CPAN Testers
project, supporting the Perl programming language.  See
http://wiki.cpantesters.org/ for more information or email
questions to cpan-testers-discuss@perl.org


--
Dear John Napiorkowski,

This is a computer-generated report for CatalystX-OAuth2-0.001009
on perl 5.18.2, created by CPAN-Reporter-1.2011.

Thank you for uploading your work to CPAN.  Congratulations!
All tests were successful.

Sections of this report:

    * Tester comments
    * Program output
    * Prerequisites
    * Environment and other context

------------------------------
TESTER COMMENTS
------------------------------

Additional comments from tester:

this report is from an automated smoke testing program
and was not reviewed by a human for accuracy

------------------------------
PROGRAM OUTPUT
------------------------------

Output from 'C:\strawberry182\c\bin\dmake.exe test':

C:\strawberry182\perl\bin\perl.exe "-MExtUtils::Command::MM" "-MTest::Harness" "-e" "undef *Test::Harness::Switches; test_harness(0, 'blib\lib', 'blib\arch')" t/*.t t/integration/*.t t/unit/*.t
t/00-compile.t ........................................ ok
t/author-pod-syntax.t ................................. skipped: these tests are for testing by the author
t/author-synopsis.t ................................... skipped: these tests are for testing by the author
Class::MOP::load_first_existing_class is deprecated at C:/strawberry182/perl/site/lib/Class/MOP.pm line 82.
	Class::MOP::load_first_existing_class("AuthServer::ActionRole::OAuth2::RequestAuth", "Catalyst::ActionRole::OAuth2::RequestAuth") called at C:/strawberry182/perl/site/lib/Catalyst/Controller/ActionRole.pm line 120
	Catalyst::Controller::ActionRole::__ANON__("OAuth2::RequestAuth") called at C:/strawberry182/perl/site/lib/String/RewritePrefix.pm line 44
	String::RewritePrefix::__ANON__("OAuth2::RequestAuth") called at C:/strawberry182/perl/site/lib/String/RewritePrefix.pm line 18
	String::RewritePrefix::rewrite("String::RewritePrefix", HASH(0x323a924), "OAuth2::RequestAuth") called at C:/strawberry182/perl/site/lib/Catalyst/Controller/ActionRole.pm line 125
	Catalyst::Controller::ActionRole::_expand_role_shortname(AuthServer::Controller::OAuth2::ProviderWithSecret=HASH(0x327302c), "OAuth2::RequestAuth") called at C:/strawberry182/perl/site/lib/Catalyst/Controller/ActionRole.pm line 134
	Catalyst::Controller::ActionRole::_parse_Does_attr(AuthServer::Controller::OAuth2::ProviderWithSecret=HASH(0x327302c), "AuthServer", "request", "OAuth2::RequestAuth") called at C:/strawberry182/perl/site/lib/Catalyst/Controller.pm line 441
	Catalyst::Controller::_parse_attr(AuthServer::Controller::OAuth2::ProviderWithSecret=HASH(0x327302c), "AuthServer", "request", "Does", ARRAY(0x3241fa4)) called at C:/strawberry182/perl/site/lib/Catalyst/Controller.pm line 427
	Catalyst::Controller::_parse_attrs(AuthServer::Controller::OAuth2::ProviderWithSecret=HASH(0x327302c), "AuthServer", "request", "Chained('base')", "Args(0)", "Does('OAuth2::RequestAuth')") called at C:/strawberry182/perl/site/lib/Catalyst/Controller.pm line 279
	Catalyst::Controller::register_action_methods(AuthServer::Controller::OAuth2::ProviderWithSecret=HASH(0x327302c), "AuthServer", Moose::Meta::Class::__ANON__::SERIAL::7=HASH(0x327294c), Moose::Meta::Class::__ANON__::SERIAL::7=HASH(0x323eff4), Moose::Meta::Class::__ANON__::SERIAL::7=HASH(0x324f084), Moose::Meta::Class::__ANON__::SERIAL::7=HASH(0x324f604), Moose::Meta::Class::__ANON__::SERIAL::7=HASH(0x3228154), Moose::Meta::Class::__ANON__::SERIAL::7=HASH(0x323c454), Moose::Meta::Class::__ANON__::SERIAL::7=HASH(0x3277d64), ...) called at C:/strawberry182/perl/site/lib/Catalyst/Controller.pm line 257
	Catalyst::Controller::register_actions(AuthServer::Controller::OAuth2::ProviderWithSecret=HASH(0x327302c), "AuthServer") called at C:/strawberry182/perl/site/lib/Class/MOP/Method/Wrapped.pm line 54
	Class::MOP::Method::Wrapped::__ANON__(AuthServer::Controller::OAuth2::ProviderWithSecret=HASH(0x327302c), "AuthServer") called at C:/strawberry182/perl/site/lib/Class/MOP/Method/Wrapped.pm line 92
	AuthServer::Controller::OAuth2::ProviderWithSecret::register_actions(AuthServer::Controller::OAuth2::ProviderWithSecret=HASH(0x327302c), "AuthServer") called at C:/strawberry182/perl/site/lib/Catalyst/Dispatcher.pm line 609
	Catalyst::Dispatcher::setup_actions(Catalyst::Dispatcher=HASH(0x1f3745c), "AuthServer") called at C:/strawberry182/perl/site/lib/Catalyst.pm line 2525
	Catalyst::setup_actions("AuthServer") called at C:/strawberry182/perl/site/lib/Catalyst.pm line 1242
	Catalyst::setup("AuthServer", "ConfigLoader") called at t/lib/AuthServer.pm line 9
	require AuthServer.pm called at t/integration/100-client-access-protected-resource.t line 4
	main::BEGIN() called at t/lib/AuthServer.pm line 0
	eval {...} called at t/lib/AuthServer.pm line 0
Class::MOP::load_class is deprecated at C:/strawberry182/perl/site/lib/Class/MOP.pm line 73.
	Class::MOP::load_class("Catalyst::ActionRole::OAuth2::RequestAuth") called at C:/strawberry182/perl/site/lib/Catalyst/Controller/ActionRole.pm line 69
	Class::MOP::Class:::around(CODE(0x1c0e504), AuthServer::Controller::OAuth2::ProviderWithSecret=HASH(0x327302c), "name", "request", "code", CODE(0x24fc41c), "reverse", "oauth2/providerwithsecret/request", "namespace", ...) called at C:/strawberry182/perl/site/lib/Class/MOP/Method/Wrapped.pm line 163
	Class::MOP::Method::Wrapped::__ANON__(AuthServer::Controller::OAuth2::ProviderWithSecret=HASH(0x327302c), "name", "request", "code", CODE(0x24fc41c), "reverse", "oauth2/providerwithsecret/request", "namespace", "oauth2/providerwithsecret", ...) called at C:/strawberry182/perl/site/lib/Class/MOP/Method/Wrapped.pm line 92
	Catalyst::Controller::ActionRole::create_action(AuthServer::Controller::OAuth2::ProviderWithSecret=HASH(0x327302c), "name", "request", "code", CODE(0x24fc41c), "reverse", "oauth2/providerwithsecret/request", "namespace", "oauth2/providerwithsecret", ...) called at C:\strawberry182\cpan\build\CatalystX-OAuth2-0.001009-w4SRlA\blib\lib/CatalystX/OAuth2/Controller/Role/Provider.pm line 21
	Class::MOP::Class:::around(CODE(0x245e62c), AuthServer::Controller::OAuth2::ProviderWithSecret=HASH(0x327302c), "name", "request", "code", CODE(0x24fc41c), "reverse", "oauth2/providerwithsecret/request", "namespace", ...) called at C:/strawberry182/perl/site/lib/Class/MOP/Method/Wrapped.pm line 163
	Class::MOP::Method::Wrapped::__ANON__(AuthServer::Controller::OAuth2::ProviderWithSecret=HASH(0x327302c), "name", "request", "code", CODE(0x24fc41c), "reverse", "oauth2/providerwithsecret/request", "namespace", "oauth2/providerwithsecret", ...) called at C:/strawberry182/perl/site/lib/Class/MOP/Method/Wrapped.pm line 92
	AuthServer::Controller::OAuth2::ProviderWithSecret::create_action(AuthServer::Controller::OAuth2::ProviderWithSecret=HASH(0x327302c), "name", "request", "code", CODE(0x24fc41c), "reverse", "oauth2/providerwithsecret/request", "namespace", "oauth2/providerwithsecret", ...) called at C:/strawberry182/perl/site/lib/Catalyst/Controller.pm line 288
	Catalyst::Controller::register_action_methods(AuthServer::Controller::OAuth2::ProviderWithSecret=HASH(0x327302c), "AuthServer", Moose::Meta::Class::__ANON__::SERIAL::7=HASH(0x327294c), Moose::Meta::Class::__ANON__::SERIAL::7=HASH(0x323eff4), Moose::Meta::Class::__ANON__::SERIAL::7=HASH(0x324f084), Moose::Meta::Class::__ANON__::SERIAL::7=HASH(0x324f604), Moose::Meta::Class::__ANON__::SERIAL::7=HASH(0x3228154), Moose::Meta::Class::__ANON__::SERIAL::7=HASH(0x323c454), Moose::Meta::Class::__ANON__::SERIAL::7=HASH(0x3277d64), ...) called at C:/strawberry182/perl/site/lib/Catalyst/Controller.pm line 257
	Catalyst::Controller::register_actions(AuthServer::Controller::OAuth2::ProviderWithSecret=HASH(0x327302c), "AuthServer") called at C:/strawberry182/perl/site/lib/Class/MOP/Method/Wrapped.pm line 54
	Class::MOP::Method::Wrapped::__ANON__(AuthServer::Controller::OAuth2::ProviderWithSecret=HASH(0x327302c), "AuthServer") called at C:/strawberry182/perl/site/lib/Class/MOP/Method/Wrapped.pm line 92
	AuthServer::Controller::OAuth2::ProviderWithSecret::register_actions(AuthServer::Controller::OAuth2::ProviderWithSecret=HASH(0x327302c), "AuthServer") called at C:/strawberry182/perl/site/lib/Catalyst/Dispatcher.pm line 609
	Catalyst::Dispatcher::setup_actions(Catalyst::Dispatcher=HASH(0x1f3745c), "AuthServer") called at C:/strawberry182/perl/site/lib/Catalyst.pm line 2525
	Catalyst::setup_actions("AuthServer") called at C:/strawberry182/perl/site/lib/Catalyst.pm line 1242
	Catalyst::setup("AuthServer", "ConfigLoader") called at t/lib/AuthServer.pm line 9
	require AuthServer.pm called at t/integration/100-client-access-protected-resource.t line 4
	main::BEGIN() called at t/lib/AuthServer.pm line 0
	eval {...} called at t/lib/AuthServer.pm line 0
t/integration/100-client-access-protected-resource.t .. ok
Class::MOP::load_first_existing_class is deprecated at C:/strawberry182/perl/site/lib/Class/MOP.pm line 82.
	Class::MOP::load_first_existing_class("AuthServer::ActionRole::OAuth2::RequestAuth", "Catalyst::ActionRole::OAuth2::RequestAuth") called at C:/strawberry182/perl/site/lib/Catalyst/Controller/ActionRole.pm line 120
	Catalyst::Controller::ActionRole::__ANON__("OAuth2::RequestAuth") called at C:/strawberry182/perl/site/lib/String/RewritePrefix.pm line 44
	String::RewritePrefix::__ANON__("OAuth2::RequestAuth") called at C:/strawberry182/perl/site/lib/String/RewritePrefix.pm line 18
	String::RewritePrefix::rewrite("String::RewritePrefix", HASH(0x3262b0c), "OAuth2::RequestAuth") called at C:/strawberry182/perl/site/lib/Catalyst/Controller/ActionRole.pm line 125
	Catalyst::Controller::ActionRole::_expand_role_shortname(AuthServer::Controller::OAuth2::ProviderWithSecret=HASH(0x326299c), "OAuth2::RequestAuth") called at C:/strawberry182/perl/site/lib/Catalyst/Controller/ActionRole.pm line 134
	Catalyst::Controller::ActionRole::_parse_Does_attr(AuthServer::Controller::OAuth2::ProviderWithSecret=HASH(0x326299c), "AuthServer", "request", "OAuth2::RequestAuth") called at C:/strawberry182/perl/site/lib/Catalyst/Controller.pm line 441
	Catalyst::Controller::_parse_attr(AuthServer::Controller::OAuth2::ProviderWithSecret=HASH(0x326299c), "AuthServer", "request", "Does", ARRAY(0x32bf564)) called at C:/strawberry182/perl/site/lib/Catalyst/Controller.pm line 427
	Catalyst::Controller::_parse_attrs(AuthServer::Controller::OAuth2::ProviderWithSecret=HASH(0x326299c), "AuthServer", "request", "Chained('base')", "Args(0)", "Does('OAuth2::RequestAuth')") called at C:/strawberry182/perl/site/lib/Catalyst/Controller.pm line 279
	Catalyst::Controller::register_action_methods(AuthServer::Controller::OAuth2::ProviderWithSecret=HASH(0x326299c), "AuthServer", Moose::Meta::Class::__ANON__::SERIAL::7=HASH(0x329788c), Moose::Meta::Class::__ANON__::SERIAL::7=HASH(0x3290e7c), Moose::Meta::Class::__ANON__::SERIAL::7=HASH(0x329794c), Moose::Meta::Class::__ANON__::SERIAL::7=HASH(0x3262dfc), Moose::Meta::Class::__ANON__::SERIAL::7=HASH(0x32ba3d4), Moose::Meta::Class::__ANON__::SERIAL::7=HASH(0x3285684), Moose::Meta::Class::__ANON__::SERIAL::7=HASH(0x3295e6c), ...) called at C:/strawberry182/perl/site/lib/Catalyst/Controller.pm line 257
	Catalyst::Controller::register_actions(AuthServer::Controller::OAuth2::ProviderWithSecret=HASH(0x326299c), "AuthServer") called at C:/strawberry182/perl/site/lib/Class/MOP/Method/Wrapped.pm line 54
	Class::MOP::Method::Wrapped::__ANON__(AuthServer::Controller::OAuth2::ProviderWithSecret=HASH(0x326299c), "AuthServer") called at C:/strawberry182/perl/site/lib/Class/MOP/Method/Wrapped.pm line 92
	AuthServer::Controller::OAuth2::ProviderWithSecret::register_actions(AuthServer::Controller::OAuth2::ProviderWithSecret=HASH(0x326299c), "AuthServer") called at C:/strawberry182/perl/site/lib/Catalyst/Dispatcher.pm line 609
	Catalyst::Dispatcher::setup_actions(Catalyst::Dispatcher=HASH(0x1f7bcbc), "AuthServer") called at C:/strawberry182/perl/site/lib/Catalyst.pm line 2525
	Catalyst::setup_actions("AuthServer") called at C:/strawberry182/perl/site/lib/Catalyst.pm line 1242
	Catalyst::setup("AuthServer", "ConfigLoader") called at t/lib/AuthServer.pm line 9
	require AuthServer.pm called at t/unit/100-controller-role-provider.t line 8
	main::BEGIN() called at t/lib/AuthServer.pm line 0
	eval {...} called at t/lib/AuthServer.pm line 0
Class::MOP::load_class is deprecated at C:/strawberry182/perl/site/lib/Class/MOP.pm line 73.
	Class::MOP::load_class("Catalyst::ActionRole::OAuth2::RequestAuth") called at C:/strawberry182/perl/site/lib/Catalyst/Controller/ActionRole.pm line 69
	Class::MOP::Class:::around(CODE(0x1c4b17c), AuthServer::Controller::OAuth2::ProviderWithSecret=HASH(0x326299c), "name", "request", "code", CODE(0x254083c), "reverse", "oauth2/providerwithsecret/request", "namespace", ...) called at C:/strawberry182/perl/site/lib/Class/MOP/Method/Wrapped.pm line 163
	Class::MOP::Method::Wrapped::__ANON__(AuthServer::Controller::OAuth2::ProviderWithSecret=HASH(0x326299c), "name", "request", "code", CODE(0x254083c), "reverse", "oauth2/providerwithsecret/request", "namespace", "oauth2/providerwithsecret", ...) called at C:/strawberry182/perl/site/lib/Class/MOP/Method/Wrapped.pm line 92
	Catalyst::Controller::ActionRole::create_action(AuthServer::Controller::OAuth2::ProviderWithSecret=HASH(0x326299c), "name", "request", "code", CODE(0x254083c), "reverse", "oauth2/providerwithsecret/request", "namespace", "oauth2/providerwithsecret", ...) called at C:\strawberry182\cpan\build\CatalystX-OAuth2-0.001009-w4SRlA\blib\lib/CatalystX/OAuth2/Controller/Role/Provider.pm line 21
	Class::MOP::Class:::around(CODE(0x24e04e4), AuthServer::Controller::OAuth2::ProviderWithSecret=HASH(0x326299c), "name", "request", "code", CODE(0x254083c), "reverse", "oauth2/providerwithsecret/request", "namespace", ...) called at C:/strawberry182/perl/site/lib/Class/MOP/Method/Wrapped.pm line 163
	Class::MOP::Method::Wrapped::__ANON__(AuthServer::Controller::OAuth2::ProviderWithSecret=HASH(0x326299c), "name", "request", "code", CODE(0x254083c), "reverse", "oauth2/providerwithsecret/request", "namespace", "oauth2/providerwithsecret", ...) called at C:/strawberry182/perl/site/lib/Class/MOP/Method/Wrapped.pm line 92
	AuthServer::Controller::OAuth2::ProviderWithSecret::create_action(AuthServer::Controller::OAuth2::ProviderWithSecret=HASH(0x326299c), "name", "request", "code", CODE(0x254083c), "reverse", "oauth2/providerwithsecret/request", "namespace", "oauth2/providerwithsecret", ...) called at C:/strawberry182/perl/site/lib/Catalyst/Controller.pm line 288
	Catalyst::Controller::register_action_methods(AuthServer::Controller::OAuth2::ProviderWithSecret=HASH(0x326299c), "AuthServer", Moose::Meta::Class::__ANON__::SERIAL::7=HASH(0x329788c), Moose::Meta::Class::__ANON__::SERIAL::7=HASH(0x3290e7c), Moose::Meta::Class::__ANON__::SERIAL::7=HASH(0x329794c), Moose::Meta::Class::__ANON__::SERIAL::7=HASH(0x3262dfc), Moose::Meta::Class::__ANON__::SERIAL::7=HASH(0x32ba3d4), Moose::Meta::Class::__ANON__::SERIAL::7=HASH(0x3285684), Moose::Meta::Class::__ANON__::SERIAL::7=HASH(0x3295e6c), ...) called at C:/strawberry182/perl/site/lib/Catalyst/Controller.pm line 257
	Catalyst::Controller::register_actions(AuthServer::Controller::OAuth2::ProviderWithSecret=HASH(0x326299c), "AuthServer") called at C:/strawberry182/perl/site/lib/Class/MOP/Method/Wrapped.pm line 54
	Class::MOP::Method::Wrapped::__ANON__(AuthServer::Controller::OAuth2::ProviderWithSecret=HASH(0x326299c), "AuthServer") called at C:/strawberry182/perl/site/lib/Class/MOP/Method/Wrapped.pm line 92
	AuthServer::Controller::OAuth2::ProviderWithSecret::register_actions(AuthServer::Controller::OAuth2::ProviderWithSecret=HASH(0x326299c), "AuthServer") called at C:/strawberry182/perl/site/lib/Catalyst/Dispatcher.pm line 609
	Catalyst::Dispatcher::setup_actions(Catalyst::Dispatcher=HASH(0x1f7bcbc), "AuthServer") called at C:/strawberry182/perl/site/lib/Catalyst.pm line 2525
	Catalyst::setup_actions("AuthServer") called at C:/strawberry182/perl/site/lib/Catalyst.pm line 1242
	Catalyst::setup("AuthServer", "ConfigLoader") called at t/lib/AuthServer.pm line 9
	require AuthServer.pm called at t/unit/100-controller-role-provider.t line 8
	main::BEGIN() called at t/lib/AuthServer.pm line 0
	eval {...} called at t/lib/AuthServer.pm line 0
[error] Attribute (response_type) is required at C:\strawberry182\perl\site\lib\Moose\Exception.pm line 37
	Moose::Exception::_build_trace('Moose::Exception::AttributeIsRequired=HASH(0x3556ea4)') called at reader Moose::Exception::trace (defined at C:\strawberry182\perl\site\lib\Moose\Exception.pm line 9) line 7
	Moose::Exception::trace('Moose::Exception::AttributeIsRequired=HASH(0x3556ea4)') called at C:\strawberry182\perl\site\lib\Moose\Exception.pm line 49
	Moose::Exception::BUILD('Moose::Exception::AttributeIsRequired=HASH(0x3556ea4)', 'HASH(0x354db5c)') called at C:\strawberry182\perl\site\lib\Class\MOP\Method.pm line 128
	Class::MOP::Method::execute('Moose::Meta::Method=HASH(0x3598f04)', 'Moose::Exception::AttributeIsRequired=HASH(0x3556ea4)', 'HASH(0x354db5c)') called at C:\strawberry182\perl\site\lib\Moose\Object.pm line 56
	Moose::Object::BUILDALL('Moose::Exception::AttributeIsRequired=HASH(0x3556ea4)', 'HASH(0x354db5c)') called at C:\strawberry182\perl\site\lib\Moose\Meta\Class.pm line 282
	Moose::Meta::Class::new_object('Moose::Meta::Class=HASH(0x354e24c)', 'HASH(0x354db5c)') called at C:\strawberry182\perl\site\lib\Moose\Object.pm line 27
	Moose::Object::new('Moose::Exception::AttributeIsRequired', 'attribute', 'Moose::Meta::Attribute=HASH(0x3283ccc)', 'class_name', 'CatalystX::OAuth2::Request::RequestAuth', 'params', 'HASH(0x354daec)') called at C:\strawberry182\perl\site\lib\Moose\Util.pm line 51
	Moose::Util::throw_exception('AttributeIsRequired', 'attribute', 'Moose::Meta::Attribute=HASH(0x3283ccc)', 'class_name', 'CatalystX::OAuth2::Request::RequestAuth', 'params', 'HASH(0x354daec)') called at C:\strawberry182\perl\site\lib\Moose\Meta\Attribute.pm line 494
	Moose::Meta::Attribute::initialize_instance_slot('Moose::Meta::Attribute=HASH(0x3283ccc)', 'Moose::Meta::Instance=HASH(0x338bd2c)', 'CatalystX::OAuth2::Request::RequestAuth=HASH(0x354da3c)', 'HASH(0x354daec)') called at C:\strawberry182\perl\site\lib\Class\MOP\Class.pm line 529
	Class::MOP::Class::_construct_instance('Moose::Meta::Class=HASH(0x328a81c)', 'HASH(0x354daec)') called at C:\strawberry182\perl\site\lib\Class\MOP\Class.pm line 499
	Class::MOP::Class::new_object('Moose::Meta::Class=HASH(0x328a81c)', 'HASH(0x354daec)') called at C:\strawberry182\perl\site\lib\Moose\Meta\Class.pm line 278
	Moose::Meta::Class::new_object('Moose::Meta::Class=HASH(0x328a81c)', 'HASH(0x354daec)') called at C:\strawberry182\perl\site\lib\Moose\Object.pm line 27
	Moose::Object::new('CatalystX::OAuth2::Request::RequestAuth') called at C:\strawberry182\cpan\build\CatalystX-OAuth2-0.001009-w4SRlA\blib\lib\Catalyst\ActionRole\OAuth2\RequestAuth.pm line 21
	Catalyst::ActionRole::OAuth2::RequestAuth::try {...}  at C:\strawberry182\perl\vendor\lib\Try\Tiny.pm line 83
	eval {...} at C:\strawberry182\perl\vendor\lib\Try\Tiny.pm line 74
	Try::Tiny::try('CODE(0x354d8bc)', 'Try::Tiny::Catch=REF(0x351443c)') called at C:\strawberry182\cpan\build\CatalystX-OAuth2-0.001009-w4SRlA\blib\lib\Catalyst\ActionRole\OAuth2\RequestAuth.pm line 31
	Catalyst::ActionRole::OAuth2::RequestAuth::build_oauth2_request('Moose::Meta::Class::__ANON__::SERIAL::14=HASH(0x347020c)', 'AuthServer::Controller::OAuth2::Provider=HASH(0x3257464)', 'AuthServer=HASH(0x3513e8c)') called at C:\strawberry182\cpan\build\CatalystX-OAuth2-0.001009-w4SRlA\blib\lib\CatalystX\OAuth2\ActionRole\RequestInjector.pm line 17
	Class::MOP::Class:::before('Moose::Meta::Class::__ANON__::SERIAL::14=HASH(0x347020c)', 'AuthServer::Controller::OAuth2::Provider=HASH(0x3257464)', 'AuthServer=HASH(0x3513e8c)') called at C:\strawberry182\perl\site\lib\Class\MOP\Method\Wrapped.pm line 31
	Class::MOP::Method::Wrapped::__ANON__('Moose::Meta::Class::__ANON__::SERIAL::14=HASH(0x347020c)', 'AuthServer::Controller::OAuth2::Provider=HASH(0x3257464)', 'AuthServer=HASH(0x3513e8c)') called at C:\strawberry182\perl\site\lib\Class\MOP\Method\Wrapped.pm line 92
	Moose::Meta::Class::__ANON__::SERIAL::14::execute('Moose::Meta::Class::__ANON__::SERIAL::14=HASH(0x347020c)', 'AuthServer::Controller::OAuth2::Provider=HASH(0x3257464)', 'AuthServer=HASH(0x3513e8c)') called at C:\strawberry182\perl\site\lib\Catalyst.pm line 1734
	eval {...} at C:\strawberry182\perl\site\lib\Catalyst.pm line 1734
	Catalyst::execute('AuthServer=HASH(0x3513e8c)', 'AuthServer::Controller::OAuth2::Provider', 'Moose::Meta::Class::__ANON__::SERIAL::14=HASH(0x347020c)') called at C:\strawberry182\perl\site\lib\Catalyst\Action.pm line 60
	Catalyst::Action::dispatch('Moose::Meta::Class::__ANON__::SERIAL::14=HASH(0x347020c)', 'AuthServer=HASH(0x3513e8c)') called at C:\strawberry182\perl\site\lib\Catalyst\ActionChain.pm line 41
	Catalyst::ActionChain::dispatch('Catalyst::ActionChain=HASH(0x3549c0c)', 'AuthServer=HASH(0x3513e8c)') called at C:\strawberry182\perl\site\lib\Catalyst\Controller.pm line 161
	Catalyst::Controller::_ACTION('AuthServer::Controller::OAuth2::Provider=HASH(0x3257464)', 'AuthServer=HASH(0x3513e8c)') called at C:\strawberry182\perl\site\lib\Catalyst\Action.pm line 65
	Catalyst::Action::execute('Catalyst::Action=HASH(0x346fe1c)', 'AuthServer::Controller::OAuth2::Provider=HASH(0x3257464)', 'AuthServer=HASH(0x3513e8c)') called at C:\strawberry182\perl\site\lib\Catalyst.pm line 1734
	eval {...} at C:\strawberry182\perl\site\lib\Catalyst.pm line 1734
	Catalyst::execute('AuthServer=HASH(0x3513e8c)', 'AuthServer::Controller::OAuth2::Provider', 'Catalyst::Action=HASH(0x346fe1c)') called at C:\strawberry182\perl\site\lib\Catalyst\Action.pm line 60
	Catalyst::Action::dispatch('Catalyst::Action=HASH(0x346fe1c)', 'AuthServer=HASH(0x3513e8c)') called at C:\strawberry182\perl\site\lib\Catalyst\Dispatcher.pm line 258
	Catalyst::Dispatcher::_do_forward('Catalyst::Dispatcher=HASH(0x1f7bcbc)', 'forward', 'AuthServer=HASH(0x3513e8c)', '_ACTION') called at C:\strawberry182\perl\site\lib\Catalyst\Dispatcher.pm line 238
	Catalyst::Dispatcher::forward('Catalyst::Dispatcher=HASH(0x1f7bcbc)', 'AuthServer=HASH(0x3513e8c)', '_ACTION') called at C:\strawberry182\perl\site\lib\Catalyst.pm line 397
	Catalyst::forward('AuthServer=HASH(0x3513e8c)', '_ACTION') called at C:\strawberry182\perl\site\lib\Catalyst\Controller.pm line 135
	Catalyst::Controller::_DISPATCH('AuthServer::Controller::OAuth2::Provider=HASH(0x3257464)', 'AuthServer=HASH(0x3513e8c)') called at C:\strawberry182\perl\site\lib\Catalyst\Action.pm line 65
	Catalyst::Action::execute('Catalyst::Action=HASH(0x34723c4)', 'AuthServer::Controller::OAuth2::Provider=HASH(0x3257464)', 'AuthServer=HASH(0x3513e8c)') called at C:\strawberry182\perl\site\lib\Catalyst.pm line 1734
	eval {...} at C:\strawberry182\perl\site\lib\Catalyst.pm line 1734
	Catalyst::execute('AuthServer=HASH(0x3513e8c)', 'AuthServer::Controller::OAuth2::Provider', 'Catalyst::Action=HASH(0x34723c4)') called at C:\strawberry182\perl\site\lib\Catalyst\Action.pm line 60
	Catalyst::Action::dispatch('Catalyst::Action=HASH(0x34723c4)', 'AuthServer=HASH(0x3513e8c)') called at C:\strawberry182\perl\site\lib\Catalyst\Dispatcher.pm line 258
	Catalyst::Dispatcher::_do_forward('Catalyst::Dispatcher=HASH(0x1f7bcbc)', 'forward', 'AuthServer=HASH(0x3513e8c)', '/oauth2/provider/_DISPATCH') called at C:\strawberry182\perl\site\lib\Catalyst\Dispatcher.pm line 238
	Catalyst::Dispatcher::forward('Catalyst::Dispatcher=HASH(0x1f7bcbc)', 'AuthServer=HASH(0x3513e8c)', '/oauth2/provider/_DISPATCH') called at C:\strawberry182\perl\site\lib\Catalyst.pm line 397
	Catalyst::forward('AuthServer=HASH(0x3513e8c)', '/oauth2/provider/_DISPATCH') called at C:\strawberry182\perl\site\lib\Catalyst\Dispatcher.pm line 106
	Catalyst::Dispatcher::dispatch('Catalyst::Dispatcher=HASH(0x1f7bcbc)', 'AuthServer=HASH(0x3513e8c)') called at C:\strawberry182\perl\site\lib\Catalyst.pm line 1680
	Catalyst::dispatch('AuthServer=HASH(0x3513e8c)') called at C:\strawberry182\perl\site\lib\Class\MOP\Method\Wrapped.pm line 54
	Class::MOP::Method::Wrapped::__ANON__('AuthServer=HASH(0x3513e8c)') called at C:\strawberry182\perl\site\lib\Class\MOP\Method\Wrapped.pm line 92
	AuthServer::dispatch('AuthServer=HASH(0x3513e8c)') called at C:\strawberry182\perl\site\lib\Catalyst.pm line 2015
	Catalyst::try {...}  at C:\strawberry182\perl\vendor\lib\Try\Tiny.pm line 83
	eval {...} at C:\strawberry182\perl\vendor\lib\Try\Tiny.pm line 74
	Try::Tiny::try('CODE(0x3513aec)', 'Try::Tiny::Catch=REF(0x3513a9c)') called at C:\strawberry182\perl\site\lib\Catalyst.pm line 2024
	Catalyst::handle_request('AuthServer', 'env', 'HASH(0x325e17c)', 'response_cb', 'CODE(0x3513b1c)') called at C:\strawberry182\perl\site\lib\Catalyst\Engine.pm line 797
	Catalyst::Engine::__ANON__('CODE(0x3513b1c)') called at C:\strawberry182\perl\site\lib\Plack\Middleware\HTTPExceptions.pm line 32
	Plack::Middleware::HTTPExceptions::try {...}  at C:\strawberry182\perl\vendor\lib\Try\Tiny.pm line 83
	eval {...} at C:\strawberry182\perl\vendor\lib\Try\Tiny.pm line 74
	Try::Tiny::try('CODE(0x35139ac)', 'Try::Tiny::Catch=REF(0x3224f64)') called at C:\strawberry182\perl\site\lib\Plack\Middleware\HTTPExceptions.pm line 41
	Plack::Middleware::HTTPExceptions::__ANON__('CODE(0x35138fc)') called at C:\strawberry182\perl\site\lib\Plack\Util.pm line 301
	Plack::Util::__ANON__('CODE(0x351384c)') called at C:\strawberry182\perl\site\lib\Plack\Util.pm line 301
	Plack::Util::__ANON__('CODE(0x353e994)') called at C:\strawberry182\perl\site\lib\Plack\Util.pm line 301
	Plack::Util::__ANON__('CODE(0x353e944)') called at C:\strawberry182\perl\site\lib\HTTP\Message\PSGI.pm line 100
	HTTP::Message::PSGI::res_from_psgi('CODE(0x2e25ba4)') called at C:\strawberry182\perl\site\lib\HTTP\Message\PSGI.pm line 155
	HTTP::Response::from_psgi('HTTP::Response', 'CODE(0x2e25ba4)') called at C:\strawberry182\perl\site\lib\Plack\Test\MockHTTP.pm line 24
	Plack::Test::MockHTTP::try {...}  at C:\strawberry182\perl\vendor\lib\Try\Tiny.pm line 78
	eval {...} at C:\strawberry182\perl\vendor\lib\Try\Tiny.pm line 74
	Try::Tiny::try('CODE(0x3289cfc)', 'Try::Tiny::Catch=REF(0x34e7ff4)') called at C:\strawberry182\perl\site\lib\Plack\Test\MockHTTP.pm line 27
	Plack::Test::MockHTTP::request('Plack::Test::MockHTTP=HASH(0x34f31fc)', 'HTTP::Request=HASH(0x34ea8ec)') called at C:\strawberry182\perl\site\lib\Plack\Test.pm line 38
	Plack::Test::__ANON__('HTTP::Request=HASH(0x34ea8ec)') called at C:\strawberry182\perl\site\lib\Catalyst\Test.pm line 281
	Catalyst::Test::__ANON__('CODE(0x34f311c)') called at C:\strawberry182\perl\site\lib\Plack\Test.pm line 38
	Plack::Test::test_psgi('mangle_response', 'CODE(0x34abc3c)', 'app', 'CODE(0x34e9fcc)', 'app', 'CODE(0x3505a04)', 'client', 'CODE(0x3505a74)') called at C:\strawberry182\perl\site\lib\Catalyst\Test.pm line 284
	Catalyst::Test::_request('HASH(0x34de284)', '/request') called at C:\strawberry182\perl\site\lib\Catalyst\Test.pm line 327
	Catalyst::Test::_local_request('AuthServer', '/request') called at C:\strawberry182\perl\site\lib\Catalyst\Test.pm line 32
	Catalyst::Test::__ANON__('/request') called at C:\strawberry182\perl\site\lib\Catalyst\Test.pm line 72
	Catalyst::Test::__ANON__('/request') called at t\unit\100-controller-role-provider.t line 30
bless( {
  "Plugin::ConfigLoader" => {},
  action => bless( {
    attributes => {
      Args => [
        0
      ],
      Chained => [
        "/oauth2/provider/base"
      ],
      Does => [
        "Catalyst::ActionRole::OAuth2::RequestAuth"
      ],
      PathPart => [
        "request"
      ]
    },
    chain => [
      bless( {
        attributes => {
          CaptureArgs => [
            0
          ],
          Chained => [
            "/"
          ],
          PathPart => [
            ""
          ]
        },
        class => "AuthServer::Controller::OAuth2::Provider",
        code => sub {
            package AuthServer::Controller::OAuth2::Provider;
            use warnings;
            use strict;
            
        },
        name => "base",
        namespace => "oauth2/provider",
        reverse => "oauth2/provider/base"
      }, 'Catalyst::Action' ),
      bless( {
        attributes => $VAR1->{action}{attributes},
        class => "AuthServer::Controller::OAuth2::Provider",
        code => sub {
            package AuthServer::Controller::OAuth2::Provider;
            use warnings;
            use strict;
            
        },
        enable_client_secret => 0,
        name => "request",
        namespace => "oauth2/provider",
        reverse => "oauth2/provider/request"
      }, 'Moose::Meta::Class::__ANON__::SERIAL::14' )
    ],
    class => "AuthServer::Controller::OAuth2::Provider",
    code => $VAR1->{action}{chain}[1]{code},
    enable_client_secret => 0,
    name => "request",
    namespace => "oauth2/provider",
    reverse => "oauth2/provider/request"
  }, 'Catalyst::ActionChain' ),
  counter => {},
  home => "C:\\strawberry182\\cpan\\build\\CatalystX-OAuth2-0.001009-w4SRlA\\t\\lib\\AuthServer",
  namespace => "oauth2/provider",
  request => bless( {
    _body => 0,
    _log => bless( {
      _body => undef,
      _psgi_errors => *::STDERR,
      abort => undef,
      level => 31
    }, 'Catalyst::Log' ),
    _path => "request",
    _read_length => 0,
    _read_position => 0,
    _use_hash_multivalue => 0,
    action => "/oauth2/provider/request",
    address => "127.0.0.1",
    arguments => [],
    base => bless( do{\(my $o = "http://localhost/")}, 'URI::http' ),
    body_parameters => {},
    captures => [],
    cookies => {},
    data_handlers => {
      "application/json" => sub {
          package Catalyst;
          use warnings;
          use strict;
          Class::Load::load_first_existing_class('JSON::MaybeXS', 'JSON')->can('decode_json')->(do {
              local $/;
              $_->getline
          });
      },
      "application/x-www-form-urlencoded" => sub {
          package Catalyst;
          use warnings;
          use strict;
          my($fh, $req) = @_;
          my $params = $req->_use_hash_multivalue ? $req->body_parameters->mixed : $req->body_parameters;
          Class::Load::load_first_existing_class('CGI::Struct::XS', 'CGI::Struct')->can('build_cgi_struct')->($params);
      }
    },
    env => {
      CONTENT_LENGTH => 0,
      HTTP_HOST => "localhost",
      PATH_INFO => "/request",
      QUERY_STRING => "",
      REMOTE_ADDR => "127.0.0.1",
      REMOTE_HOST => "localhost",
      REMOTE_PORT => 11025,
      REQUEST_METHOD => "GET",
      REQUEST_URI => "/request",
      SCRIPT_NAME => "",
      SERVER_NAME => "localhost",
      SERVER_PORT => 80,
      SERVER_PROTOCOL => "HTTP/1.1",
      "plack.original_request_method" => "GET",
      "psgi.errors" => *::STDERR,
      "psgi.input" => \*{"HTTP::Message::PSGI::\$input"},
      "psgi.multiprocess" => "",
      "psgi.multithread" => "",
      "psgi.nonblocking" => "",
      "psgi.run_once" => 1,
      "psgi.streaming" => 1,
      "psgi.url_scheme" => "http",
      "psgi.version" => [
        1,
        1
      ]
    },
    headers => bless( {
      "::std_case" => {
        cookie => "Cookie"
      },
      "content-length" => 0,
      host => "localhost"
    }, 'HTTP::Headers' ),
    hostname => "localhost",
    match => "/oauth2/provider/request",
    method => "GET",
    parameters => {},
    protocol => "HTTP/1.1",
    query_keywords => "",
    query_parameters => {},
    remote_user => undef,
    secure => 0,
    uploads => {},
    uri => bless( do{\(my $o = "http://localhost/request")}, 'URI::http' )
  }, 'Catalyst::Request' ),
  response => bless( {
    _context => $VAR1,
    _log => $VAR1->{request}{_log},
    body => "warning: response_type/client_id invalid or missing",
    cookies => {},
    finalized_headers => 1,
    headers => bless( {}, 'HTTP::Headers' ),
    status => 200
  }, 'Catalyst::Response' ),
  root => bless( {
    dirs => [
      "",
      "strawberry182",
      "cpan",
      "build",
      "CatalystX-OAuth2-0.001009-w4SRlA",
      "t",
      "lib",
      "AuthServer",
      "root"
    ],
    file_spec_class => undef,
    volume => "C:"
  }, 'Path::Class::Dir' ),
  stack => [],
  stash => {},
  state => 1,
  stats => bless( {
    enable => 0,
    tree => bless( {
      _children => [],
      _depth => -1,
      _height => 1,
      _node => {
        t => [
          "1516562627",
          750595
        ]
      },
      _parent => "root",
      _uid => "0x351421c",
      _width => 1
    }, 'Tree::Simple' )
  }, 'Catalyst::Stats' )
}, 'AuthServer' )
t/unit/100-controller-role-provider.t ................. ok
Class::MOP::load_first_existing_class is deprecated at C:/strawberry182/perl/site/lib/Class/MOP.pm line 82.
	Class::MOP::load_first_existing_class("AuthServer::ActionRole::OAuth2::RequestAuth", "Catalyst::ActionRole::OAuth2::RequestAuth") called at C:/strawberry182/perl/site/lib/Catalyst/Controller/ActionRole.pm line 120
	Catalyst::Controller::ActionRole::__ANON__("OAuth2::RequestAuth") called at C:/strawberry182/perl/site/lib/String/RewritePrefix.pm line 44
	String::RewritePrefix::__ANON__("OAuth2::RequestAuth") called at C:/strawberry182/perl/site/lib/String/RewritePrefix.pm line 18
	String::RewritePrefix::rewrite("String::RewritePrefix", HASH(0x32be664), "OAuth2::RequestAuth") called at C:/strawberry182/perl/site/lib/Catalyst/Controller/ActionRole.pm line 125
	Catalyst::Controller::ActionRole::_expand_role_shortname(AuthServer::Controller::OAuth2::Provider=HASH(0x327b2ec), "OAuth2::RequestAuth") called at C:/strawberry182/perl/site/lib/Catalyst/Controller/ActionRole.pm line 134
	Catalyst::Controller::ActionRole::_parse_Does_attr(AuthServer::Controller::OAuth2::Provider=HASH(0x327b2ec), "AuthServer", "request", "OAuth2::RequestAuth") called at C:/strawberry182/perl/site/lib/Catalyst/Controller.pm line 441
	Catalyst::Controller::_parse_attr(AuthServer::Controller::OAuth2::Provider=HASH(0x327b2ec), "AuthServer", "request", "Does", ARRAY(0x32cfc74)) called at C:/strawberry182/perl/site/lib/Catalyst/Controller.pm line 427
	Catalyst::Controller::_parse_attrs(AuthServer::Controller::OAuth2::Provider=HASH(0x327b2ec), "AuthServer", "request", "Chained('base')", "Args(0)", "Does('OAuth2::RequestAuth')") called at C:/strawberry182/perl/site/lib/Catalyst/Controller.pm line 279
	Catalyst::Controller::register_action_methods(AuthServer::Controller::OAuth2::Provider=HASH(0x327b2ec), "AuthServer", Moose::Meta::Class::__ANON__::SERIAL::6=HASH(0x32d3534), Moose::Meta::Class::__ANON__::SERIAL::6=HASH(0x3288dec), Moose::Meta::Class::__ANON__::SERIAL::6=HASH(0x3281af4), Moose::Meta::Class::__ANON__::SERIAL::6=HASH(0x32972cc), Moose::Meta::Class::__ANON__::SERIAL::6=HASH(0x32e1eac), Moose::Meta::Class::__ANON__::SERIAL::6=HASH(0x3292e24), Moose::Meta::Class::__ANON__::SERIAL::6=HASH(0x32e602c), ...) called at C:/strawberry182/perl/site/lib/Catalyst/Controller.pm line 257
	Catalyst::Controller::register_actions(AuthServer::Controller::OAuth2::Provider=HASH(0x327b2ec), "AuthServer") called at C:/strawberry182/perl/site/lib/Class/MOP/Method/Wrapped.pm line 54
	Class::MOP::Method::Wrapped::__ANON__(AuthServer::Controller::OAuth2::Provider=HASH(0x327b2ec), "AuthServer") called at C:/strawberry182/perl/site/lib/Class/MOP/Method/Wrapped.pm line 92
	AuthServer::Controller::OAuth2::Provider::register_actions(AuthServer::Controller::OAuth2::Provider=HASH(0x327b2ec), "AuthServer") called at C:/strawberry182/perl/site/lib/Catalyst/Dispatcher.pm line 609
	Catalyst::Dispatcher::setup_actions(Catalyst::Dispatcher=HASH(0x1f7b8cc), "AuthServer") called at C:/strawberry182/perl/site/lib/Catalyst.pm line 2525
	Catalyst::setup_actions("AuthServer") called at C:/strawberry182/perl/site/lib/Catalyst.pm line 1242
	Catalyst::setup("AuthServer", "ConfigLoader") called at t/lib/AuthServer.pm line 9
	require AuthServer.pm called at C:/strawberry182/perl/site/lib/Module/Runtime.pm line 317
	Module::Runtime::require_module("AuthServer") called at C:/strawberry182/perl/vendor/lib/Class/Load.pm line 177
	Class::Load::try {...} () called at C:/strawberry182/perl/vendor/lib/Try/Tiny.pm line 78
	eval {...} called at C:/strawberry182/perl/vendor/lib/Try/Tiny.pm line 74
	Try::Tiny::try(CODE(0x155d0f4), Try::Tiny::Catch=REF(0x155f14c)) called at C:/strawberry182/perl/vendor/lib/Class/Load.pm line 183
	Class::Load::try_load_class("AuthServer", undef) called at C:/strawberry182/perl/vendor/lib/Class/Load.pm line 38
	Class::Load::load_class("AuthServer") called at C:/strawberry182/perl/site/lib/Catalyst/Test.pm line 29
	Catalyst::Test::_build_request_export("Catalyst::Test", HASH(0xf4307c)) called at C:/strawberry182/perl/site/lib/Catalyst/Test.pm line 92
	Catalyst::Test::__ANON__("Catalyst::Test", "all", HASH(0xf4304c), HASH(0x156c57c)) called at C:/strawberry182/perl/vendor/lib/Sub/Exporter.pm line 108
	Sub::Exporter::_expand_group("Catalyst::Test", HASH(0x180b9fc), ARRAY(0x156c50c), HASH(0x156c57c), HASH(0xf4309c), HASH(0x156c59c)) called at C:/strawberry182/perl/vendor/lib/Sub/Exporter.pm line 39
	Sub::Exporter::_expand_groups("Catalyst::Test", HASH(0x180b9fc), ARRAY(0x180bacc), HASH(0x156c57c)) called at C:/strawberry182/perl/vendor/lib/Sub/Exporter.pm line 323
	Sub::Exporter::__ANON__("Catalyst::Test", "-all", HASH(0x99b53c)) called at C:/strawberry182/perl/site/lib/Catalyst/Test.pm line 155
	Catalyst::Test::import("Catalyst::Test", "AuthServer") called at t/unit/200-actionrole-request-auth.t line 10
	main::BEGIN() called at t/lib/AuthServer.pm line 0
	eval {...} called at t/lib/AuthServer.pm line 0
Class::MOP::load_class is deprecated at C:/strawberry182/perl/site/lib/Class/MOP.pm line 73.
	Class::MOP::load_class("Catalyst::ActionRole::OAuth2::RequestAuth") called at C:/strawberry182/perl/site/lib/Catalyst/Controller/ActionRole.pm line 69
	Class::MOP::Class:::around(CODE(0x1c55334), AuthServer::Controller::OAuth2::Provider=HASH(0x327b2ec), "name", "request", "code", CODE(0x2451774), "reverse", "oauth2/provider/request", "namespace", ...) called at C:/strawberry182/perl/site/lib/Class/MOP/Method/Wrapped.pm line 163
	Class::MOP::Method::Wrapped::__ANON__(AuthServer::Controller::OAuth2::Provider=HASH(0x327b2ec), "name", "request", "code", CODE(0x2451774), "reverse", "oauth2/provider/request", "namespace", "oauth2/provider", ...) called at C:/strawberry182/perl/site/lib/Class/MOP/Method/Wrapped.pm line 92
	Catalyst::Controller::ActionRole::create_action(AuthServer::Controller::OAuth2::Provider=HASH(0x327b2ec), "name", "request", "code", CODE(0x2451774), "reverse", "oauth2/provider/request", "namespace", "oauth2/provider", ...) called at C:\strawberry182\cpan\build\CatalystX-OAuth2-0.001009-w4SRlA\blib\lib/CatalystX/OAuth2/Controller/Role/Provider.pm line 21
	Class::MOP::Class:::around(CODE(0x24de94c), AuthServer::Controller::OAuth2::Provider=HASH(0x327b2ec), "name", "request", "code", CODE(0x2451774), "reverse", "oauth2/provider/request", "namespace", ...) called at C:/strawberry182/perl/site/lib/Class/MOP/Method/Wrapped.pm line 163
	Class::MOP::Method::Wrapped::__ANON__(AuthServer::Controller::OAuth2::Provider=HASH(0x327b2ec), "name", "request", "code", CODE(0x2451774), "reverse", "oauth2/provider/request", "namespace", "oauth2/provider", ...) called at C:/strawberry182/perl/site/lib/Class/MOP/Method/Wrapped.pm line 92
	AuthServer::Controller::OAuth2::Provider::create_action(AuthServer::Controller::OAuth2::Provider=HASH(0x327b2ec), "name", "request", "code", CODE(0x2451774), "reverse", "oauth2/provider/request", "namespace", "oauth2/provider", ...) called at C:/strawberry182/perl/site/lib/Catalyst/Controller.pm line 288
	Catalyst::Controller::register_action_methods(AuthServer::Controller::OAuth2::Provider=HASH(0x327b2ec), "AuthServer", Moose::Meta::Class::__ANON__::SERIAL::6=HASH(0x32d3534), Moose::Meta::Class::__ANON__::SERIAL::6=HASH(0x3288dec), Moose::Meta::Class::__ANON__::SERIAL::6=HASH(0x3281af4), Moose::Meta::Class::__ANON__::SERIAL::6=HASH(0x32972cc), Moose::Meta::Class::__ANON__::SERIAL::6=HASH(0x32e1eac), Moose::Meta::Class::__ANON__::SERIAL::6=HASH(0x3292e24), Moose::Meta::Class::__ANON__::SERIAL::6=HASH(0x32e602c), ...) called at C:/strawberry182/perl/site/lib/Catalyst/Controller.pm line 257
	Catalyst::Controller::register_actions(AuthServer::Controller::OAuth2::Provider=HASH(0x327b2ec), "AuthServer") called at C:/strawberry182/perl/site/lib/Class/MOP/Method/Wrapped.pm line 54
	Class::MOP::Method::Wrapped::__ANON__(AuthServer::Controller::OAuth2::Provider=HASH(0x327b2ec), "AuthServer") called at C:/strawberry182/perl/site/lib/Class/MOP/Method/Wrapped.pm line 92
	AuthServer::Controller::OAuth2::Provider::register_actions(AuthServer::Controller::OAuth2::Provider=HASH(0x327b2ec), "AuthServer") called at C:/strawberry182/perl/site/lib/Catalyst/Dispatcher.pm line 609
	Catalyst::Dispatcher::setup_actions(Catalyst::Dispatcher=HASH(0x1f7b8cc), "AuthServer") called at C:/strawberry182/perl/site/lib/Catalyst.pm line 2525
	Catalyst::setup_actions("AuthServer") called at C:/strawberry182/perl/site/lib/Catalyst.pm line 1242
	Catalyst::setup("AuthServer", "ConfigLoader") called at t/lib/AuthServer.pm line 9
	require AuthServer.pm called at C:/strawberry182/perl/site/lib/Module/Runtime.pm line 317
	Module::Runtime::require_module("AuthServer") called at C:/strawberry182/perl/vendor/lib/Class/Load.pm line 177
	Class::Load::try {...} () called at C:/strawberry182/perl/vendor/lib/Try/Tiny.pm line 78
	eval {...} called at C:/strawberry182/perl/vendor/lib/Try/Tiny.pm line 74
	Try::Tiny::try(CODE(0x155d0f4), Try::Tiny::Catch=REF(0x155f14c)) called at C:/strawberry182/perl/vendor/lib/Class/Load.pm line 183
	Class::Load::try_load_class("AuthServer", undef) called at C:/strawberry182/perl/vendor/lib/Class/Load.pm line 38
	Class::Load::load_class("AuthServer") called at C:/strawberry182/perl/site/lib/Catalyst/Test.pm line 29
	Catalyst::Test::_build_request_export("Catalyst::Test", HASH(0xf4307c)) called at C:/strawberry182/perl/site/lib/Catalyst/Test.pm line 92
	Catalyst::Test::__ANON__("Catalyst::Test", "all", HASH(0xf4304c), HASH(0x156c57c)) called at C:/strawberry182/perl/vendor/lib/Sub/Exporter.pm line 108
	Sub::Exporter::_expand_group("Catalyst::Test", HASH(0x180b9fc), ARRAY(0x156c50c), HASH(0x156c57c), HASH(0xf4309c), HASH(0x156c59c)) called at C:/strawberry182/perl/vendor/lib/Sub/Exporter.pm line 39
	Sub::Exporter::_expand_groups("Catalyst::Test", HASH(0x180b9fc), ARRAY(0x180bacc), HASH(0x156c57c)) called at C:/strawberry182/perl/vendor/lib/Sub/Exporter.pm line 323
	Sub::Exporter::__ANON__("Catalyst::Test", "-all", HASH(0x99b53c)) called at C:/strawberry182/perl/site/lib/Catalyst/Test.pm line 155
	Catalyst::Test::import("Catalyst::Test", "AuthServer") called at t/unit/200-actionrole-request-auth.t line 10
	main::BEGIN() called at t/lib/AuthServer.pm line 0
	eval {...} called at t/lib/AuthServer.pm line 0
[error] Attribute (response_type) is required at C:\strawberry182\perl\site\lib\Moose\Exception.pm line 37
	Moose::Exception::_build_trace('Moose::Exception::AttributeIsRequired=HASH(0x353d284)') called at reader Moose::Exception::trace (defined at C:\strawberry182\perl\site\lib\Moose\Exception.pm line 9) line 7
	Moose::Exception::trace('Moose::Exception::AttributeIsRequired=HASH(0x353d284)') called at C:\strawberry182\perl\site\lib\Moose\Exception.pm line 49
	Moose::Exception::BUILD('Moose::Exception::AttributeIsRequired=HASH(0x353d284)', 'HASH(0x353154c)') called at C:\strawberry182\perl\site\lib\Class\MOP\Method.pm line 128
	Class::MOP::Method::execute('Moose::Meta::Method=HASH(0x357b034)', 'Moose::Exception::AttributeIsRequired=HASH(0x353d284)', 'HASH(0x353154c)') called at C:\strawberry182\perl\site\lib\Moose\Object.pm line 56
	Moose::Object::BUILDALL('Moose::Exception::AttributeIsRequired=HASH(0x353d284)', 'HASH(0x353154c)') called at C:\strawberry182\perl\site\lib\Moose\Meta\Class.pm line 282
	Moose::Meta::Class::new_object('Moose::Meta::Class=HASH(0x3533f9c)', 'HASH(0x353154c)') called at C:\strawberry182\perl\site\lib\Moose\Object.pm line 27
	Moose::Object::new('Moose::Exception::AttributeIsRequired', 'attribute', 'Moose::Meta::Attribute=HASH(0x32e9364)', 'class_name', 'CatalystX::OAuth2::Request::RequestAuth', 'params', 'HASH(0x35314dc)') called at C:\strawberry182\perl\site\lib\Moose\Util.pm line 51
	Moose::Util::throw_exception('AttributeIsRequired', 'attribute', 'Moose::Meta::Attribute=HASH(0x32e9364)', 'class_name', 'CatalystX::OAuth2::Request::RequestAuth', 'params', 'HASH(0x35314dc)') called at C:\strawberry182\perl\site\lib\Moose\Meta\Attribute.pm line 494
	Moose::Meta::Attribute::initialize_instance_slot('Moose::Meta::Attribute=HASH(0x32e9364)', 'Moose::Meta::Instance=HASH(0x33a444c)', 'CatalystX::OAuth2::Request::RequestAuth=HASH(0x353142c)', 'HASH(0x35314dc)') called at C:\strawberry182\perl\site\lib\Class\MOP\Class.pm line 529
	Class::MOP::Class::_construct_instance('Moose::Meta::Class=HASH(0x32aced4)', 'HASH(0x35314dc)') called at C:\strawberry182\perl\site\lib\Class\MOP\Class.pm line 499
	Class::MOP::Class::new_object('Moose::Meta::Class=HASH(0x32aced4)', 'HASH(0x35314dc)') called at C:\strawberry182\perl\site\lib\Moose\Meta\Class.pm line 278
	Moose::Meta::Class::new_object('Moose::Meta::Class=HASH(0x32aced4)', 'HASH(0x35314dc)') called at C:\strawberry182\perl\site\lib\Moose\Object.pm line 27
	Moose::Object::new('CatalystX::OAuth2::Request::RequestAuth') called at C:\strawberry182\cpan\build\CatalystX-OAuth2-0.001009-w4SRlA\blib\lib\Catalyst\ActionRole\OAuth2\RequestAuth.pm line 21
	Catalyst::ActionRole::OAuth2::RequestAuth::try {...}  at C:\strawberry182\perl\vendor\lib\Try\Tiny.pm line 83
	eval {...} at C:\strawberry182\perl\vendor\lib\Try\Tiny.pm line 74
	Try::Tiny::try('CODE(0x35312ac)', 'Try::Tiny::Catch=REF(0x352c2c4)') called at C:\strawberry182\cpan\build\CatalystX-OAuth2-0.001009-w4SRlA\blib\lib\Catalyst\ActionRole\OAuth2\RequestAuth.pm line 31
	Catalyst::ActionRole::OAuth2::RequestAuth::build_oauth2_request('Moose::Meta::Class::__ANON__::SERIAL::14=HASH(0x33b6cb4)', 'AuthServer::Controller::OAuth2::Provider=HASH(0x327b2ec)', 'AuthServer=HASH(0x34f774c)') called at C:\strawberry182\cpan\build\CatalystX-OAuth2-0.001009-w4SRlA\blib\lib\CatalystX\OAuth2\ActionRole\RequestInjector.pm line 17
	Class::MOP::Class:::before('Moose::Meta::Class::__ANON__::SERIAL::14=HASH(0x33b6cb4)', 'AuthServer::Controller::OAuth2::Provider=HASH(0x327b2ec)', 'AuthServer=HASH(0x34f774c)') called at C:\strawberry182\perl\site\lib\Class\MOP\Method\Wrapped.pm line 31
	Class::MOP::Method::Wrapped::__ANON__('Moose::Meta::Class::__ANON__::SERIAL::14=HASH(0x33b6cb4)', 'AuthServer::Controller::OAuth2::Provider=HASH(0x327b2ec)', 'AuthServer=HASH(0x34f774c)') called at C:\strawberry182\perl\site\lib\Class\MOP\Method\Wrapped.pm line 92
	Moose::Meta::Class::__ANON__::SERIAL::14::execute('Moose::Meta::Class::__ANON__::SERIAL::14=HASH(0x33b6cb4)', 'AuthServer::Controller::OAuth2::Provider=HASH(0x327b2ec)', 'AuthServer=HASH(0x34f774c)') called at C:\strawberry182\perl\site\lib\Catalyst.pm line 1734
	eval {...} at C:\strawberry182\perl\site\lib\Catalyst.pm line 1734
	Catalyst::execute('AuthServer=HASH(0x34f774c)', 'AuthServer::Controller::OAuth2::Provider', 'Moose::Meta::Class::__ANON__::SERIAL::14=HASH(0x33b6cb4)') called at C:\strawberry182\perl\site\lib\Catalyst\Action.pm line 60
	Catalyst::Action::dispatch('Moose::Meta::Class::__ANON__::SERIAL::14=HASH(0x33b6cb4)', 'AuthServer=HASH(0x34f774c)') called at C:\strawberry182\perl\site\lib\Catalyst\ActionChain.pm line 41
	Catalyst::ActionChain::dispatch('Catalyst::ActionChain=HASH(0x352cee4)', 'AuthServer=HASH(0x34f774c)') called at C:\strawberry182\perl\site\lib\Catalyst\Controller.pm line 161
	Catalyst::Controller::_ACTION('AuthServer::Controller::OAuth2::Provider=HASH(0x327b2ec)', 'AuthServer=HASH(0x34f774c)') called at C:\strawberry182\perl\site\lib\Catalyst\Action.pm line 65
	Catalyst::Action::execute('Catalyst::Action=HASH(0x328e6d4)', 'AuthServer::Controller::OAuth2::Provider=HASH(0x327b2ec)', 'AuthServer=HASH(0x34f774c)') called at C:\strawberry182\perl\site\lib\Catalyst.pm line 1734
	eval {...} at C:\strawberry182\perl\site\lib\Catalyst.pm line 1734
	Catalyst::execute('AuthServer=HASH(0x34f774c)', 'AuthServer::Controller::OAuth2::Provider', 'Catalyst::Action=HASH(0x328e6d4)') called at C:\strawberry182\perl\site\lib\Catalyst\Action.pm line 60
	Catalyst::Action::dispatch('Catalyst::Action=HASH(0x328e6d4)', 'AuthServer=HASH(0x34f774c)') called at C:\strawberry182\perl\site\lib\Catalyst\Dispatcher.pm line 258
	Catalyst::Dispatcher::_do_forward('Catalyst::Dispatcher=HASH(0x1f7b8cc)', 'forward', 'AuthServer=HASH(0x34f774c)', '_ACTION') called at C:\strawberry182\perl\site\lib\Catalyst\Dispatcher.pm line 238
	Catalyst::Dispatcher::forward('Catalyst::Dispatcher=HASH(0x1f7b8cc)', 'AuthServer=HASH(0x34f774c)', '_ACTION') called at C:\strawberry182\perl\site\lib\Catalyst.pm line 397
	Catalyst::forward('AuthServer=HASH(0x34f774c)', '_ACTION') called at C:\strawberry182\perl\site\lib\Catalyst\Controller.pm line 135
	Catalyst::Controller::_DISPATCH('AuthServer::Controller::OAuth2::Provider=HASH(0x327b2ec)', 'AuthServer=HASH(0x34f774c)') called at C:\strawberry182\perl\site\lib\Catalyst\Action.pm line 65
	Catalyst::Action::execute('Catalyst::Action=HASH(0x32c1344)', 'AuthServer::Controller::OAuth2::Provider=HASH(0x327b2ec)', 'AuthServer=HASH(0x34f774c)') called at C:\strawberry182\perl\site\lib\Catalyst.pm line 1734
	eval {...} at C:\strawberry182\perl\site\lib\Catalyst.pm line 1734
	Catalyst::execute('AuthServer=HASH(0x34f774c)', 'AuthServer::Controller::OAuth2::Provider', 'Catalyst::Action=HASH(0x32c1344)') called at C:\strawberry182\perl\site\lib\Catalyst\Action.pm line 60
	Catalyst::Action::dispatch('Catalyst::Action=HASH(0x32c1344)', 'AuthServer=HASH(0x34f774c)') called at C:\strawberry182\perl\site\lib\Catalyst\Dispatcher.pm line 258
	Catalyst::Dispatcher::_do_forward('Catalyst::Dispatcher=HASH(0x1f7b8cc)', 'forward', 'AuthServer=HASH(0x34f774c)', '/oauth2/provider/_DISPATCH') called at C:\strawberry182\perl\site\lib\Catalyst\Dispatcher.pm line 238
	Catalyst::Dispatcher::forward('Catalyst::Dispatcher=HASH(0x1f7b8cc)', 'AuthServer=HASH(0x34f774c)', '/oauth2/provider/_DISPATCH') called at C:\strawberry182\perl\site\lib\Catalyst.pm line 397
	Catalyst::forward('AuthServer=HASH(0x34f774c)', '/oauth2/provider/_DISPATCH') called at C:\strawberry182\perl\site\lib\Catalyst\Dispatcher.pm line 106
	Catalyst::Dispatcher::dispatch('Catalyst::Dispatcher=HASH(0x1f7b8cc)', 'AuthServer=HASH(0x34f774c)') called at C:\strawberry182\perl\site\lib\Catalyst.pm line 1680
	Catalyst::dispatch('AuthServer=HASH(0x34f774c)') called at C:\strawberry182\perl\site\lib\Class\MOP\Method\Wrapped.pm line 54
	Class::MOP::Method::Wrapped::__ANON__('AuthServer=HASH(0x34f774c)') called at C:\strawberry182\perl\site\lib\Class\MOP\Method\Wrapped.pm line 92
	AuthServer::dispatch('AuthServer=HASH(0x34f774c)') called at C:\strawberry182\perl\site\lib\Catalyst.pm line 2015
	Catalyst::try {...}  at C:\strawberry182\perl\vendor\lib\Try\Tiny.pm line 83
	eval {...} at C:\strawberry182\perl\vendor\lib\Try\Tiny.pm line 74
	Try::Tiny::try('CODE(0x34f73ac)', 'Try::Tiny::Catch=REF(0x34f735c)') called at C:\strawberry182\perl\site\lib\Catalyst.pm line 2024
	Catalyst::handle_request('AuthServer', 'env', 'HASH(0x31d682c)', 'response_cb', 'CODE(0x34f73dc)') called at C:\strawberry182\perl\site\lib\Catalyst\Engine.pm line 797
	Catalyst::Engine::__ANON__('CODE(0x34f73dc)') called at C:\strawberry182\perl\site\lib\Plack\Middleware\HTTPExceptions.pm line 32
	Plack::Middleware::HTTPExceptions::try {...}  at C:\strawberry182\perl\vendor\lib\Try\Tiny.pm line 83
	eval {...} at C:\strawberry182\perl\vendor\lib\Try\Tiny.pm line 74
	Try::Tiny::try('CODE(0x34f726c)', 'Try::Tiny::Catch=REF(0x22f0c9c)') called at C:\strawberry182\perl\site\lib\Plack\Middleware\HTTPExceptions.pm line 41
	Plack::Middleware::HTTPExceptions::__ANON__('CODE(0x34f71bc)') called at C:\strawberry182\perl\site\lib\Plack\Util.pm line 301
	Plack::Util::__ANON__('CODE(0x34f710c)') called at C:\strawberry182\perl\site\lib\Plack\Util.pm line 301
	Plack::Util::__ANON__('CODE(0x34f705c)') called at C:\strawberry182\perl\site\lib\Plack\Util.pm line 301
	Plack::Util::__ANON__('CODE(0x34f700c)') called at C:\strawberry182\perl\site\lib\HTTP\Message\PSGI.pm line 100
	HTTP::Message::PSGI::res_from_psgi('CODE(0x3243114)') called at C:\strawberry182\perl\site\lib\HTTP\Message\PSGI.pm line 155
	HTTP::Response::from_psgi('HTTP::Response', 'CODE(0x3243114)') called at C:\strawberry182\perl\site\lib\Plack\Test\MockHTTP.pm line 24
	Plack::Test::MockHTTP::try {...}  at C:\strawberry182\perl\vendor\lib\Try\Tiny.pm line 78
	eval {...} at C:\strawberry182\perl\vendor\lib\Try\Tiny.pm line 74
	Try::Tiny::try('CODE(0x2e9bf04)', 'Try::Tiny::Catch=REF(0x9a27b4)') called at C:\strawberry182\perl\site\lib\Plack\Test\MockHTTP.pm line 27
	Plack::Test::MockHTTP::request('Plack::Test::MockHTTP=HASH(0x34de5a4)', 'HTTP::Request=HASH(0x34d8fd4)') called at C:\strawberry182\perl\site\lib\Plack\Test.pm line 38
	Plack::Test::__ANON__('HTTP::Request=HASH(0x34d8fd4)') called at C:\strawberry182\perl\site\lib\Catalyst\Test.pm line 281
	Catalyst::Test::__ANON__('CODE(0x34de4b4)') called at C:\strawberry182\perl\site\lib\Plack\Test.pm line 38
	Plack::Test::test_psgi('mangle_response', 'CODE(0x156cb1c)', 'app', 'CODE(0x9a2d04)', 'app', 'CODE(0x34de374)', 'client', 'CODE(0x34de3e4)') called at C:\strawberry182\perl\site\lib\Catalyst\Test.pm line 284
	Catalyst::Test::_request('HASH(0x34ce55c)', '/request') called at C:\strawberry182\perl\site\lib\Catalyst\Test.pm line 327
	Catalyst::Test::_local_request('AuthServer', '/request') called at C:\strawberry182\perl\site\lib\Catalyst\Test.pm line 32
	Catalyst::Test::__ANON__('/request') called at C:\strawberry182\perl\site\lib\Catalyst\Test.pm line 72
	Catalyst::Test::__ANON__('/request') called at t\unit\200-actionrole-request-auth.t line 15
[error] Attribute (response_type) is required at C:\strawberry182\perl\site\lib\Moose\Exception.pm line 37
	Moose::Exception::_build_trace('Moose::Exception::AttributeIsRequired=HASH(0x35a109c)') called at reader Moose::Exception::trace (defined at C:\strawberry182\perl\site\lib\Moose\Exception.pm line 9) line 7
	Moose::Exception::trace('Moose::Exception::AttributeIsRequired=HASH(0x35a109c)') called at C:\strawberry182\perl\site\lib\Moose\Exception.pm line 49
	Moose::Exception::BUILD('Moose::Exception::AttributeIsRequired=HASH(0x35a109c)', 'HASH(0x35a180c)') called at C:\strawberry182\perl\site\lib\Class\MOP\Method.pm line 128
	Class::MOP::Method::execute('Moose::Meta::Method=HASH(0x357b034)', 'Moose::Exception::AttributeIsRequired=HASH(0x35a109c)', 'HASH(0x35a180c)') called at C:\strawberry182\perl\site\lib\Moose\Object.pm line 56
	Moose::Object::BUILDALL('Moose::Exception::AttributeIsRequired=HASH(0x35a109c)', 'HASH(0x35a180c)') called at C:\strawberry182\perl\site\lib\Moose\Meta\Class.pm line 282
	Moose::Meta::Class::new_object('Moose::Meta::Class=HASH(0x3533f9c)', 'HASH(0x35a180c)') called at C:\strawberry182\perl\site\lib\Moose\Object.pm line 27
	Moose::Object::new('Moose::Exception::AttributeIsRequired', 'attribute', 'Moose::Meta::Attribute=HASH(0x32e9364)', 'class_name', 'CatalystX::OAuth2::Request::RequestAuth', 'params', 'HASH(0x35a186c)') called at C:\strawberry182\perl\site\lib\Moose\Util.pm line 51
	Moose::Util::throw_exception('AttributeIsRequired', 'attribute', 'Moose::Meta::Attribute=HASH(0x32e9364)', 'class_name', 'CatalystX::OAuth2::Request::RequestAuth', 'params', 'HASH(0x35a186c)') called at C:\strawberry182\perl\site\lib\Moose\Meta\Attribute.pm line 494
	Moose::Meta::Attribute::initialize_instance_slot('Moose::Meta::Attribute=HASH(0x32e9364)', 'Moose::Meta::Instance=HASH(0x33a444c)', 'CatalystX::OAuth2::Request::RequestAuth=HASH(0x35a18fc)', 'HASH(0x35a186c)') called at C:\strawberry182\perl\site\lib\Class\MOP\Class.pm line 529
	Class::MOP::Class::_construct_instance('Moose::Meta::Class=HASH(0x32aced4)', 'HASH(0x35a186c)') called at C:\strawberry182\perl\site\lib\Class\MOP\Class.pm line 499
	Class::MOP::Class::new_object('Moose::Meta::Class=HASH(0x32aced4)', 'HASH(0x35a186c)') called at C:\strawberry182\perl\site\lib\Moose\Meta\Class.pm line 278
	Moose::Meta::Class::new_object('Moose::Meta::Class=HASH(0x32aced4)', 'HASH(0x35a186c)') called at C:\strawberry182\perl\site\lib\Moose\Object.pm line 27
	Moose::Object::new('CatalystX::OAuth2::Request::RequestAuth') called at C:\strawberry182\cpan\build\CatalystX-OAuth2-0.001009-w4SRlA\blib\lib\Catalyst\ActionRole\OAuth2\RequestAuth.pm line 21
	Catalyst::ActionRole::OAuth2::RequestAuth::try {...}  at C:\strawberry182\perl\vendor\lib\Try\Tiny.pm line 83
	eval {...} at C:\strawberry182\perl\vendor\lib\Try\Tiny.pm line 74
	Try::Tiny::try('CODE(0x35a15fc)', 'Try::Tiny::Catch=REF(0x359674c)') called at C:\strawberry182\cpan\build\CatalystX-OAuth2-0.001009-w4SRlA\blib\lib\Catalyst\ActionRole\OAuth2\RequestAuth.pm line 31
	Catalyst::ActionRole::OAuth2::RequestAuth::build_oauth2_request('Moose::Meta::Class::__ANON__::SERIAL::14=HASH(0x33b6cb4)', 'AuthServer::Controller::OAuth2::Provider=HASH(0x327b2ec)', 'AuthServer=HASH(0x34f774c)') called at C:\strawberry182\cpan\build\CatalystX-OAuth2-0.001009-w4SRlA\blib\lib\CatalystX\OAuth2\ActionRole\RequestInjector.pm line 17
	Class::MOP::Class:::before('Moose::Meta::Class::__ANON__::SERIAL::14=HASH(0x33b6cb4)', 'AuthServer::Controller::OAuth2::Provider=HASH(0x327b2ec)', 'AuthServer=HASH(0x34f774c)') called at C:\strawberry182\perl\site\lib\Class\MOP\Method\Wrapped.pm line 31
	Class::MOP::Method::Wrapped::__ANON__('Moose::Meta::Class::__ANON__::SERIAL::14=HASH(0x33b6cb4)', 'AuthServer::Controller::OAuth2::Provider=HASH(0x327b2ec)', 'AuthServer=HASH(0x34f774c)') called at C:\strawberry182\perl\site\lib\Class\MOP\Method\Wrapped.pm line 92
	Moose::Meta::Class::__ANON__::SERIAL::14::execute('Moose::Meta::Class::__ANON__::SERIAL::14=HASH(0x33b6cb4)', 'AuthServer::Controller::OAuth2::Provider=HASH(0x327b2ec)', 'AuthServer=HASH(0x34f774c)') called at C:\strawberry182\perl\site\lib\Catalyst.pm line 1734
	eval {...} at C:\strawberry182\perl\site\lib\Catalyst.pm line 1734
	Catalyst::execute('AuthServer=HASH(0x34f774c)', 'AuthServer::Controller::OAuth2::Provider', 'Moose::Meta::Class::__ANON__::SERIAL::14=HASH(0x33b6cb4)') called at C:\strawberry182\perl\site\lib\Catalyst\Action.pm line 60
	Catalyst::Action::dispatch('Moose::Meta::Class::__ANON__::SERIAL::14=HASH(0x33b6cb4)', 'AuthServer=HASH(0x34f774c)') called at C:\strawberry182\perl\site\lib\Catalyst\ActionChain.pm line 41
	Catalyst::ActionChain::dispatch('Catalyst::ActionChain=HASH(0x352cee4)', 'AuthServer=HASH(0x34f774c)') called at C:\strawberry182\perl\site\lib\Catalyst\Controller.pm line 161
	Catalyst::Controller::_ACTION('AuthServer::Controller::OAuth2::Provider=HASH(0x327b2ec)', 'AuthServer=HASH(0x34f774c)') called at C:\strawberry182\perl\site\lib\Catalyst\Action.pm line 65
	Catalyst::Action::execute('Catalyst::Action=HASH(0x328e6d4)', 'AuthServer::Controller::OAuth2::Provider=HASH(0x327b2ec)', 'AuthServer=HASH(0x34f774c)') called at C:\strawberry182\perl\site\lib\Catalyst.pm line 1734
	eval {...} at C:\strawberry182\perl\site\lib\Catalyst.pm line 1734
	Catalyst::execute('AuthServer=HASH(0x34f774c)', 'AuthServer::Controller::OAuth2::Provider', 'Catalyst::Action=HASH(0x328e6d4)') called at C:\strawberry182\perl\site\lib\Catalyst\Action.pm line 60
	Catalyst::Action::dispatch('Catalyst::Action=HASH(0x328e6d4)', 'AuthServer=HASH(0x34f774c)') called at C:\strawberry182\perl\site\lib\Catalyst\Dispatcher.pm line 258
	Catalyst::Dispatcher::_do_forward('Catalyst::Dispatcher=HASH(0x1f7b8cc)', 'forward', 'AuthServer=HASH(0x34f774c)', '_ACTION') called at C:\strawberry182\perl\site\lib\Catalyst\Dispatcher.pm line 238
	Catalyst::Dispatcher::forward('Catalyst::Dispatcher=HASH(0x1f7b8cc)', 'AuthServer=HASH(0x34f774c)', '_ACTION') called at C:\strawberry182\perl\site\lib\Catalyst.pm line 397
	Catalyst::forward('AuthServer=HASH(0x34f774c)', '_ACTION') called at C:\strawberry182\perl\site\lib\Catalyst\Controller.pm line 135
	Catalyst::Controller::_DISPATCH('AuthServer::Controller::OAuth2::Provider=HASH(0x327b2ec)', 'AuthServer=HASH(0x34f774c)') called at C:\strawberry182\perl\site\lib\Catalyst\Action.pm line 65
	Catalyst::Action::execute('Catalyst::Action=HASH(0x32c1344)', 'AuthServer::Controller::OAuth2::Provider=HASH(0x327b2ec)', 'AuthServer=HASH(0x34f774c)') called at C:\strawberry182\perl\site\lib\Catalyst.pm line 1734
	eval {...} at C:\strawberry182\perl\site\lib\Catalyst.pm line 1734
	Catalyst::execute('AuthServer=HASH(0x34f774c)', 'AuthServer::Controller::OAuth2::Provider', 'Catalyst::Action=HASH(0x32c1344)') called at C:\strawberry182\perl\site\lib\Catalyst\Action.pm line 60
	Catalyst::Action::dispatch('Catalyst::Action=HASH(0x32c1344)', 'AuthServer=HASH(0x34f774c)') called at C:\strawberry182\perl\site\lib\Catalyst\Dispatcher.pm line 258
	Catalyst::Dispatcher::_do_forward('Catalyst::Dispatcher=HASH(0x1f7b8cc)', 'forward', 'AuthServer=HASH(0x34f774c)', '/oauth2/provider/_DISPATCH') called at C:\strawberry182\perl\site\lib\Catalyst\Dispatcher.pm line 238
	Catalyst::Dispatcher::forward('Catalyst::Dispatcher=HASH(0x1f7b8cc)', 'AuthServer=HASH(0x34f774c)', '/oauth2/provider/_DISPATCH') called at C:\strawberry182\perl\site\lib\Catalyst.pm line 397
	Catalyst::forward('AuthServer=HASH(0x34f774c)', '/oauth2/provider/_DISPATCH') called at C:\strawberry182\perl\site\lib\Catalyst\Dispatcher.pm line 106
	Catalyst::Dispatcher::dispatch('Catalyst::Dispatcher=HASH(0x1f7b8cc)', 'AuthServer=HASH(0x34f774c)') called at C:\strawberry182\perl\site\lib\Catalyst.pm line 1680
	Catalyst::dispatch('AuthServer=HASH(0x34f774c)') called at C:\strawberry182\perl\site\lib\Class\MOP\Method\Wrapped.pm line 54
	Class::MOP::Method::Wrapped::__ANON__('AuthServer=HASH(0x34f774c)') called at C:\strawberry182\perl\site\lib\Class\MOP\Method\Wrapped.pm line 92
	AuthServer::dispatch('AuthServer=HASH(0x34f774c)') called at t\unit\200-actionrole-request-auth.t line 19
[warn] Useless setting a header value after finalize_headers called. Not what you want.
t/unit/200-actionrole-request-auth.t .................. ok
Class::MOP::load_first_existing_class is deprecated at C:/strawberry182/perl/site/lib/Class/MOP.pm line 82.
	Class::MOP::load_first_existing_class("AuthServer::ActionRole::OAuth2::RequestAuth", "Catalyst::ActionRole::OAuth2::RequestAuth") called at C:/strawberry182/perl/site/lib/Catalyst/Controller/ActionRole.pm line 120
	Catalyst::Controller::ActionRole::__ANON__("OAuth2::RequestAuth") called at C:/strawberry182/perl/site/lib/String/RewritePrefix.pm line 44
	String::RewritePrefix::__ANON__("OAuth2::RequestAuth") called at C:/strawberry182/perl/site/lib/String/RewritePrefix.pm line 18
	String::RewritePrefix::rewrite("String::RewritePrefix", HASH(0x327d444), "OAuth2::RequestAuth") called at C:/strawberry182/perl/site/lib/Catalyst/Controller/ActionRole.pm line 125
	Catalyst::Controller::ActionRole::_expand_role_shortname(AuthServer::Controller::OAuth2::ProviderWithRefresh=HASH(0x329b5b4), "OAuth2::RequestAuth") called at C:/strawberry182/perl/site/lib/Catalyst/Controller/ActionRole.pm line 134
	Catalyst::Controller::ActionRole::_parse_Does_attr(AuthServer::Controller::OAuth2::ProviderWithRefresh=HASH(0x329b5b4), "AuthServer", "request", "OAuth2::RequestAuth") called at C:/strawberry182/perl/site/lib/Catalyst/Controller.pm line 441
	Catalyst::Controller::_parse_attr(AuthServer::Controller::OAuth2::ProviderWithRefresh=HASH(0x329b5b4), "AuthServer", "request", "Does", ARRAY(0x3291c2c)) called at C:/strawberry182/perl/site/lib/Catalyst/Controller.pm line 427
	Catalyst::Controller::_parse_attrs(AuthServer::Controller::OAuth2::ProviderWithRefresh=HASH(0x329b5b4), "AuthServer", "request", "Chained('base')", "Args(0)", "Does('OAuth2::RequestAuth')") called at C:/strawberry182/perl/site/lib/Catalyst/Controller.pm line 279
	Catalyst::Controller::register_action_methods(AuthServer::Controller::OAuth2::ProviderWithRefresh=HASH(0x329b5b4), "AuthServer", Moose::Meta::Class::__ANON__::SERIAL::6=HASH(0x329106c), Moose::Meta::Class::__ANON__::SERIAL::6=HASH(0x32c5224), Moose::Meta::Class::__ANON__::SERIAL::6=HASH(0x32bc7e4), Moose::Meta::Class::__ANON__::SERIAL::6=HASH(0x326874c), Moose::Meta::Class::__ANON__::SERIAL::6=HASH(0x32bf194), Moose::Meta::Class::__ANON__::SERIAL::6=HASH(0x3261afc), Moose::Meta::Class::__ANON__::SERIAL::6=HASH(0x328f03c), ...) called at C:/strawberry182/perl/site/lib/Catalyst/Controller.pm line 257
	Catalyst::Controller::register_actions(AuthServer::Controller::OAuth2::ProviderWithRefresh=HASH(0x329b5b4), "AuthServer") called at C:/strawberry182/perl/site/lib/Class/MOP/Method/Wrapped.pm line 54
	Class::MOP::Method::Wrapped::__ANON__(AuthServer::Controller::OAuth2::ProviderWithRefresh=HASH(0x329b5b4), "AuthServer") called at C:/strawberry182/perl/site/lib/Class/MOP/Method/Wrapped.pm line 92
	AuthServer::Controller::OAuth2::ProviderWithRefresh::register_actions(AuthServer::Controller::OAuth2::ProviderWithRefresh=HASH(0x329b5b4), "AuthServer") called at C:/strawberry182/perl/site/lib/Catalyst/Dispatcher.pm line 609
	Catalyst::Dispatcher::setup_actions(Catalyst::Dispatcher=HASH(0x1f59f8c), "AuthServer") called at C:/strawberry182/perl/site/lib/Catalyst.pm line 2525
	Catalyst::setup_actions("AuthServer") called at C:/strawberry182/perl/site/lib/Catalyst.pm line 1242
	Catalyst::setup("AuthServer", "ConfigLoader") called at t/lib/AuthServer.pm line 9
	require AuthServer.pm called at C:/strawberry182/perl/site/lib/Module/Runtime.pm line 317
	Module::Runtime::require_module("AuthServer") called at C:/strawberry182/perl/vendor/lib/Class/Load.pm line 177
	Class::Load::try {...} () called at C:/strawberry182/perl/vendor/lib/Try/Tiny.pm line 78
	eval {...} called at C:/strawberry182/perl/vendor/lib/Try/Tiny.pm line 74
	Try::Tiny::try(CODE(0x153debc), Try::Tiny::Catch=REF(0x153e00c)) called at C:/strawberry182/perl/vendor/lib/Class/Load.pm line 183
	Class::Load::try_load_class("AuthServer", undef) called at C:/strawberry182/perl/vendor/lib/Class/Load.pm line 38
	Class::Load::load_class("AuthServer") called at C:/strawberry182/perl/site/lib/Catalyst/Test.pm line 29
	Catalyst::Test::_build_request_export("Catalyst::Test", HASH(0x17ee8ac)) called at C:/strawberry182/perl/site/lib/Catalyst/Test.pm line 92
	Catalyst::Test::__ANON__("Catalyst::Test", "all", HASH(0x17ee87c), HASH(0xad6194)) called at C:/strawberry182/perl/vendor/lib/Sub/Exporter.pm line 108
	Sub::Exporter::_expand_group("Catalyst::Test", HASH(0x17ee28c), ARRAY(0xb13c3c), HASH(0xad6194), HASH(0x17ee8cc), HASH(0x17ee74c)) called at C:/strawberry182/perl/vendor/lib/Sub/Exporter.pm line 39
	Sub::Exporter::_expand_groups("Catalyst::Test", HASH(0x17ee28c), ARRAY(0x17ee35c), HASH(0xad6194)) called at C:/strawberry182/perl/vendor/lib/Sub/Exporter.pm line 323
	Sub::Exporter::__ANON__("Catalyst::Test", "-all", HASH(0xaca1bc)) called at C:/strawberry182/perl/site/lib/Catalyst/Test.pm line 155
	Catalyst::Test::import("Catalyst::Test", "AuthServer") called at t/unit/300-actionrole-grant-auth.t line 6
	main::BEGIN() called at t/lib/AuthServer.pm line 0
	eval {...} called at t/lib/AuthServer.pm line 0
Class::MOP::load_class is deprecated at C:/strawberry182/perl/site/lib/Class/MOP.pm line 73.
	Class::MOP::load_class("Catalyst::ActionRole::OAuth2::RequestAuth") called at C:/strawberry182/perl/site/lib/Catalyst/Controller/ActionRole.pm line 69
	Class::MOP::Class:::around(CODE(0x1c3569c), AuthServer::Controller::OAuth2::ProviderWithRefresh=HASH(0x329b5b4), "name", "request", "code", CODE(0x253a144), "reverse", "oauth2/providerwithrefresh/request", "namespace", ...) called at C:/strawberry182/perl/site/lib/Class/MOP/Method/Wrapped.pm line 163
	Class::MOP::Method::Wrapped::__ANON__(AuthServer::Controller::OAuth2::ProviderWithRefresh=HASH(0x329b5b4), "name", "request", "code", CODE(0x253a144), "reverse", "oauth2/providerwithrefresh/request", "namespace", "oauth2/providerwithrefresh", ...) called at C:/strawberry182/perl/site/lib/Class/MOP/Method/Wrapped.pm line 92
	Catalyst::Controller::ActionRole::create_action(AuthServer::Controller::OAuth2::ProviderWithRefresh=HASH(0x329b5b4), "name", "request", "code", CODE(0x253a144), "reverse", "oauth2/providerwithrefresh/request", "namespace", "oauth2/providerwithrefresh", ...) called at C:\strawberry182\cpan\build\CatalystX-OAuth2-0.001009-w4SRlA\blib\lib/CatalystX/OAuth2/Controller/Role/Provider.pm line 21
	Class::MOP::Class:::around(CODE(0x24bd2dc), AuthServer::Controller::OAuth2::ProviderWithRefresh=HASH(0x329b5b4), "name", "request", "code", CODE(0x253a144), "reverse", "oauth2/providerwithrefresh/request", "namespace", ...) called at C:/strawberry182/perl/site/lib/Class/MOP/Method/Wrapped.pm line 163
	Class::MOP::Method::Wrapped::__ANON__(AuthServer::Controller::OAuth2::ProviderWithRefresh=HASH(0x329b5b4), "name", "request", "code", CODE(0x253a144), "reverse", "oauth2/providerwithrefresh/request", "namespace", "oauth2/providerwithrefresh", ...) called at C:/strawberry182/perl/site/lib/Class/MOP/Method/Wrapped.pm line 92
	AuthServer::Controller::OAuth2::ProviderWithRefresh::create_action(AuthServer::Controller::OAuth2::ProviderWithRefresh=HASH(0x329b5b4), "name", "request", "code", CODE(0x253a144), "reverse", "oauth2/providerwithrefresh/request", "namespace", "oauth2/providerwithrefresh", ...) called at C:/strawberry182/perl/site/lib/Catalyst/Controller.pm line 288
	Catalyst::Controller::register_action_methods(AuthServer::Controller::OAuth2::ProviderWithRefresh=HASH(0x329b5b4), "AuthServer", Moose::Meta::Class::__ANON__::SERIAL::6=HASH(0x329106c), Moose::Meta::Class::__ANON__::SERIAL::6=HASH(0x32c5224), Moose::Meta::Class::__ANON__::SERIAL::6=HASH(0x32bc7e4), Moose::Meta::Class::__ANON__::SERIAL::6=HASH(0x326874c), Moose::Meta::Class::__ANON__::SERIAL::6=HASH(0x32bf194), Moose::Meta::Class::__ANON__::SERIAL::6=HASH(0x3261afc), Moose::Meta::Class::__ANON__::SERIAL::6=HASH(0x328f03c), ...) called at C:/strawberry182/perl/site/lib/Catalyst/Controller.pm line 257
	Catalyst::Controller::register_actions(AuthServer::Controller::OAuth2::ProviderWithRefresh=HASH(0x329b5b4), "AuthServer") called at C:/strawberry182/perl/site/lib/Class/MOP/Method/Wrapped.pm line 54
	Class::MOP::Method::Wrapped::__ANON__(AuthServer::Controller::OAuth2::ProviderWithRefresh=HASH(0x329b5b4), "AuthServer") called at C:/strawberry182/perl/site/lib/Class/MOP/Method/Wrapped.pm line 92
	AuthServer::Controller::OAuth2::ProviderWithRefresh::register_actions(AuthServer::Controller::OAuth2::ProviderWithRefresh=HASH(0x329b5b4), "AuthServer") called at C:/strawberry182/perl/site/lib/Catalyst/Dispatcher.pm line 609
	Catalyst::Dispatcher::setup_actions(Catalyst::Dispatcher=HASH(0x1f59f8c), "AuthServer") called at C:/strawberry182/perl/site/lib/Catalyst.pm line 2525
	Catalyst::setup_actions("AuthServer") called at C:/strawberry182/perl/site/lib/Catalyst.pm line 1242
	Catalyst::setup("AuthServer", "ConfigLoader") called at t/lib/AuthServer.pm line 9
	require AuthServer.pm called at C:/strawberry182/perl/site/lib/Module/Runtime.pm line 317
	Module::Runtime::require_module("AuthServer") called at C:/strawberry182/perl/vendor/lib/Class/Load.pm line 177
	Class::Load::try {...} () called at C:/strawberry182/perl/vendor/lib/Try/Tiny.pm line 78
	eval {...} called at C:/strawberry182/perl/vendor/lib/Try/Tiny.pm line 74
	Try::Tiny::try(CODE(0x153debc), Try::Tiny::Catch=REF(0x153e00c)) called at C:/strawberry182/perl/vendor/lib/Class/Load.pm line 183
	Class::Load::try_load_class("AuthServer", undef) called at C:/strawberry182/perl/vendor/lib/Class/Load.pm line 38
	Class::Load::load_class("AuthServer") called at C:/strawberry182/perl/site/lib/Catalyst/Test.pm line 29
	Catalyst::Test::_build_request_export("Catalyst::Test", HASH(0x17ee8ac)) called at C:/strawberry182/perl/site/lib/Catalyst/Test.pm line 92
	Catalyst::Test::__ANON__("Catalyst::Test", "all", HASH(0x17ee87c), HASH(0xad6194)) called at C:/strawberry182/perl/vendor/lib/Sub/Exporter.pm line 108
	Sub::Exporter::_expand_group("Catalyst::Test", HASH(0x17ee28c), ARRAY(0xb13c3c), HASH(0xad6194), HASH(0x17ee8cc), HASH(0x17ee74c)) called at C:/strawberry182/perl/vendor/lib/Sub/Exporter.pm line 39
	Sub::Exporter::_expand_groups("Catalyst::Test", HASH(0x17ee28c), ARRAY(0x17ee35c), HASH(0xad6194)) called at C:/strawberry182/perl/vendor/lib/Sub/Exporter.pm line 323
	Sub::Exporter::__ANON__("Catalyst::Test", "-all", HASH(0xaca1bc)) called at C:/strawberry182/perl/site/lib/Catalyst/Test.pm line 155
	Catalyst::Test::import("Catalyst::Test", "AuthServer") called at t/unit/300-actionrole-grant-auth.t line 6
	main::BEGIN() called at t/lib/AuthServer.pm line 0
	eval {...} called at t/lib/AuthServer.pm line 0
[warn] Useless setting a header value after finalize_headers called. Not what you want.
[warn] Useless setting a header value after finalize_headers called. Not what you want.
t/unit/300-actionrole-grant-auth.t .................... ok
Class::MOP::load_first_existing_class is deprecated at C:/strawberry182/perl/site/lib/Class/MOP.pm line 82.
	Class::MOP::load_first_existing_class("AuthServer::ActionRole::OAuth2::ProtectedResource", "Catalyst::ActionRole::OAuth2::ProtectedResource") called at C:/strawberry182/perl/site/lib/Catalyst/Controller/ActionRole.pm line 120
	Catalyst::Controller::ActionRole::__ANON__("OAuth2::ProtectedResource") called at C:/strawberry182/perl/site/lib/String/RewritePrefix.pm line 44
	String::RewritePrefix::__ANON__("OAuth2::ProtectedResource") called at C:/strawberry182/perl/site/lib/String/RewritePrefix.pm line 18
	String::RewritePrefix::rewrite("String::RewritePrefix", HASH(0x32afe44), "OAuth2::ProtectedResource") called at C:/strawberry182/perl/site/lib/Catalyst/Controller/ActionRole.pm line 125
	Catalyst::Controller::ActionRole::_expand_role_shortname(AuthServer::Controller::OAuth2::Resource=HASH(0x32ba0c4), "OAuth2::ProtectedResource") called at C:/strawberry182/perl/site/lib/Catalyst/Controller/ActionRole.pm line 134
	Catalyst::Controller::ActionRole::_parse_Does_attr(AuthServer::Controller::OAuth2::Resource=HASH(0x32ba0c4), "AuthServer", "gold", "OAuth2::ProtectedResource") called at C:/strawberry182/perl/site/lib/Catalyst/Controller.pm line 441
	Catalyst::Controller::_parse_attr(AuthServer::Controller::OAuth2::Resource=HASH(0x32ba0c4), "AuthServer", "gold", "Does", ARRAY(0x32b8644)) called at C:/strawberry182/perl/site/lib/Catalyst/Controller.pm line 427
	Catalyst::Controller::_parse_attrs(AuthServer::Controller::OAuth2::Resource=HASH(0x32ba0c4), "AuthServer", "gold", "Chained('/')", "Args(0)", "Does('OAuth2::ProtectedResource')") called at C:/strawberry182/perl/site/lib/Catalyst/Controller.pm line 279
	Catalyst::Controller::register_action_methods(AuthServer::Controller::OAuth2::Resource=HASH(0x32ba0c4), "AuthServer", Moose::Meta::Class::__ANON__::SERIAL::6=HASH(0x32d9a8c), Moose::Meta::Class::__ANON__::SERIAL::6=HASH(0x32e7894), Moose::Meta::Class::__ANON__::SERIAL::6=HASH(0x32e3204), Moose::Meta::Class::__ANON__::SERIAL::6=HASH(0x329bc7c), Moose::Meta::Class::__ANON__::SERIAL::6=HASH(0x32a5d04), Moose::Meta::Class::__ANON__::SERIAL::6=HASH(0x32c7384), Moose::Meta::Class::__ANON__::SERIAL::6=HASH(0x32939b4), ...) called at C:/strawberry182/perl/site/lib/Catalyst/Controller.pm line 257
	Catalyst::Controller::register_actions(AuthServer::Controller::OAuth2::Resource=HASH(0x32ba0c4), "AuthServer") called at C:/strawberry182/perl/site/lib/Catalyst/Dispatcher.pm line 609
	Catalyst::Dispatcher::setup_actions(Catalyst::Dispatcher=HASH(0x1f8143c), "AuthServer") called at C:/strawberry182/perl/site/lib/Catalyst.pm line 2525
	Catalyst::setup_actions("AuthServer") called at C:/strawberry182/perl/site/lib/Catalyst.pm line 1242
	Catalyst::setup("AuthServer", "ConfigLoader") called at t/lib/AuthServer.pm line 9
	require AuthServer.pm called at C:/strawberry182/perl/site/lib/Module/Runtime.pm line 317
	Module::Runtime::require_module("AuthServer") called at C:/strawberry182/perl/vendor/lib/Class/Load.pm line 177
	Class::Load::try {...} () called at C:/strawberry182/perl/vendor/lib/Try/Tiny.pm line 78
	eval {...} called at C:/strawberry182/perl/vendor/lib/Try/Tiny.pm line 74
	Try::Tiny::try(CODE(0x157f1bc), Try::Tiny::Catch=REF(0x157f2fc)) called at C:/strawberry182/perl/vendor/lib/Class/Load.pm line 183
	Class::Load::try_load_class("AuthServer", undef) called at C:/strawberry182/perl/vendor/lib/Class/Load.pm line 38
	Class::Load::load_class("AuthServer") called at C:/strawberry182/perl/site/lib/Catalyst/Test.pm line 29
	Catalyst::Test::_build_request_export("Catalyst::Test", HASH(0x1837944)) called at C:/strawberry182/perl/site/lib/Catalyst/Test.pm line 92
	Catalyst::Test::__ANON__("Catalyst::Test", "all", HASH(0x1837914), HASH(0xb9035c)) called at C:/strawberry182/perl/vendor/lib/Sub/Exporter.pm line 108
	Sub::Exporter::_expand_group("Catalyst::Test", HASH(0x1837324), ARRAY(0xb7fb84), HASH(0xb9035c), HASH(0x1837964), HASH(0x18377e4)) called at C:/strawberry182/perl/vendor/lib/Sub/Exporter.pm line 39
	Sub::Exporter::_expand_groups("Catalyst::Test", HASH(0x1837324), ARRAY(0x18373f4), HASH(0xb9035c)) called at C:/strawberry182/perl/vendor/lib/Sub/Exporter.pm line 323
	Sub::Exporter::__ANON__("Catalyst::Test", "-all", HASH(0xb37c24)) called at C:/strawberry182/perl/site/lib/Catalyst/Test.pm line 155
	Catalyst::Test::import("Catalyst::Test", "AuthServer") called at t/unit/400-actionrole-auth-token-via-auth-grant.t line 6
	main::BEGIN() called at t/lib/AuthServer.pm line 0
	eval {...} called at t/lib/AuthServer.pm line 0
Class::MOP::load_class is deprecated at C:/strawberry182/perl/site/lib/Class/MOP.pm line 73.
	Class::MOP::load_class("Catalyst::ActionRole::OAuth2::ProtectedResource") called at C:/strawberry182/perl/site/lib/Catalyst/Controller/ActionRole.pm line 69
	Class::MOP::Class:::around(CODE(0x1c60e3c), AuthServer::Controller::OAuth2::Resource=HASH(0x32ba0c4), "name", "gold", "code", CODE(0x251f944), "reverse", "oauth2/resource/gold", "namespace", ...) called at C:/strawberry182/perl/site/lib/Class/MOP/Method/Wrapped.pm line 163
	Class::MOP::Method::Wrapped::__ANON__(AuthServer::Controller::OAuth2::Resource=HASH(0x32ba0c4), "name", "gold", "code", CODE(0x251f944), "reverse", "oauth2/resource/gold", "namespace", "oauth2/resource", ...) called at C:/strawberry182/perl/site/lib/Class/MOP/Method/Wrapped.pm line 92
	Catalyst::Controller::ActionRole::create_action(AuthServer::Controller::OAuth2::Resource=HASH(0x32ba0c4), "name", "gold", "code", CODE(0x251f944), "reverse", "oauth2/resource/gold", "namespace", "oauth2/resource", ...) called at C:/strawberry182/perl/site/lib/Catalyst/Controller.pm line 288
	Catalyst::Controller::register_action_methods(AuthServer::Controller::OAuth2::Resource=HASH(0x32ba0c4), "AuthServer", Moose::Meta::Class::__ANON__::SERIAL::6=HASH(0x32d9a8c), Moose::Meta::Class::__ANON__::SERIAL::6=HASH(0x32e7894), Moose::Meta::Class::__ANON__::SERIAL::6=HASH(0x32e3204), Moose::Meta::Class::__ANON__::SERIAL::6=HASH(0x329bc7c), Moose::Meta::Class::__ANON__::SERIAL::6=HASH(0x32a5d04), Moose::Meta::Class::__ANON__::SERIAL::6=HASH(0x32c7384), Moose::Meta::Class::__ANON__::SERIAL::6=HASH(0x32939b4), ...) called at C:/strawberry182/perl/site/lib/Catalyst/Controller.pm line 257
	Catalyst::Controller::register_actions(AuthServer::Controller::OAuth2::Resource=HASH(0x32ba0c4), "AuthServer") called at C:/strawberry182/perl/site/lib/Catalyst/Dispatcher.pm line 609
	Catalyst::Dispatcher::setup_actions(Catalyst::Dispatcher=HASH(0x1f8143c), "AuthServer") called at C:/strawberry182/perl/site/lib/Catalyst.pm line 2525
	Catalyst::setup_actions("AuthServer") called at C:/strawberry182/perl/site/lib/Catalyst.pm line 1242
	Catalyst::setup("AuthServer", "ConfigLoader") called at t/lib/AuthServer.pm line 9
	require AuthServer.pm called at C:/strawberry182/perl/site/lib/Module/Runtime.pm line 317
	Module::Runtime::require_module("AuthServer") called at C:/strawberry182/perl/vendor/lib/Class/Load.pm line 177
	Class::Load::try {...} () called at C:/strawberry182/perl/vendor/lib/Try/Tiny.pm line 78
	eval {...} called at C:/strawberry182/perl/vendor/lib/Try/Tiny.pm line 74
	Try::Tiny::try(CODE(0x157f1bc), Try::Tiny::Catch=REF(0x157f2fc)) called at C:/strawberry182/perl/vendor/lib/Class/Load.pm line 183
	Class::Load::try_load_class("AuthServer", undef) called at C:/strawberry182/perl/vendor/lib/Class/Load.pm line 38
	Class::Load::load_class("AuthServer") called at C:/strawberry182/perl/site/lib/Catalyst/Test.pm line 29
	Catalyst::Test::_build_request_export("Catalyst::Test", HASH(0x1837944)) called at C:/strawberry182/perl/site/lib/Catalyst/Test.pm line 92
	Catalyst::Test::__ANON__("Catalyst::Test", "all", HASH(0x1837914), HASH(0xb9035c)) called at C:/strawberry182/perl/vendor/lib/Sub/Exporter.pm line 108
	Sub::Exporter::_expand_group("Catalyst::Test", HASH(0x1837324), ARRAY(0xb7fb84), HASH(0xb9035c), HASH(0x1837964), HASH(0x18377e4)) called at C:/strawberry182/perl/vendor/lib/Sub/Exporter.pm line 39
	Sub::Exporter::_expand_groups("Catalyst::Test", HASH(0x1837324), ARRAY(0x18373f4), HASH(0xb9035c)) called at C:/strawberry182/perl/vendor/lib/Sub/Exporter.pm line 323
	Sub::Exporter::__ANON__("Catalyst::Test", "-all", HASH(0xb37c24)) called at C:/strawberry182/perl/site/lib/Catalyst/Test.pm line 155
	Catalyst::Test::import("Catalyst::Test", "AuthServer") called at t/unit/400-actionrole-auth-token-via-auth-grant.t line 6
	main::BEGIN() called at t/lib/AuthServer.pm line 0
	eval {...} called at t/lib/AuthServer.pm line 0
t/unit/400-actionrole-auth-token-via-auth-grant.t ..... ok
Class::MOP::load_first_existing_class is deprecated at C:/strawberry182/perl/site/lib/Class/MOP.pm line 82.
	Class::MOP::load_first_existing_class("AuthServer::ActionRole::OAuth2::RequestAuth", "Catalyst::ActionRole::OAuth2::RequestAuth") called at C:/strawberry182/perl/site/lib/Catalyst/Controller/ActionRole.pm line 120
	Catalyst::Controller::ActionRole::__ANON__("OAuth2::RequestAuth") called at C:/strawberry182/perl/site/lib/String/RewritePrefix.pm line 44
	String::RewritePrefix::__ANON__("OAuth2::RequestAuth") called at C:/strawberry182/perl/site/lib/String/RewritePrefix.pm line 18
	String::RewritePrefix::rewrite("String::RewritePrefix", HASH(0x32e2664), "OAuth2::RequestAuth") called at C:/strawberry182/perl/site/lib/Catalyst/Controller/ActionRole.pm line 125
	Catalyst::Controller::ActionRole::_expand_role_shortname(AuthServer::Controller::OAuth2::ProviderWithSecret=HASH(0x32d2ce4), "OAuth2::RequestAuth") called at C:/strawberry182/perl/site/lib/Catalyst/Controller/ActionRole.pm line 134
	Catalyst::Controller::ActionRole::_parse_Does_attr(AuthServer::Controller::OAuth2::ProviderWithSecret=HASH(0x32d2ce4), "AuthServer", "request", "OAuth2::RequestAuth") called at C:/strawberry182/perl/site/lib/Catalyst/Controller.pm line 441
	Catalyst::Controller::_parse_attr(AuthServer::Controller::OAuth2::ProviderWithSecret=HASH(0x32d2ce4), "AuthServer", "request", "Does", ARRAY(0x32ad6d4)) called at C:/strawberry182/perl/site/lib/Catalyst/Controller.pm line 427
	Catalyst::Controller::_parse_attrs(AuthServer::Controller::OAuth2::ProviderWithSecret=HASH(0x32d2ce4), "AuthServer", "request", "Chained('base')", "Args(0)", "Does('OAuth2::RequestAuth')") called at C:/strawberry182/perl/site/lib/Catalyst/Controller.pm line 279
	Catalyst::Controller::register_action_methods(AuthServer::Controller::OAuth2::ProviderWithSecret=HASH(0x32d2ce4), "AuthServer", Moose::Meta::Class::__ANON__::SERIAL::7=HASH(0x32f0dd4), Moose::Meta::Class::__ANON__::SERIAL::7=HASH(0x32c5694), Moose::Meta::Class::__ANON__::SERIAL::7=HASH(0x32b438c), Moose::Meta::Class::__ANON__::SERIAL::7=HASH(0x32cd1b4), Moose::Meta::Class::__ANON__::SERIAL::7=HASH(0x32aad3c), Moose::Meta::Class::__ANON__::SERIAL::7=HASH(0x32f0754), Moose::Meta::Class::__ANON__::SERIAL::7=HASH(0x32f333c), ...) called at C:/strawberry182/perl/site/lib/Catalyst/Controller.pm line 257
	Catalyst::Controller::register_actions(AuthServer::Controller::OAuth2::ProviderWithSecret=HASH(0x32d2ce4), "AuthServer") called at C:/strawberry182/perl/site/lib/Class/MOP/Method/Wrapped.pm line 54
	Class::MOP::Method::Wrapped::__ANON__(AuthServer::Controller::OAuth2::ProviderWithSecret=HASH(0x32d2ce4), "AuthServer") called at C:/strawberry182/perl/site/lib/Class/MOP/Method/Wrapped.pm line 92
	AuthServer::Controller::OAuth2::ProviderWithSecret::register_actions(AuthServer::Controller::OAuth2::ProviderWithSecret=HASH(0x32d2ce4), "AuthServer") called at C:/strawberry182/perl/site/lib/Catalyst/Dispatcher.pm line 609
	Catalyst::Dispatcher::setup_actions(Catalyst::Dispatcher=HASH(0x1f8f30c), "AuthServer") called at C:/strawberry182/perl/site/lib/Catalyst.pm line 2525
	Catalyst::setup_actions("AuthServer") called at C:/strawberry182/perl/site/lib/Catalyst.pm line 1242
	Catalyst::setup("AuthServer", "ConfigLoader") called at t/lib/AuthServer.pm line 9
	require AuthServer.pm called at C:/strawberry182/perl/site/lib/Module/Runtime.pm line 317
	Module::Runtime::require_module("AuthServer") called at C:/strawberry182/perl/vendor/lib/Class/Load.pm line 177
	Class::Load::try {...} () called at C:/strawberry182/perl/vendor/lib/Try/Tiny.pm line 78
	eval {...} called at C:/strawberry182/perl/vendor/lib/Try/Tiny.pm line 74
	Try::Tiny::try(CODE(0x158045c), Try::Tiny::Catch=REF(0x158059c)) called at C:/strawberry182/perl/vendor/lib/Class/Load.pm line 183
	Class::Load::try_load_class("AuthServer", undef) called at C:/strawberry182/perl/vendor/lib/Class/Load.pm line 38
	Class::Load::load_class("AuthServer") called at C:/strawberry182/perl/site/lib/Catalyst/Test.pm line 29
	Catalyst::Test::_build_request_export("Catalyst::Test", HASH(0x183863c)) called at C:/strawberry182/perl/site/lib/Catalyst/Test.pm line 92
	Catalyst::Test::__ANON__("Catalyst::Test", "all", HASH(0x183860c), HASH(0xb914fc)) called at C:/strawberry182/perl/vendor/lib/Sub/Exporter.pm line 108
	Sub::Exporter::_expand_group("Catalyst::Test", HASH(0x183801c), ARRAY(0xb800fc), HASH(0xb914fc), HASH(0x183865c), HASH(0x18384dc)) called at C:/strawberry182/perl/vendor/lib/Sub/Exporter.pm line 39
	Sub::Exporter::_expand_groups("Catalyst::Test", HASH(0x183801c), ARRAY(0x18380ec), HASH(0xb914fc)) called at C:/strawberry182/perl/vendor/lib/Sub/Exporter.pm line 323
	Sub::Exporter::__ANON__("Catalyst::Test", "-all", HASH(0xb38144)) called at C:/strawberry182/perl/site/lib/Catalyst/Test.pm line 155
	Catalyst::Test::import("Catalyst::Test", "AuthServer") called at t/unit/500-actionrole-auth-token-via-refresh-token.t line 6
	main::BEGIN() called at t/lib/AuthServer.pm line 0
	eval {...} called at t/lib/AuthServer.pm line 0
Class::MOP::load_class is deprecated at C:/strawberry182/perl/site/lib/Class/MOP.pm line 73.
	Class::MOP::load_class("Catalyst::ActionRole::OAuth2::RequestAuth") called at C:/strawberry182/perl/site/lib/Catalyst/Controller/ActionRole.pm line 69
	Class::MOP::Class:::around(CODE(0x1c6181c), AuthServer::Controller::OAuth2::ProviderWithSecret=HASH(0x32d2ce4), "name", "request", "code", CODE(0x254d994), "reverse", "oauth2/providerwithsecret/request", "namespace", ...) called at C:/strawberry182/perl/site/lib/Class/MOP/Method/Wrapped.pm line 163
	Class::MOP::Method::Wrapped::__ANON__(AuthServer::Controller::OAuth2::ProviderWithSecret=HASH(0x32d2ce4), "name", "request", "code", CODE(0x254d994), "reverse", "oauth2/providerwithsecret/request", "namespace", "oauth2/providerwithsecret", ...) called at C:/strawberry182/perl/site/lib/Class/MOP/Method/Wrapped.pm line 92
	Catalyst::Controller::ActionRole::create_action(AuthServer::Controller::OAuth2::ProviderWithSecret=HASH(0x32d2ce4), "name", "request", "code", CODE(0x254d994), "reverse", "oauth2/providerwithsecret/request", "namespace", "oauth2/providerwithsecret", ...) called at C:\strawberry182\cpan\build\CatalystX-OAuth2-0.001009-w4SRlA\blib\lib/CatalystX/OAuth2/Controller/Role/Provider.pm line 21
	Class::MOP::Class:::around(CODE(0x24f072c), AuthServer::Controller::OAuth2::ProviderWithSecret=HASH(0x32d2ce4), "name", "request", "code", CODE(0x254d994), "reverse", "oauth2/providerwithsecret/request", "namespace", ...) called at C:/strawberry182/perl/site/lib/Class/MOP/Method/Wrapped.pm line 163
	Class::MOP::Method::Wrapped::__ANON__(AuthServer::Controller::OAuth2::ProviderWithSecret=HASH(0x32d2ce4), "name", "request", "code", CODE(0x254d994), "reverse", "oauth2/providerwithsecret/request", "namespace", "oauth2/providerwithsecret", ...) called at C:/strawberry182/perl/site/lib/Class/MOP/Method/Wrapped.pm line 92
	AuthServer::Controller::OAuth2::ProviderWithSecret::create_action(AuthServer::Controller::OAuth2::ProviderWithSecret=HASH(0x32d2ce4), "name", "request", "code", CODE(0x254d994), "reverse", "oauth2/providerwithsecret/request", "namespace", "oauth2/providerwithsecret", ...) called at C:/strawberry182/perl/site/lib/Catalyst/Controller.pm line 288
	Catalyst::Controller::register_action_methods(AuthServer::Controller::OAuth2::ProviderWithSecret=HASH(0x32d2ce4), "AuthServer", Moose::Meta::Class::__ANON__::SERIAL::7=HASH(0x32f0dd4), Moose::Meta::Class::__ANON__::SERIAL::7=HASH(0x32c5694), Moose::Meta::Class::__ANON__::SERIAL::7=HASH(0x32b438c), Moose::Meta::Class::__ANON__::SERIAL::7=HASH(0x32cd1b4), Moose::Meta::Class::__ANON__::SERIAL::7=HASH(0x32aad3c), Moose::Meta::Class::__ANON__::SERIAL::7=HASH(0x32f0754), Moose::Meta::Class::__ANON__::SERIAL::7=HASH(0x32f333c), ...) called at C:/strawberry182/perl/site/lib/Catalyst/Controller.pm line 257
	Catalyst::Controller::register_actions(AuthServer::Controller::OAuth2::ProviderWithSecret=HASH(0x32d2ce4), "AuthServer") called at C:/strawberry182/perl/site/lib/Class/MOP/Method/Wrapped.pm line 54
	Class::MOP::Method::Wrapped::__ANON__(AuthServer::Controller::OAuth2::ProviderWithSecret=HASH(0x32d2ce4), "AuthServer") called at C:/strawberry182/perl/site/lib/Class/MOP/Method/Wrapped.pm line 92
	AuthServer::Controller::OAuth2::ProviderWithSecret::register_actions(AuthServer::Controller::OAuth2::ProviderWithSecret=HASH(0x32d2ce4), "AuthServer") called at C:/strawberry182/perl/site/lib/Catalyst/Dispatcher.pm line 609
	Catalyst::Dispatcher::setup_actions(Catalyst::Dispatcher=HASH(0x1f8f30c), "AuthServer") called at C:/strawberry182/perl/site/lib/Catalyst.pm line 2525
	Catalyst::setup_actions("AuthServer") called at C:/strawberry182/perl/site/lib/Catalyst.pm line 1242
	Catalyst::setup("AuthServer", "ConfigLoader") called at t/lib/AuthServer.pm line 9
	require AuthServer.pm called at C:/strawberry182/perl/site/lib/Module/Runtime.pm line 317
	Module::Runtime::require_module("AuthServer") called at C:/strawberry182/perl/vendor/lib/Class/Load.pm line 177
	Class::Load::try {...} () called at C:/strawberry182/perl/vendor/lib/Try/Tiny.pm line 78
	eval {...} called at C:/strawberry182/perl/vendor/lib/Try/Tiny.pm line 74
	Try::Tiny::try(CODE(0x158045c), Try::Tiny::Catch=REF(0x158059c)) called at C:/strawberry182/perl/vendor/lib/Class/Load.pm line 183
	Class::Load::try_load_class("AuthServer", undef) called at C:/strawberry182/perl/vendor/lib/Class/Load.pm line 38
	Class::Load::load_class("AuthServer") called at C:/strawberry182/perl/site/lib/Catalyst/Test.pm line 29
	Catalyst::Test::_build_request_export("Catalyst::Test", HASH(0x183863c)) called at C:/strawberry182/perl/site/lib/Catalyst/Test.pm line 92
	Catalyst::Test::__ANON__("Catalyst::Test", "all", HASH(0x183860c), HASH(0xb914fc)) called at C:/strawberry182/perl/vendor/lib/Sub/Exporter.pm line 108
	Sub::Exporter::_expand_group("Catalyst::Test", HASH(0x183801c), ARRAY(0xb800fc), HASH(0xb914fc), HASH(0x183865c), HASH(0x18384dc)) called at C:/strawberry182/perl/vendor/lib/Sub/Exporter.pm line 39
	Sub::Exporter::_expand_groups("Catalyst::Test", HASH(0x183801c), ARRAY(0x18380ec), HASH(0xb914fc)) called at C:/strawberry182/perl/vendor/lib/Sub/Exporter.pm line 323
	Sub::Exporter::__ANON__("Catalyst::Test", "-all", HASH(0xb38144)) called at C:/strawberry182/perl/site/lib/Catalyst/Test.pm line 155
	Catalyst::Test::import("Catalyst::Test", "AuthServer") called at t/unit/500-actionrole-auth-token-via-refresh-token.t line 6
	main::BEGIN() called at t/lib/AuthServer.pm line 0
	eval {...} called at t/lib/AuthServer.pm line 0
t/unit/500-actionrole-auth-token-via-refresh-token.t .. ok
Class::MOP::load_first_existing_class is deprecated at C:/strawberry182/perl/site/lib/Class/MOP.pm line 82.
	Class::MOP::load_first_existing_class("AuthServer::ActionRole::OAuth2::RequestAuth", "Catalyst::ActionRole::OAuth2::RequestAuth") called at C:/strawberry182/perl/site/lib/Catalyst/Controller/ActionRole.pm line 120
	Catalyst::Controller::ActionRole::__ANON__("OAuth2::RequestAuth") called at C:/strawberry182/perl/site/lib/String/RewritePrefix.pm line 44
	String::RewritePrefix::__ANON__("OAuth2::RequestAuth") called at C:/strawberry182/perl/site/lib/String/RewritePrefix.pm line 18
	String::RewritePrefix::rewrite("String::RewritePrefix", HASH(0x3262c14), "OAuth2::RequestAuth") called at C:/strawberry182/perl/site/lib/Catalyst/Controller/ActionRole.pm line 125
	Catalyst::Controller::ActionRole::_expand_role_shortname(AuthServer::Controller::OAuth2::ProviderWithRefresh=HASH(0x32902c4), "OAuth2::RequestAuth") called at C:/strawberry182/perl/site/lib/Catalyst/Controller/ActionRole.pm line 134
	Catalyst::Controller::ActionRole::_parse_Does_attr(AuthServer::Controller::OAuth2::ProviderWithRefresh=HASH(0x32902c4), "AuthServer", "request", "OAuth2::RequestAuth") called at C:/strawberry182/perl/site/lib/Catalyst/Controller.pm line 441
	Catalyst::Controller::_parse_attr(AuthServer::Controller::OAuth2::ProviderWithRefresh=HASH(0x32902c4), "AuthServer", "request", "Does", ARRAY(0x3297c84)) called at C:/strawberry182/perl/site/lib/Catalyst/Controller.pm line 427
	Catalyst::Controller::_parse_attrs(AuthServer::Controller::OAuth2::ProviderWithRefresh=HASH(0x32902c4), "AuthServer", "request", "Chained('base')", "Args(0)", "Does('OAuth2::RequestAuth')") called at C:/strawberry182/perl/site/lib/Catalyst/Controller.pm line 279
	Catalyst::Controller::register_action_methods(AuthServer::Controller::OAuth2::ProviderWithRefresh=HASH(0x32902c4), "AuthServer", Moose::Meta::Class::__ANON__::SERIAL::6=HASH(0x32a2244), Moose::Meta::Class::__ANON__::SERIAL::6=HASH(0x327edc4), Moose::Meta::Class::__ANON__::SERIAL::6=HASH(0x329532c), Moose::Meta::Class::__ANON__::SERIAL::6=HASH(0x329568c), Moose::Meta::Class::__ANON__::SERIAL::6=HASH(0x32b0304), Moose::Meta::Class::__ANON__::SERIAL::6=HASH(0x32bf3b4), Moose::Meta::Class::__ANON__::SERIAL::6=HASH(0x32bf3d4), ...) called at C:/strawberry182/perl/site/lib/Catalyst/Controller.pm line 257
	Catalyst::Controller::register_actions(AuthServer::Controller::OAuth2::ProviderWithRefresh=HASH(0x32902c4), "AuthServer") called at C:/strawberry182/perl/site/lib/Class/MOP/Method/Wrapped.pm line 54
	Class::MOP::Method::Wrapped::__ANON__(AuthServer::Controller::OAuth2::ProviderWithRefresh=HASH(0x32902c4), "AuthServer") called at C:/strawberry182/perl/site/lib/Class/MOP/Method/Wrapped.pm line 92
	AuthServer::Controller::OAuth2::ProviderWithRefresh::register_actions(AuthServer::Controller::OAuth2::ProviderWithRefresh=HASH(0x32902c4), "AuthServer") called at C:/strawberry182/perl/site/lib/Catalyst/Dispatcher.pm line 609
	Catalyst::Dispatcher::setup_actions(Catalyst::Dispatcher=HASH(0x1f583c4), "AuthServer") called at C:/strawberry182/perl/site/lib/Catalyst.pm line 2525
	Catalyst::setup_actions("AuthServer") called at C:/strawberry182/perl/site/lib/Catalyst.pm line 1242
	Catalyst::setup("AuthServer", "ConfigLoader") called at t/lib/AuthServer.pm line 9
	require AuthServer.pm called at C:/strawberry182/perl/site/lib/Module/Runtime.pm line 317
	Module::Runtime::require_module("AuthServer") called at C:/strawberry182/perl/vendor/lib/Class/Load.pm line 177
	Class::Load::try {...} () called at C:/strawberry182/perl/vendor/lib/Try/Tiny.pm line 78
	eval {...} called at C:/strawberry182/perl/vendor/lib/Try/Tiny.pm line 74
	Try::Tiny::try(CODE(0x153d164), Try::Tiny::Catch=REF(0x153d2b4)) called at C:/strawberry182/perl/vendor/lib/Class/Load.pm line 183
	Class::Load::try_load_class("AuthServer", undef) called at C:/strawberry182/perl/vendor/lib/Class/Load.pm line 38
	Class::Load::load_class("AuthServer") called at C:/strawberry182/perl/site/lib/Catalyst/Test.pm line 29
	Catalyst::Test::_build_request_export("Catalyst::Test", HASH(0x17ed8f4)) called at C:/strawberry182/perl/site/lib/Catalyst/Test.pm line 92
	Catalyst::Test::__ANON__("Catalyst::Test", "all", HASH(0x17ed8c4), HASH(0x9c9994)) called at C:/strawberry182/perl/vendor/lib/Sub/Exporter.pm line 108
	Sub::Exporter::_expand_group("Catalyst::Test", HASH(0x17ed2d4), ARRAY(0xb1285c), HASH(0x9c9994), HASH(0x17ed914), HASH(0x17ed794)) called at C:/strawberry182/perl/vendor/lib/Sub/Exporter.pm line 39
	Sub::Exporter::_expand_groups("Catalyst::Test", HASH(0x17ed2d4), ARRAY(0x17ed3a4), HASH(0x9c9994)) called at C:/strawberry182/perl/vendor/lib/Sub/Exporter.pm line 323
	Sub::Exporter::__ANON__("Catalyst::Test", "-all", HASH(0xac8cbc)) called at C:/strawberry182/perl/site/lib/Catalyst/Test.pm line 155
	Catalyst::Test::import("Catalyst::Test", "AuthServer") called at t/unit/600-actionrole-protected-resource.t line 6
	main::BEGIN() called at t/lib/AuthServer.pm line 0
	eval {...} called at t/lib/AuthServer.pm line 0
Class::MOP::load_class is deprecated at C:/strawberry182/perl/site/lib/Class/MOP.pm line 73.
	Class::MOP::load_class("Catalyst::ActionRole::OAuth2::RequestAuth") called at C:/strawberry182/perl/site/lib/Catalyst/Controller/ActionRole.pm line 69
	Class::MOP::Class:::around(CODE(0x1c32afc), AuthServer::Controller::OAuth2::ProviderWithRefresh=HASH(0x32902c4), "name", "request", "code", CODE(0x253609c), "reverse", "oauth2/providerwithrefresh/request", "namespace", ...) called at C:/strawberry182/perl/site/lib/Class/MOP/Method/Wrapped.pm line 163
	Class::MOP::Method::Wrapped::__ANON__(AuthServer::Controller::OAuth2::ProviderWithRefresh=HASH(0x32902c4), "name", "request", "code", CODE(0x253609c), "reverse", "oauth2/providerwithrefresh/request", "namespace", "oauth2/providerwithrefresh", ...) called at C:/strawberry182/perl/site/lib/Class/MOP/Method/Wrapped.pm line 92
	Catalyst::Controller::ActionRole::create_action(AuthServer::Controller::OAuth2::ProviderWithRefresh=HASH(0x32902c4), "name", "request", "code", CODE(0x253609c), "reverse", "oauth2/providerwithrefresh/request", "namespace", "oauth2/providerwithrefresh", ...) called at C:\strawberry182\cpan\build\CatalystX-OAuth2-0.001009-w4SRlA\blib\lib/CatalystX/OAuth2/Controller/Role/Provider.pm line 21
	Class::MOP::Class:::around(CODE(0x24b94ac), AuthServer::Controller::OAuth2::ProviderWithRefresh=HASH(0x32902c4), "name", "request", "code", CODE(0x253609c), "reverse", "oauth2/providerwithrefresh/request", "namespace", ...) called at C:/strawberry182/perl/site/lib/Class/MOP/Method/Wrapped.pm line 163
	Class::MOP::Method::Wrapped::__ANON__(AuthServer::Controller::OAuth2::ProviderWithRefresh=HASH(0x32902c4), "name", "request", "code", CODE(0x253609c), "reverse", "oauth2/providerwithrefresh/request", "namespace", "oauth2/providerwithrefresh", ...) called at C:/strawberry182/perl/site/lib/Class/MOP/Method/Wrapped.pm line 92
	AuthServer::Controller::OAuth2::ProviderWithRefresh::create_action(AuthServer::Controller::OAuth2::ProviderWithRefresh=HASH(0x32902c4), "name", "request", "code", CODE(0x253609c), "reverse", "oauth2/providerwithrefresh/request", "namespace", "oauth2/providerwithrefresh", ...) called at C:/strawberry182/perl/site/lib/Catalyst/Controller.pm line 288
	Catalyst::Controller::register_action_methods(AuthServer::Controller::OAuth2::ProviderWithRefresh=HASH(0x32902c4), "AuthServer", Moose::Meta::Class::__ANON__::SERIAL::6=HASH(0x32a2244), Moose::Meta::Class::__ANON__::SERIAL::6=HASH(0x327edc4), Moose::Meta::Class::__ANON__::SERIAL::6=HASH(0x329532c), Moose::Meta::Class::__ANON__::SERIAL::6=HASH(0x329568c), Moose::Meta::Class::__ANON__::SERIAL::6=HASH(0x32b0304), Moose::Meta::Class::__ANON__::SERIAL::6=HASH(0x32bf3b4), Moose::Meta::Class::__ANON__::SERIAL::6=HASH(0x32bf3d4), ...) called at C:/strawberry182/perl/site/lib/Catalyst/Controller.pm line 257
	Catalyst::Controller::register_actions(AuthServer::Controller::OAuth2::ProviderWithRefresh=HASH(0x32902c4), "AuthServer") called at C:/strawberry182/perl/site/lib/Class/MOP/Method/Wrapped.pm line 54
	Class::MOP::Method::Wrapped::__ANON__(AuthServer::Controller::OAuth2::ProviderWithRefresh=HASH(0x32902c4), "AuthServer") called at C:/strawberry182/perl/site/lib/Class/MOP/Method/Wrapped.pm line 92
	AuthServer::Controller::OAuth2::ProviderWithRefresh::register_actions(AuthServer::Controller::OAuth2::ProviderWithRefresh=HASH(0x32902c4), "AuthServer") called at C:/strawberry182/perl/site/lib/Catalyst/Dispatcher.pm line 609
	Catalyst::Dispatcher::setup_actions(Catalyst::Dispatcher=HASH(0x1f583c4), "AuthServer") called at C:/strawberry182/perl/site/lib/Catalyst.pm line 2525
	Catalyst::setup_actions("AuthServer") called at C:/strawberry182/perl/site/lib/Catalyst.pm line 1242
	Catalyst::setup("AuthServer", "ConfigLoader") called at t/lib/AuthServer.pm line 9
	require AuthServer.pm called at C:/strawberry182/perl/site/lib/Module/Runtime.pm line 317
	Module::Runtime::require_module("AuthServer") called at C:/strawberry182/perl/vendor/lib/Class/Load.pm line 177
	Class::Load::try {...} () called at C:/strawberry182/perl/vendor/lib/Try/Tiny.pm line 78
	eval {...} called at C:/strawberry182/perl/vendor/lib/Try/Tiny.pm line 74
	Try::Tiny::try(CODE(0x153d164), Try::Tiny::Catch=REF(0x153d2b4)) called at C:/strawberry182/perl/vendor/lib/Class/Load.pm line 183
	Class::Load::try_load_class("AuthServer", undef) called at C:/strawberry182/perl/vendor/lib/Class/Load.pm line 38
	Class::Load::load_class("AuthServer") called at C:/strawberry182/perl/site/lib/Catalyst/Test.pm line 29
	Catalyst::Test::_build_request_export("Catalyst::Test", HASH(0x17ed8f4)) called at C:/strawberry182/perl/site/lib/Catalyst/Test.pm line 92
	Catalyst::Test::__ANON__("Catalyst::Test", "all", HASH(0x17ed8c4), HASH(0x9c9994)) called at C:/strawberry182/perl/vendor/lib/Sub/Exporter.pm line 108
	Sub::Exporter::_expand_group("Catalyst::Test", HASH(0x17ed2d4), ARRAY(0xb1285c), HASH(0x9c9994), HASH(0x17ed914), HASH(0x17ed794)) called at C:/strawberry182/perl/vendor/lib/Sub/Exporter.pm line 39
	Sub::Exporter::_expand_groups("Catalyst::Test", HASH(0x17ed2d4), ARRAY(0x17ed3a4), HASH(0x9c9994)) called at C:/strawberry182/perl/vendor/lib/Sub/Exporter.pm line 323
	Sub::Exporter::__ANON__("Catalyst::Test", "-all", HASH(0xac8cbc)) called at C:/strawberry182/perl/site/lib/Catalyst/Test.pm line 155
	Catalyst::Test::import("Catalyst::Test", "AuthServer") called at t/unit/600-actionrole-protected-resource.t line 6
	main::BEGIN() called at t/lib/AuthServer.pm line 0
	eval {...} called at t/lib/AuthServer.pm line 0
[warn] Useless setting a header value after finalize_headers called. Not what you want.
t/unit/600-actionrole-protected-resource.t ............ ok
Class::MOP::load_first_existing_class is deprecated at C:/strawberry182/perl/site/lib/Class/MOP.pm line 82.
	Class::MOP::load_first_existing_class("AuthServer::ActionRole::OAuth2::ProtectedResource", "Catalyst::ActionRole::OAuth2::ProtectedResource") called at C:/strawberry182/perl/site/lib/Catalyst/Controller/ActionRole.pm line 120
	Catalyst::Controller::ActionRole::__ANON__("OAuth2::ProtectedResource") called at C:/strawberry182/perl/site/lib/String/RewritePrefix.pm line 44
	String::RewritePrefix::__ANON__("OAuth2::ProtectedResource") called at C:/strawberry182/perl/site/lib/String/RewritePrefix.pm line 18
	String::RewritePrefix::rewrite("String::RewritePrefix", HASH(0x32ce4b4), "OAuth2::ProtectedResource") called at C:/strawberry182/perl/site/lib/Catalyst/Controller/ActionRole.pm line 125
	Catalyst::Controller::ActionRole::_expand_role_shortname(AuthServer::Controller::OAuth2::Resource=HASH(0x32d4864), "OAuth2::ProtectedResource") called at C:/strawberry182/perl/site/lib/Catalyst/Controller/ActionRole.pm line 134
	Catalyst::Controller::ActionRole::_parse_Does_attr(AuthServer::Controller::OAuth2::Resource=HASH(0x32d4864), "AuthServer", "gold", "OAuth2::ProtectedResource") called at C:/strawberry182/perl/site/lib/Catalyst/Controller.pm line 441
	Catalyst::Controller::_parse_attr(AuthServer::Controller::OAuth2::Resource=HASH(0x32d4864), "AuthServer", "gold", "Does", ARRAY(0x32a7f24)) called at C:/strawberry182/perl/site/lib/Catalyst/Controller.pm line 427
	Catalyst::Controller::_parse_attrs(AuthServer::Controller::OAuth2::Resource=HASH(0x32d4864), "AuthServer", "gold", "Chained('/')", "Args(0)", "Does('OAuth2::ProtectedResource')") called at C:/strawberry182/perl/site/lib/Catalyst/Controller.pm line 279
	Catalyst::Controller::register_action_methods(AuthServer::Controller::OAuth2::Resource=HASH(0x32d4864), "AuthServer", Moose::Meta::Class::__ANON__::SERIAL::7=HASH(0x32ad644), Moose::Meta::Class::__ANON__::SERIAL::7=HASH(0x32d1584), Moose::Meta::Class::__ANON__::SERIAL::7=HASH(0x32d0c44), Moose::Meta::Class::__ANON__::SERIAL::7=HASH(0x32cc744), Moose::Meta::Class::__ANON__::SERIAL::7=HASH(0x32fddb4), Moose::Meta::Class::__ANON__::SERIAL::7=HASH(0x32e873c), Moose::Meta::Class::__ANON__::SERIAL::7=HASH(0x32ce8f4), ...) called at C:/strawberry182/perl/site/lib/Catalyst/Controller.pm line 257
	Catalyst::Controller::register_actions(AuthServer::Controller::OAuth2::Resource=HASH(0x32d4864), "AuthServer") called at C:/strawberry182/perl/site/lib/Catalyst/Dispatcher.pm line 609
	Catalyst::Dispatcher::setup_actions(Catalyst::Dispatcher=HASH(0x14d34cc), "AuthServer") called at C:/strawberry182/perl/site/lib/Catalyst.pm line 2525
	Catalyst::setup_actions("AuthServer") called at C:/strawberry182/perl/site/lib/Catalyst.pm line 1242
	Catalyst::setup("AuthServer", "ConfigLoader") called at t/lib/AuthServer.pm line 9
	require AuthServer.pm called at t/unit/700-client.t line 7
	main::BEGIN() called at t/lib/AuthServer.pm line 0
	eval {...} called at t/lib/AuthServer.pm line 0
Class::MOP::load_class is deprecated at C:/strawberry182/perl/site/lib/Class/MOP.pm line 73.
	Class::MOP::load_class("Catalyst::ActionRole::OAuth2::ProtectedResource") called at C:/strawberry182/perl/site/lib/Catalyst/Controller/ActionRole.pm line 69
	Class::MOP::Class:::around(CODE(0x1c8db54), AuthServer::Controller::OAuth2::Resource=HASH(0x32d4864), "name", "gold", "code", CODE(0x254adcc), "reverse", "oauth2/resource/gold", "namespace", ...) called at C:/strawberry182/perl/site/lib/Class/MOP/Method/Wrapped.pm line 163
	Class::MOP::Method::Wrapped::__ANON__(AuthServer::Controller::OAuth2::Resource=HASH(0x32d4864), "name", "gold", "code", CODE(0x254adcc), "reverse", "oauth2/resource/gold", "namespace", "oauth2/resource", ...) called at C:/strawberry182/perl/site/lib/Class/MOP/Method/Wrapped.pm line 92
	Catalyst::Controller::ActionRole::create_action(AuthServer::Controller::OAuth2::Resource=HASH(0x32d4864), "name", "gold", "code", CODE(0x254adcc), "reverse", "oauth2/resource/gold", "namespace", "oauth2/resource", ...) called at C:/strawberry182/perl/site/lib/Catalyst/Controller.pm line 288
	Catalyst::Controller::register_action_methods(AuthServer::Controller::OAuth2::Resource=HASH(0x32d4864), "AuthServer", Moose::Meta::Class::__ANON__::SERIAL::7=HASH(0x32ad644), Moose::Meta::Class::__ANON__::SERIAL::7=HASH(0x32d1584), Moose::Meta::Class::__ANON__::SERIAL::7=HASH(0x32d0c44), Moose::Meta::Class::__ANON__::SERIAL::7=HASH(0x32cc744), Moose::Meta::Class::__ANON__::SERIAL::7=HASH(0x32fddb4), Moose::Meta::Class::__ANON__::SERIAL::7=HASH(0x32e873c), Moose::Meta::Class::__ANON__::SERIAL::7=HASH(0x32ce8f4), ...) called at C:/strawberry182/perl/site/lib/Catalyst/Controller.pm line 257
	Catalyst::Controller::register_actions(AuthServer::Controller::OAuth2::Resource=HASH(0x32d4864), "AuthServer") called at C:/strawberry182/perl/site/lib/Catalyst/Dispatcher.pm line 609
	Catalyst::Dispatcher::setup_actions(Catalyst::Dispatcher=HASH(0x14d34cc), "AuthServer") called at C:/strawberry182/perl/site/lib/Catalyst.pm line 2525
	Catalyst::setup_actions("AuthServer") called at C:/strawberry182/perl/site/lib/Catalyst.pm line 1242
	Catalyst::setup("AuthServer", "ConfigLoader") called at t/lib/AuthServer.pm line 9
	require AuthServer.pm called at t/unit/700-client.t line 7
	main::BEGIN() called at t/lib/AuthServer.pm line 0
	eval {...} called at t/lib/AuthServer.pm line 0
[error] No default action defined
[warn] Useless setting a header value after finalize_headers called. Not what you want.
[error] No default action defined
t/unit/700-client.t ................................... ok
All tests successful.
Files=11, Tests=153, 73 wallclock secs ( 0.11 usr +  0.01 sys =  0.12 CPU)
Result: PASS

------------------------------
PREREQUISITES
------------------------------

Prerequisite modules loaded:

requires:

    Module                                   Need    Have      
    ---------------------------------------- ------- ----------
    base                                     0       2.18      
    Class::Load                              0       0.20      
    DBIx::Class                              0       0.08270   
    DBIx::Class::ResultSet                   0       0         
    DBIx::Class::Schema                      0       0         
    HTTP::Request::Common                    0       6.04      
    JSON::Any                                0       1.32      
    LWP::UserAgent                           0       6.05      
    Moose                                    0       2.1204    
    Moose::Role                              0       2.1204    
    Moose::Util                              0       2.1204    
    Moose::Util::TypeConstraints             0       2.1204    
    MooseX::NonMoose                         0       0.24      
    MooseX::SetOnce                          0       0.200002  
    MooseX::Types::Common::String            0       0.001012  
    parent                                   0       0.228     
    perl                                     5.006   5.018002  
    Scalar::Util                             0       1.38      
    strict                                   0       1.07      
    Try::Tiny                                0       0.18      
    URI                                      0       1.60      
    warnings                                 0       1.18      

build_requires:

    Module                                   Need    Have      
    ---------------------------------------- ------- ----------
    blib                                     1.01    1.06      
    Catalyst                                 0       5.90061   
    Catalyst::Controller                     0       0         
    Catalyst::Controller::ActionRole         0       0.15      
    Catalyst::Model::DBIC::Schema            0       0.62      
    Catalyst::Plugin::Authentication         0       0.10023   
    Catalyst::Plugin::ConfigLoader           0       0.33      
    Catalyst::Plugin::Session                0       0.39      
    Catalyst::Plugin::Session::State::Cookie 0       0.17      
    Catalyst::Test                           0       0         
    Devel::Dwarn                             0       0         
    ExtUtils::MakeMaker                      0       6.84      
    File::Spec                               0       3.40      
    HTTP::Request                            0       6.00      
    IO::Handle                               0       1.34      
    IPC::Open3                               0       1.13      
    lib                                      0       0.63      
    namespace::autoclean                     0       0.15      
    Plack::Builder                           0       0         
    Plack::Test                              0       0         
    SQL::Translator                          0.11006 0.11018   
    strictures                               1       1.005002  
    Test::Exception                          0       0.32      
    Test::MockObject                         0       1.20120301
    Test::More                               0       1.001002  
    Test::WWW::Mechanize::PSGI               0       0.35      

configure_requires:

    Module                                   Need    Have      
    ---------------------------------------- ------- ----------
    ExtUtils::MakeMaker                      0       6.84      


------------------------------
ENVIRONMENT AND OTHER CONTEXT
------------------------------

Environment variables:

    AUTOMATED_TESTING = 1
    COMSPEC = C:\WINDOWS\system32\cmd.exe
    NUMBER_OF_PROCESSORS = 1
    PATH = C:\WINDOWS\system32;C:\WINDOWS;C:\WINDOWS\System32\Wbem;C:\strawberry182\c\bin;C:\strawberry182\perl\site\bin;C:\strawberry182\perl\bin
    PERL5LIB = 
    PERL5OPT = 
    PERL5_CPANPLUS_IS_RUNNING = 1764
    PERL5_CPAN_IS_RUNNING = 1764
    PERL5_CPAN_IS_RUNNING_IN_RECURSION = 1688,1764
    PERL_CR_SMOKER_CURRENT = CatalystX-OAuth2-0.001009
    PERL_CR_SMOKER_RUNONCE = 1
    PERL_EXTUTILS_AUTOINSTALL = --defaultdeps
    PERL_HASH_SEED = 0x11111111
    PERL_MM_USE_DEFAULT = 1
    PROCESSOR_IDENTIFIER = x86 Family 18 Model 1 Stepping 0, AuthenticAMD
    TEMP = C:\DOCUME~1\c\LOCALS~1\Temp
    TERM = dumb

Perl special variables (and OS-specific diagnostics, for MSWin32):

    $^X = C:\strawberry182\perl\bin\perl.exe
    $UID/$EUID = 0 / 0
    $GID = 0
    $EGID = 0
    Win32::GetOSName = WinXP/.Net
    Win32::GetOSVersion = Service Pack 3, 5, 1, 2600, 2, 3, 0, 256, 1
    Win32::FsType = NTFS
    Win32::IsAdminUser = 1

Perl module toolchain versions installed:

    Module              Have    
    ------------------- --------
    CPAN                2.00    
    CPAN::Meta          2.133380
    Cwd                 3.40    
    ExtUtils::CBuilder  0.280212
    ExtUtils::Command   1.18    
    ExtUtils::Install   1.59    
    ExtUtils::MakeMaker 6.84    
    ExtUtils::Manifest  1.63    
    ExtUtils::ParseXS   3.22    
    File::Spec          3.40    
    JSON                2.90    
    JSON::PP            2.27203 
    Module::Build       0.4203  
    Module::Signature   n/a     
    Parse::CPAN::Meta   1.4414  
    Test::Harness       3.30    
    Test::More          1.001002
    YAML                0.90    
    YAML::Syck          1.27    
    version             0.9904  


--

Summary of my perl5 (revision 5 version 18 subversion 2) configuration:
   
  Platform:
    osname=MSWin32, osvers=6.2, archname=MSWin32-x86-multi-thread
    uname='Win32 strawberry-perl-no64 5.18.2.1 #1 Tue Jan  7 19:43:33 2014 i386'
    config_args='undef'
    hint=recommended, useposix=true, d_sigaction=undef
    useithreads=define, usemultiplicity=define
    useperlio=define, d_sfio=undef, uselargefiles=define, usesocks=undef
    use64bitint=undef, use64bitall=undef, uselongdouble=undef
    usemymalloc=n, bincompat5005=undef
  Compiler:
    cc='gcc', ccflags =' -s -O2 -DWIN32  -DPERL_TEXTMODE_SCRIPTS -DPERL_IMPLICIT_CONTEXT -DPERL_IMPLICIT_SYS -DUSE_PERLIO -fno-strict-aliasing -mms-bitfields',
    optimize='-s -O2',
    cppflags='-DWIN32'
    ccversion='', gccversion='4.7.3', gccosandvers=''
    intsize=4, longsize=4, ptrsize=4, doublesize=8, byteorder=1234
    d_longlong=define, longlongsize=8, d_longdbl=define, longdblsize=12
    ivtype='long', ivsize=4, nvtype='double', nvsize=8, Off_t='long long', lseeksize=8
    alignbytes=8, prototype=define
  Linker and Libraries:
    ld='g++', ldflags ='-s -L"C:\strawberry182\perl\lib\CORE" -L"C:\strawberry182\c\lib"'
    libpth=C:\strawberry182\c\lib C:\strawberry182\c\i686-w64-mingw32\lib C:\strawberry182\c\lib\gcc\i686-w64-mingw32\4.7.3
    libs=-lmoldname -lkernel32 -luser32 -lgdi32 -lwinspool -lcomdlg32 -ladvapi32 -lshell32 -lole32 -loleaut32 -lnetapi32 -luuid -lws2_32 -lmpr -lwinmm -lversion -lodbc32 -lodbccp32 -lcomctl32
    perllibs=-lmoldname -lkernel32 -luser32 -lgdi32 -lwinspool -lcomdlg32 -ladvapi32 -lshell32 -lole32 -loleaut32 -lnetapi32 -luuid -lws2_32 -lmpr -lwinmm -lversion -lodbc32 -lodbccp32 -lcomctl32
    libc=, so=dll, useshrplib=true, libperl=libperl518.a
    gnulibc_version=''
  Dynamic Linking:
    dlsrc=dl_win32.xs, dlext=dll, d_dlsymun=undef, ccdlflags=' '
    cccdlflags=' ', lddlflags='-mdll -s -L"C:\strawberry182\perl\lib\CORE" -L"C:\strawberry182\c\lib"'


Characteristics of this binary (from libperl): 
  Compile-time options: HAS_TIMES HAVE_INTERP_INTERN MULTIPLICITY
                        PERLIO_LAYERS PERL_DONT_CREATE_GVSV
                        PERL_HASH_FUNC_ONE_AT_A_TIME_HARD
                        PERL_IMPLICIT_CONTEXT PERL_IMPLICIT_SYS
                        PERL_MALLOC_WRAP PERL_PRESERVE_IVUV PERL_SAWAMPERSAND
                        USE_ITHREADS USE_LARGE_FILES USE_LOCALE
                        USE_LOCALE_COLLATE USE_LOCALE_CTYPE
                        USE_LOCALE_NUMERIC USE_PERLIO USE_PERL_ATOF
  Built under MSWin32
  Compiled at Jan  7 2014 19:51:54
  %ENV:
    PERL5_CPANPLUS_IS_RUNNING="1764"
    PERL5_CPAN_IS_RUNNING="1764"
    PERL5_CPAN_IS_RUNNING_IN_RECURSION="1688,1764"
    PERL_CR_SMOKER_CURRENT="CatalystX-OAuth2-0.001009"
    PERL_CR_SMOKER_RUNONCE="1"
    PERL_EXTUTILS_AUTOINSTALL="--defaultdeps"
    PERL_HASH_SEED="0x11111111"
    PERL_MM_USE_DEFAULT="1"
  @INC:
    C:/strawberry182/perl/site/lib
    C:/strawberry182/perl/vendor/lib
    C:/strawberry182/perl/lib
    .