Catalyst-Authentication-Credential-RemoteHTTP v0.05 Perl 5 v5.41.13 amd64-freebsd

Status
Pass
From
Carlos Guevara
Dist
Catalyst-Authentication-Credential-RemoteHTTP v0.05
Platform
Perl 5 v5.41.13 amd64-freebsd
Date
2025-05-04 02:36:38
ID
9a9c5fdc-2890-11f0-b47a-b80feb7e6f8c
This distribution has been tested as part of the CPAN Testers
project, supporting the Perl programming language.  See
http://wiki.cpantesters.org/ for more information or email
questions to cpan-testers-discuss@perl.org


--
Dear Nigel Metheringham,

This is a computer-generated report for Catalyst-Authentication-Credential-RemoteHTTP-0.05
on perl 5.41.13, created by CPAN-Reporter-1.2020.

Thank you for uploading your work to CPAN.  Congratulations!
All tests were successful.

Sections of this report:

    * Tester comments
    * Program output
    * Prerequisites
    * Environment and other context

------------------------------
TESTER COMMENTS
------------------------------

Additional comments from tester:

this report is from an automated smoke testing program
and was not reviewed by a human for accuracy

------------------------------
PROGRAM OUTPUT
------------------------------

Output from './Build test':

t/00-compile.t ............... ok
# Testing Catalyst::Authentication::Credential::RemoteHTTP 0.05, Perl 5.041013, /home/cpan/bin/perl/bin/perl5.41.13
t/00-load.t .................. ok
# Testing with Perl 5.041013, /home/cpan/bin/perl/bin/perl5.41.13
#     Carp version is 1.54
#     Catalyst version is 5.90132
#     Catalyst::Authentication::Store::Minimal version is undefined
#     Catalyst::Controller version is undefined
#     Catalyst::Exception version is undefined
#     Catalyst::Test version is undefined
#     English version is 1.11
#     File::Find version is 1.44
#     File::Temp version is 0.2311
#     HTTP::Server::Simple version is 0.52
#     HTTP::Server::Simple::CGI version is undefined
#     IO::Socket::INET version is 1.55
#     LWP::UserAgent version is 6.78
#     MIME::Base64 version is 3.16_01
#     Module::Build version is 0.4234
#     Moose version is 2.2207
#     MooseX::Types::Moose version is 0.51
#     Scalar::Util version is 1.6801
#     Test::Exception version is 0.43
#     Test::More version is 1.302211
#     base version is 2.27
#     namespace::autoclean version is 0.31
#     strict version is 1.13
#     warnings version is 1.74
t/000-report-versions.t ...... ok
t/author-critic.t ............ skipped: these tests are for testing by the author
t/author-pod-spell.t ......... skipped: these tests are for testing by the author
t/live.t ..................... ok
t/release-dist-manifest.t .... skipped: these tests are for release candidate testing
t/release-distmeta.t ......... skipped: these tests are for release candidate testing
t/release-eol.t .............. skipped: these tests are for release candidate testing
t/release-has-version.t ...... skipped: these tests are for release candidate testing
t/release-kwalitee.t ......... skipped: these tests are for release candidate testing
t/release-minimum-version.t .. skipped: these tests are for release candidate testing
t/release-no-tabs.t .......... skipped: these tests are for release candidate testing
t/release-pod-coverage.t ..... skipped: these tests are for release candidate testing
t/release-pod-syntax.t ....... skipped: these tests are for release candidate testing
t/release-portability.t ...... skipped: these tests are for release candidate testing
t/release-synopsis.t ......... skipped: these tests are for release candidate testing
t/release-unused-vars.t ...... skipped: these tests are for release candidate testing
All tests successful.
Files=18, Tests=43,  3 wallclock secs ( 0.03 usr  0.01 sys +  1.29 cusr  0.18 csys =  1.51 CPU)
Result: PASS

------------------------------
PREREQUISITES
------------------------------

Prerequisite modules loaded:

requires:

    Module                                   Need     Have    
    ---------------------------------------- -------- --------
    base                                     0        2.27    
    Catalyst::Exception                      0        0       
    LWP::UserAgent                           0        6.78    
    Moose                                    0        2.2207  
    MooseX::Types::Moose                     0        0.51    
    namespace::autoclean                     0        0.31    
    perl                                     5.008005 5.041013
    strict                                   0        1.13    
    warnings                                 0        1.74    

build_requires:

    Module                                   Need     Have    
    ---------------------------------------- -------- --------
    Carp                                     0        1.54    
    Catalyst                                 0        5.90132 
    Catalyst::Authentication::Store::Minimal 0        0       
    Catalyst::Controller                     0        0       
    Catalyst::Test                           0        0       
    English                                  0        1.11    
    File::Find                               0        1.44    
    File::Temp                               0        0.2311  
    HTTP::Server::Simple                     0        0.52    
    HTTP::Server::Simple::CGI                0        0       
    IO::Socket::INET                         0        1.55    
    MIME::Base64                             0        3.16_01 
    Module::Build                            0.3601   0.4234  
    Scalar::Util                             0        1.68_01 
    Test::Exception                          0        0.43    
    Test::More                               0.94     1.302211

configure_requires:

    Module                                   Need     Have    
    ---------------------------------------- -------- --------
    Module::Build                            0.3601   0.4234  


------------------------------
ENVIRONMENT AND OTHER CONTEXT
------------------------------

Environment variables:

    AUTOMATED_TESTING = 1
    DATE_MANIP_TEST_DM5 = 1
    LANG = C.UTF-8
    LC_ALL = C
    NONINTERACTIVE_TESTING = 1
    NO_NETWORK_TESTING = 1
    PATH = /home/cpan/bin/perl/bin:/home/cpan/bin:/sbin:/bin:/usr/sbin:/usr/bin:/usr/local/sbin:/usr/local/bin:/home/cpan/bin
    PERL5LIB = 
    PERL5OPT = 
    PERL5_CPANPLUS_IS_RUNNING = 29545
    PERL5_CPAN_IS_RUNNING = 29545
    PERL_MM_USE_DEFAULT = 1
    PERL_USE_UNSAFE_INC = 1
    SHELL = /usr/local/bin/bash
    TERM = screen
    TMPDIR = /home/cpan/tmp

Perl special variables (and OS-specific diagnostics, for MSWin32):

    $^X = /home/cpan/bin/perl/bin/perl5.41.13
    $UID/$EUID = 1002 / 1002
    $GID = 1002 1002
    $EGID = 1002 1002

Perl module toolchain versions installed:

    Module              Have    
    ------------------- --------
    CPAN                2.38    
    CPAN::Meta          2.150010
    Cwd                 3.94    
    ExtUtils::CBuilder  0.280241
    ExtUtils::Command   7.74    
    ExtUtils::Install   2.22    
    ExtUtils::MakeMaker 7.74    
    ExtUtils::Manifest  1.75    
    ExtUtils::ParseXS   3.57    
    File::Spec          3.94    
    JSON                4.10    
    JSON::PP            4.16    
    Module::Build       0.4234  
    Module::Signature   0.89    
    Parse::CPAN::Meta   2.150010
    Test2               1.302211
    Test::Harness       3.52    
    Test::More          1.302211
    YAML                1.31    
    YAML::Syck          1.34    
    version             0.9933  


--

Summary of my perl5 (revision 5 version 41 subversion 13) configuration:
  Commit id: d85c3a2e2b7401e23ca4b96c4c93b961af2e2229
  Platform:
    osname=freebsd
    osvers=14.2-release-p1
    archname=amd64-freebsd
    uname='freebsd cjg-freebsd14 14.2-release-p1 freebsd 14.2-release-p1 generic amd64 '
    config_args='-des -Dprefix=/home/cpan/bin/perl -Dscriptdir=/home/cpan/bin/perl/bin -Dusedevel -Duse64bitall'
    hint=recommended
    useposix=true
    d_sigaction=define
    useithreads=undef
    usemultiplicity=undef
    use64bitint=define
    use64bitall=define
    uselongdouble=undef
    usemymalloc=n
    default_inc_excludes_dot=define
  Compiler:
    cc='cc'
    ccflags ='-DHAS_FPSETMASK -DHAS_FLOATINGPOINT_H -DNO_POSIX_2008_LOCALE -fno-strict-aliasing -pipe -fstack-protector-strong -I/usr/local/include'
    optimize='-O2'
    cppflags='-DHAS_FPSETMASK -DHAS_FLOATINGPOINT_H -DNO_POSIX_2008_LOCALE -fno-strict-aliasing -pipe -fstack-protector-strong -I/usr/local/include'
    ccversion=''
    gccversion='FreeBSD Clang 18.1.6 (https://github.com/llvm/llvm-project.git llvmorg-18.1.6-0-g1118c2e05e67)'
    gccosandvers=''
    intsize=4
    longsize=8
    ptrsize=8
    doublesize=8
    byteorder=12345678
    doublekind=3
    d_longlong=define
    longlongsize=8
    d_longdbl=define
    longdblsize=16
    longdblkind=3
    ivtype='long'
    ivsize=8
    nvtype='double'
    nvsize=8
    Off_t='off_t'
    lseeksize=8
    alignbytes=8
    prototype=define
  Linker and Libraries:
    ld='cc'
    ldflags ='-Wl,-E  -fstack-protector-strong -L/usr/local/lib'
    libpth=/usr/lib /usr/local/lib /usr/lib/clang/18/lib
    libs=-lpthread -lgdbm -ldl -lm -lcrypt -lutil -lc
    perllibs=-lpthread -ldl -lm -lcrypt -lutil -lc
    libc=
    so=so
    useshrplib=false
    libperl=libperl.a
    gnulibc_version=''
  Dynamic Linking:
    dlsrc=dl_dlopen.xs
    dlext=so
    d_dlsymun=undef
    ccdlflags=' '
    cccdlflags='-DPIC -fPIC'
    lddlflags='-shared  -L/usr/local/lib -fstack-protector-strong'


Characteristics of this binary (from libperl): 
  Compile-time options:
    HAS_LONG_DOUBLE
    HAS_STRTOLD
    HAS_TIMES
    PERLIO_LAYERS
    PERL_COPY_ON_WRITE
    PERL_DONT_CREATE_GVSV
    PERL_HASH_FUNC_SIPHASH13
    PERL_HASH_USE_SBOX32
    PERL_MALLOC_WRAP
    PERL_OP_PARENT
    PERL_PRESERVE_IVUV
    PERL_USE_DEVEL
    PERL_USE_SAFE_PUTENV
    USE_64_BIT_ALL
    USE_64_BIT_INT
    USE_LARGE_FILES
    USE_LOCALE
    USE_LOCALE_COLLATE
    USE_LOCALE_CTYPE
    USE_LOCALE_NUMERIC
    USE_LOCALE_TIME
    USE_PERLIO
    USE_PERL_ATOF
  Built under freebsd
  Compiled at May  3 2025 15:47:45
  %ENV:
    PERL5LIB=""
    PERL5OPT=""
    PERL5_CPANPLUS_IS_RUNNING="29545"
    PERL5_CPAN_IS_RUNNING="29545"
    PERL_MM_USE_DEFAULT="1"
    PERL_USE_UNSAFE_INC="1"
  @INC:
    /home/cpan/bin/perl/lib/site_perl/5.41.13/amd64-freebsd
    /home/cpan/bin/perl/lib/site_perl/5.41.13
    /home/cpan/bin/perl/lib/5.41.13/amd64-freebsd
    /home/cpan/bin/perl/lib/5.41.13
    .