Template-Benchmark v1.09_01 Perl 5 v5.24.1 x86_64-linux-thread-multi

Status
Pass
From
Slaven Rezić (SREZIC)
Dist
Template-Benchmark v1.09_01
Platform
Perl 5 v5.24.1 x86_64-linux-thread-multi
Date
2017-11-13 20:24:08
ID
9a40fa2c-c8b0-11e7-9786-b21738ff84fa
This distribution has been tested as part of the CPAN Testers
project, supporting the Perl programming language.  See
http://wiki.cpantesters.org/ for more information or email
questions to cpan-testers-discuss@perl.org


--
Dear Sam Graham,

This is a computer-generated report for Template-Benchmark-1.09_01
on perl 5.24.1, created by CPAN-Reporter-1.2018.

Thank you for uploading your work to CPAN.  Congratulations!
All tests were successful.

Sections of this report:

    * Tester comments
    * Program output
    * Prerequisites
    * Environment and other context

------------------------------
TESTER COMMENTS
------------------------------

Additional comments from tester:

none provided

------------------------------
PROGRAM OUTPUT
------------------------------

Output from './Build test':

# Testing Template::Benchmark 1.09_01, Perl 5.024001, /opt/perl-5.24.1t/bin/perl
t/00-load.t ................. ok
t/10-class-methods.t ........ ok
t/15-constructor.t .......... ok
t/16-only-plugin.t .......... ok
t/17-features-from.t ........ ok
t/18-cache-types-from.t ..... ok
t/20-instance-methods.t ..... skipped: Instance testing requires one of the following sets of modules to be installed: (Template::Sandbox Cache::CacheFactory CHI Cache::FastMmap Cache::FileCache Cache::FastMemoryCache Cache::Ref::FIFO) (Template::Toolkit Template::Stash::XS Template::Parser::CET) (HTML::Template)
t/30-custom-dataset.t ....... skipped: Dataset testing requires one of the following sets of modules to be installed: (Template::Sandbox Cache::CacheFactory CHI Cache::FastMmap Cache::FileCache Cache::FastMemoryCache Cache::Ref::FIFO) (Text::Xslate 0.2007)
t/40-per-feature-repeats.t .. skipped: Feature repeats testing requires one of the following sets of modules to be installed: (Template::Sandbox Cache::CacheFactory CHI Cache::FastMmap Cache::FileCache Cache::FastMemoryCache Cache::Ref::FIFO) (Template::Toolkit Template::Stash::XS Template::Parser::CET) (HTML::Template) (Text::Xslate 0.2007)
t/50-script-run.t ........... ok
All tests successful.
Files=10, Tests=26,  1 wallclock secs ( 0.02 usr  0.06 sys +  0.92 cusr  0.24 csys =  1.24 CPU)
Result: PASS

------------------------------
PREREQUISITES
------------------------------

Prerequisite modules loaded:

requires:

    Module            Need   Have      
    ----------------- ------ ----------
    Benchmark         0      1.22      
    File::Path        0      2.12_01   
    File::Spec        0      3.63_01   
    File::Temp        0.18   0.2304    
    FindBin           0      1.51      
    Getopt::Long      0      2.48      
    IO::File          0      1.16      
    Module::Pluggable 0      5.2       
    perl              v5.6.1 5.024001  
    Pod::Usage        0      1.68      
    Scalar::Util      0      1.48      
    Text::Matrix      0      1.00      
    Text::Wrap        0      2013.0523 

build_requires:

    Module            Need   Have      
    ----------------- ------ ----------
    Config            0      5.024001  
    Cwd               0      3.63_01   
    File::Spec        0      3.63_01   
    FindBin           0      1.51      
    Test::Command     0.08   0.11      
    Test::Exception   0      0.43      
    Test::MockObject  0      1.20161202
    Test::More        0      1.302086  

configure_requires:

    Module            Need   Have      
    ----------------- ------ ----------
    Module::Build     0.23   0.4224    


------------------------------
ENVIRONMENT AND OTHER CONTEXT
------------------------------

Environment variables:

    LANG = C
    PATH = /usr/local/bin:/usr/bin:/bin:/usr/local/sbin:/usr/sbin:/sbin:/home/cpansand/bin/linux-gnu:/home/cpansand/bin/sh:/home/cpansand/bin:/usr/games:/home/cpansand/devel:/home/eserte/src/srezic-misc/scripts
    PERL5LIB = /home/cpansand/.cpan/build/2017111215/Test-MockObject-1.20161202-K3hpQA/blib/arch:/home/cpansand/.cpan/build/2017111215/Test-MockObject-1.20161202-K3hpQA/blib/lib:/home/cpansand/.cpan/build/2017111215/UNIVERSAL-can-1.20140328-wSB7xy/blib/arch:/home/cpansand/.cpan/build/2017111215/UNIVERSAL-can-1.20140328-wSB7xy/blib/lib:/home/cpansand/.cpan/build/2017111215/UNIVERSAL-isa-1.20171012-Qsvxym/blib/arch:/home/cpansand/.cpan/build/2017111215/UNIVERSAL-isa-1.20171012-Qsvxym/blib/lib:/home/cpansand/.cpan/build/2017111215/Text-Matrix-1.00-Ml45au/blib/arch:/home/cpansand/.cpan/build/2017111215/Text-Matrix-1.00-Ml45au/blib/lib:/home/cpansand/.cpan/build/2017111215/Test-Command-0.11-9LqOq1/blib/arch:/home/cpansand/.cpan/build/2017111215/Test-Command-0.11-9LqOq1/blib/lib
    PERL5OPT = 
    PERL5_CPANPLUS_IS_RUNNING = 30253
    PERL5_CPAN_IS_RUNNING = 30253
    PERL5_CPAN_IS_RUNNING_IN_RECURSION = 24511,30253
    PERLDOC = -MPod::Perldoc::ToTextOverstrike
    PERL_BATCH = yes
    PERL_CANARY_STABILITY_NOPROMPT = 1
    PERL_CPAN_REPORTER_CONFIG = /var/tmp/cpansmoker-1023/2017111215/cpanreporter_000_config.ini
    PERL_EXTUTILS_AUTOINSTALL = --defaultdeps
    SHELL = /usr/bin/zsh
    TERM = screen
    TMPDIR = /var/tmp/cpansmoker-1023/2017111215

Perl special variables (and OS-specific diagnostics, for MSWin32):

    $^X = /opt/perl-5.24.1t/bin/perl
    $UID/$EUID = 1023 / 1023
    $GID = 1023 1023
    $EGID = 1023 1023

Perl module toolchain versions installed:

    Module              Have      
    ------------------- ----------
    CPAN                2.11_01   
    CPAN::Meta          2.150005  
    Cwd                 3.63_01   
    ExtUtils::CBuilder  0.280225  
    ExtUtils::Command   7.10_02   
    ExtUtils::Install   2.04      
    ExtUtils::MakeMaker 7.10_02   
    ExtUtils::Manifest  1.70      
    ExtUtils::ParseXS   3.31      
    File::Spec          3.63_01   
    JSON                2.94      
    JSON::PP            2.27300_01
    Module::Build       0.4224    
    Module::Signature   n/a       
    Parse::CPAN::Meta   1.4417_001
    Test::Harness       3.36_01   
    Test::More          1.302086  
    YAML                1.23      
    YAML::Syck          1.30      
    version             0.9916    


--

Summary of my perl5 (revision 5 version 24 subversion 1) configuration:
   
  Platform:
    osname=linux, osvers=4.9.0-3-amd64, archname=x86_64-linux-thread-multi
    uname='linux debian9 4.9.0-3-amd64 #1 smp debian 4.9.30-2+deb9u1 (2017-06-18) x86_64 gnulinux '
    config_args='-ds -e -Dprefix=/opt/perl-5.24.1t -Dusethreads -Dcf_email=srezic@cpan.org'
    hint=recommended, useposix=true, d_sigaction=define
    useithreads=define, usemultiplicity=define
    use64bitint=define, use64bitall=define, uselongdouble=undef
    usemymalloc=n, bincompat5005=undef
  Compiler:
    cc='cc', ccflags ='-D_REENTRANT -D_GNU_SOURCE -fwrapv -fno-strict-aliasing -pipe -fstack-protector-strong -I/usr/local/include -D_LARGEFILE_SOURCE -D_FILE_OFFSET_BITS=64',
    optimize='-O2',
    cppflags='-D_REENTRANT -D_GNU_SOURCE -fwrapv -fno-strict-aliasing -pipe -fstack-protector-strong -I/usr/local/include'
    ccversion='', gccversion='6.3.0 20170516', gccosandvers=''
    intsize=4, longsize=8, ptrsize=8, doublesize=8, byteorder=12345678, doublekind=3
    d_longlong=define, longlongsize=8, d_longdbl=define, longdblsize=16, longdblkind=3
    ivtype='long', ivsize=8, nvtype='double', nvsize=8, Off_t='off_t', lseeksize=8
    alignbytes=8, prototype=define
  Linker and Libraries:
    ld='cc', ldflags =' -fstack-protector-strong -L/usr/local/lib'
    libpth=/usr/local/lib /usr/lib/gcc/x86_64-linux-gnu/6/include-fixed /usr/include/x86_64-linux-gnu /usr/lib /lib/x86_64-linux-gnu /lib/../lib /usr/lib/x86_64-linux-gnu /usr/lib/../lib /lib
    libs=-lpthread -lnsl -lgdbm -ldb -ldl -lm -lcrypt -lutil -lc -lgdbm_compat
    perllibs=-lpthread -lnsl -ldl -lm -lcrypt -lutil -lc
    libc=libc-2.24.so, so=so, useshrplib=false, libperl=libperl.a
    gnulibc_version='2.24'
  Dynamic Linking:
    dlsrc=dl_dlopen.xs, dlext=so, d_dlsymun=undef, ccdlflags='-Wl,-E'
    cccdlflags='-fPIC', lddlflags='-shared -O2 -L/usr/local/lib -fstack-protector-strong'


Characteristics of this binary (from libperl): 
  Compile-time options: HAS_TIMES MULTIPLICITY PERLIO_LAYERS
                        PERL_COPY_ON_WRITE PERL_DONT_CREATE_GVSV
                        PERL_HASH_FUNC_ONE_AT_A_TIME_HARD
                        PERL_IMPLICIT_CONTEXT PERL_MALLOC_WRAP
                        PERL_PRESERVE_IVUV USE_64_BIT_ALL USE_64_BIT_INT
                        USE_ITHREADS USE_LARGE_FILES USE_LOCALE
                        USE_LOCALE_COLLATE USE_LOCALE_CTYPE
                        USE_LOCALE_NUMERIC USE_LOCALE_TIME USE_PERLIO
                        USE_PERL_ATOF USE_REENTRANT_API
  Locally applied patches:
	Devel::PatchPerl 1.48
  Built under linux
  Compiled at Jun 25 2017 14:39:12
  %ENV:
    PERL5LIB="/home/cpansand/.cpan/build/2017111215/Test-MockObject-1.20161202-K3hpQA/blib/arch:/home/cpansand/.cpan/build/2017111215/Test-MockObject-1.20161202-K3hpQA/blib/lib:/home/cpansand/.cpan/build/2017111215/UNIVERSAL-can-1.20140328-wSB7xy/blib/arch:/home/cpansand/.cpan/build/2017111215/UNIVERSAL-can-1.20140328-wSB7xy/blib/lib:/home/cpansand/.cpan/build/2017111215/UNIVERSAL-isa-1.20171012-Qsvxym/blib/arch:/home/cpansand/.cpan/build/2017111215/UNIVERSAL-isa-1.20171012-Qsvxym/blib/lib:/home/cpansand/.cpan/build/2017111215/Text-Matrix-1.00-Ml45au/blib/arch:/home/cpansand/.cpan/build/2017111215/Text-Matrix-1.00-Ml45au/blib/lib:/home/cpansand/.cpan/build/2017111215/Test-Command-0.11-9LqOq1/blib/arch:/home/cpansand/.cpan/build/2017111215/Test-Command-0.11-9LqOq1/blib/lib"
    PERL5OPT=""
    PERL5_CPANPLUS_IS_RUNNING="30253"
    PERL5_CPAN_IS_RUNNING="30253"
    PERL5_CPAN_IS_RUNNING_IN_RECURSION="24511,30253"
    PERLDOC="-MPod::Perldoc::ToTextOverstrike"
    PERL_BATCH="yes"
    PERL_CANARY_STABILITY_NOPROMPT="1"
    PERL_CPAN_REPORTER_CONFIG="/var/tmp/cpansmoker-1023/2017111215/cpanreporter_000_config.ini"
    PERL_EXTUTILS_AUTOINSTALL="--defaultdeps"
  @INC:
    /home/cpansand/.cpan/build/2017111215/Test-MockObject-1.20161202-K3hpQA/blib/arch
    /home/cpansand/.cpan/build/2017111215/Test-MockObject-1.20161202-K3hpQA/blib/lib
    /home/cpansand/.cpan/build/2017111215/UNIVERSAL-can-1.20140328-wSB7xy/blib/arch
    /home/cpansand/.cpan/build/2017111215/UNIVERSAL-can-1.20140328-wSB7xy/blib/lib
    /home/cpansand/.cpan/build/2017111215/UNIVERSAL-isa-1.20171012-Qsvxym/blib/arch
    /home/cpansand/.cpan/build/2017111215/UNIVERSAL-isa-1.20171012-Qsvxym/blib/lib
    /home/cpansand/.cpan/build/2017111215/Text-Matrix-1.00-Ml45au/blib/arch
    /home/cpansand/.cpan/build/2017111215/Text-Matrix-1.00-Ml45au/blib/lib
    /home/cpansand/.cpan/build/2017111215/Test-Command-0.11-9LqOq1/blib/arch
    /home/cpansand/.cpan/build/2017111215/Test-Command-0.11-9LqOq1/blib/lib
    /opt/perl-5.24.1t/lib/site_perl/5.24.1/x86_64-linux-thread-multi
    /opt/perl-5.24.1t/lib/site_perl/5.24.1
    /opt/perl-5.24.1t/lib/5.24.1/x86_64-linux-thread-multi
    /opt/perl-5.24.1t/lib/5.24.1
    .