System-Sub v0.162800 Perl 5 v5.10.0 x86_64-dragonfly-thread-multi-ld

Status
Pass
From
Nigel Horne
Dist
System-Sub v0.162800
Platform
Perl 5 v5.10.0 x86_64-dragonfly-thread-multi-ld
Date
2018-04-14 02:00:27
ID
99eb04e8-3f87-11e8-91ce-d3e3deac0b3f
This distribution has been tested as part of the CPAN Testers
project, supporting the Perl programming language.  See
http://wiki.cpantesters.org/ for more information or email
questions to cpan-testers-discuss@perl.org


--
Dear Olivier Mengue,

This is a computer-generated report for System-Sub-0.162800
on perl 5.10.0, created by CPAN-Reporter-1.2018.

Thank you for uploading your work to CPAN.  Congratulations!
All tests were successful.

Sections of this report:

    * Tester comments
    * Program output
    * Prerequisites
    * Environment and other context

------------------------------
TESTER COMMENTS
------------------------------

Additional comments from tester:

this report is from an automated smoke testing program
and was not reviewed by a human for accuracy

------------------------------
PROGRAM OUTPUT
------------------------------

Output from '/usr/bin/make test':

PERL_DL_NONLAZY=1 "/home/njh/perl5/perlbrew/perls/perl-5.10.0-thread-multi-ld/bin/perl5.10.0" "-MExtUtils::Command::MM" "-MTest::Harness" "-e" "undef *Test::Harness::Switches; test_harness(0, 'blib/lib', 'blib/arch')" t/*.t
t/00-compile.t ...... ok
t/20-hostname.t ..... ok
t/21-AUTOLOAD.t ..... ok
t/22-ENV.t .......... ok
t/23-prototype.t .... ok
t/24-error.t ........ ok
t/25-common-opts.t .. ok
All tests successful.
Files=7, Tests=31,  2 wallclock secs ( 0.07 usr  0.05 sys +  1.17 cusr  0.62 csys =  1.91 CPU)
Result: PASS

------------------------------
PREREQUISITES
------------------------------

Prerequisite modules loaded:

requires:

    Module              Need  Have    
    ------------------- ----- --------
    Carp                0     1.38    
    constant            0     1.13    
    File::Which         0     1.22    
    IPC::Run            0     0.99    
    perl                5.006 5.010000
    Scalar::Util        1.11  1.19    
    strict              0     1.04    
    Sub::Name           0     0.21    
    Symbol              0     1.06    
    warnings            0     1.06    

build_requires:

    Module              Need  Have    
    ------------------- ----- --------
    blib                1.01  1.03    
    ExtUtils::MakeMaker 0     7.30    
    File::Spec          0     3.62    
    IO::Handle          0     1.27    
    IPC::Open3          0     1.02    
    Test::More          0     1.302122

configure_requires:

    Module              Need  Have    
    ------------------- ----- --------
    ExtUtils::MakeMaker 0     7.30    
    perl                5.006 5.010000


------------------------------
ENVIRONMENT AND OTHER CONTEXT
------------------------------

Environment variables:

    AUTOMATED_TESTING = 1
    PATH = /home/njh/perl5/perlbrew/bin:/home/njh/perl5/perlbrew/perls/perl-5.10.0-thread-multi-ld/bin:src/njh/smoker/bin:/bin:/sbin:/usr/bin:/usr/sbin:/usr/local/bin:/usr/local/sbin:/usr/pkg/bin:/usr/pkg/sbin
    PERL5LIB = /home/njh/.cpan/build/Sub-Name-0.21-26/blib/arch:/home/njh/.cpan/build/Sub-Name-0.21-26/blib/lib:/home/njh/.cpan/build/IPC-Run-0.99-2/blib/arch:/home/njh/.cpan/build/IPC-Run-0.99-2/blib/lib:/home/njh/.cpan/build/File-Touch-0.11-2/blib/arch:/home/njh/.cpan/build/File-Touch-0.11-2/blib/lib:/home/njh/.cpan/build/Browser-Open-0.04-2/blib/arch:/home/njh/.cpan/build/Browser-Open-0.04-2/blib/lib
    PERL5OPT = 
    PERL5_CPANPLUS_IS_RUNNING = 790357
    PERL5_CPAN_IS_RUNNING = 790357
    PERLBREW_HOME = /home/njh/.perlbrew
    PERLBREW_MANPATH = /home/njh/perl5/perlbrew/perls/perl-5.10.0-thread-multi-ld/man
    PERLBREW_PATH = /home/njh/perl5/perlbrew/bin:/home/njh/perl5/perlbrew/perls/perl-5.10.0-thread-multi-ld/bin
    PERLBREW_PERL = perl-5.10.0-thread-multi-ld
    PERLBREW_ROOT = /home/njh/perl5/perlbrew
    PERLBREW_SHELLRC_VERSION = 0.82
    PERLBREW_VERSION = 0.82
    SHELL = /bin/sh

Perl special variables (and OS-specific diagnostics, for MSWin32):

    $^X = /home/njh/perl5/perlbrew/perls/perl-5.10.0-thread-multi-ld/bin/perl5.10.0
    $UID/$EUID = 1001 / 1001
    $GID = 1001 1001 0
    $EGID = 1001 1001 0

Perl module toolchain versions installed:

    Module              Have     
    ------------------- ---------
    CPAN                2.16     
    CPAN::Meta          2.150010 
    Cwd                 3.62     
    ExtUtils::CBuilder  0.21     
    ExtUtils::Command   7.30     
    ExtUtils::Install   2.06     
    ExtUtils::MakeMaker 7.30     
    ExtUtils::Manifest  1.70     
    ExtUtils::ParseXS   2.18_02  
    File::Spec          3.62     
    JSON                n/a      
    JSON::PP            2.97001  
    Module::Build       0.2808_01
    Module::Signature   n/a      
    Parse::CPAN::Meta   2.150010 
    Test::Harness       3.39     
    Test::More          1.302122 
    YAML                1.24     
    YAML::Syck          1.30     
    version             0.9918   


--

Summary of my perl5 (revision 5 version 10 subversion 0) configuration:
  Platform:
    osname=dragonfly, osvers=5.0-release, archname=x86_64-dragonfly-thread-multi-ld
    uname='dragonfly david.bandsman.co.uk 5.0-release dragonfly v5.0.2-release #4: sun dec 3 17:42:25 est 2017 root@www.shiningsilence.com:usrobjhomejustinrelease5_0sysx86_64_generic x86_64 '
    config_args='-de -Dprefix=/home/njh/perl5/perlbrew/perls/perl-5.10.0-thread-multi-ld -Dusedevel -Dusethreads -Duselongdouble -Dusemultiplicity -Accflags= -Aeval:scriptdir=/home/njh/perl5/perlbrew/perls/perl-5.10.0-thread-multi-ld/bin'
    hint=recommended, useposix=true, d_sigaction=define
    useithreads=define, usemultiplicity=define
    useperlio=define, d_sfio=undef, uselargefiles=define, usesocks=undef
    use64bitint=define, use64bitall=define, uselongdouble=define
    usemymalloc=n, bincompat5005=undef
  Compiler:
    cc='cc', ccflags ='-DHAS_FPSETMASK -DHAS_FLOATINGPOINT_H -fno-strict-aliasing -pipe -I/usr/local/include',
    optimize='-O',
    cppflags='-DHAS_FPSETMASK -DHAS_FLOATINGPOINT_H -fno-strict-aliasing -pipe -I/usr/local/include'
    ccversion='', gccversion='5.4.1 [DragonFly] Release/2016-08-27', gccosandvers=''
    intsize=4, longsize=8, ptrsize=8, doublesize=8, byteorder=12345678
    d_longlong=define, longlongsize=8, d_longdbl=define, longdblsize=16
    ivtype='long', ivsize=8, nvtype='long double', nvsize=16, Off_t='off_t', lseeksize=8
    alignbytes=16, prototype=define
  Linker and Libraries:
    ld='cc', ldflags ='-pthread -Wl,-E  -L/usr/local/lib'
    libpth=/usr/lib /usr/local/lib
    libs=-ldl -lm -lcrypt -lutil -lc
    perllibs=-ldl -lm -lcrypt -lutil -lc
    libc=, so=so, useshrplib=false, libperl=libperl.a
    gnulibc_version=''
  Dynamic Linking:
    dlsrc=dl_dlopen.xs, dlext=so, d_dlsymun=undef, ccdlflags=' '
    cccdlflags='-DPIC -fPIC', lddlflags='-shared  -L/usr/local/lib'


Characteristics of this binary (from libperl): 
  Compile-time options: MULTIPLICITY PERL_DONT_CREATE_GVSV
                        PERL_IMPLICIT_CONTEXT PERL_MALLOC_WRAP USE_64_BIT_ALL
                        USE_64_BIT_INT USE_ITHREADS USE_LARGE_FILES
                        USE_LONG_DOUBLE USE_PERLIO USE_REENTRANT_API
  Locally applied patches:
	Devel::PatchPerl 1.48
  Built under dragonfly
  Compiled at Jan 30 2018 01:20:17
  %ENV:
    PERL5LIB="/home/njh/.cpan/build/Sub-Name-0.21-26/blib/arch:/home/njh/.cpan/build/Sub-Name-0.21-26/blib/lib:/home/njh/.cpan/build/IPC-Run-0.99-2/blib/arch:/home/njh/.cpan/build/IPC-Run-0.99-2/blib/lib:/home/njh/.cpan/build/File-Touch-0.11-2/blib/arch:/home/njh/.cpan/build/File-Touch-0.11-2/blib/lib:/home/njh/.cpan/build/Browser-Open-0.04-2/blib/arch:/home/njh/.cpan/build/Browser-Open-0.04-2/blib/lib"
    PERL5OPT=""
    PERL5_CPANPLUS_IS_RUNNING="790357"
    PERL5_CPAN_IS_RUNNING="790357"
    PERLBREW_HOME="/home/njh/.perlbrew"
    PERLBREW_MANPATH="/home/njh/perl5/perlbrew/perls/perl-5.10.0-thread-multi-ld/man"
    PERLBREW_PATH="/home/njh/perl5/perlbrew/bin:/home/njh/perl5/perlbrew/perls/perl-5.10.0-thread-multi-ld/bin"
    PERLBREW_PERL="perl-5.10.0-thread-multi-ld"
    PERLBREW_ROOT="/home/njh/perl5/perlbrew"
    PERLBREW_SHELLRC_VERSION="0.82"
    PERLBREW_VERSION="0.82"
  @INC:
    /home/njh/.cpan/build/Sub-Name-0.21-26/blib/arch
    /home/njh/.cpan/build/Sub-Name-0.21-26/blib/lib
    /home/njh/.cpan/build/IPC-Run-0.99-2/blib/arch
    /home/njh/.cpan/build/IPC-Run-0.99-2/blib/lib
    /home/njh/.cpan/build/File-Touch-0.11-2/blib/arch
    /home/njh/.cpan/build/File-Touch-0.11-2/blib/lib
    /home/njh/.cpan/build/Browser-Open-0.04-2/blib/arch
    /home/njh/.cpan/build/Browser-Open-0.04-2/blib/lib
    /home/njh/perl5/perlbrew/perls/perl-5.10.0-thread-multi-ld/lib/5.10.0/x86_64-dragonfly-thread-multi-ld
    /home/njh/perl5/perlbrew/perls/perl-5.10.0-thread-multi-ld/lib/5.10.0
    /home/njh/perl5/perlbrew/perls/perl-5.10.0-thread-multi-ld/lib/site_perl/5.10.0/x86_64-dragonfly-thread-multi-ld
    /home/njh/perl5/perlbrew/perls/perl-5.10.0-thread-multi-ld/lib/site_perl/5.10.0
    .