Back
From: metabase:user:e7b34f46-36ca-11e0-a826-945c7ca43f85
Subject: PASS Test-Corpus-Audio-MPD-1.120990 v5.16.1 GNU/Linux
Date: 2012-11-06T15:35:32Z
This distribution has been tested as part of the CPAN Testers
project, supporting the Perl programming language. See
http://wiki.cpantesters.org/ for more information or email
questions to cpan-testers-discuss@perl.org
--
Dear Jerome Quelin,
This is a computer-generated report for Test-Corpus-Audio-MPD-1.120990
on perl 5.16.1, created by CPAN-Reporter-1.2006.
Thank you for uploading your work to CPAN. Congratulations!
All tests were successful.
Sections of this report:
* Tester comments
* Program output
* Prerequisites
* Environment and other context
------------------------------
TESTER COMMENTS
------------------------------
Additional comments from tester:
none provided
------------------------------
PROGRAM OUTPUT
------------------------------
Output from './Build test':
t/00-compile.t ................ ok
#
#
# perl: v5.16.1 (wanted 5.008) on linux from /home/tom/perl5/perlbrew/perls/perl-5.16.1/bin/perl
#
# Exporter => 5.67 (want any version)
# File::Copy => 2.23 (want any version)
# File::ShareDir::PathClass => 1.112440 (want any version)
# File::Temp => 0.22 (want any version)
# Module::Build => 0.4003 (want 0.3601)
# Path::Class => 0.26 (want any version)
# Readonly => 1.03 (want any version)
# Test::More => 0.98 (want 0.88)
# base => 2.18 (want any version)
# strict => 1.07 (want any version)
# warnings => 1.13 (want any version)
#
# Thanks for using my code. I hope it works for you.
# If not, please try and include this output in the bug report.
# That will help me reproduce the issue and solve you problem.
#
t/000-report-versions-tiny.t .. ok
t/release-has-version.t ....... skipped: these tests are for release candidate testing
t/release-kwalitee.t .......... skipped: these tests are for release candidate testing
t/release-minimum-version.t ... skipped: these tests are for release candidate testing
t/release-pod-coverage.t ...... skipped: these tests are for release candidate testing
t/release-pod-syntax.t ........ skipped: these tests are for release candidate testing
All tests successful.
Files=7, Tests=2, 0 wallclock secs ( 0.05 usr 0.03 sys + 0.26 cusr 0.06 csys = 0.40 CPU)
Result: PASS
------------------------------
PREREQUISITES
------------------------------
Prerequisite modules loaded:
requires:
Module Need Have
------------------------- ------ --------
base 0 2.18
Exporter 0 5.67
File::Copy 0 2.23
File::ShareDir 1.00 1.03
File::ShareDir::PathClass 0 1.112440
File::Temp 0 0.22
Path::Class 0 0.26
perl 5.008 5.016001
Readonly 0 1.03
strict 0 1.07
warnings 0 1.13
build_requires:
Module Need Have
------------------------- ------ --------
Module::Build 0.3601 0.4003
Test::More 0.88 0.98
configure_requires:
Module Need Have
------------------------- ------ --------
Module::Build 0.3601 0.4003
------------------------------
ENVIRONMENT AND OTHER CONTEXT
------------------------------
Environment variables:
LANG = en_GB.UTF-8
LD_LIBRARY_PATH = /home/tom/local/lib:
MANPATH_WITHOUT_PERLBREW =
PATH = /home/tom/perl5/perlbrew/bin:/home/tom/perl5/perlbrew/perls/perl-5.16.1/bin:/home/tom/local/bin:/home/tom/local/bin:/usr/local/sbin:/usr/local/bin:/usr/sbin:/usr/bin:/sbin:/bin:/usr/games
PATH_WITHOUT_PERLBREW = /home/tom/local/bin:/home/tom/local/bin:/usr/local/sbin:/usr/local/bin:/usr/sbin:/usr/bin:/sbin:/bin:/usr/games
PERL5LIB =
PERL5OPT =
PERL5_CPANPLUS_IS_RUNNING = 5529
PERL5_CPAN_IS_RUNNING = 5529
PERLBREW_BASHRC_VERSION = 0.35
PERLBREW_HOME = /home/tom/.perlbrew
PERLBREW_MANPATH = /home/tom/perl5/perlbrew/perls/perl-5.16.1/man
PERLBREW_PATH = /home/tom/perl5/perlbrew/bin:/home/tom/perl5/perlbrew/perls/perl-5.16.1/bin
PERLBREW_PERL = perl-5.16.1
PERLBREW_ROOT = /home/tom/perl5/perlbrew
PERLBREW_VERSION = 0.35
PERL_CPANM_OPT = --mirror http://cpan.entitymodel.com --mirror-only
PERL_LWP_SSL_VERIFY_HOSTNAME = 0
PERL_MM_USE_DEFAULT = 1
SHELL = /bin/bash
TERM = screen
Perl special variables (and OS-specific diagnostics, for MSWin32):
$^X = /home/tom/perl5/perlbrew/perls/perl-5.16.1/bin/perl
$UID/$EUID = 1000 / 1000
$GID = 1000 4 24 27 29 30 46 109 111 127 1000
$EGID = 1000 4 24 27 29 30 46 109 111 127 1000
Perl module toolchain versions installed:
Module Have
------------------- --------
CPAN 1.9800
CPAN::Meta 2.120921
Cwd 3.33
ExtUtils::CBuilder 0.280206
ExtUtils::Command 1.17
ExtUtils::Install 1.58
ExtUtils::MakeMaker 6.63_02
ExtUtils::Manifest 1.61
ExtUtils::ParseXS 3.04
File::Spec 3.33
JSON 2.53
JSON::PP 2.27200
Module::Build 0.4003
Module::Signature 0.68
Parse::CPAN::Meta 1.4404
Test::Harness 3.25
Test::More 0.98
YAML 0.84
YAML::Syck 1.21
version 0.9901
--
Summary of my perl5 (revision 5 version 16 subversion 1) configuration:
Platform:
osname=linux, osvers=3.2.0-29-generic, archname=x86_64-linux
uname='linux roku 3.2.0-29-generic #46-ubuntu smp fri jul 27 17:03:23 utc 2012 x86_64 x86_64 x86_64 gnulinux '
config_args='-de -Dprefix=/home/tom/perl5/perlbrew/perls/perl-5.16.1'
hint=recommended, useposix=true, d_sigaction=define
useithreads=undef, usemultiplicity=undef
useperlio=define, d_sfio=undef, uselargefiles=define, usesocks=undef
use64bitint=define, use64bitall=define, uselongdouble=undef
usemymalloc=n, bincompat5005=undef
Compiler:
cc='cc', ccflags ='-fno-strict-aliasing -pipe -fstack-protector -I/usr/local/include -D_LARGEFILE_SOURCE -D_FILE_OFFSET_BITS=64',
optimize='-O2',
cppflags='-fno-strict-aliasing -pipe -fstack-protector -I/usr/local/include'
ccversion='', gccversion='4.6.3', gccosandvers=''
intsize=4, longsize=8, ptrsize=8, doublesize=8, byteorder=12345678
d_longlong=define, longlongsize=8, d_longdbl=define, longdblsize=16
ivtype='long', ivsize=8, nvtype='double', nvsize=8, Off_t='off_t', lseeksize=8
alignbytes=8, prototype=define
Linker and Libraries:
ld='cc', ldflags =' -fstack-protector -L/usr/local/lib'
libpth=/usr/local/lib /lib/x86_64-linux-gnu /lib/../lib /usr/lib/x86_64-linux-gnu /usr/lib/../lib /lib /usr/lib
libs=-lnsl -ldl -lm -lcrypt -lutil -lc
perllibs=-lnsl -ldl -lm -lcrypt -lutil -lc
libc=, so=so, useshrplib=false, libperl=libperl.a
gnulibc_version='2.15'
Dynamic Linking:
dlsrc=dl_dlopen.xs, dlext=so, d_dlsymun=undef, ccdlflags='-Wl,-E'
cccdlflags='-fPIC', lddlflags='-shared -O2 -L/usr/local/lib -fstack-protector'
Characteristics of this binary (from libperl):
Compile-time options: HAS_TIMES PERLIO_LAYERS PERL_DONT_CREATE_GVSV
PERL_MALLOC_WRAP PERL_PRESERVE_IVUV USE_64_BIT_ALL
USE_64_BIT_INT USE_LARGE_FILES USE_LOCALE
USE_LOCALE_COLLATE USE_LOCALE_CTYPE
USE_LOCALE_NUMERIC USE_PERLIO USE_PERL_ATOF
Built under linux
Compiled at Aug 12 2012 00:00:33
%ENV:
PERL5LIB=""
PERL5OPT=""
PERL5_CPANPLUS_IS_RUNNING="5529"
PERL5_CPAN_IS_RUNNING="5529"
PERLBREW_BASHRC_VERSION="0.35"
PERLBREW_HOME="/home/tom/.perlbrew"
PERLBREW_MANPATH="/home/tom/perl5/perlbrew/perls/perl-5.16.1/man"
PERLBREW_PATH="/home/tom/perl5/perlbrew/bin:/home/tom/perl5/perlbrew/perls/perl-5.16.1/bin"
PERLBREW_PERL="perl-5.16.1"
PERLBREW_ROOT="/home/tom/perl5/perlbrew"
PERLBREW_VERSION="0.35"
PERL_CPANM_OPT="--mirror http://cpan.entitymodel.com --mirror-only"
PERL_LWP_SSL_VERIFY_HOSTNAME="0"
PERL_MM_USE_DEFAULT="1"
@INC:
/home/tom/perl5/perlbrew/perls/perl-5.16.1/lib/site_perl/5.16.1/x86_64-linux
/home/tom/perl5/perlbrew/perls/perl-5.16.1/lib/site_perl/5.16.1
/home/tom/perl5/perlbrew/perls/perl-5.16.1/lib/5.16.1/x86_64-linux
/home/tom/perl5/perlbrew/perls/perl-5.16.1/lib/5.16.1
.