Text-Amuse-Preprocessor v0.67 Perl 5 v5.41.9 x86_64-linux-thread-multi-ld

Status
Pass
From
Andreas J. König (ANDK)
Dist
Text-Amuse-Preprocessor v0.67
Platform
Perl 5 v5.41.9 x86_64-linux-thread-multi-ld
Date
2025-03-07 22:43:33
ID
99c42f6c-fba5-11ef-a4d7-bbd854d2706e
This distribution has been tested as part of the CPAN Testers
project, supporting the Perl programming language.  See
http://wiki.cpantesters.org/ for more information or email
questions to cpan-testers-discuss@perl.org


--
Dear Marco Pessotto,

This is a computer-generated report for Text-Amuse-Preprocessor-0.67
on perl 5.41.9, created by CPAN-Reporter-1.2020.

Thank you for uploading your work to CPAN.  Congratulations!
All tests were successful.

Sections of this report:

    * Tester comments
    * Program output
    * Prerequisites
    * Environment and other context

------------------------------
TESTER COMMENTS
------------------------------

Additional comments from tester:

this report is from an automated smoke testing program
and was not reviewed by a human for accuracy

------------------------------
PROGRAM OUTPUT
------------------------------

Output from '/usr/bin/make test':

PERL_DL_NONLAZY=1 "/tmp/basesmoker-reloperl-XOnw/bin/perl" "-MExtUtils::Command::MM" "-MTest::Harness" "-e" "undef *Test::Harness::Switches; test_harness(0, 'blib/lib', 'blib/arch')" t/*.t
# Testing Text::Amuse::Preprocessor 0.67, Perl 5.041009, /tmp/basesmoker-reloperl-XOnw/bin/perl
t/00-load.t ........... ok
t/changes.t ........... skipped: Changes testing not required (or Test::CPAN::Changes not found)
t/chars.t ............. ok
t/chinese.t ........... ok
# Using /tmp/WVlAF4IH83 for ligatures
# Using /tmp/rsTyokFpQK for missing_nl
# Using /tmp/HnC46RX9SE for garbage
# Using /tmp/Mbb92bPBs7 for ellipsis_no_fix
# Using /tmp/wgoVNeE1kI for ellipsis
# Using /tmp/UK1094aHBf for links
# Using /tmp/ONF4JvMf46 for en
# Using /tmp/VnNSYlzENK for fi
# Using /tmp/LKZ5wrzi0C for es
# Using /tmp/L9XCESD2SW for sr
# Using /tmp/QC0uKSgW_Y for hr
# Using /tmp/lrlk72ukzF for ru
# Using /tmp/iFB_iVNawn for it
# Using /tmp/_RCVPkSX2x for mk
# Using /tmp/_cvNC9D13a for sv
# Using /tmp/2tyOc45VGu for de
# Using /tmp/bmvkiJ4dMA for pl
# Using /tmp/gTK2Qg2cKl for bg
# Using /tmp/PF4XmuNIhu for eo
# Using /tmp/oj0NoJw1dD for fr
# Using /tmp/W4r7bZEWeW for pt
# Using /tmp/wouyu1cKH9 for sq
# Using /tmp/WvbVSofeFE for da
# Using /tmp/ZBQtSZWBDM for nl
# Using /tmp/94zRHlO8a5 for id
# Using /tmp/xP4gsu_N9A for Full example
# Using /tmp/TBhJNgArkb for Quote
# Using /tmp/YbOuL803oY for Quote
# Using /tmp/5LhOU6E9Qc for Nl quotation
t/common.t ............ ok
t/crash-on-verb.t ..... ok
# $VAR1 = "#title Test
# #lang en
# 
# 0
# 
# \x{201c}0\x{201d}
# 
# 0
# ";
# $VAR1 = "#title Test
# #lang en
# 
# 0
# 
# \x{201c}0\x{201d}
# 
# 0
# ";
t/crash_on_loop.t ..... ok
# /tmp/jNhP5NSODo/verbatim-in.muse
# /tmp/jNhP5NSODo
t/exclude-verbatim.t .. ok
tagpile mismatch: meta, head
tagpile mismatch: head, html
tagpile mismatch: link, head
tagpile mismatch: hr, div
tagpile mismatch: br, body
tagpile mismatch: div, html
# 
# 
# <right>
# سلام من هیچکسی نیستم.[1]
# </right>
# 
# <br>
# 
# [1] https://amusewiki.org
# 
tagpile mismatch: link, head
tagpile mismatch: hr, div
tagpile mismatch: br, body
tagpile mismatch: div, html
# 
# 
# سلام من هیچکسی نیستم.[1]
# 
# <br>
# 
# [1] https://amusewiki.org
# 
t/farsi.t ............. ok
# Testing t/footnotes/good.in => t/footnotes/good.out
# Testing t/footnotes/good2.in => t/footnotes/good2.out
# Testing t/footnotes/good3.in => t/footnotes/good3.out
# Testing t/footnotes/mixed.in => t/footnotes/mixed.out
# Testing t/footnotes/indentation.in => t/footnotes/indentation.out
# Testing t/footnotes/sec-good.in => t/footnotes/sec-good.out
# Testing t/footnotes/sec-good2.in => t/footnotes/sec-good2.out
# Testing t/footnotes/sec-good3.in => t/footnotes/sec-good3.out
# Testing t/footnotes/sec-bad.in => t/footnotes/sec-bad.out
# @@ -1 +1,2 @@
# -{4}
# +{3}
# +{3}
# Testing t/footnotes/sec-bad2.in => t/footnotes/sec-bad2.out
# @@ -1,3 +1,2 @@
# -{4}
# +{3}
# -{5}
# +{3}
# -{6}
# Testing t/footnotes/bad.in => t/footnotes/bad.out
# @@ -1,2 +1,3 @@
#  [1]
# -[1]
# +[2]
# +[4]
# Testing t/footnotes/bad2.in => t/footnotes/bad2.out
# @@ -1,4 +1,3 @@
#  [1]
# -[1]
# +[2]
#  [4]
# -[5]
t/footnotes.t ......... ok
tagpile mismatch: root, p
t/html-2.t ............ ok
# Using /tmp/nggWGk2YBz.html
# Using /tmp/X5mNczp18s.html
# Using /tmp/SrB5TsgfIh.html
# Using /tmp/vN_shUgbWK.html
# Using /tmp/3EFMEZm75L.html
# Using /tmp/gVUDedEU8E.html
# Using /tmp/IMNub3a7dH.html
# Using /tmp/8WlV2GqLC5.html
# Using /tmp/ubZZeFeLB2.html
# Using /tmp/baEhkejAuD.html
# Using /tmp/m6uDJa879N.html
# Using /tmp/z6w1a4ioSD.html
# Using /tmp/Fz_hO_QYaO.html
# Using /tmp/7D8r6zCE8s.html
# Using /tmp/H9qvIrEPYd.html
# Using /tmp/P2GKpmP134.html
# Using /tmp/gB16GNgZxL.html
t/html.t .............. ok
# Retrieved on February 2, 2011 from http://j12.org/spunk/library/writers/meltzer/sp001500.html
# Retrieved on February 2, 2011 from [[http://j12.org/spunk/library/writers/meltzer/sp001500.html][j12.org]]
# Retrieved on December 22, 2011 from http://libertarian-labyrinth.org/archive/The_Great_Debacle
# Retrieved on December 22, 2011 from [[http://libertarian-labyrinth.org/archive/The_Great_Debacle][libertarian-labyrinth.org]]
# <br>http://www.nancho.net/advisors/anaes.html<br>
# <br>[[http://www.nancho.net/advisors/anaes.html][www.nancho.net]]<br>
# http://www.nancho.net/advisors/anaes.html<br>http://www.nancho.net/advisors/anaes.html<br>
# [[http://www.nancho.net/advisors/anaes.html][www.nancho.net]]<br>[[http://www.nancho.net/advisors/anaes.html][www.nancho.net]]<br>
#  https://web.archive.org/web/20220504202253/https://amusewiki.org/special/index 
#  [[https://web.archive.org/web/20220504202253/https://amusewiki.org/special/index][web.archive.org]] 
#  [[https://web.archive.org/web/20220504202253/https://amusewiki.org/special/index][web.archive.org]] 
#  [[https://web.archive.org/web/20220504202253/https://amusewiki.org/special/index][web.archive.org]] 
# http://test.org/xx and http://test.org/xx
# [[http://test.org/xx][test.org]] and [[http://test.org/xx][test.org]]
# [[http://test.org/xx][test.org]] and [[http://test.org/xx][test.org]]
# [[http://test.org/xx][test.org]] and [[http://test.org/xx][test.org]]
# http://test.org/xx and [[http://test.org/xx][test.org]]
# [[http://test.org/xx][test.org]] and [[http://test.org/xx][test.org]]
# http://test.org/xx and http://test.org/xx][test.org]] 
# [[http://test.org/xx][test.org]] and http://test.org/xx][test.org]] 
# <http://test.org/xx> and >http://test.org/xx<
# <[[http://test.org/xx][test.org]]> and >[[http://test.org/xx][test.org]]<
# <http://test.org/xx> and https://test.org:80/>http://test.org/xx< and https://test.org/ and [[https://test.org/][test.org]]
# <[[http://test.org/xx][test.org]]> and [[https://test.org:80/][test.org]]>[[http://test.org/xx][test.org]]< and [[https://test.org/][test.org]] and [[https://test.org/][test.org]]
# https://example.com/@test and https://example.com/@test
# [[https://example.com/@test][example.com]] and [[https://example.com/@test][example.com]]
# (http://en.wikipedia.org/wiki/Pi_%28instrument%29)
# ([[http://en.wikipedia.org/wiki/Pi_%28instrument%29][en.wikipedia.org]])
# (http://en.wikipedia.org?test=1)
# ([[http://en.wikipedia.org?test=1][en.wikipedia.org]])
# (http://en.wikipedia.org?test=1&test=2) (http://en.wikipedia.org/test?test=1)
# ([[http://en.wikipedia.org?test=1&test=2][en.wikipedia.org]]) ([[http://en.wikipedia.org/test?test=1][en.wikipedia.org]])
t/links.t ............. ok
t/manifest.t .......... skipped: Author tests not required for installation
t/memory-cycles.t ..... ok
t/nbsp.t .............. ok
# Infile is /tmp/SeI2_z2sw4/input.txt
# Using /tmp/uTDbEMc7DU as temporary dir
t/object.t ............ ok
t/pod-coverage.t ...... skipped: Pod coverage not required for installation
t/pod.t ............... skipped: Pod test not required for installation
t/russian.t ........... ok
t/subs.t .............. ok
t/typography.t ........ ok
All tests successful.
Files=22, Tests=481,  3 wallclock secs ( 0.10 usr  0.03 sys +  2.32 cusr  0.52 csys =  2.97 CPU)
Result: PASS

------------------------------
PREREQUISITES
------------------------------

Prerequisite modules loaded:

requires:

    Module              Need Have    
    ------------------- ---- --------
    HTML::PullParser    0    3.83    
    IO::HTML            1    1.004   
    Pod::Simple::Wiki   0.19 0.20    
    Text::Amuse         0.95 1.83    
    Text::Diff          0    1.45    

build_requires:

    Module              Need Have    
    ------------------- ---- --------
    Test::More          0    1.302209

configure_requires:

    Module              Need Have    
    ------------------- ---- --------
    ExtUtils::MakeMaker 0    7.70    


------------------------------
ENVIRONMENT AND OTHER CONTEXT
------------------------------

Environment variables:

    AUTOMATED_TESTING = 1
    LANG = en_US.UTF-8
    LC_ADDRESS = de_DE.UTF-8
    LC_IDENTIFICATION = de_DE.UTF-8
    LC_MEASUREMENT = de_DE.UTF-8
    LC_MONETARY = de_DE.UTF-8
    LC_NAME = de_DE.UTF-8
    LC_NUMERIC = de_DE.UTF-8
    LC_PAPER = de_DE.UTF-8
    LC_TELEPHONE = de_DE.UTF-8
    LC_TIME = de_DE.UTF-8
    PATH = /home/sand/bin:/usr/local/bin:/usr/local/sbin:/usr/sbin:/usr/bin:/sbin:/bin:/usr/games:/usr/local/games:/snap/bin:/usr/local/perl/bin:/usr/X11/bin
    PERL = /tmp/basesmoker-reloperl-XOnw/bin/perl
    PERL5LIB = /tmp/loop_over_bdir-2189-wDOunq/Lingua-BioYaTeA-0.11-0/blib/arch:/tmp/loop_over_bdir-2189-wDOunq/Lingua-BioYaTeA-0.11-0/blib/lib:/tmp/loop_over_bdir-2189-wDOunq/Lingua-YaTeA-0.626-0/blib/arch:/tmp/loop_over_bdir-2189-wDOunq/Lingua-YaTeA-0.626-0/blib/lib:/tmp/loop_over_bdir-2189-wDOunq/makepp-1.19-0/blib/arch:/tmp/loop_over_bdir-2189-wDOunq/makepp-1.19-0/blib/lib:/tmp/loop_over_bdir-2189-wDOunq/Module-ScanDeps-Static-1.7.2-0/blib/arch:/tmp/loop_over_bdir-2189-wDOunq/Module-ScanDeps-Static-1.7.2-0/blib/lib:/tmp/loop_over_bdir-2189-wDOunq/App-nrun-v1.1.2-0/blib/arch:/tmp/loop_over_bdir-2189-wDOunq/App-nrun-v1.1.2-0/blib/lib:/tmp/loop_over_bdir-2189-wDOunq/dta-tokwrap-0.98-0/blib/arch:/tmp/loop_over_bdir-2189-wDOunq/dta-tokwrap-0.98-0/blib/lib:/tmp/loop_over_bdir-2189-wDOunq/AllKnowingDNS-1.7-0/blib/arch:/tmp/loop_over_bdir-2189-wDOunq/AllKnowingDNS-1.7-0/blib/lib:/tmp/loop_over_bdir-2189-wDOunq/Devel-Required-0.16-0/blib/arch:/tmp/loop_over_bdir-2189-wDOunq/Devel-Required-0.16-0/blib/lib:/tmp/loop_over_bdir-2189-wDOunq/EJBCA-CrlPublish-0.60-0/blib/arch:/tmp/loop_over_bdir-2189-wDOunq/EJBCA-CrlPublish-0.60-0/blib/lib:/tmp/loop_over_bdir-2189-wDOunq/CORBA-Python-2.66-0/blib/arch:/tmp/loop_over_bdir-2189-wDOunq/CORBA-Python-2.66-0/blib/lib
    PERL5OPT = 
    PERL5_CPANPLUS_IS_RUNNING = 2197
    PERL5_CPAN_IS_RUNNING = 2197
    PERL_CANARY_STABILITY_NOPROMPT = 1
    PERL_MM_USE_DEFAULT = 1
    PERL_USE_UNSAFE_INC = 1
    SHELL = /usr/bin/zsh
    TERM = screen

Perl special variables (and OS-specific diagnostics, for MSWin32):

    $^X = /tmp/basesmoker-reloperl-XOnw/bin/perl
    $UID/$EUID = 1005 / 1005
    $GID = 1005 1005
    $EGID = 1005 1005

Perl module toolchain versions installed:

    Module              Have    
    ------------------- --------
    CPAN                2.38    
    CPAN::Meta          2.150010
    Cwd                 3.92    
    ExtUtils::CBuilder  0.280240
    ExtUtils::Command   7.70    
    ExtUtils::Install   2.22    
    ExtUtils::MakeMaker 7.70    
    ExtUtils::Manifest  1.75    
    ExtUtils::ParseXS   3.57    
    File::Spec          3.93    
    JSON                4.10    
    JSON::PP            4.16    
    Module::Build       0.4234  
    Module::Signature   0.89    
    Parse::CPAN::Meta   2.150010
    Test2               1.302209
    Test::Harness       3.50    
    Test::More          1.302209
    YAML                1.31    
    YAML::Syck          1.34    
    version             0.9933  


--

Summary of my perl5 (revision 5 version 41 subversion 9) configuration:
  Commit id: b6969eb9f23724dcbb888d791d31c4708dabc85c
  Platform:
    osname=linux
    osvers=6.8.0-50-generic
    archname=x86_64-linux-thread-multi-ld
    uname='linux k93jammy 6.8.0-50-generic #51~22.04.1-ubuntu smp preempt_dynamic thu nov 21 12:03:03 utc 2 x86_64 x86_64 x86_64 gnulinux '
    config_args='-Dprefix=/home/sand/src/perl/repoperls/installed-perls/host/k93jammy/v5.41.9/322f -Dmyhostname=k93jammy -Dinstallusrbinperl=n -Uversiononly -Dusedevel -des -Ui_db -Dlibswanted=cl pthread socket inet nsl gdbm dbm malloc dl ld sun m crypt sec util c cposix posix ucb BSD gdbm_compat -Duseithreads -Duselongdouble -DEBUGGING=-g'
    hint=recommended
    useposix=true
    d_sigaction=define
    useithreads=define
    usemultiplicity=define
    use64bitint=define
    use64bitall=define
    uselongdouble=define
    usemymalloc=n
    default_inc_excludes_dot=define
  Compiler:
    cc='cc'
    ccflags ='-D_REENTRANT -D_GNU_SOURCE -fwrapv -fno-strict-aliasing -pipe -fstack-protector-strong -I/usr/local/include -D_LARGEFILE_SOURCE -D_FILE_OFFSET_BITS=64'
    optimize='-O2 -g'
    cppflags='-D_REENTRANT -D_GNU_SOURCE -fwrapv -fno-strict-aliasing -pipe -fstack-protector-strong -I/usr/local/include'
    ccversion=''
    gccversion='11.4.0'
    gccosandvers=''
    intsize=4
    longsize=8
    ptrsize=8
    doublesize=8
    byteorder=12345678
    doublekind=3
    d_longlong=define
    longlongsize=8
    d_longdbl=define
    longdblsize=16
    longdblkind=3
    ivtype='long'
    ivsize=8
    nvtype='long double'
    nvsize=16
    Off_t='off_t'
    lseeksize=8
    alignbytes=16
    prototype=define
  Linker and Libraries:
    ld='cc'
    ldflags =' -fstack-protector-strong -L/usr/local/lib'
    libpth=/usr/local/lib /usr/lib/x86_64-linux-gnu /usr/lib /usr/lib64
    libs=-lpthread -lnsl -ldl -lm -lcrypt -lutil -lc
    perllibs=-lpthread -lnsl -ldl -lm -lcrypt -lutil -lc
    libc=/lib/x86_64-linux-gnu/libc.so.6
    so=so
    useshrplib=false
    libperl=libperl.a
    gnulibc_version='2.35'
  Dynamic Linking:
    dlsrc=dl_dlopen.xs
    dlext=so
    d_dlsymun=undef
    ccdlflags='-Wl,-E'
    cccdlflags='-fPIC'
    lddlflags='-shared -O2 -g -L/usr/local/lib -fstack-protector-strong'


Characteristics of this binary (from libperl): 
  Compile-time options:
    HAS_LONG_DOUBLE
    HAS_STRTOLD
    HAS_TIMES
    MULTIPLICITY
    PERLIO_LAYERS
    PERL_COPY_ON_WRITE
    PERL_DONT_CREATE_GVSV
    PERL_HASH_FUNC_SIPHASH13
    PERL_HASH_USE_SBOX32
    PERL_MALLOC_WRAP
    PERL_OP_PARENT
    PERL_PRESERVE_IVUV
    PERL_USE_DEVEL
    PERL_USE_SAFE_PUTENV
    USE_64_BIT_ALL
    USE_64_BIT_INT
    USE_ITHREADS
    USE_LARGE_FILES
    USE_LOCALE
    USE_LOCALE_COLLATE
    USE_LOCALE_CTYPE
    USE_LOCALE_NUMERIC
    USE_LOCALE_TIME
    USE_LONG_DOUBLE
    USE_PERLIO
    USE_PERL_ATOF
    USE_REENTRANT_API
    USE_THREAD_SAFE_LOCALE
  Built under linux
  Compiled at Feb 24 2025 11:27:01
  %ENV:
    PERL="/tmp/basesmoker-reloperl-XOnw/bin/perl"
    PERL5LIB="/tmp/loop_over_bdir-2189-wDOunq/Lingua-BioYaTeA-0.11-0/blib/arch:/tmp/loop_over_bdir-2189-wDOunq/Lingua-BioYaTeA-0.11-0/blib/lib:/tmp/loop_over_bdir-2189-wDOunq/Lingua-YaTeA-0.626-0/blib/arch:/tmp/loop_over_bdir-2189-wDOunq/Lingua-YaTeA-0.626-0/blib/lib:/tmp/loop_over_bdir-2189-wDOunq/makepp-1.19-0/blib/arch:/tmp/loop_over_bdir-2189-wDOunq/makepp-1.19-0/blib/lib:/tmp/loop_over_bdir-2189-wDOunq/Module-ScanDeps-Static-1.7.2-0/blib/arch:/tmp/loop_over_bdir-2189-wDOunq/Module-ScanDeps-Static-1.7.2-0/blib/lib:/tmp/loop_over_bdir-2189-wDOunq/App-nrun-v1.1.2-0/blib/arch:/tmp/loop_over_bdir-2189-wDOunq/App-nrun-v1.1.2-0/blib/lib:/tmp/loop_over_bdir-2189-wDOunq/dta-tokwrap-0.98-0/blib/arch:/tmp/loop_over_bdir-2189-wDOunq/dta-tokwrap-0.98-0/blib/lib:/tmp/loop_over_bdir-2189-wDOunq/AllKnowingDNS-1.7-0/blib/arch:/tmp/loop_over_bdir-2189-wDOunq/AllKnowingDNS-1.7-0/blib/lib:/tmp/loop_over_bdir-2189-wDOunq/Devel-Required-0.16-0/blib/arch:/tmp/loop_over_bdir-2189-wDOunq/Devel-Required-0.16-0/blib/lib:/tmp/loop_over_bdir-2189-wDOunq/EJBCA-CrlPublish-0.60-0/blib/arch:/tmp/loop_over_bdir-2189-wDOunq/EJBCA-CrlPublish-0.60-0/blib/lib:/tmp/loop_over_bdir-2189-wDOunq/CORBA-Python-2.66-0/blib/arch:/tmp/loop_over_bdir-2189-wDOunq/CORBA-Python-2.66-0/blib/lib"
    PERL5OPT=""
    PERL5_CPANPLUS_IS_RUNNING="2197"
    PERL5_CPAN_IS_RUNNING="2197"
    PERL_CANARY_STABILITY_NOPROMPT="1"
    PERL_MM_USE_DEFAULT="1"
    PERL_USE_UNSAFE_INC="1"
  @INC:
    /tmp/loop_over_bdir-2189-wDOunq/Lingua-BioYaTeA-0.11-0/blib/arch
    /tmp/loop_over_bdir-2189-wDOunq/Lingua-BioYaTeA-0.11-0/blib/lib
    /tmp/loop_over_bdir-2189-wDOunq/Lingua-YaTeA-0.626-0/blib/arch
    /tmp/loop_over_bdir-2189-wDOunq/Lingua-YaTeA-0.626-0/blib/lib
    /tmp/loop_over_bdir-2189-wDOunq/makepp-1.19-0/blib/arch
    /tmp/loop_over_bdir-2189-wDOunq/makepp-1.19-0/blib/lib
    /tmp/loop_over_bdir-2189-wDOunq/Module-ScanDeps-Static-1.7.2-0/blib/arch
    /tmp/loop_over_bdir-2189-wDOunq/Module-ScanDeps-Static-1.7.2-0/blib/lib
    /tmp/loop_over_bdir-2189-wDOunq/App-nrun-v1.1.2-0/blib/arch
    /tmp/loop_over_bdir-2189-wDOunq/App-nrun-v1.1.2-0/blib/lib
    /tmp/loop_over_bdir-2189-wDOunq/dta-tokwrap-0.98-0/blib/arch
    /tmp/loop_over_bdir-2189-wDOunq/dta-tokwrap-0.98-0/blib/lib
    /tmp/loop_over_bdir-2189-wDOunq/AllKnowingDNS-1.7-0/blib/arch
    /tmp/loop_over_bdir-2189-wDOunq/AllKnowingDNS-1.7-0/blib/lib
    /tmp/loop_over_bdir-2189-wDOunq/Devel-Required-0.16-0/blib/arch
    /tmp/loop_over_bdir-2189-wDOunq/Devel-Required-0.16-0/blib/lib
    /tmp/loop_over_bdir-2189-wDOunq/EJBCA-CrlPublish-0.60-0/blib/arch
    /tmp/loop_over_bdir-2189-wDOunq/EJBCA-CrlPublish-0.60-0/blib/lib
    /tmp/loop_over_bdir-2189-wDOunq/CORBA-Python-2.66-0/blib/arch
    /tmp/loop_over_bdir-2189-wDOunq/CORBA-Python-2.66-0/blib/lib
    /home/sand/src/perl/repoperls/installed-perls/host/k93jammy/v5.41.9/322f/lib/site_perl/5.41.9/x86_64-linux-thread-multi-ld
    /home/sand/src/perl/repoperls/installed-perls/host/k93jammy/v5.41.9/322f/lib/site_perl/5.41.9
    /home/sand/src/perl/repoperls/installed-perls/host/k93jammy/v5.41.9/322f/lib/5.41.9/x86_64-linux-thread-multi-ld
    /home/sand/src/perl/repoperls/installed-perls/host/k93jammy/v5.41.9/322f/lib/5.41.9
    .