AnyEvent v7.17 Perl 5 v5.40.0 darwin-2level
- Status
- Pass
- From
- John SJ Anderson
- Dist
-
AnyEvent v7.17
- Platform
- Perl 5 v5.40.0 darwin-2level
- Date
- 2024-06-18 19:11:43
- ID
- 99b936ac-2da6-11ef-a93d-f7d98c02d82a
This distribution has been tested as part of the CPAN Testers
project, supporting the Perl programming language. See
http://wiki.cpantesters.org/ for more information or email
questions to cpan-testers-discuss@perl.org
--
Dear MLEHMANN,
This is a computer-generated report for AnyEvent-7.17
on perl 5.40.0, created by App::cpanminus::reporter 0.21 (1.7047).
Thank you for uploading your work to CPAN. Congratulations!
All tests were successful.
Sections of this report:
* Tester comments
* Program output
* Prerequisites
* Environment and other context
------------------------------
TESTER COMMENTS
------------------------------
Additional comments from tester:
none provided
------------------------------
PROGRAM OUTPUT
------------------------------
Output from '':
Building and testing AnyEvent-7.17
cp lib/AnyEvent/Impl/IOAsync.pm blib/lib/AnyEvent/Impl/IOAsync.pm
cp lib/AnyEvent/TLS.pm blib/lib/AnyEvent/TLS.pm
cp lib/AnyEvent/Util.pm blib/lib/AnyEvent/Util.pm
cp lib/AnyEvent/Impl/Perl.pm blib/lib/AnyEvent/Impl/Perl.pm
cp lib/AnyEvent/Handle.pm blib/lib/AnyEvent/Handle.pm
cp lib/AnyEvent/Util/uts46data.pl blib/lib/AnyEvent/Util/uts46data.pl
cp lib/AnyEvent/DNS.pm blib/lib/AnyEvent/DNS.pm
cp lib/AnyEvent/Strict.pm blib/lib/AnyEvent/Strict.pm
cp lib/AnyEvent/Util/idna.pl blib/lib/AnyEvent/Util/idna.pl
cp lib/AnyEvent/Impl/Cocoa.pm blib/lib/AnyEvent/Impl/Cocoa.pm
cp lib/AnyEvent/Impl/EV.pm blib/lib/AnyEvent/Impl/EV.pm
cp lib/AnyEvent/IO/IOAIO.pm blib/lib/AnyEvent/IO/IOAIO.pm
cp lib/AE.pm blib/lib/AE.pm
cp lib/AnyEvent/Intro.pod blib/lib/AnyEvent/Intro.pod
cp lib/AnyEvent/Impl/POE.pm blib/lib/AnyEvent/Impl/POE.pm
cp lib/AnyEvent/IO.pm blib/lib/AnyEvent/IO.pm
cp lib/AnyEvent/Impl/Qt.pm blib/lib/AnyEvent/Impl/Qt.pm
cp lib/AnyEvent/Loop.pm blib/lib/AnyEvent/Loop.pm
cp lib/AnyEvent/Socket.pm blib/lib/AnyEvent/Socket.pm
cp lib/AnyEvent/constants.pl blib/arch/AnyEvent/constants.pl
cp lib/AnyEvent/Impl/Event.pm blib/lib/AnyEvent/Impl/Event.pm
cp lib/AnyEvent/Debug.pm blib/lib/AnyEvent/Debug.pm
cp lib/AnyEvent/Impl/Tk.pm blib/lib/AnyEvent/Impl/Tk.pm
cp lib/AnyEvent/Impl/Irssi.pm blib/lib/AnyEvent/Impl/Irssi.pm
cp lib/AnyEvent/IO/Perl.pm blib/lib/AnyEvent/IO/Perl.pm
cp lib/AnyEvent/Impl/EventLib.pm blib/lib/AnyEvent/Impl/EventLib.pm
cp lib/AnyEvent/Log.pm blib/lib/AnyEvent/Log.pm
cp lib/AnyEvent/FAQ.pod blib/lib/AnyEvent/FAQ.pod
cp lib/AnyEvent/Impl/Glib.pm blib/lib/AnyEvent/Impl/Glib.pm
cp lib/AnyEvent/Impl/FLTK.pm blib/lib/AnyEvent/Impl/FLTK.pm
cp lib/AnyEvent/Impl/UV.pm blib/lib/AnyEvent/Impl/UV.pm
cp lib/AnyEvent.pm blib/lib/AnyEvent.pm
"/opt/plenv/versions/5.40.0/bin/perl5.40.0" "-Iblib/arch" "-Iblib/lib" constants.pl.PL constants.pl
"/opt/plenv/versions/5.40.0/bin/perl5.40.0" "-Iblib/arch" "-Iblib/lib" constants.pl.PL constants.pl
PERL_DL_NONLAZY=1 "/opt/plenv/versions/5.40.0/bin/perl5.40.0" "-MExtUtils::Command::MM" "-MTest::Harness" "-e" "undef *Test::Harness::Switches; test_harness(0, 'blib/lib', 'blib/arch')" t/*.t t/handle/*.t
t/00_load.t ................ ok
t/01_basic.t ............... ok
t/02_signals.t ............. ok
t/03_child.t ............... ok
t/04_condvar.t ............. ok
t/05_dns.t ................. ok
t/06_socket.t .............. ok
t/07_io.t .................. ok
t/08_idna.t ................ ok
t/09_multi.t ............... ok
t/10_loadall.t ............. ok
t/11_io_perl.t ............. ok
t/12_io_ioaio.t ............ skipped: AnyEvent::IO::IOAIO not loadable
t/13_weaken.t .............. ok
t/61_fltk_01_basic.t ....... skipped: PERL_ANYEVENT_LOOP_TESTS not true
t/61_fltk_02_signals.t ..... skipped: PERL_ANYEVENT_LOOP_TESTS not true
t/61_fltk_03_child.t ....... skipped: PERL_ANYEVENT_LOOP_TESTS not true
t/61_fltk_04_condvar.t ..... skipped: PERL_ANYEVENT_LOOP_TESTS not true
t/61_fltk_05_dns.t ......... skipped: PERL_ANYEVENT_LOOP_TESTS not true
t/61_fltk_07_io.t .......... skipped: PERL_ANYEVENT_LOOP_TESTS not true
t/61_fltk_09_multi.t ....... skipped: PERL_ANYEVENT_LOOP_TESTS not true
t/62_cocoa_01_basic.t ...... skipped: PERL_ANYEVENT_LOOP_TESTS not true
t/62_cocoa_02_signals.t .... skipped: PERL_ANYEVENT_LOOP_TESTS not true
t/62_cocoa_03_child.t ...... skipped: PERL_ANYEVENT_LOOP_TESTS not true
t/62_cocoa_04_condvar.t .... skipped: PERL_ANYEVENT_LOOP_TESTS not true
t/62_cocoa_05_dns.t ........ skipped: PERL_ANYEVENT_LOOP_TESTS not true
t/62_cocoa_07_io.t ......... skipped: PERL_ANYEVENT_LOOP_TESTS not true
t/62_cocoa_09_multi.t ...... skipped: PERL_ANYEVENT_LOOP_TESTS not true
t/64_glib_01_basic.t ....... skipped: PERL_ANYEVENT_LOOP_TESTS not true
t/64_glib_02_signals.t ..... skipped: PERL_ANYEVENT_LOOP_TESTS not true
t/64_glib_03_child.t ....... skipped: PERL_ANYEVENT_LOOP_TESTS not true
t/64_glib_04_condvar.t ..... skipped: PERL_ANYEVENT_LOOP_TESTS not true
t/64_glib_05_dns.t ......... skipped: PERL_ANYEVENT_LOOP_TESTS not true
t/64_glib_07_io.t .......... skipped: PERL_ANYEVENT_LOOP_TESTS not true
t/64_glib_09_multi.t ....... skipped: PERL_ANYEVENT_LOOP_TESTS not true
t/65_event_01_basic.t ...... skipped: PERL_ANYEVENT_LOOP_TESTS not true
t/65_event_02_signals.t .... skipped: PERL_ANYEVENT_LOOP_TESTS not true
t/65_event_03_child.t ...... skipped: PERL_ANYEVENT_LOOP_TESTS not true
t/65_event_04_condvar.t .... skipped: PERL_ANYEVENT_LOOP_TESTS not true
t/65_event_05_dns.t ........ skipped: PERL_ANYEVENT_LOOP_TESTS not true
t/65_event_07_io.t ......... skipped: PERL_ANYEVENT_LOOP_TESTS not true
t/65_event_09_multi.t ...... skipped: PERL_ANYEVENT_LOOP_TESTS not true
t/66_ioasync_01_basic.t .... skipped: PERL_ANYEVENT_LOOP_TESTS not true
t/66_ioasync_02_signals.t .. skipped: PERL_ANYEVENT_LOOP_TESTS not true
t/66_ioasync_03_child.t .... skipped: PERL_ANYEVENT_LOOP_TESTS not true
t/66_ioasync_04_condvar.t .. skipped: PERL_ANYEVENT_LOOP_TESTS not true
t/66_ioasync_05_dns.t ...... skipped: PERL_ANYEVENT_LOOP_TESTS not true
t/66_ioasync_07_io.t ....... skipped: PERL_ANYEVENT_LOOP_TESTS not true
t/66_ioasync_09_multi.t .... skipped: PERL_ANYEVENT_LOOP_TESTS not true
t/67_tk_01_basic.t ......... skipped: PERL_ANYEVENT_LOOP_TESTS not true
t/67_tk_02_signals.t ....... skipped: PERL_ANYEVENT_LOOP_TESTS not true
t/67_tk_03_child.t ......... skipped: PERL_ANYEVENT_LOOP_TESTS not true
t/67_tk_04_condvar.t ....... skipped: PERL_ANYEVENT_LOOP_TESTS not true
t/67_tk_05_dns.t ........... skipped: PERL_ANYEVENT_LOOP_TESTS not true
t/67_tk_07_io.t ............ skipped: PERL_ANYEVENT_LOOP_TESTS not true
t/67_tk_09_multi.t ......... skipped: PERL_ANYEVENT_LOOP_TESTS not true
t/68_poe_01_basic.t ........ skipped: PERL_ANYEVENT_LOOP_TESTS not true
t/68_poe_02_signals.t ...... skipped: PERL_ANYEVENT_LOOP_TESTS not true
t/68_poe_03_child.t ........ skipped: PERL_ANYEVENT_LOOP_TESTS not true
t/68_poe_04_condvar.t ...... skipped: PERL_ANYEVENT_LOOP_TESTS not true
t/68_poe_05_dns.t .......... skipped: PERL_ANYEVENT_LOOP_TESTS not true
t/68_poe_07_io.t ........... skipped: PERL_ANYEVENT_LOOP_TESTS not true
t/68_poe_09_multi.t ........ skipped: PERL_ANYEVENT_LOOP_TESTS not true
t/69_ev_01_basic.t ......... skipped: PERL_ANYEVENT_LOOP_TESTS not true
t/69_ev_02_signals.t ....... skipped: PERL_ANYEVENT_LOOP_TESTS not true
t/69_ev_03_child.t ......... skipped: PERL_ANYEVENT_LOOP_TESTS not true
t/69_ev_04_condvar.t ....... skipped: PERL_ANYEVENT_LOOP_TESTS not true
t/69_ev_05_dns.t ........... skipped: PERL_ANYEVENT_LOOP_TESTS not true
t/69_ev_07_io.t ............ skipped: PERL_ANYEVENT_LOOP_TESTS not true
t/69_ev_09_multi.t ......... skipped: PERL_ANYEVENT_LOOP_TESTS not true
t/70_uv_01_basic.t ......... skipped: PERL_ANYEVENT_LOOP_TESTS not true
t/70_uv_02_signals.t ....... skipped: PERL_ANYEVENT_LOOP_TESTS not true
t/70_uv_03_child.t ......... skipped: PERL_ANYEVENT_LOOP_TESTS not true
t/70_uv_04_condvar.t ....... skipped: PERL_ANYEVENT_LOOP_TESTS not true
t/70_uv_05_dns.t ........... skipped: PERL_ANYEVENT_LOOP_TESTS not true
t/70_uv_07_io.t ............ skipped: PERL_ANYEVENT_LOOP_TESTS not true
t/70_uv_09_multi.t ......... skipped: PERL_ANYEVENT_LOOP_TESTS not true
t/80_ssltest.t ............. ok
t/81_hosts.t ............... ok
t/handle/01_readline.t ..... ok
t/handle/02_write.t ........ ok
t/handle/03_http_req.t ..... skipped: PERL_ANYEVENT_NET_TESTS environment variable not set
t/handle/04_listen.t ....... ok
All tests successful.
Files=83, Tests=672, 4 wallclock secs ( 0.14 usr 0.11 sys + 1.30 cusr 0.32 csys = 1.87 CPU)
Result: PASS
------------------------------
PREREQUISITES
------------------------------
Prerequisite modules loaded:
build:
Module Need Have
------------------- ---- ----
ExtUtils::MakeMaker 0 7.70
configure:
Module Need Have
------------------- ---- ----
Canary::Stability 0 2013
ExtUtils::MakeMaker 6.52 7.70
------------------------------
ENVIRONMENT AND OTHER CONTEXT
------------------------------
Environment variables:
LANG = en_US.UTF-8
LC_ALL = en_US.UTF-8
LC_COLLATE = en_US.UTF-8
LC_MESSAGES = en_US.UTF-8
LC_MONETARY = en_US.UTF-8
LC_NUMERIC = en_US.UTF-8
PATH = /opt/plenv/versions/5.40.0/bin:/opt/plenv/libexec:/opt/plenv/plugins/Perl-Build/bin:/opt/nvm/versions/node/v22.2.0/bin:/Users/genehack/bin:/opt/rbenv/shims:/opt/plenv/shims:/opt/plenv/bin:/opt/nextstrain:/opt/vim/bin:/opt/git/bin:/opt/local/bin:/usr/local/bin:/usr/local/sbin:/usr/bin:/bin:/usr/sbin:/sbin:/usr/local/opt/fzf/bin/
PERL_CPANM_OPT = --skip-installed --prompt
SHELL = /bin/zsh
TERM = screen-256color
TMPDIR = /var/folders/91/jjmr4sms7fz9s27f3_9glhb80000gn/T/
Perl special variables (and OS-specific diagnostics, for MSWin32):
EGID = 20 20 12 61 79 80 81 98 701 33 100 204 250 395 398 399 400
EUID = 501
EXECUTABLE_NAME = /opt/plenv/versions/5.40.0/bin/perl5.40.0
GID = 20 20 12 61 79 80 81 98 701 33 100 204 250 395 398 399 400
UID = 501
Perl module toolchain versions installed:
Module Have
------------------- --------
CPAN 2.36
CPAN::Meta 2.150010
Cwd 3.90
ExtUtils::CBuilder 0.280240
ExtUtils::Command 7.70
ExtUtils::Install 2.22
ExtUtils::MakeMaker 7.70
ExtUtils::Manifest 1.75
ExtUtils::ParseXS 3.51
File::Spec 3.90
JSON 4.10
JSON::PP 4.16
Module::Build 0.4234
Module::Signature n/a
Parse::CPAN::Meta 2.150010
Test::Harness 3.48
Test::More 1.302199
YAML 1.31
YAML::Syck n/a
version 0.9932
--
Summary of my perl5 (revision 5 version 40 subversion 0) configuration:
Platform:
osname=darwin
osvers=23.5.0
archname=darwin-2level
uname='darwin bigjob.home.genehack.org 23.5.0 darwin kernel version 23.5.0: wed may 1 20:09:52 pdt 2024; root:xnu-10063.121.3~5release_x86_64 x86_64 i386 macmini8,1 darwin '
config_args='-Dprefix=/opt/plenv/versions/5.40.0 -de -Dversiononly -A'eval:scriptdir=/opt/plenv/versions/5.40.0/bin''
hint=recommended
useposix=true
d_sigaction=define
useithreads=undef
usemultiplicity=undef
use64bitint=define
use64bitall=define
uselongdouble=undef
usemymalloc=n
default_inc_excludes_dot=define
Compiler:
cc='cc'
ccflags ='-fno-common -DPERL_DARWIN -mmacosx-version-min=14.5 -DNO_THREAD_SAFE_QUERYLOCALE -DNO_POSIX_2008_LOCALE -fno-strict-aliasing -pipe -fstack-protector-strong -I/usr/local/include'
optimize='-O3'
cppflags='-fno-common -DPERL_DARWIN -mmacosx-version-min=14.5 -DNO_THREAD_SAFE_QUERYLOCALE -DNO_POSIX_2008_LOCALE -fno-strict-aliasing -pipe -fstack-protector-strong -I/usr/local/include'
ccversion=''
gccversion='Apple LLVM 15.0.0 (clang-1500.3.9.4)'
gccosandvers=''
intsize=4
longsize=8
ptrsize=8
doublesize=8
byteorder=12345678
doublekind=3
d_longlong=define
longlongsize=8
d_longdbl=define
longdblsize=16
longdblkind=3
ivtype='long'
ivsize=8
nvtype='double'
nvsize=8
Off_t='off_t'
lseeksize=8
alignbytes=8
prototype=define
Linker and Libraries:
ld='cc'
ldflags =' -mmacosx-version-min=14.5 -fstack-protector-strong -L/usr/local/lib'
libpth=/usr/local/lib /Applications/Xcode.app/Contents/Developer/Toolchains/XcodeDefault.xctoolchain/usr/lib/clang/15.0.0/lib /Applications/Xcode.app/Contents/Developer/Platforms/MacOSX.platform/Developer/SDKs/MacOSX.sdk/usr/lib /Applications/Xcode.app/Contents/Developer/Toolchains/XcodeDefault.xctoolchain/usr/lib /usr/lib
libs=
perllibs=
libc=
so=dylib
useshrplib=false
libperl=libperl.a
gnulibc_version=''
Dynamic Linking:
dlsrc=dl_dlopen.xs
dlext=bundle
d_dlsymun=undef
ccdlflags=' '
cccdlflags=' '
lddlflags=' -mmacosx-version-min=14.5 -bundle -undefined dynamic_lookup -L/usr/local/lib -fstack-protector-strong'
Characteristics of this binary (from libperl):
Compile-time options:
HAS_LONG_DOUBLE
HAS_STRTOLD
HAS_TIMES
PERLIO_LAYERS
PERL_COPY_ON_WRITE
PERL_DONT_CREATE_GVSV
PERL_HASH_FUNC_SIPHASH13
PERL_HASH_USE_SBOX32
PERL_MALLOC_WRAP
PERL_OP_PARENT
PERL_PRESERVE_IVUV
PERL_USE_SAFE_PUTENV
USE_64_BIT_ALL
USE_64_BIT_INT
USE_LARGE_FILES
USE_LOCALE
USE_LOCALE_COLLATE
USE_LOCALE_CTYPE
USE_LOCALE_NUMERIC
USE_LOCALE_TIME
USE_PERLIO
USE_PERL_ATOF
Built under darwin
Compiled at Jun 9 2024 21:34:46
%ENV:
PERL_CPANM_OPT="--skip-installed --prompt"
@INC:
/opt/plenv/versions/5.40.0/lib/perl5/site_perl/5.40.0/darwin-2level
/opt/plenv/versions/5.40.0/lib/perl5/site_perl/5.40.0
/opt/plenv/versions/5.40.0/lib/perl5/5.40.0/darwin-2level
/opt/plenv/versions/5.40.0/lib/perl5/5.40.0