WebService-Bitcoin-BTCe v0.001 Perl 5 v5.27.3 x86_64-linux
- Status
- Pass
- From
- Slaven Rezić (SREZIC)
- Dist
-
WebService-Bitcoin-BTCe v0.001
- Platform
- Perl 5 v5.27.3 x86_64-linux
- Date
- 2017-08-24 07:55:30
- ID
- 996ee9be-88a1-11e7-a1bd-8b39ad2a7d10
This distribution has been tested as part of the CPAN Testers
project, supporting the Perl programming language. See
http://wiki.cpantesters.org/ for more information or email
questions to cpan-testers-discuss@perl.org
--
Dear Tom Molesworth,
This is a computer-generated report for WebService-Bitcoin-BTCe-0.001
on perl 5.27.3, created by CPAN-Reporter-1.2018.
Thank you for uploading your work to CPAN. Congratulations!
All tests were successful.
Sections of this report:
* Tester comments
* Program output
* Prerequisites
* Environment and other context
------------------------------
TESTER COMMENTS
------------------------------
Additional comments from tester:
none provided
------------------------------
PROGRAM OUTPUT
------------------------------
Output from '/usr/bin/make test':
PERL_DL_NONLAZY=1 "/opt/perl-5.27.3/bin/perl5.27.3" "-MExtUtils::Command::MM" "-MTest::Harness" "-e" "undef *Test::Harness::Switches; test_harness(0, 'blib/lib', 'blib/arch')" t/*.t
t/00-check-deps.t ............. ok
t/00-compile.t ................ ok
#
#
# Generated by Dist::Zilla::Plugin::ReportVersions::Tiny v1.10
# perl: 5.027003 (wanted 5.012000) on linux from /opt/perl-5.27.3/bin/perl5.27.3
#
# Digest::SHA => 5.96 (want any version)
# ExtUtils::MakeMaker => 7.3 (want 6.48)
# File::Spec => 3.62 (want any version)
# Future => 0.35 (want 0.30)
# HTTP::Request => 6.13 (want any version)
# IO::Handle => 1.36 (want any version)
# IPC::Open3 => 1.20 (want any version)
# JSON::MaybeXS => 1.003009 (want any version)
# List::Util => 1.48 (want 1.41)
# List::UtilsBy => 0.10 (want any version)
# Log::Any => 1.049 (want any version)
# Test::CheckDeps => 0.010 (want 0.010)
# Test::Fatal => 0.014 (want 0.010)
# Test::More => 1.302086 (want 0.98)
# Variable::Disposition => 0.004 (want 0.004)
# WebService::Async::UserAgent => 0.006 (want 0.003)
# parent => 0.236 (want any version)
#
# Thanks for using my code. I hope it works for you.
# If not, please try and include this output in the bug report.
# That will help me reproduce the issue and solve your problem.
#
t/000-report-versions-tiny.t .. ok
All tests successful.
Files=3, Tests=21, 0 wallclock secs ( 0.02 usr 0.01 sys + 0.25 cusr 0.04 csys = 0.32 CPU)
Result: PASS
------------------------------
PREREQUISITES
------------------------------
Prerequisite modules loaded:
requires:
Module Need Have
---------------------------- -------- --------
Digest::SHA 0 5.96
Future 0.30 0.35
HTTP::Request 0 6.13
JSON::MaybeXS 0 1.003009
List::Util 1.41 1.48
List::UtilsBy 0 0.10
Log::Any 0 1.049
parent 0 0.236
perl 5.012000 5.027003
Variable::Disposition 0.004 0.004
WebService::Async::UserAgent 0.003 0.006
build_requires:
Module Need Have
---------------------------- -------- --------
ExtUtils::MakeMaker 0 7.30
File::Spec 0 3.62
IO::Handle 0 1.36
IPC::Open3 0 1.20
Test::CheckDeps 0.010 0.010
Test::Fatal 0.010 0.014
Test::More 0.98 1.302086
configure_requires:
Module Need Have
---------------------------- -------- --------
ExtUtils::MakeMaker 6.48 7.30
------------------------------
ENVIRONMENT AND OTHER CONTEXT
------------------------------
Environment variables:
LANG = C
LC_ALL = de_DE.UTF-8
PATH = /usr/local/bin:/usr/bin:/bin:/usr/local/sbin:/usr/sbin:/sbin:/home/cpansand/bin/linux-gnu:/home/cpansand/bin/sh:/home/cpansand/bin:/usr/games:/home/cpansand/devel:/home/eserte/src/srezic-misc/scripts
PERL5LIB =
PERL5OPT =
PERL5_CPANPLUS_IS_RUNNING = 31468
PERL5_CPAN_IS_RUNNING = 31468
PERL5_CPAN_IS_RUNNING_IN_RECURSION = 2030,31468
PERLDOC = -MPod::Perldoc::ToTextOverstrike
PERL_BATCH = yes
PERL_CANARY_STABILITY_NOPROMPT = 1
PERL_CPAN_REPORTER_CONFIG = /var/tmp/cpansmoker-1023/2017082400/cpanreporter_000_config.ini
PERL_EXTUTILS_AUTOINSTALL = --defaultdeps
PERL_PARALLEL_SMOKER = yes
PERL_USE_UNSAFE_INC = 1
SHELL = /usr/bin/zsh
TERM = screen
TMPDIR = /var/tmp/cpansmoker-1023/2017082400
Perl special variables (and OS-specific diagnostics, for MSWin32):
$^X = /opt/perl-5.27.3/bin/perl5.27.3
$UID/$EUID = 1023 / 1023
$GID = 1023 1023
$EGID = 1023 1023
Perl module toolchain versions installed:
Module Have
------------------- --------
CPAN 2.16
CPAN::Meta 2.150010
Cwd 3.62
ExtUtils::CBuilder 0.280226
ExtUtils::Command 7.30
ExtUtils::Install 2.14
ExtUtils::MakeMaker 7.30
ExtUtils::Manifest 1.70
ExtUtils::ParseXS 3.35
File::Spec 3.62
JSON 2.94
JSON::PP 2.94
Module::Build 0.4224
Module::Signature 0.81
Parse::CPAN::Meta 2.150010
Test::Harness 3.39
Test::More 1.302086
YAML 1.23
YAML::Syck 1.30
version 0.9918
--
Summary of my perl5 (revision 5 version 27 subversion 3) configuration:
Platform:
osname=linux
osvers=4.9.0-3-amd64
archname=x86_64-linux
uname='linux debian9 4.9.0-3-amd64 #1 smp debian 4.9.30-2+deb9u3 (2017-08-06) x86_64 gnulinux '
config_args='-ds -e -Dprefix=/opt/perl-5.27.3 -Dusedevel -Dusemallocwrap=no -Dcf_email=srezic@cpan.org'
hint=recommended
useposix=true
d_sigaction=define
useithreads=undef
usemultiplicity=undef
use64bitint=define
use64bitall=define
uselongdouble=undef
usemymalloc=n
default_inc_excludes_dot=define
bincompat5005=undef
Compiler:
cc='cc'
ccflags ='-fwrapv -fno-strict-aliasing -pipe -fstack-protector-strong -I/usr/local/include -D_LARGEFILE_SOURCE -D_FILE_OFFSET_BITS=64 -D_FORTIFY_SOURCE=2'
optimize='-O2'
cppflags='-fwrapv -fno-strict-aliasing -pipe -fstack-protector-strong -I/usr/local/include'
ccversion=''
gccversion='6.3.0 20170516'
gccosandvers=''
intsize=4
longsize=8
ptrsize=8
doublesize=8
byteorder=12345678
doublekind=3
d_longlong=define
longlongsize=8
d_longdbl=define
longdblsize=16
longdblkind=3
ivtype='long'
ivsize=8
nvtype='double'
nvsize=8
Off_t='off_t'
lseeksize=8
alignbytes=8
prototype=define
Linker and Libraries:
ld='cc'
ldflags =' -fstack-protector-strong -L/usr/local/lib'
libpth=/usr/local/lib /usr/lib/gcc/x86_64-linux-gnu/6/include-fixed /usr/include/x86_64-linux-gnu /usr/lib /lib/x86_64-linux-gnu /lib/../lib /usr/lib/x86_64-linux-gnu /usr/lib/../lib /lib
libs=-lpthread -lnsl -lgdbm -ldb -ldl -lm -lcrypt -lutil -lc -lgdbm_compat
perllibs=-lpthread -lnsl -ldl -lm -lcrypt -lutil -lc
libc=libc-2.24.so
so=so
useshrplib=false
libperl=libperl.a
gnulibc_version='2.24'
Dynamic Linking:
dlsrc=dl_dlopen.xs
dlext=so
d_dlsymun=undef
ccdlflags='-Wl,-E'
cccdlflags='-fPIC'
lddlflags='-shared -O2 -L/usr/local/lib -fstack-protector-strong'
Characteristics of this binary (from libperl):
Compile-time options:
HAS_TIMES
PERLIO_LAYERS
PERL_COPY_ON_WRITE
PERL_DONT_CREATE_GVSV
PERL_OP_PARENT
PERL_PRESERVE_IVUV
PERL_USE_DEVEL
USE_64_BIT_ALL
USE_64_BIT_INT
USE_LARGE_FILES
USE_LOCALE
USE_LOCALE_COLLATE
USE_LOCALE_CTYPE
USE_LOCALE_NUMERIC
USE_LOCALE_TIME
USE_PERLIO
USE_PERL_ATOF
Built under linux
Compiled at Aug 21 2017 21:26:54
%ENV:
PERL5LIB=""
PERL5OPT=""
PERL5_CPANPLUS_IS_RUNNING="31468"
PERL5_CPAN_IS_RUNNING="31468"
PERL5_CPAN_IS_RUNNING_IN_RECURSION="2030,31468"
PERLDOC="-MPod::Perldoc::ToTextOverstrike"
PERL_BATCH="yes"
PERL_CANARY_STABILITY_NOPROMPT="1"
PERL_CPAN_REPORTER_CONFIG="/var/tmp/cpansmoker-1023/2017082400/cpanreporter_000_config.ini"
PERL_EXTUTILS_AUTOINSTALL="--defaultdeps"
PERL_PARALLEL_SMOKER="yes"
PERL_USE_UNSAFE_INC="1"
@INC:
/opt/perl-5.27.3/lib/site_perl/5.27.3/x86_64-linux
/opt/perl-5.27.3/lib/site_perl/5.27.3
/opt/perl-5.27.3/lib/5.27.3/x86_64-linux
/opt/perl-5.27.3/lib/5.27.3
.