HTML-FillInForm-Lite v1.15 Perl 5 v5.24.2 darwin-2level

Status
Pass
From
Neil Bowers
Dist
HTML-FillInForm-Lite v1.15
Platform
Perl 5 v5.24.2 darwin-2level
Date
2021-09-18 00:15:58
ID
993051d8-1815-11ec-bda1-aa8119c543de
This distribution has been tested as part of the CPAN Testers
project, supporting the Perl programming language.  See
http://wiki.cpantesters.org/ for more information or email
questions to cpan-testers-discuss@perl.org


--
Dear Goro Fuji,

This is a computer-generated report for HTML-FillInForm-Lite-1.15
on perl 5.24.2, created by CPAN-Reporter-1.2018.

Thank you for uploading your work to CPAN.  Congratulations!
All tests were successful.

Sections of this report:

    * Tester comments
    * Program output
    * Prerequisites
    * Environment and other context

------------------------------
TESTER COMMENTS
------------------------------

Additional comments from tester:

none provided

------------------------------
PROGRAM OUTPUT
------------------------------

Output from './Build test':

t/00basic.t .......... ok
CGI::param called in list context from /private/var/root/.cpan/build/HTML-FillInForm-Lite-1.15-O6XA8r/blib/lib/HTML/FillInForm/Lite.pm line 373, this can lead to vulnerabilities. See the warning in "Fetching the value or values of a single named parameter" at /usr/local/perl/5242/lib/site_perl/5.24.2/CGI.pm line 414.
t/01input.t .......... ok
t/02select.t ......... ok
t/03textarea.t ....... ok
t/04target.t ......... ok
t/05encoding.t ....... ok
t/07fobj.t ........... ok
t/08select-extra.t ... ok
t/09decode_entity.t .. ok
CGI::param called in list context from /private/var/root/.cpan/build/HTML-FillInForm-Lite-1.15-O6XA8r/blib/lib/HTML/FillInForm/Lite.pm line 373, this can lead to vulnerabilities. See the warning in "Fetching the value or values of a single named parameter" at /usr/local/perl/5242/lib/site_perl/5.24.2/CGI.pm line 414.
t/10compat.t ......... ok
t/11html4compat.t .... ok
t/12empty_elem.t ..... ok
t/13simple.t ......... ok
t/14stringobj.t ...... ok
t/15data-attr.t ...... ok
t/16html5.t .......... ok
t/17suffix.t ......... ok
t/99pod.t ............ ok
t/99podcoverage.t .... ok
All tests successful.
Files=19, Tests=300,  1 wallclock secs ( 0.06 usr  0.04 sys +  0.96 cusr  0.21 csys =  1.27 CPU)
Result: PASS

------------------------------
PREREQUISITES
------------------------------

Prerequisite modules loaded:

requires:

    Module              Need     Have    
    ------------------- -------- --------
    perl                5.008001 5.024002

build_requires:

    Module              Need     Have    
    ------------------- -------- --------
    CGI                 0        4.53    
    ExtUtils::MakeMaker 6.59     7.62    
    Test::More          0.62     1.302183
    Test::Requires      0        0.11    

configure_requires:

    Module              Need     Have    
    ------------------- -------- --------
    Module::Build::Tiny 0.035    0.039   


------------------------------
ENVIRONMENT AND OTHER CONTEXT
------------------------------

Environment variables:

    NONINTERACTIVE_TESTING = 1
    PATH = /usr/local/apache/bin:/usr/local/bin:/opt/local/bin:/usr/local/bin:/usr/bin:/bin:/usr/sbin:/sbin:/Applications/VMware Fusion.app/Contents/Public:/usr/local/go/bin:/opt/X11/bin:/usr/local/git/bin
    PERL5LIB = 
    PERL5OPT = 
    PERL5_CPANPLUS_IS_RUNNING = 75780
    PERL5_CPAN_IS_RUNNING = 75780
    PERL_MM_USE_DEFAULT = 1
    SHELL = /bin/sh
    TERM = xterm

Perl special variables (and OS-specific diagnostics, for MSWin32):

    $^X = /usr/local/perl/5242/bin/perl
    $UID/$EUID = 0 / 0
    $GID = 0 0 1 2 3 4 5 8 9 12 20 29 61 80 701 702 33
    $EGID = 0 0 1 2 3 4 5 8 9 12 20 29 61 80 701 702 33

Perl module toolchain versions installed:

    Module              Have    
    ------------------- --------
    CPAN                2.11_01 
    CPAN::Meta          2.150010
    Cwd                 3.75    
    ExtUtils::CBuilder  0.280236
    ExtUtils::Command   7.62    
    ExtUtils::Install   2.06    
    ExtUtils::MakeMaker 7.62    
    ExtUtils::Manifest  1.70    
    ExtUtils::ParseXS   3.35    
    File::Spec          3.75    
    JSON                4.03    
    JSON::PP            4.06    
    Module::Build       0.4231  
    Module::Signature   n/a     
    Parse::CPAN::Meta   2.150010
    Test::Harness       3.36_01 
    Test::More          1.302183
    YAML                1.30    
    YAML::Syck          n/a     
    version             0.9916  


--

Summary of my perl5 (revision 5 version 24 subversion 2) configuration:
   
  Platform:
    osname=darwin, osvers=20.4.0, archname=darwin-2level
    uname='darwin tucumcari.local 20.4.0 darwin kernel version 20.4.0: thu apr 22 21:46:47 pdt 2021; root:xnu-7195.101.2~1release_x86_64 x86_64 '
    config_args=''
    hint=recommended, useposix=true, d_sigaction=define
    useithreads=undef, usemultiplicity=undef
    use64bitint=define, use64bitall=define, uselongdouble=undef
    usemymalloc=n, bincompat5005=undef
  Compiler:
    cc='cc', ccflags ='-fno-common -DPERL_DARWIN -mmacosx-version-min=11.3 -fno-strict-aliasing -pipe -fstack-protector-strong -I/usr/local/include -I/opt/local/include -DPERL_USE_SAFE_PUTENV',
    optimize='-O3',
    cppflags='-fno-common -DPERL_DARWIN -mmacosx-version-min=11.3 -fno-strict-aliasing -pipe -fstack-protector-strong -I/usr/local/include -I/opt/local/include'
    ccversion='', gccversion='Apple LLVM 12.0.0 (clang-1200.0.32.29)', gccosandvers=''
    intsize=4, longsize=8, ptrsize=8, doublesize=8, byteorder=12345678, doublekind=3
    d_longlong=define, longlongsize=8, d_longdbl=define, longdblsize=16, longdblkind=3
    ivtype='long', ivsize=8, nvtype='double', nvsize=8, Off_t='off_t', lseeksize=8
    alignbytes=8, prototype=define
  Linker and Libraries:
    ld='cc', ldflags =' -mmacosx-version-min=11.3 -fstack-protector-strong -L/usr/local/lib -L/opt/local/lib'
    libpth=/usr/local/lib /Applications/Xcode.app/Contents/Developer/Toolchains/XcodeDefault.xctoolchain/usr/lib/clang/12.0.0/lib /Applications/Xcode.app/Contents/Developer/Platforms/MacOSX.platform/Developer/SDKs/MacOSX.sdk/usr/lib /Applications/Xcode.app/Contents/Developer/Toolchains/XcodeDefault.xctoolchain/usr/lib /opt/local/lib /usr/lib
    libs=-lgdbm
    perllibs=
    libc=, so=dylib, useshrplib=false, libperl=libperl.a
    gnulibc_version=''
  Dynamic Linking:
    dlsrc=dl_dlopen.xs, dlext=bundle, d_dlsymun=undef, ccdlflags=' '
    cccdlflags=' ', lddlflags=' -mmacosx-version-min=11.3 -bundle -undefined dynamic_lookup -L/usr/local/lib -L/opt/local/lib -fstack-protector-strong'


Characteristics of this binary (from libperl): 
  Compile-time options: HAS_TIMES PERLIO_LAYERS PERL_COPY_ON_WRITE
                        PERL_DONT_CREATE_GVSV
                        PERL_HASH_FUNC_ONE_AT_A_TIME_HARD PERL_MALLOC_WRAP
                        PERL_PRESERVE_IVUV PERL_USE_SAFE_PUTENV
                        USE_64_BIT_ALL USE_64_BIT_INT USE_LARGE_FILES
                        USE_LOCALE USE_LOCALE_COLLATE USE_LOCALE_CTYPE
                        USE_LOCALE_NUMERIC USE_LOCALE_TIME USE_PERLIO
                        USE_PERL_ATOF
  Built under darwin
  Compiled at May 18 2021 12:27:48
  %ENV:
    PERL5LIB=""
    PERL5OPT=""
    PERL5_CPANPLUS_IS_RUNNING="75780"
    PERL5_CPAN_IS_RUNNING="75780"
    PERL_MM_USE_DEFAULT="1"
  @INC:
    /usr/local/perl/5242/lib/site_perl/5.24.2/darwin-2level
    /usr/local/perl/5242/lib/site_perl/5.24.2
    /usr/local/perl/5242/lib/5.24.2/darwin-2level
    /usr/local/perl/5242/lib/5.24.2
    .