JSON-Util v0.06 Perl 5 v5.14.2 amd64-freebsd-multi
- Status
- Pass
- From
- Nigel Horne
- Dist
-
JSON-Util v0.06
- Platform
- Perl 5 v5.14.2 amd64-freebsd-multi
- Date
- 2025-08-25 01:34:09
- ID
- 98f731f4-8153-11f0-92e3-b509040af3b5
This distribution has been tested as part of the CPAN Testers
project, supporting the Perl programming language. See
http://wiki.cpantesters.org/ for more information or email
questions to cpan-testers-discuss@perl.org
--
Dear Jozef Kutej,
This is a computer-generated report for JSON-Util-0.06
on perl 5.14.2, created by CPAN-Reporter-1.2020.
Thank you for uploading your work to CPAN. Congratulations!
All tests were successful.
Sections of this report:
* Tester comments
* Program output
* Prerequisites
* Environment and other context
------------------------------
TESTER COMMENTS
------------------------------
Additional comments from tester:
none provided
------------------------------
PROGRAM OUTPUT
------------------------------
Output from './Build test':
t/distribution.t .. skipped: Test::Distribution not installed
t/01_JSON-Util.t .. ok
t/fixme.t ......... skipped: requires Test::Fixme to run
t/pod-coverage.t .. skipped: Test::Pod::Coverage 1.08 required for testing POD coverage
t/pod-spell.t ..... skipped: Set the environment variable TEST_SPELLING to enable this test.
t/pod.t ........... skipped: Test::Pod 1.22 required for testing POD
All tests successful.
Files=6, Tests=8, 0 wallclock secs ( 0.02 usr 0.01 sys + 0.15 cusr 0.05 csys = 0.22 CPU)
Result: PASS
------------------------------
PREREQUISITES
------------------------------
Prerequisite modules loaded:
requires:
Module Need Have
----------------- ---- --------
Carp 0 1.50
IO::Any 0 0.09
JSON::MaybeXS 0 1.004008
Scalar::Util 0 1.70
build_requires:
Module Need Have
----------------- ---- --------
File::Temp 0 0.22
Test::Differences 0 0.72
Test::Exception 0 0.43
Test::More 0 1.302214
configure_requires:
Module Need Have
----------------- ---- --------
Module::Build 0.38 0.3800
------------------------------
ENVIRONMENT AND OTHER CONTEXT
------------------------------
Environment variables:
HARNESS_OPTIONS = j2:c
LANG = C.UTF-8
PATH = /home/njh/perl5/perlbrew/bin:/home/njh/perl5/perlbrew/perls/perl-5.14.2-multi/bin:/home/njh/perl5/perlbrew/bin:/sbin:/bin:/usr/sbin:/usr/bin:/usr/local/sbin:/usr/local/bin:/home/njh/bin
PERL5LIB =
PERL5OPT =
PERL5_CPANPLUS_IS_RUNNING = 39263
PERL5_CPAN_IS_RUNNING = 39263
PERLBREW_HOME = /home/njh/.perlbrew
PERLBREW_LIB =
PERLBREW_MANPATH = /home/njh/perl5/perlbrew/perls/perl-5.14.2-multi/man
PERLBREW_PATH = /home/njh/perl5/perlbrew/bin:/home/njh/perl5/perlbrew/perls/perl-5.14.2-multi/bin
PERLBREW_PERL = perl-5.14.2-multi
PERLBREW_ROOT = /home/njh/perl5/perlbrew
PERLBREW_SHELLRC_VERSION = 1.02
PERLBREW_VERSION = 1.02
PERL_LOCAL_LIB_ROOT =
SHELL = /usr/local/bin/bash
TERM = xterm
TMPDIR = /tmp
Perl special variables (and OS-specific diagnostics, for MSWin32):
$^X = /home/njh/perl5/perlbrew/perls/perl-5.14.2-multi/bin/perl5.14.2
$UID/$EUID = 1000 / 1000
$GID = 1000 1000 0
$EGID = 1000 1000 0
Perl module toolchain versions installed:
Module Have
------------------- ---------
CPAN 1.9600_01
CPAN::Meta 2.150010
Cwd 3.36
ExtUtils::CBuilder 0.280203
ExtUtils::Command 7.76
ExtUtils::Install 2.22
ExtUtils::MakeMaker 7.76
ExtUtils::Manifest 1.70
ExtUtils::ParseXS 3.58
File::Spec 3.33
JSON n/a
JSON::PP 4.16
Module::Build 0.3800
Module::Signature n/a
Parse::CPAN::Meta 2.150010
Test2 1.302214
Test::Harness 3.52
Test::More 1.302214
YAML 1.31
YAML::Syck n/a
version 0.9933
--
Summary of my perl5 (revision 5 version 14 subversion 2) configuration:
Platform:
osname=freebsd, osvers=14.3-release-p2, archname=amd64-freebsd-multi
uname='freebsd michele.bandsman.co.uk 14.3-release-p2 freebsd 14.3-release-p2 generic amd64 '
config_args='-de -Dprefix=/home/njh/perl5/perlbrew/perls/perl-5.14.2-multi -Dusedevel -Dusemultiplicity -Accflags=-O2 -W -Wformat=2 -Wswitch -Wshadow -Wwrite-strings -Wuninitialized -Wall -pipe -fomit-frame-pointer -pedantic -D_FORTIFY_SOURCE=2 -Wpointer-arith -Wstrict-prototypes -fstack-protector -Wstack-protector -Wextra -Wbad-function-cast -Wcast-align -Wcast-qual -Wdisabled-optimization -Wendif-labels -Wfloat-equal -Wformat-nonliteral -Winline -Wmissing-declarations -Wmissing-prototypes -Wnested-externs -Wpointer-arith -Wundef -Wformat-security -ftree-vectorize -mtune=native -fdiagnostics-color=auto -flto -mtune=native -march=native -Aeval:scriptdir=/home/njh/perl5/perlbrew/perls/perl-5.14.2-multi/bin'
hint=recommended, useposix=true, d_sigaction=define
useithreads=undef, usemultiplicity=define
useperlio=define, d_sfio=undef, uselargefiles=define, usesocks=undef
use64bitint=define, use64bitall=define, uselongdouble=undef
usemymalloc=n, bincompat5005=undef
Compiler:
cc='cc', ccflags ='-DHAS_FPSETMASK -DHAS_FLOATINGPOINT_H -O2 -W -Wformat=2 -Wswitch -Wshadow -Wwrite-strings -Wuninitialized -Wall -pipe -fomit-frame-pointer -pedantic -D_FORTIFY_SOURCE=2 -Wpointer-arith -Wstrict-prototypes -fstack-protector -Wstack-protector -Wextra -Wbad-function-cast -Wcast-align -Wcast-qual -Wdisabled-optimization -Wendif-labels -Wfloat-equal -Wformat-nonliteral -Winline -Wmissing-declarations -Wmissing-prototypes -Wnested-externs -Wpointer-arith -Wundef -Wformat-security -ftree-vectorize -mtune=native -fdiagnostics-color=auto -flto -mtune=native -march=native -fno-strict-aliasing -I/usr/local/include',
optimize='-O2',
cppflags='-DHAS_FPSETMASK -DHAS_FLOATINGPOINT_H -O2 -W -Wformat=2 -Wswitch -Wshadow -Wwrite-strings -Wuninitialized -Wall -pipe -fomit-frame-pointer -pedantic -D_FORTIFY_SOURCE=2 -Wpointer-arith -Wstrict-prototypes -fstack-protector -Wstack-protector -Wextra -Wbad-function-cast -Wcast-align -Wcast-qual -Wdisabled-optimization -Wendif-labels -Wfloat-equal -Wformat-nonliteral -Winline -Wmissing-declarations -Wmissing-prototypes -Wnested-externs -Wpointer-arith -Wundef -Wformat-security -ftree-vectorize -mtune=native -fdiagnostics-color=auto -flto -mtune=native -march=native -fno-strict-aliasing -I/usr/local/include'
ccversion='', gccversion='FreeBSD Clang 19.1.7 (https://github.com/llvm/llvm-project.git llvmorg-19.1.7-0-gcd708029e0b2)', gccosandvers=''
intsize=4, longsize=8, ptrsize=8, doublesize=8, byteorder=12345678
d_longlong=define, longlongsize=8, d_longdbl=define, longdblsize=16
ivtype='long', ivsize=8, nvtype='double', nvsize=8, Off_t='off_t', lseeksize=8
alignbytes=8, prototype=define
Linker and Libraries:
ld='cc', ldflags ='-Wl,-E -fstack-protector -L/usr/local/lib'
libpth=/usr/lib /usr/local/lib
libs=-ldl -lm -lcrypt -lutil -lc
perllibs=-ldl -lm -lcrypt -lutil -lc
libc=, so=so, useshrplib=false, libperl=libperl.a
gnulibc_version=''
Dynamic Linking:
dlsrc=dl_dlopen.xs, dlext=so, d_dlsymun=undef, ccdlflags=' '
cccdlflags='-DPIC -fPIC', lddlflags='-shared -L/usr/local/lib -fstack-protector'
Characteristics of this binary (from libperl):
Compile-time options: MULTIPLICITY PERL_DONT_CREATE_GVSV
PERL_IMPLICIT_CONTEXT PERL_MALLOC_WRAP
PERL_PRESERVE_IVUV PERL_USE_DEVEL USE_64_BIT_ALL
USE_64_BIT_INT USE_LARGE_FILES USE_PERLIO
USE_PERL_ATOF
Locally applied patches:
Devel::PatchPerl 2.08
Built under freebsd
Compiled at Aug 17 2025 22:01:12
%ENV:
PERL5LIB=""
PERL5OPT=""
PERL5_CPANPLUS_IS_RUNNING="39263"
PERL5_CPAN_IS_RUNNING="39263"
PERLBREW_HOME="/home/njh/.perlbrew"
PERLBREW_LIB=""
PERLBREW_MANPATH="/home/njh/perl5/perlbrew/perls/perl-5.14.2-multi/man"
PERLBREW_PATH="/home/njh/perl5/perlbrew/bin:/home/njh/perl5/perlbrew/perls/perl-5.14.2-multi/bin"
PERLBREW_PERL="perl-5.14.2-multi"
PERLBREW_ROOT="/home/njh/perl5/perlbrew"
PERLBREW_SHELLRC_VERSION="1.02"
PERLBREW_VERSION="1.02"
PERL_LOCAL_LIB_ROOT=""
@INC:
/home/njh/perl5/perlbrew/perls/perl-5.14.2-multi/lib/site_perl/5.14.2/amd64-freebsd-multi
/home/njh/perl5/perlbrew/perls/perl-5.14.2-multi/lib/site_perl/5.14.2
/home/njh/perl5/perlbrew/perls/perl-5.14.2-multi/lib/5.14.2/amd64-freebsd-multi
/home/njh/perl5/perlbrew/perls/perl-5.14.2-multi/lib/5.14.2
.