Report for MooseX-Params-0.010

Back
From: metabase:user:0b91ce32-3676-11e1-a1bc-bfed0df65b4f
Subject: PASS MooseX-Params-0.010 v5.16.0 RC0 GNU/Linux
Date: 2012-05-15T09:01:45Z

This distribution has been tested as part of the CPAN Testers
project, supporting the Perl programming language.  See
http://wiki.cpantesters.org/ for more information or email
questions to cpan-testers-discuss@perl.org


--
Dear Peter Shangov,

This is a computer-generated report for MooseX-Params-0.010
on perl 5.16.0, created by CPAN-Reporter-1.2006.

Thank you for uploading your work to CPAN.  Congratulations!
All tests were successful.

Sections of this report:

    * Tester comments
    * Program output
    * Prerequisites
    * Environment and other context

------------------------------
TESTER COMMENTS
------------------------------

Additional comments from tester:

this report is from an automated smoke testing program
and was not reviewed by a human for accuracy

------------------------------
PROGRAM OUTPUT
------------------------------

Output from '/usr/bin/make test':

PERL_DL_NONLAZY=1 /opt/perl-5.16.0-RC0/bin/perl "-MExtUtils::Command::MM" "-e" "test_harness(0, 'blib/lib', 'blib/arch')" t/*.t
[02:01:09] t/01-parse.t ............ ok      221 ms
[02:01:10] t/03-lazy.t ............. ok      222 ms
[02:01:13] t/02-params.t ........... ok     3178 ms
[02:01:14] t/05-buildargs.t ........ ok      287 ms
[02:01:14] t/06-inheritance.t ...... ok      124 ms
[02:01:14] t/07-procedural.t ....... ok      840 ms
[02:01:14] t/08-synopsis.t ......... ok      399 ms
[02:01:16] t/release-eol.t ......... ok      735 ms
[02:01:17] t/release-no-tabs.t ..... ok      112 ms
[02:01:21] t/release-pod-syntax.t .. ok     1730 ms
[02:01:26] t/12-listables.t ........ ok        8 ms
[02:01:31] t/99-bugs.t ............. ok       46 ms
[02:01:31] t/09-anon.t ............. ok      597 ms
[02:01:31] t/04-named.t ............ ok      574 ms
[02:01:31] t/11-returns_scalar.t ... ok      447 ms
[02:01:31] t/10-returns.t .......... ok      623 ms
[02:01:31] t/13-readonly.t ......... ok      425 ms
[02:01:39] t/00-compile.t .......... ok    42864 ms
[02:01:39]
All tests successful.
Files=18, Tests=185, 44 wallclock secs ( 0.23 usr  0.05 sys + 33.89 cusr  2.67 csys = 36.84 CPU)
Result: PASS

------------------------------
PREREQUISITES
------------------------------

Prerequisite modules loaded:

requires:

    Module                                       Need Have  
    -------------------------------------------- ---- ------
    Attribute::Lexical                           0    0.004 
    B::Hooks::EndOfScope                         0    0.11  
    Carp                                         0    1.25  
    Class::MOP::Class                            0    2.0602
    List::Util                                   0    1.25  
    Moose                                        1.24 2.0602
    Moose::Meta::Method                          0    2.0602
  ! Moose::Meta::TypeConstraint::Parameterizable 0    broken
    Moose::Util::TypeConstraints                 0    2.0602
    Package::Stash                               0.18 0.33  
    parent                                       0    0.225 
    Perl6::Caller                                0    0.100 
    Scalar::Readonly                             0    0.03  
    Scalar::Util                                 0    1.25  
    strict                                       0    1.07  
    Sub::Identify                                0    0.04  
    Sub::Mutate                                  0    0.004 
    Text::CSV_XS                                 0    0.88  
    Try::Tiny                                    0    0.11  
    Variable::Magic                              0    0.48  
    warnings                                     0    1.13  

build_requires:

    Module                                       Need Have  
    -------------------------------------------- ---- ------
    base                                         0    2.18  
    Carp::Always                                 0    0.11  
    File::Find                                   0    1.20  
    File::Temp                                   0    0.22  
    IO::String                                   0    1.08  
    Test::More                                   0    0.98  
    Test::Most                                   0    0.25  

configure_requires:

    Module                                       Need Have  
    -------------------------------------------- ---- ------
    ExtUtils::MakeMaker                          6.30 6.62  


------------------------------
ENVIRONMENT AND OTHER CONTEXT
------------------------------

Environment variables:

    AUTOMATED_TESTING = 1
    DBI_PURE_PERL = 1
    LANG = en_US.UTF-8
    PATH = /usr/kerberos/sbin:/usr/kerberos/bin:/usr/local/sbin:/usr/local/bin:/sbin:/bin:/usr/sbin:/usr/bin:/opt/real/RealPlayer:/root/bin:/opt/real/RealPlayer
    PERL5LIB = 
    PERL5OPT = 
    PERL5_CPANPLUS_IS_RUNNING = 5814
    PERL5_CPAN_IS_RUNNING = 5814
    PERL_ANYEVENT_LOOP_TESTS = 1
    PERL_ANYEVENT_NET_TESTS = 1
    PERL_AUTOINSTALL = defaultdeps
    PERL_BATCH = yes
    PERL_CPANPLUS_VERBOSE = 1
    PERL_EXTUTILS_AUTOINSTALL = --defaultdeps
    PERL_MM_USE_DEFAULT = 1
    PERL_TEST_POD = 1
    SHELL = /bin/bash
    TERM = xterm

Perl special variables (and OS-specific diagnostics, for MSWin32):

    $^X = /opt/perl-5.16.0-RC0/bin/perl
    $UID/$EUID = 0 / 0
    $GID = 0 0 1 2 3 4 6 10
    $EGID = 0 0 1 2 3 4 6 10

Perl module toolchain versions installed:

    Module              Have    
    ------------------- --------
    CPAN                1.9800  
    CPAN::Meta          2.120921
    Cwd                 3.33    
    ExtUtils::CBuilder  0.280205
    ExtUtils::Command   1.17    
    ExtUtils::Install   1.54    
    ExtUtils::MakeMaker 6.62    
    ExtUtils::Manifest  1.60    
    ExtUtils::ParseXS   3.15    
    File::Spec          3.33    
    JSON                2.53    
    JSON::PP            2.27200 
    Module::Build       0.40    
    Module::Signature   0.68    
    Parse::CPAN::Meta   1.4404  
    Test::Harness       3.23    
    Test::More          0.98    
    YAML                0.81    
    YAML::Syck          1.20    
    version             0.99    


--

Summary of my perl5 (revision 5 version 16 subversion 0) configuration:
   
  Platform:
    osname=linux, osvers=2.6.18-1.2798.fc6, archname=i686-linux-thread-multi-64int-ld
    uname='linux localhost.localdomain 2.6.18-1.2798.fc6 #1 smp mon oct 16 14:37:32 edt 2006 i686 i686 i386 gnulinux '
    config_args='-Dcc=gcc -Dprefix=/opt/perl-5.16.0-RC0 DEBUGGING'
    hint=recommended, useposix=true, d_sigaction=define
    useithreads=define, usemultiplicity=define
    useperlio=define, d_sfio=undef, uselargefiles=define, usesocks=undef
    use64bitint=define, use64bitall=undef, uselongdouble=define
    usemymalloc=n, bincompat5005=undef
  Compiler:
    cc='gcc', ccflags ='-D_REENTRANT -D_GNU_SOURCE -fno-strict-aliasing -pipe -fstack-protector -I/usr/local/include -D_LARGEFILE_SOURCE -D_FILE_OFFSET_BITS=64',
    optimize='-O2',
    cppflags='-D_REENTRANT -D_GNU_SOURCE -fno-strict-aliasing -pipe -fstack-protector -I/usr/local/include'
    ccversion='', gccversion='4.1.1 20061011 (Red Hat 4.1.1-30)', gccosandvers=''
    intsize=4, longsize=4, ptrsize=4, doublesize=8, byteorder=12345678
    d_longlong=define, longlongsize=8, d_longdbl=define, longdblsize=12
    ivtype='long long', ivsize=8, nvtype='long double', nvsize=12, Off_t='off_t', lseeksize=8
    alignbytes=4, prototype=define
  Linker and Libraries:
    ld='gcc', ldflags =' -fstack-protector -L/usr/local/lib'
    libpth=/usr/local/lib /lib /usr/lib
    libs=-lnsl -lgdbm -ldb -ldl -lm -lcrypt -lutil -lpthread -lc
    perllibs=-lnsl -ldl -lm -lcrypt -lutil -lpthread -lc
    libc=/lib/libc-2.5.so, so=so, useshrplib=true, libperl=libperl.so
    gnulibc_version='2.5'
  Dynamic Linking:
    dlsrc=dl_dlopen.xs, dlext=so, d_dlsymun=undef, ccdlflags='-Wl,-E -Wl,-rpath,/opt/perl-5.16.0-RC0/lib/5.16.0/i686-linux-thread-multi-64int-ld/CORE'
    cccdlflags='-fPIC', lddlflags='-shared -O2 -L/usr/local/lib -fstack-protector'


Characteristics of this binary (from libperl): 
  Compile-time options: HAS_TIMES MULTIPLICITY PERLIO_LAYERS
                        PERL_DONT_CREATE_GVSV PERL_IMPLICIT_CONTEXT
                        PERL_MALLOC_WRAP PERL_PRESERVE_IVUV USE_64_BIT_INT
                        USE_FAST_STDIO USE_ITHREADS USE_LARGE_FILES
                        USE_LOCALE USE_LOCALE_COLLATE USE_LOCALE_CTYPE
                        USE_LOCALE_NUMERIC USE_LONG_DOUBLE USE_PERLIO
                        USE_PERL_ATOF USE_REENTRANT_API
  Locally applied patches:
	RC0
  Built under linux
  Compiled at May 12 2012 07:33:22
  %ENV:
    PERL5LIB=""
    PERL5OPT=""
    PERL5_CPANPLUS_IS_RUNNING="5814"
    PERL5_CPAN_IS_RUNNING="5814"
    PERL_ANYEVENT_LOOP_TESTS="1"
    PERL_ANYEVENT_NET_TESTS="1"
    PERL_AUTOINSTALL="defaultdeps"
    PERL_BATCH="yes"
    PERL_CPANPLUS_VERBOSE="1"
    PERL_EXTUTILS_AUTOINSTALL="--defaultdeps"
    PERL_MM_USE_DEFAULT="1"
    PERL_TEST_POD="1"
  @INC:
    /opt/perl-5.16.0-RC0/lib/site_perl/5.16.0/i686-linux-thread-multi-64int-ld
    /opt/perl-5.16.0-RC0/lib/site_perl/5.16.0
    /opt/perl-5.16.0-RC0/lib/5.16.0/i686-linux-thread-multi-64int-ld
    /opt/perl-5.16.0-RC0/lib/5.16.0
    .