IO-Iron v0.13 Perl 5 v5.28.0 x86_64-linux
- Status
- Pass
- From
- Slaven Rezić (SREZIC)
- Dist
-
IO-Iron v0.13
- Platform
- Perl 5 v5.28.0 x86_64-linux
- Date
- 2019-01-08 23:46:19
- ID
- 98d81680-139f-11e9-83ee-cbf54ae49309
This distribution has been tested as part of the CPAN Testers
project, supporting the Perl programming language. See
http://wiki.cpantesters.org/ for more information or email
questions to cpan-testers-discuss@perl.org
--
Dear Mikko Koivunalho,
This is a computer-generated report for IO-Iron-0.13
on perl 5.28.0, created by CPAN-Reporter-1.2018.
Thank you for uploading your work to CPAN. Congratulations!
All tests were successful.
Sections of this report:
* Tester comments
* Program output
* Prerequisites
* Environment and other context
------------------------------
TESTER COMMENTS
------------------------------
Additional comments from tester:
none provided
------------------------------
PROGRAM OUTPUT
------------------------------
Output from 'make test':
PERL_DL_NONLAZY=1 "/opt/perl-5.28.0/bin/perl" "-MExtUtils::Command::MM" "-MTest::Harness" "-e" "undef *Test::Harness::Switches; test_harness(0, 'blib/lib', 'blib/arch')" t/*.t t/Iron/*.t t/IronCache/*.t t/IronMQ/*.t t/IronWorker/*.t
#
# Versions for all modules listed in MYMETA.json (including optional ones):
#
# === Configure Requires ===
#
# Module Want Have
# ------------------- ---- ----
# ExtUtils::MakeMaker any 7.34
#
# === Build Requires ===
#
# Module Want Have
# ------------------- ---- ----
# ExtUtils::MakeMaker any 7.34
#
# === Test Requires ===
#
# Module Want Have
# ------------------- ---- --------
# Data::Dumper any 2.173
# ExtUtils::MakeMaker any 7.34
# File::Copy any 2.33
# File::Remove any 1.57
# File::Spec any 3.75
# Log::Any::Test any 1.705
# Test::Exception any 0.43
# Test::More any 1.302140
# lib any 0.64
#
# === Test Recommends ===
#
# Module Want Have
# ---------- -------- --------
# CPAN::Meta 2.120900 2.150010
#
# === Runtime Requires ===
#
# Module Want Have
# ------------------ ---- --------
# Carp any 1.50
# Carp::Assert any 0.21
# Carp::Assert::More any 1.16
# Const::Fast any 0.014
# Data::UUID any 1.221
# English any 1.10
# Exception::Class any 1.44
# Exporter any 5.73
# File::HomeDir any 1.004
# File::Spec any 3.75
# Hash::Util 0.06 0.22
# JSON::MaybeXS any 1.004000
# Log::Any any 1.705
# Params::Validate any 1.29
# Path::Tiny any 0.108
# REST::Client any 273
# Scalar::Util any 1.50
# Try::Tiny any 0.30
# URI::Escape any 3.31
# parent any 0.236
# strict any 1.11
# warnings any 1.42
#
t/00-report-prereqs.t ........ ok
# Testing IO::Iron::IronWorker::Client (0.13), Perl 5.028000, /opt/perl-5.28.0/bin/perl
# test ReadIronMQConfig
# Current dir config filename: ./iron.json
# Extra config filename: t/.IronMQTestConfig.json
t/Iron/client_readconfig.t ... ok
# Testing IO::Iron::Common (0.13), Perl 5.028000, /opt/perl-5.28.0/bin/perl
t/Iron/common.t .............. ok
# Testing IO::Iron (0.13), Perl 5.028000, /opt/perl-5.28.0/bin/perl
t/Iron/load.t ................ ok
# Testing IO::Iron::IronCache::Client (0.13) with policies, Perl 5.028000, /opt/perl-5.28.0/bin/perl
t/IronCache/cache_policy.t ... ok
# Testing IO::Iron::IronCache::Client (0.13), Perl 5.028000, /opt/perl-5.28.0/bin/perl
t/IronCache/cache_policy2.t .. ok
# Testing IO::Iron::IronCache::Client (0.13), Perl 5.028000, /opt/perl-5.28.0/bin/perl
t/IronCache/load.t ........... ok
# Testing IO::Iron::IronMQ::Client (0.13), Perl 5.028000, /opt/perl-5.28.0/bin/perl
t/IronMQ/load.t .............. ok
# Testing IO::Iron::IronCache::Client (0.13), Perl 5.028000, /opt/perl-5.28.0/bin/perl
t/IronWorker/load.t .......... ok
All tests successful.
Files=9, Tests=104, 1 wallclock secs ( 0.04 usr 0.03 sys + 0.84 cusr 0.16 csys = 1.07 CPU)
Result: PASS
------------------------------
PREREQUISITES
------------------------------
Prerequisite modules loaded:
requires:
Module Need Have
------------------- --------- --------
Carp 0 1.50
Carp::Assert 0 0.21
Carp::Assert::More 0 1.16
Const::Fast 0 0.014
Data::UUID 0 1.221
English 0 1.10
Exception::Class 0 1.44
Exporter 0 5.73
File::HomeDir 0 1.004
File::Spec 0 3.75
Hash::Util 0.06 0.22
JSON::MaybeXS 0 1.004000
Log::Any 0 1.705
Params::Validate 0 1.29
parent 0 0.236
Path::Tiny 0 0.108
perl 5.010000 5.028000
REST::Client 0 273
Scalar::Util 0 1.50
strict 0 1.11
Try::Tiny 0 0.30
URI::Escape 0 3.31
warnings 0 1.42
build_requires:
Module Need Have
------------------- --------- --------
Data::Dumper 0 2.173
ExtUtils::MakeMaker 0 7.34
File::Copy 0 2.33
File::Remove 0 1.57
File::Spec 0 3.75
lib 0 0.64
Log::Any::Test 0 1.705
Test::Exception 0 0.43
Test::More 0 1.302140
configure_requires:
Module Need Have
------------------- --------- --------
ExtUtils::MakeMaker 0 7.34
perl 5.010_000 5.028000
------------------------------
ENVIRONMENT AND OTHER CONTEXT
------------------------------
Environment variables:
LANG = en_US.UTF-8
PATH = /usr/local/bin:/usr/bin:/bin:/usr/local/sbin:/usr/sbin:/sbin:/home/cpansand/bin/linux-gnu:/home/cpansand/bin/sh:/home/cpansand/bin:/usr/games:/home/cpansand/devel:/home/eserte/src/srezic-misc/scripts
PERL5LIB =
PERL5OPT =
PERL5_CPANPLUS_IS_RUNNING = 21517
PERL5_CPAN_IS_RUNNING = 21517
PERL5_CPAN_IS_RUNNING_IN_RECURSION = 19739,21517
PERLDOC = -MPod::Perldoc::ToTextOverstrike
PERL_BATCH = yes
PERL_CANARY_STABILITY_NOPROMPT = 1
PERL_CPAN_REPORTER_CONFIG = /var/tmp/cpansmoker-1023/2019010823/cpanreporter_000_config.ini
PERL_EXTUTILS_AUTOINSTALL = --defaultdeps
PERL_USE_UNSAFE_INC = 1
SHELL = /bin/zsh
TERM = screen
TMPDIR = /var/tmp/cpansmoker-1023/2019010823
Perl special variables (and OS-specific diagnostics, for MSWin32):
$^X = /opt/perl-5.28.0/bin/perl
$UID/$EUID = 1023 / 1023
$GID = 1023 1023
$EGID = 1023 1023
Perl module toolchain versions installed:
Module Have
------------------- --------
CPAN 2.22
CPAN::Meta 2.150010
Cwd 3.75
ExtUtils::CBuilder 0.280230
ExtUtils::Command 7.34
ExtUtils::Install 2.14
ExtUtils::MakeMaker 7.34
ExtUtils::Manifest 1.70
ExtUtils::ParseXS 3.39
File::Spec 3.75
JSON 4.00
JSON::PP 2.97001
Module::Build 0.4224
Module::Signature 0.83
Parse::CPAN::Meta 2.150010
Test::Harness 3.42
Test::More 1.302140
YAML 1.26
YAML::Syck 1.31
version 0.9923
--
Summary of my perl5 (revision 5 version 28 subversion 0) configuration:
Platform:
osname=linux
osvers=2.6.32-696.3.1.el6.x86_64
archname=x86_64-linux
uname='linux centos6 2.6.32-696.3.1.el6.x86_64 #1 smp tue may 30 19:52:55 utc 2017 x86_64 x86_64 x86_64 gnulinux '
config_args='-ds -e -Dprefix=/opt/perl-5.28.0 -Dcf_email=srezic@cpan.org'
hint=recommended
useposix=true
d_sigaction=define
useithreads=undef
usemultiplicity=undef
use64bitint=define
use64bitall=define
uselongdouble=undef
usemymalloc=n
default_inc_excludes_dot=define
bincompat5005=undef
Compiler:
cc='cc'
ccflags ='-fwrapv -fno-strict-aliasing -pipe -fstack-protector -I/usr/local/include -D_LARGEFILE_SOURCE -D_FILE_OFFSET_BITS=64 -D_FORTIFY_SOURCE=2'
optimize='-O2'
cppflags='-fwrapv -fno-strict-aliasing -pipe -fstack-protector -I/usr/local/include'
ccversion=''
gccversion='4.4.7 20120313 (Red Hat 4.4.7-18)'
gccosandvers=''
intsize=4
longsize=8
ptrsize=8
doublesize=8
byteorder=12345678
doublekind=3
d_longlong=define
longlongsize=8
d_longdbl=define
longdblsize=16
longdblkind=3
ivtype='long'
ivsize=8
nvtype='double'
nvsize=8
Off_t='off_t'
lseeksize=8
alignbytes=8
prototype=define
Linker and Libraries:
ld='cc'
ldflags =' -fstack-protector -L/usr/local/lib'
libpth=/usr/local/lib /usr/lib /lib/../lib64 /usr/lib/../lib64 /lib /lib64 /usr/lib64 /usr/local/lib64
libs=-lpthread -lnsl -lgdbm -ldb -ldl -lm -lcrypt -lutil -lc
perllibs=-lpthread -lnsl -ldl -lm -lcrypt -lutil -lc
libc=libc-2.12.so
so=so
useshrplib=false
libperl=libperl.a
gnulibc_version='2.12'
Dynamic Linking:
dlsrc=dl_dlopen.xs
dlext=so
d_dlsymun=undef
ccdlflags='-Wl,-E'
cccdlflags='-fPIC'
lddlflags='-shared -O2 -L/usr/local/lib -fstack-protector'
Characteristics of this binary (from libperl):
Compile-time options:
HAS_TIMES
PERLIO_LAYERS
PERL_COPY_ON_WRITE
PERL_DONT_CREATE_GVSV
PERL_MALLOC_WRAP
PERL_OP_PARENT
PERL_PRESERVE_IVUV
USE_64_BIT_ALL
USE_64_BIT_INT
USE_LARGE_FILES
USE_LOCALE
USE_LOCALE_COLLATE
USE_LOCALE_CTYPE
USE_LOCALE_NUMERIC
USE_LOCALE_TIME
USE_PERLIO
USE_PERL_ATOF
Built under linux
Compiled at Jun 23 2018 06:41:58
%ENV:
PERL5LIB=""
PERL5OPT=""
PERL5_CPANPLUS_IS_RUNNING="21517"
PERL5_CPAN_IS_RUNNING="21517"
PERL5_CPAN_IS_RUNNING_IN_RECURSION="19739,21517"
PERLDOC="-MPod::Perldoc::ToTextOverstrike"
PERL_BATCH="yes"
PERL_CANARY_STABILITY_NOPROMPT="1"
PERL_CPAN_REPORTER_CONFIG="/var/tmp/cpansmoker-1023/2019010823/cpanreporter_000_config.ini"
PERL_EXTUTILS_AUTOINSTALL="--defaultdeps"
PERL_USE_UNSAFE_INC="1"
@INC:
/opt/perl-5.28.0/lib/site_perl/5.28.0/x86_64-linux
/opt/perl-5.28.0/lib/site_perl/5.28.0
/opt/perl-5.28.0/lib/5.28.0/x86_64-linux
/opt/perl-5.28.0/lib/5.28.0
.