Report for Error-Hierarchy-1.103530

Back
From: metabase:user:d3bc49c6-e9ce-11e6-95e8-c5cd2189b6c4
Subject: PASS Error-Hierarchy-1.103530 v5.25.9 GNU/Linux
Date: 2017-02-04T06:24:35Z

This distribution has been tested as part of the CPAN Testers
project, supporting the Perl programming language.  See
http://wiki.cpantesters.org/ for more information or email
questions to cpan-testers-discuss@perl.org


--
Dear base64.tokyo,

This is a computer-generated report for Error-Hierarchy-1.103530
on perl 5.25.9, created by CPAN-Reporter-1.2018.

Thank you for uploading your work to CPAN.  Congratulations!
All tests were successful.

Sections of this report:

    * Tester comments
    * Program output
    * Prerequisites
    * Environment and other context

------------------------------
TESTER COMMENTS
------------------------------

Additional comments from tester:

this report is from an automated smoke testing program
and was not reviewed by a human for accuracy

NOTE: This perl was built without . in @INC. This will be a new feature in 5.26 and for security reasons,
it is good that your module support this feature. You can try this for yourself by executing:

perl -M-lib=. Makefile.PL (or Build.PL)

If your this fails, then you may need to correct distro to support this. No documentation exists yet but you can try this link for more help:

https://github.com/toddr/perl/issues/15 


------------------------------
PROGRAM OUTPUT
------------------------------

Output from '/usr/bin/make test':

PERL_DL_NONLAZY=1 "/perl/5.25.9/bin/perl5.25.9" "-MExtUtils::Command::MM" "-MTest::Harness" "-e" "undef *Test::Harness::Switches; test_harness(0, 'blib/lib', 'blib/arch')" t/*.t
t/00-compile.t ............... ok
# Testing with Perl 5.025009, /perl/5.25.9/bin/perl5.25.9
#     Capture::Tiny version is 0.44
#     Carp version is 1.42
#     Class::Accessor version is 0.34
#     Class::Accessor::Complex version is 1.100880
#     Class::Trigger version is 0.14
#     Data::Container version is 1.100840
#     Data::Dumper version is 2.167
#     Data::Inherited version is 1.100860
#     Data::Miscellany version is 1.100850
#     Data::UUID version is 1.221
#     English version is 1.10
#     Error version is 0.17024
#     Exporter version is 5.72
#     ExtUtils::MakeMaker version is 7.24
#     File::Find version is 1.34
#     File::Temp version is 0.2304
#     Scalar::Util version is 1.4602
#     Sys::Hostname version is 1.20
#     Test::Builder version is 1.302075
#     Test::Exception version is 0.43
#     Test::More version is 1.302075
#     YAML version is 1.21
#     constant version is 1.33
#     overload version is 1.28
#     parent version is 0.236
t/000-report-versions.t ...... ok
t/01_all.t ................... ok
t/02_trigger.t ............... ok
t/author-critic.t ............ skipped: these tests are for testing by the author
t/release-check-changes.t .... skipped: these tests are for release candidate testing
t/release-dist-manifest.t .... skipped: these tests are for release candidate testing
t/release-distmeta.t ......... skipped: these tests are for release candidate testing
t/release-eol.t .............. skipped: these tests are for release candidate testing
t/release-has-version.t ...... skipped: these tests are for release candidate testing
t/release-kwalitee.t ......... skipped: these tests are for release candidate testing
t/release-minimum-version.t .. skipped: these tests are for release candidate testing
t/release-no-tabs.t .......... skipped: these tests are for release candidate testing
t/release-pod-coverage.t ..... skipped: these tests are for release candidate testing
t/release-pod-spell.t ........ skipped: these tests are for release candidate testing
t/release-pod-syntax.t ....... skipped: these tests are for release candidate testing
t/release-portability.t ...... skipped: these tests are for release candidate testing
t/release-synopsis.t ......... skipped: these tests are for release candidate testing
t/release-unused-vars.t ...... skipped: these tests are for release candidate testing
All tests successful.
Files=19, Tests=101,  4 wallclock secs ( 0.08 usr  0.04 sys +  2.94 cusr  0.38 csys =  3.44 CPU)
Result: PASS

------------------------------
PREREQUISITES
------------------------------

Prerequisite modules loaded:

requires:

    Module                   Need Have    
    ------------------------ ---- --------
    Carp                     0    1.42    
    Class::Accessor          0    0.34    
    Class::Accessor::Complex 0    1.100880
    Class::Trigger           0    0.14    
    constant                 0    1.33    
    Data::Container          0    1.100840
    Data::Dumper             0    2.167   
    Data::Inherited          0    1.100860
    Data::Miscellany         0    1.100850
    Data::UUID               0    1.221   
    Error                    0    0.17024 
    Exporter                 0    5.72    
    overload                 0    1.28    
    parent                   0    0.236   
    Sys::Hostname            0    1.20    
    Test::Builder            0    1.302075
    Test::Exception          0    0.43    
    YAML                     0    1.21    

build_requires:

    Module                   Need Have    
    ------------------------ ---- --------
    Capture::Tiny            0    0.44    
    English                  0    1.10    
    File::Find               0    1.34    
    File::Temp               0    0.2304  
    Scalar::Util             0    1.46_02 
    Test::More               0.94 1.302075

configure_requires:

    Module                   Need Have    
    ------------------------ ---- --------
    ExtUtils::MakeMaker      6.31 7.24    


------------------------------
ENVIRONMENT AND OTHER CONTEXT
------------------------------

Environment variables:

    AUTOMATED_TESTING = 1
    CPANEL_SLOW_TESTS = 1
    LANG = en_US.UTF-8
    PATH = /home/smoker/perl5/bin:/perl/5.25.9/bin:/usr/bin:/bin:/usr/sbin:/sbin:/usr/local/bin
    PERL5LIB = /home/smoker/perl5/lib/perl5
    PERL5OPT = 
    PERL5_CPANPLUS_IS_RUNNING = 8525
    PERL5_CPAN_IS_RUNNING = 8525
    PERL_EXTUTILS_AUTOINSTALL = 1
    PERL_LOCAL_LIB_ROOT = /home/smoker/perl5
    PERL_MB_OPT = --install_base "/home/smoker/perl5"
    PERL_MM_OPT = INSTALL_BASE=/home/smoker/perl5
    PERL_MM_USE_DEFAULT = 1
    SHELL = /usr/bin/zsh
    TERM = xterm-color

Perl special variables (and OS-specific diagnostics, for MSWin32):

    $^X = /perl/5.25.9/bin/perl5.25.9
    $UID/$EUID = 1011 / 1011
    $GID = 1012 1012
    $EGID = 1012 1012

Perl module toolchain versions installed:

    Module              Have      
    ------------------- ----------
    CPAN                2.16      
    CPAN::Meta          2.150010  
    Cwd                 3.66      
    ExtUtils::CBuilder  0.280225  
    ExtUtils::Command   7.24      
    ExtUtils::Install   2.04      
    ExtUtils::MakeMaker 7.24      
    ExtUtils::Manifest  1.70      
    ExtUtils::ParseXS   3.33      
    File::Spec          3.66      
    JSON                2.90      
    JSON::PP            2.27400_02
    Module::Build       0.4220    
    Module::Signature   0.81      
    Parse::CPAN::Meta   2.150010  
    Test::Harness       3.37_01   
    Test::More          1.302075  
    YAML                1.21      
    YAML::Syck          1.29      
    version             0.9917    


--

Summary of my perl5 (revision 5 version 25 subversion 9) configuration:
   
  Platform:
    osname=linux
    osvers=3.10.0-514.6.1.el7.x86_64
    archname=x86_64-linux
    uname='linux cpansmoker.dev.cpanel.net 3.10.0-514.6.1.el7.x86_64 #1 smp wed jan 18 13:06:36 utc 2017 x86_64 x86_64 x86_64 gnulinux '
    config_args='-des -Dusedevel -Ddefault_inc_excludes_dot -Dusemymalloc=n -DDEBUGGING=none -Doptimize=-Os -Accflags=-m64 -Duseshrplib -Duselargefiles=yes -Duseposix=true -Dhint=recommended -Duseperlio=yes -Dprefix=/perl/5.25.9 -Dscriptdir=/perl/5.25.9/bin -Dscriptdirexp=/perl/5.25.9/bin -Dman1dir=none -Dman3dir=none -Dsiteman1dir=none -Dsiteman3dir=none -Dinstallman1dir=none -Dversiononly=yes -Dinstallusrbinperl=no -Dcf_by=toddr_dot_inc -Dmyhostname=localhost -Dperladmin=root@localhost -Dcf_email=toddr@cpan.org -Ud_dosuid -Uuserelocatableinc -Umad -Uusethreads -Uusemultiplicity -Uusesocks -Uuselongdouble -Duse64bitint -Uuse64bitall'
    hint=recommended
    useposix=true
    d_sigaction=define
    useithreads=undef
    usemultiplicity=undef
    use64bitint=define
    use64bitall=undef
    uselongdouble=undef
    usemymalloc=n
    bincompat5005=undef
  Compiler:
    cc='cc'
    ccflags ='-m64 -fwrapv -fno-strict-aliasing -pipe -fstack-protector-strong -I/usr/local/include -D_LARGEFILE_SOURCE -D_FILE_OFFSET_BITS=64 -D_FORTIFY_SOURCE=2'
    optimize='-Os'
    cppflags='-m64 -fwrapv -fno-strict-aliasing -pipe -fstack-protector-strong -I/usr/local/include'
    ccversion=''
    gccversion='4.8.5 20150623 (Red Hat 4.8.5-11)'
    gccosandvers=''
    intsize=4
    longsize=8
    ptrsize=8
    doublesize=8
    byteorder=12345678
    doublekind=3
    d_longlong=define
    longlongsize=8
    d_longdbl=define
    longdblsize=16
    longdblkind=3
    ivtype='long'
    ivsize=8
    nvtype='double'
    nvsize=8
    Off_t='off_t'
    lseeksize=8
    alignbytes=8
    prototype=define
  Linker and Libraries:
    ld='cc'
    ldflags =' -fstack-protector-strong -L/usr/local/lib'
    libpth=/usr/local/lib /usr/lib /lib/../lib64 /usr/lib/../lib64 /lib /lib64 /usr/lib64 /usr/local/lib64
    libs=-lpthread -lnsl -lgdbm -ldb -ldl -lm -lcrypt -lutil -lc -lgdbm_compat
    perllibs=-lpthread -lnsl -ldl -lm -lcrypt -lutil -lc
    libc=libc-2.17.so
    so=so
    useshrplib=true
    libperl=libperl.so
    gnulibc_version='2.17'
  Dynamic Linking:
    dlsrc=dl_dlopen.xs
    dlext=so
    d_dlsymun=undef
    ccdlflags='-Wl,-E -Wl,-rpath,/perl/5.25.9/lib/5.25.9/x86_64-linux/CORE'
    cccdlflags='-fPIC'
    lddlflags='-shared -Os -L/usr/local/lib -fstack-protector-strong'


Characteristics of this binary (from libperl): 
  Compile-time options:
    HAS_TIMES
    PERLIO_LAYERS
    PERL_COPY_ON_WRITE
    PERL_DONT_CREATE_GVSV
    PERL_MALLOC_WRAP
    PERL_OP_PARENT
    PERL_PRESERVE_IVUV
    PERL_USE_DEVEL
    USE_64_BIT_INT
    USE_LARGE_FILES
    USE_LOCALE
    USE_LOCALE_COLLATE
    USE_LOCALE_CTYPE
    USE_LOCALE_NUMERIC
    USE_LOCALE_TIME
    USE_PERLIO
    USE_PERL_ATOF
  Built under linux
  Compiled at Feb  2 2017 16:49:26
  %ENV:
    PERL5LIB="/home/smoker/perl5/lib/perl5"
    PERL5OPT=""
    PERL5_CPANPLUS_IS_RUNNING="8525"
    PERL5_CPAN_IS_RUNNING="8525"
    PERL_EXTUTILS_AUTOINSTALL="1"
    PERL_LOCAL_LIB_ROOT="/home/smoker/perl5"
    PERL_MB_OPT="--install_base "/home/smoker/perl5""
    PERL_MM_OPT="INSTALL_BASE=/home/smoker/perl5"
    PERL_MM_USE_DEFAULT="1"
  @INC:
    /home/smoker/perl5/lib/perl5/5.25.9/x86_64-linux
    /home/smoker/perl5/lib/perl5/5.25.9
    /home/smoker/perl5/lib/perl5/x86_64-linux
    /home/smoker/perl5/lib/perl5
    /perl/5.25.9/lib/site_perl/5.25.9/x86_64-linux
    /perl/5.25.9/lib/site_perl/5.25.9
    /perl/5.25.9/lib/5.25.9/x86_64-linux
    /perl/5.25.9/lib/5.25.9