Report for Encode-ISO2022-0.04

Back
From: metabase:user:d49cdc72-1559-11e3-9efd-e82414baadac
Subject: PASS Encode-ISO2022-0.04 v5.21.8 GNU/Linux
Date: 2015-01-23T20:15:38Z

This distribution has been tested as part of the CPAN Testers
project, supporting the Perl programming language.  See
http://wiki.cpantesters.org/ for more information or email
questions to cpan-testers-discuss@perl.org


--
Dear NEZUMI,

This is a computer-generated report for Encode-ISO2022-0.04
on perl 5.21.8, created by App::cpanminus::reporter 0.12 (1.7022).

Thank you for uploading your work to CPAN.  Congratulations!
All tests were successful.

Sections of this report:

    * Tester comments
    * Program output
    * Prerequisites
    * Environment and other context

------------------------------
TESTER COMMENTS
------------------------------

Additional comments from tester:

none provided

------------------------------
PROGRAM OUTPUT
------------------------------

Output from '':

Building and testing Encode-ISO2022-0.04
cp lib/Encode/ISO2022.pm blib/lib/Encode/ISO2022.pm
cp lib/Encode/ISO2022JP2.pm blib/lib/Encode/ISO2022JP2.pm
cp lib/Encode/ISO2022/CCS.pod blib/lib/Encode/ISO2022/CCS.pod
cp lib/Encode/JISLegacy.pm blib/lib/Encode/JISLegacy.pm
cp lib/Encode/ISOIRSingle.pm blib/lib/Encode/ISOIRSingle.pm
make[1]: Entering directory '/home/kent/.cpanm/work/1422044113.574614/Encode-ISO2022-0.04/ISO2022'
Running Mkbootstrap for Encode::ISO2022 ()
chmod 644 "ISO2022.bs"
"/home/kent/perl5/perlbrew/perls/5.21.8-b/bin/perl5.21.8"  /home/kent/perl5/perlbrew/perls/5.21.8-b/bin/enc2xs -"Q" -o c1_00_t.c -f c1_00_t.fnm
Writing compiled form
96 bytes in string tables
Reading c1-ctrl (c1-ctrl)
"/home/kent/perl5/perlbrew/perls/5.21.8-b/bin/perl5.21.8" "/home/kent/perl5/perlbrew/perls/5.21.8-b/lib/5.21.8/ExtUtils/xsubpp"  -nolinenumbers -typemap "/home/kent/perl5/perlbrew/perls/5.21.8-b/lib/5.21.8/ExtUtils/typemap"  ISO2022.xs > ISO2022.xsc && mv ISO2022.xsc ISO2022.c
cc -c  -I/home/kent/perl5/perlbrew/perls/5.21.8-b/lib/5.21.8/Encode -DPERL_HASH_FUNC_SDBM -DUSE_C_BACKTRACE_ON_ERROR -fwrapv -fno-strict-aliasing -pipe -fstack-protector -DUSE_C_BACKTRACE -g -D_LARGEFILE_SOURCE -D_FILE_OFFSET_BITS=64 -O3 -march=native -mtune=native -g -ggdb3   -DVERSION=\"0.04\" -DXS_VERSION=\"0.04\" -fPIC "-I/home/kent/perl5/perlbrew/perls/5.21.8-b/lib/5.21.8/x86_64-linux/CORE"   ISO2022.c
cc -c  -I/home/kent/perl5/perlbrew/perls/5.21.8-b/lib/5.21.8/Encode -DPERL_HASH_FUNC_SDBM -DUSE_C_BACKTRACE_ON_ERROR -fwrapv -fno-strict-aliasing -pipe -fstack-protector -DUSE_C_BACKTRACE -g -D_LARGEFILE_SOURCE -D_FILE_OFFSET_BITS=64 -O3 -march=native -mtune=native -g -ggdb3   -DVERSION=\"0.04\" -DXS_VERSION=\"0.04\" -fPIC "-I/home/kent/perl5/perlbrew/perls/5.21.8-b/lib/5.21.8/x86_64-linux/CORE"   c1_00_t.c
rm -f ../blib/arch/auto/Encode/ISO2022/ISO2022.so
cc  -shared -O3 -march=native -mtune=native -g -ggdb3 -L/usr/local/lib -fstack-protector ISO2022.o c1_00_t.o  -o ../blib/arch/auto/Encode/ISO2022/ISO2022.so 	\
     	\
  
chmod 755 ../blib/arch/auto/Encode/ISO2022/ISO2022.so
"/home/kent/perl5/perlbrew/perls/5.21.8-b/bin/perl5.21.8" -MExtUtils::Command::MM -e 'cp_nonempty' -- ISO2022.bs ../blib/arch/auto/Encode/ISO2022/ISO2022.bs 644
make[1]: Leaving directory '/home/kent/.cpanm/work/1422044113.574614/Encode-ISO2022-0.04/ISO2022'
make[1]: Entering directory '/home/kent/.cpanm/work/1422044113.574614/Encode-ISO2022-0.04/ISOIRSingle'
Running Mkbootstrap for Encode::ISOIRSingle ()
chmod 644 "ISOIRSingle.bs"
"/home/kent/perl5/perlbrew/perls/5.21.8-b/bin/perl5.21.8"  /home/kent/perl5/perlbrew/perls/5.21.8-b/bin/enc2xs -"Q" -o is_10_t.c -f is_10_t.fnm
Writing compiled form
288 bytes in string tables
Reading iso-8859-9-right (iso-8859-9-right)
"/home/kent/perl5/perlbrew/perls/5.21.8-b/bin/perl5.21.8"  /home/kent/perl5/perlbrew/perls/5.21.8-b/bin/enc2xs -"Q" -o is_03_t.c -f is_03_t.fnm
Writing compiled form
288 bytes in string tables
Reading iso-8859-4-right (iso-8859-4-right)
"/home/kent/perl5/perlbrew/perls/5.21.8-b/bin/perl5.21.8"  /home/kent/perl5/perlbrew/perls/5.21.8-b/bin/enc2xs -"Q" -o is_14_t.c -f is_14_t.fnm
Writing compiled form
310 bytes in string tables
Reading iso-8859-14-right (iso-8859-14-right)
"/home/kent/perl5/perlbrew/perls/5.21.8-b/bin/perl5.21.8"  /home/kent/perl5/perlbrew/perls/5.21.8-b/bin/enc2xs -"Q" -o is_13_t.c -f is_13_t.fnm
Writing compiled form
292 bytes in string tables
Reading iso-8859-13-right (iso-8859-13-right)
"/home/kent/perl5/perlbrew/perls/5.21.8-b/bin/perl5.21.8"  /home/kent/perl5/perlbrew/perls/5.21.8-b/bin/enc2xs -"Q" -o is_02_t.c -f is_02_t.fnm
Writing compiled form
267 bytes in string tables
Reading iso-8859-3-right (iso-8859-3-right)
"/home/kent/perl5/perlbrew/perls/5.21.8-b/bin/perl5.21.8"  /home/kent/perl5/perlbrew/perls/5.21.8-b/bin/enc2xs -"Q" -o is_12_t.c -f is_12_t.fnm
Writing compiled form
351 bytes in string tables
Reading iso-8859-11-right (iso-8859-11-right)
"/home/kent/perl5/perlbrew/perls/5.21.8-b/bin/perl5.21.8"  /home/kent/perl5/perlbrew/perls/5.21.8-b/bin/enc2xs -"Q" -o is_01_t.c -f is_01_t.fnm
Writing compiled form
288 bytes in string tables
Reading iso-8859-2-right (iso-8859-2-right)
"/home/kent/perl5/perlbrew/perls/5.21.8-b/bin/perl5.21.8"  /home/kent/perl5/perlbrew/perls/5.21.8-b/bin/enc2xs -"Q" -o is_00_t.c -f is_00_t.fnm
Writing compiled form
288 bytes in string tables
Reading iso-8859-1-right (iso-8859-1-right)
"/home/kent/perl5/perlbrew/perls/5.21.8-b/bin/perl5.21.8"  /home/kent/perl5/perlbrew/perls/5.21.8-b/bin/enc2xs -"Q" -o is_11_t.c -f is_11_t.fnm
Writing compiled form
289 bytes in string tables
Reading iso-8859-10-right (iso-8859-10-right)
"/home/kent/perl5/perlbrew/perls/5.21.8-b/bin/perl5.21.8"  /home/kent/perl5/perlbrew/perls/5.21.8-b/bin/enc2xs -"Q" -o is_07_t.c -f is_07_t.fnm
Writing compiled form
183 bytes in string tables
Reading iso-8859-8-right (iso-8859-8-right)
"/home/kent/perl5/perlbrew/perls/5.21.8-b/bin/perl5.21.8"  /home/kent/perl5/perlbrew/perls/5.21.8-b/bin/enc2xs -"Q" -o is_06_t.c -f is_06_t.fnm
Writing compiled form
252 bytes in string tables
Reading jis-x-0201-right (jis-x-0201-right)
"/home/kent/perl5/perlbrew/perls/5.21.8-b/bin/perl5.21.8"  /home/kent/perl5/perlbrew/perls/5.21.8-b/bin/enc2xs -"Q" -o is_16_t.c -f is_16_t.fnm
Writing compiled form
291 bytes in string tables
Reading iso-8859-16-right (iso-8859-16-right)
"/home/kent/perl5/perlbrew/perls/5.21.8-b/bin/perl5.21.8"  /home/kent/perl5/perlbrew/perls/5.21.8-b/bin/enc2xs -"Q" -o is_05_t.c -f is_05_t.fnm
Writing compiled form
153 bytes in string tables
Reading iso-8859-6-right (iso-8859-6-right)
"/home/kent/perl5/perlbrew/perls/5.21.8-b/bin/perl5.21.8"  /home/kent/perl5/perlbrew/perls/5.21.8-b/bin/enc2xs -"Q" -o is_15_t.c -f is_15_t.fnm
Writing compiled form
289 bytes in string tables
Reading iso-8859-15-right (iso-8859-15-right)
"/home/kent/perl5/perlbrew/perls/5.21.8-b/bin/perl5.21.8"  /home/kent/perl5/perlbrew/perls/5.21.8-b/bin/enc2xs -"Q" -o is_04_t.c -f is_04_t.fnm
Writing compiled form
284 bytes in string tables
Reading iso-8859-7-right (iso-8859-7-right)
"/home/kent/perl5/perlbrew/perls/5.21.8-b/bin/perl5.21.8"  /home/kent/perl5/perlbrew/perls/5.21.8-b/bin/enc2xs -"Q" -o is_09_t.c -f is_09_t.fnm
Writing compiled form
289 bytes in string tables
Reading iso-8859-5-right (iso-8859-5-right)
"/home/kent/perl5/perlbrew/perls/5.21.8-b/bin/perl5.21.8"  /home/kent/perl5/perlbrew/perls/5.21.8-b/bin/enc2xs -"Q" -o is_08_t.c -f is_08_t.fnm
Writing compiled form
101 bytes in string tables
Reading iso-646-jp (iso-646-jp)
"/home/kent/perl5/perlbrew/perls/5.21.8-b/bin/perl5.21.8" "/home/kent/perl5/perlbrew/perls/5.21.8-b/lib/5.21.8/ExtUtils/xsubpp"  -nolinenumbers -typemap "/home/kent/perl5/perlbrew/perls/5.21.8-b/lib/5.21.8/ExtUtils/typemap"  ISOIRSingle.xs > ISOIRSingle.xsc && mv ISOIRSingle.xsc ISOIRSingle.c
cc -c  -I/home/kent/perl5/perlbrew/perls/5.21.8-b/lib/5.21.8/Encode -DPERL_HASH_FUNC_SDBM -DUSE_C_BACKTRACE_ON_ERROR -fwrapv -fno-strict-aliasing -pipe -fstack-protector -DUSE_C_BACKTRACE -g -D_LARGEFILE_SOURCE -D_FILE_OFFSET_BITS=64 -O3 -march=native -mtune=native -g -ggdb3   -DVERSION=\"0.01\" -DXS_VERSION=\"0.01\" -fPIC "-I/home/kent/perl5/perlbrew/perls/5.21.8-b/lib/5.21.8/x86_64-linux/CORE"   ISOIRSingle.c
cc -c  -I/home/kent/perl5/perlbrew/perls/5.21.8-b/lib/5.21.8/Encode -DPERL_HASH_FUNC_SDBM -DUSE_C_BACKTRACE_ON_ERROR -fwrapv -fno-strict-aliasing -pipe -fstack-protector -DUSE_C_BACKTRACE -g -D_LARGEFILE_SOURCE -D_FILE_OFFSET_BITS=64 -O3 -march=native -mtune=native -g -ggdb3   -DVERSION=\"0.01\" -DXS_VERSION=\"0.01\" -fPIC "-I/home/kent/perl5/perlbrew/perls/5.21.8-b/lib/5.21.8/x86_64-linux/CORE"   is_00_t.c
cc -c  -I/home/kent/perl5/perlbrew/perls/5.21.8-b/lib/5.21.8/Encode -DPERL_HASH_FUNC_SDBM -DUSE_C_BACKTRACE_ON_ERROR -fwrapv -fno-strict-aliasing -pipe -fstack-protector -DUSE_C_BACKTRACE -g -D_LARGEFILE_SOURCE -D_FILE_OFFSET_BITS=64 -O3 -march=native -mtune=native -g -ggdb3   -DVERSION=\"0.01\" -DXS_VERSION=\"0.01\" -fPIC "-I/home/kent/perl5/perlbrew/perls/5.21.8-b/lib/5.21.8/x86_64-linux/CORE"   is_01_t.c
cc -c  -I/home/kent/perl5/perlbrew/perls/5.21.8-b/lib/5.21.8/Encode -DPERL_HASH_FUNC_SDBM -DUSE_C_BACKTRACE_ON_ERROR -fwrapv -fno-strict-aliasing -pipe -fstack-protector -DUSE_C_BACKTRACE -g -D_LARGEFILE_SOURCE -D_FILE_OFFSET_BITS=64 -O3 -march=native -mtune=native -g -ggdb3   -DVERSION=\"0.01\" -DXS_VERSION=\"0.01\" -fPIC "-I/home/kent/perl5/perlbrew/perls/5.21.8-b/lib/5.21.8/x86_64-linux/CORE"   is_02_t.c
cc -c  -I/home/kent/perl5/perlbrew/perls/5.21.8-b/lib/5.21.8/Encode -DPERL_HASH_FUNC_SDBM -DUSE_C_BACKTRACE_ON_ERROR -fwrapv -fno-strict-aliasing -pipe -fstack-protector -DUSE_C_BACKTRACE -g -D_LARGEFILE_SOURCE -D_FILE_OFFSET_BITS=64 -O3 -march=native -mtune=native -g -ggdb3   -DVERSION=\"0.01\" -DXS_VERSION=\"0.01\" -fPIC "-I/home/kent/perl5/perlbrew/perls/5.21.8-b/lib/5.21.8/x86_64-linux/CORE"   is_03_t.c
cc -c  -I/home/kent/perl5/perlbrew/perls/5.21.8-b/lib/5.21.8/Encode -DPERL_HASH_FUNC_SDBM -DUSE_C_BACKTRACE_ON_ERROR -fwrapv -fno-strict-aliasing -pipe -fstack-protector -DUSE_C_BACKTRACE -g -D_LARGEFILE_SOURCE -D_FILE_OFFSET_BITS=64 -O3 -march=native -mtune=native -g -ggdb3   -DVERSION=\"0.01\" -DXS_VERSION=\"0.01\" -fPIC "-I/home/kent/perl5/perlbrew/perls/5.21.8-b/lib/5.21.8/x86_64-linux/CORE"   is_04_t.c
cc -c  -I/home/kent/perl5/perlbrew/perls/5.21.8-b/lib/5.21.8/Encode -DPERL_HASH_FUNC_SDBM -DUSE_C_BACKTRACE_ON_ERROR -fwrapv -fno-strict-aliasing -pipe -fstack-protector -DUSE_C_BACKTRACE -g -D_LARGEFILE_SOURCE -D_FILE_OFFSET_BITS=64 -O3 -march=native -mtune=native -g -ggdb3   -DVERSION=\"0.01\" -DXS_VERSION=\"0.01\" -fPIC "-I/home/kent/perl5/perlbrew/perls/5.21.8-b/lib/5.21.8/x86_64-linux/CORE"   is_05_t.c
cc -c  -I/home/kent/perl5/perlbrew/perls/5.21.8-b/lib/5.21.8/Encode -DPERL_HASH_FUNC_SDBM -DUSE_C_BACKTRACE_ON_ERROR -fwrapv -fno-strict-aliasing -pipe -fstack-protector -DUSE_C_BACKTRACE -g -D_LARGEFILE_SOURCE -D_FILE_OFFSET_BITS=64 -O3 -march=native -mtune=native -g -ggdb3   -DVERSION=\"0.01\" -DXS_VERSION=\"0.01\" -fPIC "-I/home/kent/perl5/perlbrew/perls/5.21.8-b/lib/5.21.8/x86_64-linux/CORE"   is_06_t.c
cc -c  -I/home/kent/perl5/perlbrew/perls/5.21.8-b/lib/5.21.8/Encode -DPERL_HASH_FUNC_SDBM -DUSE_C_BACKTRACE_ON_ERROR -fwrapv -fno-strict-aliasing -pipe -fstack-protector -DUSE_C_BACKTRACE -g -D_LARGEFILE_SOURCE -D_FILE_OFFSET_BITS=64 -O3 -march=native -mtune=native -g -ggdb3   -DVERSION=\"0.01\" -DXS_VERSION=\"0.01\" -fPIC "-I/home/kent/perl5/perlbrew/perls/5.21.8-b/lib/5.21.8/x86_64-linux/CORE"   is_07_t.c
cc -c  -I/home/kent/perl5/perlbrew/perls/5.21.8-b/lib/5.21.8/Encode -DPERL_HASH_FUNC_SDBM -DUSE_C_BACKTRACE_ON_ERROR -fwrapv -fno-strict-aliasing -pipe -fstack-protector -DUSE_C_BACKTRACE -g -D_LARGEFILE_SOURCE -D_FILE_OFFSET_BITS=64 -O3 -march=native -mtune=native -g -ggdb3   -DVERSION=\"0.01\" -DXS_VERSION=\"0.01\" -fPIC "-I/home/kent/perl5/perlbrew/perls/5.21.8-b/lib/5.21.8/x86_64-linux/CORE"   is_08_t.c
cc -c  -I/home/kent/perl5/perlbrew/perls/5.21.8-b/lib/5.21.8/Encode -DPERL_HASH_FUNC_SDBM -DUSE_C_BACKTRACE_ON_ERROR -fwrapv -fno-strict-aliasing -pipe -fstack-protector -DUSE_C_BACKTRACE -g -D_LARGEFILE_SOURCE -D_FILE_OFFSET_BITS=64 -O3 -march=native -mtune=native -g -ggdb3   -DVERSION=\"0.01\" -DXS_VERSION=\"0.01\" -fPIC "-I/home/kent/perl5/perlbrew/perls/5.21.8-b/lib/5.21.8/x86_64-linux/CORE"   is_09_t.c
cc -c  -I/home/kent/perl5/perlbrew/perls/5.21.8-b/lib/5.21.8/Encode -DPERL_HASH_FUNC_SDBM -DUSE_C_BACKTRACE_ON_ERROR -fwrapv -fno-strict-aliasing -pipe -fstack-protector -DUSE_C_BACKTRACE -g -D_LARGEFILE_SOURCE -D_FILE_OFFSET_BITS=64 -O3 -march=native -mtune=native -g -ggdb3   -DVERSION=\"0.01\" -DXS_VERSION=\"0.01\" -fPIC "-I/home/kent/perl5/perlbrew/perls/5.21.8-b/lib/5.21.8/x86_64-linux/CORE"   is_10_t.c
cc -c  -I/home/kent/perl5/perlbrew/perls/5.21.8-b/lib/5.21.8/Encode -DPERL_HASH_FUNC_SDBM -DUSE_C_BACKTRACE_ON_ERROR -fwrapv -fno-strict-aliasing -pipe -fstack-protector -DUSE_C_BACKTRACE -g -D_LARGEFILE_SOURCE -D_FILE_OFFSET_BITS=64 -O3 -march=native -mtune=native -g -ggdb3   -DVERSION=\"0.01\" -DXS_VERSION=\"0.01\" -fPIC "-I/home/kent/perl5/perlbrew/perls/5.21.8-b/lib/5.21.8/x86_64-linux/CORE"   is_11_t.c
cc -c  -I/home/kent/perl5/perlbrew/perls/5.21.8-b/lib/5.21.8/Encode -DPERL_HASH_FUNC_SDBM -DUSE_C_BACKTRACE_ON_ERROR -fwrapv -fno-strict-aliasing -pipe -fstack-protector -DUSE_C_BACKTRACE -g -D_LARGEFILE_SOURCE -D_FILE_OFFSET_BITS=64 -O3 -march=native -mtune=native -g -ggdb3   -DVERSION=\"0.01\" -DXS_VERSION=\"0.01\" -fPIC "-I/home/kent/perl5/perlbrew/perls/5.21.8-b/lib/5.21.8/x86_64-linux/CORE"   is_12_t.c
cc -c  -I/home/kent/perl5/perlbrew/perls/5.21.8-b/lib/5.21.8/Encode -DPERL_HASH_FUNC_SDBM -DUSE_C_BACKTRACE_ON_ERROR -fwrapv -fno-strict-aliasing -pipe -fstack-protector -DUSE_C_BACKTRACE -g -D_LARGEFILE_SOURCE -D_FILE_OFFSET_BITS=64 -O3 -march=native -mtune=native -g -ggdb3   -DVERSION=\"0.01\" -DXS_VERSION=\"0.01\" -fPIC "-I/home/kent/perl5/perlbrew/perls/5.21.8-b/lib/5.21.8/x86_64-linux/CORE"   is_13_t.c
cc -c  -I/home/kent/perl5/perlbrew/perls/5.21.8-b/lib/5.21.8/Encode -DPERL_HASH_FUNC_SDBM -DUSE_C_BACKTRACE_ON_ERROR -fwrapv -fno-strict-aliasing -pipe -fstack-protector -DUSE_C_BACKTRACE -g -D_LARGEFILE_SOURCE -D_FILE_OFFSET_BITS=64 -O3 -march=native -mtune=native -g -ggdb3   -DVERSION=\"0.01\" -DXS_VERSION=\"0.01\" -fPIC "-I/home/kent/perl5/perlbrew/perls/5.21.8-b/lib/5.21.8/x86_64-linux/CORE"   is_14_t.c
cc -c  -I/home/kent/perl5/perlbrew/perls/5.21.8-b/lib/5.21.8/Encode -DPERL_HASH_FUNC_SDBM -DUSE_C_BACKTRACE_ON_ERROR -fwrapv -fno-strict-aliasing -pipe -fstack-protector -DUSE_C_BACKTRACE -g -D_LARGEFILE_SOURCE -D_FILE_OFFSET_BITS=64 -O3 -march=native -mtune=native -g -ggdb3   -DVERSION=\"0.01\" -DXS_VERSION=\"0.01\" -fPIC "-I/home/kent/perl5/perlbrew/perls/5.21.8-b/lib/5.21.8/x86_64-linux/CORE"   is_15_t.c
cc -c  -I/home/kent/perl5/perlbrew/perls/5.21.8-b/lib/5.21.8/Encode -DPERL_HASH_FUNC_SDBM -DUSE_C_BACKTRACE_ON_ERROR -fwrapv -fno-strict-aliasing -pipe -fstack-protector -DUSE_C_BACKTRACE -g -D_LARGEFILE_SOURCE -D_FILE_OFFSET_BITS=64 -O3 -march=native -mtune=native -g -ggdb3   -DVERSION=\"0.01\" -DXS_VERSION=\"0.01\" -fPIC "-I/home/kent/perl5/perlbrew/perls/5.21.8-b/lib/5.21.8/x86_64-linux/CORE"   is_16_t.c
rm -f ../blib/arch/auto/Encode/ISOIRSingle/ISOIRSingle.so
cc  -shared -O3 -march=native -mtune=native -g -ggdb3 -L/usr/local/lib -fstack-protector ISOIRSingle.o is_00_t.o is_01_t.o is_02_t.o is_03_t.o is_04_t.o is_05_t.o is_06_t.o is_07_t.o is_08_t.o is_09_t.o is_10_t.o is_11_t.o is_12_t.o is_13_t.o is_14_t.o is_15_t.o is_16_t.o  -o ../blib/arch/auto/Encode/ISOIRSingle/ISOIRSingle.so 	\
     	\
  
chmod 755 ../blib/arch/auto/Encode/ISOIRSingle/ISOIRSingle.so
"/home/kent/perl5/perlbrew/perls/5.21.8-b/bin/perl5.21.8" -MExtUtils::Command::MM -e 'cp_nonempty' -- ISOIRSingle.bs ../blib/arch/auto/Encode/ISOIRSingle/ISOIRSingle.bs 644
make[1]: Leaving directory '/home/kent/.cpanm/work/1422044113.574614/Encode-ISO2022-0.04/ISOIRSingle'
make[1]: Entering directory '/home/kent/.cpanm/work/1422044113.574614/Encode-ISO2022-0.04/JISLegacy'
Running Mkbootstrap for Encode::JISLegacy ()
chmod 644 "JISLegacy.bs"
"/home/kent/perl5/perlbrew/perls/5.21.8-b/bin/perl5.21.8"  /home/kent/perl5/perlbrew/perls/5.21.8-b/bin/enc2xs -"Q" -o ji_00_t.c -f ji_00_t.fnm
Writing compiled form
27244 bytes in string tables
2828 bytes (9.4%) saved spotting duplicates
Reading jis-x-0212-ascii (jis-x-0212-ascii)
"/home/kent/perl5/perlbrew/perls/5.21.8-b/bin/perl5.21.8"  /home/kent/perl5/perlbrew/perls/5.21.8-b/bin/enc2xs -"Q" -o ji_01_t.c -f ji_01_t.fnm
Writing compiled form
27245 bytes in string tables
2828 bytes (9.4%) saved spotting duplicates
Reading jis-x-0212-cp932 (jis-x-0212-cp932)
"/home/kent/perl5/perlbrew/perls/5.21.8-b/bin/perl5.21.8" "/home/kent/perl5/perlbrew/perls/5.21.8-b/lib/5.21.8/ExtUtils/xsubpp"  -nolinenumbers -typemap "/home/kent/perl5/perlbrew/perls/5.21.8-b/lib/5.21.8/ExtUtils/typemap"  JISLegacy.xs > JISLegacy.xsc && mv JISLegacy.xsc JISLegacy.c
cc -c  -I/home/kent/perl5/perlbrew/perls/5.21.8-b/lib/5.21.8/Encode -DPERL_HASH_FUNC_SDBM -DUSE_C_BACKTRACE_ON_ERROR -fwrapv -fno-strict-aliasing -pipe -fstack-protector -DUSE_C_BACKTRACE -g -D_LARGEFILE_SOURCE -D_FILE_OFFSET_BITS=64 -O3 -march=native -mtune=native -g -ggdb3   -DVERSION=\"0.02\" -DXS_VERSION=\"0.02\" -fPIC "-I/home/kent/perl5/perlbrew/perls/5.21.8-b/lib/5.21.8/x86_64-linux/CORE"   JISLegacy.c
cc -c  -I/home/kent/perl5/perlbrew/perls/5.21.8-b/lib/5.21.8/Encode -DPERL_HASH_FUNC_SDBM -DUSE_C_BACKTRACE_ON_ERROR -fwrapv -fno-strict-aliasing -pipe -fstack-protector -DUSE_C_BACKTRACE -g -D_LARGEFILE_SOURCE -D_FILE_OFFSET_BITS=64 -O3 -march=native -mtune=native -g -ggdb3   -DVERSION=\"0.02\" -DXS_VERSION=\"0.02\" -fPIC "-I/home/kent/perl5/perlbrew/perls/5.21.8-b/lib/5.21.8/x86_64-linux/CORE"   ji_00_t.c
cc -c  -I/home/kent/perl5/perlbrew/perls/5.21.8-b/lib/5.21.8/Encode -DPERL_HASH_FUNC_SDBM -DUSE_C_BACKTRACE_ON_ERROR -fwrapv -fno-strict-aliasing -pipe -fstack-protector -DUSE_C_BACKTRACE -g -D_LARGEFILE_SOURCE -D_FILE_OFFSET_BITS=64 -O3 -march=native -mtune=native -g -ggdb3   -DVERSION=\"0.02\" -DXS_VERSION=\"0.02\" -fPIC "-I/home/kent/perl5/perlbrew/perls/5.21.8-b/lib/5.21.8/x86_64-linux/CORE"   ji_01_t.c
rm -f ../blib/arch/auto/Encode/JISLegacy/JISLegacy.so
cc  -shared -O3 -march=native -mtune=native -g -ggdb3 -L/usr/local/lib -fstack-protector JISLegacy.o ji_00_t.o ji_01_t.o  -o ../blib/arch/auto/Encode/JISLegacy/JISLegacy.so 	\
     	\
  
chmod 755 ../blib/arch/auto/Encode/JISLegacy/JISLegacy.so
"/home/kent/perl5/perlbrew/perls/5.21.8-b/bin/perl5.21.8" -MExtUtils::Command::MM -e 'cp_nonempty' -- JISLegacy.bs ../blib/arch/auto/Encode/JISLegacy/JISLegacy.bs 644
make[1]: Leaving directory '/home/kent/.cpanm/work/1422044113.574614/Encode-ISO2022-0.04/JISLegacy'
make[1]: Entering directory '/home/kent/.cpanm/work/1422044113.574614/Encode-ISO2022-0.04/ISO2022'
Running Mkbootstrap for Encode::ISO2022 ()
chmod 644 "ISO2022.bs"
make[1]: Leaving directory '/home/kent/.cpanm/work/1422044113.574614/Encode-ISO2022-0.04/ISO2022'
make[1]: Entering directory '/home/kent/.cpanm/work/1422044113.574614/Encode-ISO2022-0.04/ISOIRSingle'
Running Mkbootstrap for Encode::ISOIRSingle ()
chmod 644 "ISOIRSingle.bs"
make[1]: Leaving directory '/home/kent/.cpanm/work/1422044113.574614/Encode-ISO2022-0.04/ISOIRSingle'
make[1]: Entering directory '/home/kent/.cpanm/work/1422044113.574614/Encode-ISO2022-0.04/JISLegacy'
Running Mkbootstrap for Encode::JISLegacy ()
chmod 644 "JISLegacy.bs"
make[1]: Leaving directory '/home/kent/.cpanm/work/1422044113.574614/Encode-ISO2022-0.04/JISLegacy'
PERL_DL_NONLAZY=1 "/home/kent/perl5/perlbrew/perls/5.21.8-b/bin/perl5.21.8" "-MExtUtils::Command::MM" "-MTest::Harness" "-e" "undef *Test::Harness::Switches; test_harness(0, 'blib/lib', 'blib/arch')" t/*.t
t/Encode-ISO2022.t .. ok
t/pod.t ............. ok
t/ISO2022JP2.t ...... ok
All tests successful.
Files=3, Tests=9,  1 wallclock secs ( 0.03 usr  0.01 sys +  1.63 cusr  0.10 csys =  1.77 CPU)
Result: PASS

------------------------------
PREREQUISITES
------------------------------

Prerequisite modules loaded:

    No requirements found

------------------------------
ENVIRONMENT AND OTHER CONTEXT
------------------------------

Environment variables:

    LC_CTYPE = en_NZ.UTF8
    PATH = /home/kent/perl5/perlbrew/bin:/home/kent/perl5/perlbrew/perls/5.21.8-b/bin:/home/kent/.perl6/2013.04/bin:/home/kent/.gem/ruby/1.8/bin/:/home/kent/.rvm/gems/ruby-2.1.2/bin:/home/kent/.rvm/gems/ruby-2.1.2@global/bin:/home/kent/.rvm/rubies/ruby-2.1.2/bin:/usr/local/bin:/usr/bin:/bin:/opt/bin:/usr/x86_64-pc-linux-gnu/gcc-bin/4.8.3:/usr/games/bin:/home/kent/.rvm/bin:/home/kent/.rvm/bin
    PERLBREW_BASHRC_VERSION = 0.72
    PERLBREW_HOME = /home/kent/.perlbrew
    PERLBREW_MANPATH = /home/kent/perl5/perlbrew/perls/5.21.8-b/man
    PERLBREW_PATH = /home/kent/perl5/perlbrew/bin:/home/kent/perl5/perlbrew/perls/5.21.8-b/bin
    PERLBREW_PERL = 5.21.8-b
    PERLBREW_ROOT = /home/kent/perl5/perlbrew
    PERLBREW_VERSION = 0.72
    PERL_CPANM_OPT =  --prompt --reinstall --interactive --verify --mirror http://cpan.metacpan.org/
    PERL_MM_OPT =  INSTALLDIRS=site
    SHELL = /bin/bash
    TERM = rxvt-unicode-256color

Perl special variables (and OS-specific diagnostics, for MSWin32):

    EGID = 1000 4 6 10 16 18 19 27 35 78 80 85 100 102 103 104 105 114 115 116 117 118 250 974 994 1000
    EUID = 1000
    EXECUTABLE_NAME = /home/kent/perl5/perlbrew/perls/5.21.8-b/bin/perl5.21.8
    GID = 1000 4 6 10 16 18 19 27 35 78 80 85 100 102 103 104 105 114 115 116 117 118 250 974 994 1000
    UID = 1000

Perl module toolchain versions installed:

    Module              Have        
    ------------------- ------------
    CPAN                2.05        
    CPAN::Meta          2.143240    
    Cwd                 3.54        
    ExtUtils::CBuilder  0.280221    
    ExtUtils::Command   1.20        
    ExtUtils::Install   2.04        
    ExtUtils::MakeMaker 7.04        
    ExtUtils::Manifest  1.70        
    ExtUtils::ParseXS   3.27        
    File::Spec          3.53        
    JSON                2.90        
    JSON::PP            2.27300     
    Module::Build       0.4211      
    Module::Signature   0.73        
    Parse::CPAN::Meta   1.4414      
    Test::Harness       3.35        
    Test::More          1.301001_097
    YAML                1.14        
    YAML::Syck          1.29        
    version             0.9912      


--

Summary of my perl5 (revision 5 version 21 subversion 8) configuration:
  Derived from: 50cb265ee60adad097f86c7b4987b24240a9ef54
  Platform:
    osname=linux, osvers=3.18.1-aufs, archname=x86_64-linux
    uname='linux katipo2 3.18.1-aufs #20 smp preempt fri dec 19 22:15:35 nzdt 2014 x86_64 intel(r) core(tm) i5-2410m cpu @ 2.30ghz genuineintel gnulinux '
    config_args='-de -Dprefix=/home/kent/perl5/perlbrew/perls/5.21.8-b -Dusecbacktrace -Doptimize=-O3 -march=native -mtune=native -g -ggdb3 -Dman1dir=none -Dman3dir=none -Dusedevel -Accflags=-DPERL_HASH_FUNC_SDBM -DUSE_C_BACKTRACE_ON_ERROR -Aldflags=-lbfd -Aeval:scriptdir=/home/kent/perl5/perlbrew/perls/5.21.8-b/bin'
    hint=recommended, useposix=true, d_sigaction=define
    useithreads=undef, usemultiplicity=undef
    use64bitint=define, use64bitall=define, uselongdouble=undef
    usemymalloc=n, bincompat5005=undef
  Compiler:
    cc='cc', ccflags ='-DPERL_HASH_FUNC_SDBM -DUSE_C_BACKTRACE_ON_ERROR -fwrapv -fno-strict-aliasing -pipe -fstack-protector -DUSE_C_BACKTRACE -g -D_LARGEFILE_SOURCE -D_FILE_OFFSET_BITS=64',
    optimize='-O3 -march=native -mtune=native -g -ggdb3',
    cppflags='-DPERL_HASH_FUNC_SDBM -DUSE_C_BACKTRACE_ON_ERROR -fwrapv -fno-strict-aliasing -pipe -fstack-protector'
    ccversion='', gccversion='4.8.3', gccosandvers=''
    intsize=4, longsize=8, ptrsize=8, doublesize=8, byteorder=12345678, doublekind=3
    d_longlong=define, longlongsize=8, d_longdbl=define, longdblsize=16, longdblkind=3
    ivtype='long', ivsize=8, nvtype='double', nvsize=8, Off_t='off_t', lseeksize=8
    alignbytes=8, prototype=define
  Linker and Libraries:
    ld='cc', ldflags =' -lbfd -fstack-protector -L/usr/local/lib'
    libpth=/usr/lib/gcc/x86_64-pc-linux-gnu/4.8.3/include-fixed /usr/lib /usr/local/lib /lib/../lib64 /usr/lib/../lib64 /lib /lib64 /usr/lib64 /usr/local/lib64
    libs=-lpthread -lnsl -lgdbm -ldb -ldl -lm -lcrypt -lutil -lc -lgdbm_compat
    perllibs=-lpthread -lnsl -ldl -lm -lcrypt -lutil -lc
    libc=libc-2.20.so, so=so, useshrplib=false, libperl=libperl.a
    gnulibc_version='2.20'
  Dynamic Linking:
    dlsrc=dl_dlopen.xs, dlext=so, d_dlsymun=undef, ccdlflags='-Wl,-E'
    cccdlflags='-fPIC', lddlflags='-shared -O3 -march=native -mtune=native -g -ggdb3 -L/usr/local/lib -fstack-protector'


Characteristics of this binary (from libperl): 
  Compile-time options: HAS_TIMES PERLIO_LAYERS PERL_DONT_CREATE_GVSV
                        PERL_HASH_FUNC_SDBM PERL_MALLOC_WRAP
                        PERL_NEW_COPY_ON_WRITE PERL_PRESERVE_IVUV
                        PERL_USE_DEVEL USE_64_BIT_ALL USE_64_BIT_INT
                        USE_LARGE_FILES USE_LOCALE USE_LOCALE_COLLATE
                        USE_LOCALE_CTYPE USE_LOCALE_NUMERIC USE_LOCALE_TIME
                        USE_PERLIO USE_PERL_ATOF
  Locally applied patches:
	uncommitted-changes
  Built under linux
  Compiled at Jan 22 2015 23:49:30
  %ENV:
    PERLBREW_BASHRC_VERSION="0.72"
    PERLBREW_HOME="/home/kent/.perlbrew"
    PERLBREW_MANPATH="/home/kent/perl5/perlbrew/perls/5.21.8-b/man"
    PERLBREW_PATH="/home/kent/perl5/perlbrew/bin:/home/kent/perl5/perlbrew/perls/5.21.8-b/bin"
    PERLBREW_PERL="5.21.8-b"
    PERLBREW_ROOT="/home/kent/perl5/perlbrew"
    PERLBREW_VERSION="0.72"
    PERL_CPANM_OPT=" --prompt --reinstall --interactive --verify --mirror http://cpan.metacpan.org/"
    PERL_MM_OPT=" INSTALLDIRS=site"
  @INC:
    /home/kent/perl5/perlbrew/perls/5.21.8-b/lib/site_perl/5.21.8/x86_64-linux
    /home/kent/perl5/perlbrew/perls/5.21.8-b/lib/site_perl/5.21.8
    /home/kent/perl5/perlbrew/perls/5.21.8-b/lib/5.21.8/x86_64-linux
    /home/kent/perl5/perlbrew/perls/5.21.8-b/lib/5.21.8
    .