Back
From: metabase:user:320bfe00-2aae-11df-837a-5e0a49663a4f
Subject: PASS Swagger2-0.89 v5.24.1 GNU/Linux
Date: 2017-01-18T16:10:14Z
This distribution has been tested as part of the CPAN Testers
project, supporting the Perl programming language. See
http://wiki.cpantesters.org/ for more information or email
questions to cpan-testers-discuss@perl.org
--
Dear Martin Renvoize,
This is a computer-generated report for Swagger2-0.89
on perl 5.24.1, created by CPAN-Reporter-1.2018.
Thank you for uploading your work to CPAN. Congratulations!
All tests were successful.
Sections of this report:
* Tester comments
* Program output
* Prerequisites
* Environment and other context
------------------------------
TESTER COMMENTS
------------------------------
Additional comments from tester:
this report is from an automated smoke testing program
and was not reviewed by a human for accuracy
------------------------------
PROGRAM OUTPUT
------------------------------
Output from '/usr/bin/make test':
PERL_DL_NONLAZY=1 "/home/sand/src/perl/repoperls/installed-perls/host/k93msid/v5.24.1/89ad/bin/perl" "-MExtUtils::Command::MM" "-MTest::Harness" "-e" "undef *Test::Harness::Switches; test_harness(0, 'blib/lib', 'blib/arch')" t/*.t
Mojolicious::Plugin::Swagger2 is deprecated in favor of Mojolicious::Plugin::OpenAPI at (eval 70) line 1.
# Swagger2::SchemaValidator is deprecated in favor of JSON::Validator::OpenAPI at /tmp/loop_over_bdir-17973-azWjZk/Swagger2-0.89-0/blib/lib/Swagger2/SchemaValidator.pm line 3.
t/00-basic.t .......................... ok
Mojolicious::Plugin::Swagger2 is deprecated in favor of Mojolicious::Plugin::OpenAPI at (eval 90) line 1.
t/around-action.t ..................... ok
Mojolicious::Plugin::Swagger2 is deprecated in favor of Mojolicious::Plugin::OpenAPI at (eval 90) line 1.
t/authenticate.t ...................... ok
t/blog.t .............................. skipped: BLOG_PG_URL=postgresql://postgres@/test
Mojolicious::Plugin::Swagger2 is deprecated in favor of Mojolicious::Plugin::OpenAPI at (eval 90) line 1.
t/bodytest.t .......................... ok
Mojolicious::Plugin::Swagger2 is deprecated in favor of Mojolicious::Plugin::OpenAPI at (eval 90) line 1.
t/boolean-in-url.t .................... ok
Mojolicious::Plugin::Swagger2 is deprecated in favor of Mojolicious::Plugin::OpenAPI at (eval 93) line 1.
t/client-return-on-error.t ............ ok
Mojolicious::Plugin::Swagger2 is deprecated in favor of Mojolicious::Plugin::OpenAPI at (eval 95) line 1.
t/client-with-swagger.t ............... ok
Mojolicious::Plugin::Swagger2 is deprecated in favor of Mojolicious::Plugin::OpenAPI at (eval 93) line 1.
t/client.t ............................ ok
Mojolicious::Plugin::Swagger2 is deprecated in favor of Mojolicious::Plugin::OpenAPI at (eval 90) line 1.
t/collection-format.t ................. ok
t/command-client.t .................... ok
Mojolicious::Plugin::Swagger2 is deprecated in favor of Mojolicious::Plugin::OpenAPI at (eval 90) line 1.
t/discriminator.t ..................... ok
Mojo::Util::slurp is DEPRECATED in favor of Mojo::File::slurp at /home/sand/src/perl/repoperls/installed-perls/host/k93msid/v5.24.1/89ad/lib/site_perl/5.24.1/Mojo/Server.pm line 17.
Mojo::Util::slurp is DEPRECATED in favor of Mojo::File::slurp at /home/sand/src/perl/repoperls/installed-perls/host/k93msid/v5.24.1/89ad/lib/site_perl/5.24.1/Mojo/Util.pm line 253.
Mojo::Util::slurp("t/data/petstore.json") called at t/editor.t line 19
Mojo::Util::spurt is DEPRECATED in favor of Mojo::File::spurt at /home/sand/src/perl/repoperls/installed-perls/host/k93msid/v5.24.1/89ad/lib/site_perl/5.24.1/Mojolicious/Plugins.pm line 15.
Mojo::Util::spurt is DEPRECATED in favor of Mojo::File::spurt at /home/sand/src/perl/repoperls/installed-perls/host/k93msid/v5.24.1/89ad/lib/site_perl/5.24.1/Mojolicious/Plugins.pm line 15.
t/editor.t ............................ ok
Mojolicious::Plugin::Swagger2 is deprecated in favor of Mojolicious::Plugin::OpenAPI at (eval 90) line 1.
t/emtpy-response.t .................... ok
Mojolicious::Plugin::Swagger2 is deprecated in favor of Mojolicious::Plugin::OpenAPI at (eval 90) line 1.
t/ensure-swagger-response.t ........... ok
t/example-json-patch.t ................ skipped: TEST_ONLINE=1
Mojolicious::Plugin::Swagger2 is deprecated in favor of Mojolicious::Plugin::OpenAPI at (eval 90) line 1.
t/example-lowercase-request-params.t .. ok
t/expand-yaml.t ....................... ok
t/expand.t ............................ ok
Mojolicious::Plugin::Swagger2 is deprecated in favor of Mojolicious::Plugin::OpenAPI at (eval 90) line 1.
t/file.t .............................. ok
Mojolicious::Plugin::Swagger2 is deprecated in favor of Mojolicious::Plugin::OpenAPI at (eval 90) line 1.
t/formdata.t .......................... ok
Mojolicious::Plugin::Swagger2 is deprecated in favor of Mojolicious::Plugin::OpenAPI at (eval 90) line 1.
t/headers.t ........................... ok
Mojolicious::Plugin::Swagger2 is deprecated in favor of Mojolicious::Plugin::OpenAPI at (eval 90) line 1.
t/ip-in-url.t ......................... ok
Mojolicious::Plugin::Swagger2 is deprecated in favor of Mojolicious::Plugin::OpenAPI at (eval 90) line 1.
t/multi-param.t ....................... ok
Mojolicious::Plugin::Swagger2 is deprecated in favor of Mojolicious::Plugin::OpenAPI at (eval 90) line 1.
t/not-implemented-501.t ............... ok
Mojolicious::Plugin::Swagger2 is deprecated in favor of Mojolicious::Plugin::OpenAPI at (eval 90) line 1.
t/nullable.t .......................... ok
Mojolicious::Plugin::Swagger2 is deprecated in favor of Mojolicious::Plugin::OpenAPI at (eval 90) line 1.
t/operation-id.t ...................... ok
Mojolicious::Plugin::Swagger2 is deprecated in favor of Mojolicious::Plugin::OpenAPI at (eval 90) line 1.
t/order-pathobjects-lengthwise.t ...... ok
Mojo::Util::slurp is DEPRECATED in favor of Mojo::File::slurp at /home/sand/src/perl/repoperls/installed-perls/host/k93msid/v5.24.1/89ad/lib/site_perl/5.24.1/Mojo/Util.pm line 253.
Mojo::Util::slurp("t/data/petstore.json") called at t/parse-json.t line 12
t/parse-json.t ........................ ok
Mojolicious::Plugin::Swagger2 is deprecated in favor of Mojolicious::Plugin::OpenAPI at (eval 90) line 1.
t/plugin-defaults.t ................... ok
Mojolicious::Plugin::Swagger2 is deprecated in favor of Mojolicious::Plugin::OpenAPI at (eval 90) line 1.
t/plugin-json.t ....................... ok
t/plugin-yaml.t ....................... skipped: Fails with JSON::Validator 0.91
Mojolicious::Plugin::Swagger2 is deprecated in favor of Mojolicious::Plugin::OpenAPI at (eval 90) line 1.
t/plugin.t ............................ ok
Mojo::Util::slurp is DEPRECATED in favor of Mojo::File::slurp at /home/sand/src/perl/repoperls/installed-perls/host/k93msid/v5.24.1/89ad/lib/site_perl/5.24.1/Mojo/Util.pm line 253.
Mojo::Util::slurp("t/data/pod-as-string.pod") called at t/pod-as-string.t line 10
t/pod-as-string.t ..................... ok
Mojolicious::Plugin::Swagger2 is deprecated in favor of Mojolicious::Plugin::OpenAPI at (eval 90) line 1.
t/read-only-property.t ................ ok
Mojolicious::Plugin::Swagger2 is deprecated in favor of Mojolicious::Plugin::OpenAPI at (eval 90) line 1.
t/repeat.t ............................ ok
Mojolicious::Plugin::Swagger2 is deprecated in favor of Mojolicious::Plugin::OpenAPI at (eval 90) line 1.
t/stash-defaults.t .................... ok
t/swagger.t ........................... ok
Mojolicious::Plugin::Swagger2 is deprecated in favor of Mojolicious::Plugin::OpenAPI at (eval 90) line 1.
t/validate-json-schema.t .............. ok
t/validate-massive.t .................. ok
t/validate.t .......................... ok
Mojolicious::Plugin::Swagger2 is deprecated in favor of Mojolicious::Plugin::OpenAPI at (eval 90) line 1.
t/websocket.t ......................... ok
All tests successful.
Files=42, Tests=534, 43 wallclock secs ( 0.19 usr 0.23 sys + 20.82 cusr 2.97 csys = 24.21 CPU)
Result: PASS
------------------------------
PREREQUISITES
------------------------------
Prerequisite modules loaded:
requires:
Module Need Have
------------------- ---- --------
JSON::Validator 0.90 0.92
Mojolicious 6.00 7.19
build_requires:
Module Need Have
------------------- ---- --------
Test::More 0.88 1.302075
configure_requires:
Module Need Have
------------------- ---- --------
ExtUtils::MakeMaker 0 7.24
------------------------------
ENVIRONMENT AND OTHER CONTEXT
------------------------------
Environment variables:
AUTOMATED_TESTING = 1
LANG = C
PATH = /home/sand/bin:/usr/local/bin:/usr/bin:/bin:/usr/games:/usr/local/perl/bin:/usr/X11/bin:/sbin:/usr/sbin
PERL5LIB =
PERL5OPT =
PERL5_CPANPLUS_IS_RUNNING = 17974
PERL5_CPAN_IS_RUNNING = 17974
PERL_CANARY_STABILITY_NOPROMPT = 1
PERL_MM_USE_DEFAULT = 1
SHELL = /usr/bin/zsh
TERM = screen
Perl special variables (and OS-specific diagnostics, for MSWin32):
$^X = /home/sand/src/perl/repoperls/installed-perls/host/k93msid/v5.24.1/89ad/bin/perl
$UID/$EUID = 1005 / 1005
$GID = 1005 1005
$EGID = 1005 1005
Perl module toolchain versions installed:
Module Have
------------------- ----------
CPAN 2.16
CPAN::Meta 2.150010
Cwd 3.63_01
ExtUtils::CBuilder 0.280225
ExtUtils::Command 7.24
ExtUtils::Install 2.04
ExtUtils::MakeMaker 7.24
ExtUtils::Manifest 1.70
ExtUtils::ParseXS 3.31
File::Spec 3.63_01
JSON 2.90
JSON::PP 2.27300_01
Module::Build 0.4220
Module::Signature 0.81
Parse::CPAN::Meta 2.150010
Test::Harness 3.36_01
Test::More 1.302075
YAML 1.21
YAML::Syck 1.29
version 0.9916
--
Summary of my perl5 (revision 5 version 24 subversion 1) configuration:
Derived from: 443bd156a6baaf7a8fe6b6b05fcf6c4178140ed2
Platform:
osname=linux, osvers=4.8.0-2-amd64, archname=x86_64-linux
uname='linux k93msid 4.8.0-2-amd64 #1 smp debian 4.8.11-1 (2016-12-02) x86_64 gnulinux '
config_args='-Dprefix=/home/sand/src/perl/repoperls/installed-perls/host/k93msid/v5.24.1/89ad -Dmyhostname=k93msid -Dinstallusrbinperl=n -Uversiononly -Dusedevel -des -Ui_db -Dlibswanted=cl pthread socket inet nsl gdbm dbm malloc dl ld sun m crypt sec util c cposix posix ucb BSD gdbm_compat -Uuseithreads -Uuselongdouble -DDEBUGGING=-g'
hint=recommended, useposix=true, d_sigaction=define
useithreads=undef, usemultiplicity=undef
use64bitint=define, use64bitall=define, uselongdouble=undef
usemymalloc=n, bincompat5005=undef
Compiler:
cc='cc', ccflags ='-fwrapv -fno-strict-aliasing -pipe -fstack-protector-strong -I/usr/local/include -D_LARGEFILE_SOURCE -D_FILE_OFFSET_BITS=64',
optimize='-O2 -g',
cppflags='-fwrapv -fno-strict-aliasing -pipe -fstack-protector-strong -I/usr/local/include'
ccversion='', gccversion='6.2.1 20161124', gccosandvers=''
intsize=4, longsize=8, ptrsize=8, doublesize=8, byteorder=12345678, doublekind=3
d_longlong=define, longlongsize=8, d_longdbl=define, longdblsize=16, longdblkind=3
ivtype='long', ivsize=8, nvtype='double', nvsize=8, Off_t='off_t', lseeksize=8
alignbytes=8, prototype=define
Linker and Libraries:
ld='cc', ldflags =' -fstack-protector-strong -L/usr/local/lib'
libpth=/usr/local/lib /usr/lib/gcc/x86_64-linux-gnu/6/include-fixed /usr/include/x86_64-linux-gnu /usr/lib /lib/x86_64-linux-gnu /lib/../lib /usr/lib/x86_64-linux-gnu /usr/lib/../lib /lib
libs=-lpthread -lnsl -ldl -lm -lcrypt -lutil -lc
perllibs=-lpthread -lnsl -ldl -lm -lcrypt -lutil -lc
libc=libc-2.24.so, so=so, useshrplib=false, libperl=libperl.a
gnulibc_version='2.24'
Dynamic Linking:
dlsrc=dl_dlopen.xs, dlext=so, d_dlsymun=undef, ccdlflags='-Wl,-E'
cccdlflags='-fPIC', lddlflags='-shared -O2 -g -L/usr/local/lib -fstack-protector-strong'
Characteristics of this binary (from libperl):
Compile-time options: HAS_TIMES PERLIO_LAYERS PERL_COPY_ON_WRITE
PERL_DONT_CREATE_GVSV
PERL_HASH_FUNC_ONE_AT_A_TIME_HARD PERL_MALLOC_WRAP
PERL_PRESERVE_IVUV PERL_USE_DEVEL USE_64_BIT_ALL
USE_64_BIT_INT USE_LARGE_FILES USE_LOCALE
USE_LOCALE_COLLATE USE_LOCALE_CTYPE
USE_LOCALE_NUMERIC USE_LOCALE_TIME USE_PERLIO
USE_PERL_ATOF
Locally applied patches:
uncommitted-changes
Built under linux
Compiled at Jan 15 2017 15:27:15
%ENV:
PERL5LIB=""
PERL5OPT=""
PERL5_CPANPLUS_IS_RUNNING="17974"
PERL5_CPAN_IS_RUNNING="17974"
PERL_CANARY_STABILITY_NOPROMPT="1"
PERL_MM_USE_DEFAULT="1"
@INC:
/home/sand/src/perl/repoperls/installed-perls/host/k93msid/v5.24.1/89ad/lib/site_perl/5.24.1/x86_64-linux
/home/sand/src/perl/repoperls/installed-perls/host/k93msid/v5.24.1/89ad/lib/site_perl/5.24.1
/home/sand/src/perl/repoperls/installed-perls/host/k93msid/v5.24.1/89ad/lib/5.24.1/x86_64-linux
/home/sand/src/perl/repoperls/installed-perls/host/k93msid/v5.24.1/89ad/lib/5.24.1
.