CXC-Exporter-Util v0.08 Perl 5 v5.40.0 i686-linux-ld

Status
Pass
From
Chris Williams (BINGOS)
Dist
CXC-Exporter-Util v0.08
Platform
Perl 5 v5.40.0 i686-linux-ld
Date
2024-10-28 12:38:55
ID
983758d2-9529-11ef-98b0-b3c3213a625c
This distribution has been tested as part of the CPAN Testers
project, supporting the Perl programming language.  See
http://wiki.cpantesters.org/ for more information or email
questions to cpan-testers-discuss@perl.org


--

Dear Diab Jerius,

This is a computer-generated error report created automatically by
CPANPLUS, version 0.9914. Testers personal comments may appear
at the end of this report.


Thank you for uploading your work to CPAN.  Congratulations!
All tests were successful.

TEST RESULTS:

Below is the error stack from stage 'make test':

t/00-compile.t ......... ok
# 
# Versions for all modules listed in MYMETA.json (including optional ones):
# 
# === Configure Requires ===
# 
#     Module               Want  Have
#     ------------------- ----- -----
#     Module::Build::Tiny 0.034 0.051
# 
# === Test Requires ===
# 
#     Module                  Want     Have
#     ------------------- -------- --------
#     Exporter::Tiny           any 1.006002
#     ExtUtils::MakeMaker      any     7.70
#     File::Spec               any     3.90
#     IO::Handle               any     1.55
#     IPC::Open3               any     1.22
#     Import::Into             any 1.002005
#     Test2::V0                any 0.000162
#     Test::Lib                any    0.003
#     Test::More               any 1.302199
#     Type::Library            any 2.006000
#     Type::Tiny          1.012000 2.006000
#     Type::Tiny::Class        any 2.006000
#     Type::Utils              any 2.006000
#     base                     any     2.27
#     constant                 any     1.33
#     feature                  any     1.89
# 
# === Test Recommends ===
# 
#     Module         Want     Have
#     ---------- -------- --------
#     CPAN::Meta 2.120900 2.150010
# 
# === Runtime Requires ===
# 
#     Module          Want     Have
#     ------------ ------- --------
#     Carp             any     1.54
#     Exporter         any     5.78
#     Import::Into     any 1.002005
#     List::Util      1.45     1.63
#     Scalar::Util     any     1.63
#     experimental     any    0.032
#     perl         5.02200 5.040000
#     strict           any     1.13
#     warnings         any     1.70
# 
t/00-report-prereqs.t .. ok
"all" is not defined in %My::Exporter::Exporter::False::EXPORT_TAGS at /home/cpan/pit/jail/iUDi39TkFi/lib/perl5/Import/Into.pm line 40.
t/all.t ................ ok
t/basic.t .............. ok
t/bugs/backcompat.t .... ok
t/constants.t .......... ok
t/types.t .............. ok
All tests successful.
Files=7, Tests=25,  0 wallclock secs ( 0.03 usr  0.00 sys +  0.72 cusr  0.12 csys =  0.87 CPU)
Result: PASS


PREREQUISITES:

Here is a list of prerequisites you specified and versions we
managed to load:

	  Module Name                        Have     Want
	  Carp                               1.54        0
	  Exporter                           5.78        0
	  Exporter::Tiny                 1.006002        0
	  ExtUtils::MakeMaker                7.70        0
	  File::Spec                         3.90        0
	  IO::Handle                         1.55        0
	  IPC::Open3                         1.22        0
	  Import::Into                   1.002005        0
	  List::Util                         1.63     1.45
	  Scalar::Util                       1.63        0
	  Test2::V0                      0.000162        0
	  Test::Lib                         0.003        0
	  Test::More                     1.302199        0
	  Type::Library                  2.006000        0
	  Type::Tiny                     2.006000 1.012000
	  Type::Tiny::Class              2.006000        0
	  Type::Utils                    2.006000        0
	  base                               2.27        0
	  constant                           1.33        0
	  experimental                      0.032        0
	  feature                            1.89        0
	  strict                             1.13        0
	  warnings                           1.70        0

Perl module toolchain versions installed:
	Module Name                        Have
	CPANPLUS                         0.9914
	CPANPLUS::Dist::Build              0.90
	Cwd                                3.90
	ExtUtils::CBuilder             0.280240
	ExtUtils::Command                  7.70
	ExtUtils::Install                  2.22
	ExtUtils::MakeMaker                7.70
	ExtUtils::Manifest                 1.75
	ExtUtils::ParseXS                  3.51
	File::Spec                         3.90
	Module::Build                    0.4234
	Pod::Parser                           0
	Pod::Simple                        3.45
	Test2                          1.302199
	Test::Harness                      3.48
	Test::More                     1.302199
	version                          0.9932

******************************** NOTE ********************************
The comments above are created mechanically, possibly without manual
checking by the sender.  As there are many people performing automatic
tests on each upload to CPAN, it is likely that you will receive
identical messages about the same problem.

If you believe that the message is mistaken, please reply to the first
one with correction and/or additional informations, and do not take
it personally.  We appreciate your patience. :)
**********************************************************************

Additional comments:


This report was machine-generated by CPANPLUS::Dist::YACSmoke 1.08.
Powered by minismokebox version 0.68

CPANPLUS is prefering Build.PL

------------------------------
ENVIRONMENT AND OTHER CONTEXT
------------------------------

Environment variables:

    AUTOMATED_TESTING = 1
    LANG = en_GB.UTF-8
    LANGUAGE = en_GB:en
    NONINTERACTIVE_TESTING = 1
    PATH = /usr/local/bin:/usr/bin:/bin:/usr/local/games:/usr/games
    PERL5LIB = /home/cpan/pit/jail/iUDi39TkFi/lib/perl5:/home/cpan/pit/bare-ld/conf/perl-5.40.0/.cpanplus/5.40.0/build/dY9KMTcXDo/CXC-Exporter-Util-0.08/blib/lib:/home/cpan/pit/bare-ld/conf/perl-5.40.0/.cpanplus/5.40.0/build/dY9KMTcXDo/CXC-Exporter-Util-0.08/blib/arch
    PERL5_CPANPLUS_IS_RUNNING = 5243
    PERL5_CPANPLUS_IS_VERSION = 0.9914
    PERL5_MINISMOKEBOX = 0.68
    PERL5_YACSMOKE_BASE = /home/cpan/pit/bare-ld/conf/perl-5.40.0
    PERL_EXTUTILS_AUTOINSTALL = --defaultdeps
    PERL_LOCAL_LIB_ROOT = /home/cpan/pit/jail/iUDi39TkFi
    PERL_MB_OPT = --install_base "/home/cpan/pit/jail/iUDi39TkFi"
    PERL_MM_OPT = INSTALL_BASE=/home/cpan/pit/jail/iUDi39TkFi
    PERL_MM_USE_DEFAULT = 1
    SHELL = /bin/bash
    TERM = screen.xterm-256color

Perl special variables (and OS-specific diagnostics, for MSWin32):

    Perl: $^X = /home/cpan/pit/bare-ld/perl-5.40.0/bin/perl
    UID:  $<  = 1001
    EUID: $>  = 1001
    GID:  $(  = 1001 1001
    EGID: $)  = 1001 1001


-------------------------------


--

Summary of my perl5 (revision 5 version 40 subversion 0) configuration:
   
  Platform:
    osname=linux
    osvers=6.1.0-21-686
    archname=i686-linux-ld
    uname='linux dagobah 6.1.0-21-686 #1 smp preempt_dynamic debian 6.1.90-1 (2024-05-03) i686 gnulinux '
    config_args='-des -Dprefix=/home/cpan/pit/bare-ld/perl-5.40.0 -Duselongdouble'
    hint=recommended
    useposix=true
    d_sigaction=define
    useithreads=undef
    usemultiplicity=undef
    use64bitint=undef
    use64bitall=undef
    uselongdouble=define
    usemymalloc=n
    default_inc_excludes_dot=define
  Compiler:
    cc='cc'
    ccflags ='-fwrapv -fno-strict-aliasing -pipe -fstack-protector-strong -I/usr/local/include -D_LARGEFILE_SOURCE -D_FILE_OFFSET_BITS=64 -D_FORTIFY_SOURCE=2'
    optimize='-O2'
    cppflags='-fwrapv -fno-strict-aliasing -pipe -fstack-protector-strong -I/usr/local/include'
    ccversion=''
    gccversion='12.2.0'
    gccosandvers=''
    intsize=4
    longsize=4
    ptrsize=4
    doublesize=8
    byteorder=1234
    doublekind=3
    d_longlong=define
    longlongsize=8
    d_longdbl=define
    longdblsize=12
    longdblkind=3
    ivtype='long'
    ivsize=4
    nvtype='long double'
    nvsize=12
    Off_t='off_t'
    lseeksize=8
    alignbytes=4
    prototype=define
  Linker and Libraries:
    ld='cc'
    ldflags =' -fstack-protector-strong -L/usr/local/lib'
    libpth=/usr/local/lib /usr/lib/i386-linux-gnu /usr/lib
    libs=-lpthread -lgdbm -ldl -lm -lcrypt -lutil -lc
    perllibs=-lpthread -ldl -lm -lcrypt -lutil -lc
    libc=/lib/i386-linux-gnu/libc.so.6
    so=so
    useshrplib=false
    libperl=libperl.a
    gnulibc_version='2.36'
  Dynamic Linking:
    dlsrc=dl_dlopen.xs
    dlext=so
    d_dlsymun=undef
    ccdlflags='-Wl,-E'
    cccdlflags='-fPIC'
    lddlflags='-shared -O2 -L/usr/local/lib -fstack-protector-strong'


Characteristics of this binary (from libperl): 
  Compile-time options:
    HAS_LONG_DOUBLE
    HAS_STRTOLD
    HAS_TIMES
    PERLIO_LAYERS
    PERL_COPY_ON_WRITE
    PERL_DONT_CREATE_GVSV
    PERL_HASH_FUNC_ZAPHOD32
    PERL_HASH_USE_SBOX32
    PERL_MALLOC_WRAP
    PERL_OP_PARENT
    PERL_PRESERVE_IVUV
    PERL_USE_SAFE_PUTENV
    USE_LARGE_FILES
    USE_LOCALE
    USE_LOCALE_COLLATE
    USE_LOCALE_CTYPE
    USE_LOCALE_NUMERIC
    USE_LOCALE_TIME
    USE_LONG_DOUBLE
    USE_PERLIO
    USE_PERL_ATOF
  Built under linux
  Compiled at Jun 11 2024 12:20:38
  %ENV:
    PERL5LIB="/home/cpan/pit/jail/iUDi39TkFi/lib/perl5:/home/cpan/pit/bare-ld/conf/perl-5.40.0/.cpanplus/5.40.0/build/dY9KMTcXDo/CXC-Exporter-Util-0.08/blib/lib:/home/cpan/pit/bare-ld/conf/perl-5.40.0/.cpanplus/5.40.0/build/dY9KMTcXDo/CXC-Exporter-Util-0.08/blib/arch"
    PERL5_CPANPLUS_IS_RUNNING="5243"
    PERL5_CPANPLUS_IS_VERSION="0.9914"
    PERL5_MINISMOKEBOX="0.68"
    PERL5_YACSMOKE_BASE="/home/cpan/pit/bare-ld/conf/perl-5.40.0"
    PERL_EXTUTILS_AUTOINSTALL="--defaultdeps"
    PERL_LOCAL_LIB_ROOT="/home/cpan/pit/jail/iUDi39TkFi"
    PERL_MB_OPT="--install_base "/home/cpan/pit/jail/iUDi39TkFi""
    PERL_MM_OPT="INSTALL_BASE=/home/cpan/pit/jail/iUDi39TkFi"
    PERL_MM_USE_DEFAULT="1"
  @INC:
    /home/cpan/pit/jail/iUDi39TkFi/lib/perl5/5.40.0/i686-linux-ld
    /home/cpan/pit/jail/iUDi39TkFi/lib/perl5/5.40.0
    /home/cpan/pit/jail/iUDi39TkFi/lib/perl5/i686-linux-ld
    /home/cpan/pit/jail/iUDi39TkFi/lib/perl5
    /home/cpan/pit/bare-ld/conf/perl-5.40.0/.cpanplus/5.40.0/build/dY9KMTcXDo/CXC-Exporter-Util-0.08/blib/lib
    /home/cpan/pit/bare-ld/conf/perl-5.40.0/.cpanplus/5.40.0/build/dY9KMTcXDo/CXC-Exporter-Util-0.08/blib/arch
    /home/cpan/pit/bare-ld/perl-5.40.0/lib/site_perl/5.40.0/i686-linux-ld
    /home/cpan/pit/bare-ld/perl-5.40.0/lib/site_perl/5.40.0
    /home/cpan/pit/bare-ld/perl-5.40.0/lib/5.40.0/i686-linux-ld
    /home/cpan/pit/bare-ld/perl-5.40.0/lib/5.40.0