POE-Loop-Event v1.305 Perl 5 v5.28.0 OpenBSD.amd64-openbsd-thread-multi
- Status
- Pass
- From
- Alceu Rodrigues de Freitas Junior
- Dist
-
POE-Loop-Event v1.305
- Platform
- Perl 5 v5.28.0 OpenBSD.amd64-openbsd-thread-multi
- Date
- 2018-09-05 18:07:46
- ID
- 97dea79c-b136-11e8-844f-ee57a6f199d0
This distribution has been tested as part of the CPAN Testers
project, supporting the Perl programming language. See
http://wiki.cpantesters.org/ for more information or email
questions to cpan-testers-discuss@perl.org
--
Dear Rocco Caputo,
This is a computer-generated report for POE-Loop-Event-1.305
on perl 5.28.0, created by CPAN-Reporter-1.2018.
Thank you for uploading your work to CPAN. Congratulations!
All tests were successful.
Sections of this report:
* Tester comments
* Program output
* Prerequisites
* Environment and other context
------------------------------
TESTER COMMENTS
------------------------------
Additional comments from tester:
this report is from an automated smoke testing program
and was not reviewed by a human for accuracy
------------------------------
PROGRAM OUTPUT
------------------------------
Output from '/usr/bin/make test':
PERL_DL_NONLAZY=1 "/home/goku/perl5/perlbrew/perls/perl-5.28.0/bin/perl" "-MExtUtils::Command::MM" "-MTest::Harness" "-e" "undef *Test::Harness::Switches; test_harness(0, 'blib/lib', 'blib/arch')" t/*.t t/poe_loop_event/*.t
# Testing POE 1.367, Perl 5.028000, /home/goku/perl5/perlbrew/perls/perl-5.28.0/bin/perl on openbsd
t/00_info.t ...................................... ok
# Testing POE 1.367, POE::Test::Loops 1.360, Using Loop(POE::Loop::Event), Perl 5.028000, /home/goku/perl5/perlbrew/perls/perl-5.28.0/bin/perl on openbsd
t/poe_loop_event/00_info.t ....................... ok
t/poe_loop_event/all_errors.t .................... skipped: most of these should move into other test files
t/poe_loop_event/comp_tcp.t ...................... ok
# You might see a 'disconnect' error during this test.
# It may be ignored.
t/poe_loop_event/comp_tcp_concurrent.t ........... ok
t/poe_loop_event/connect_errors.t ................ ok
t/poe_loop_event/k_alarms.t ...................... ok
t/poe_loop_event/k_aliases.t ..................... ok
t/poe_loop_event/k_detach.t ...................... ok
t/poe_loop_event/k_run_returns.t ................. ok
t/poe_loop_event/k_selects.t ..................... ok
t/poe_loop_event/k_sig_child.t ................... ok
t/poe_loop_event/k_signals.t ..................... ok
t/poe_loop_event/k_signals_rerun.t ............... ok
t/poe_loop_event/sbk_signal_init.t ............... ok
t/poe_loop_event/ses_nfa.t ....................... ok
# This test generates some STDERR during trace testing.
=== 21673 === 23 -> _start (from /home/goku/perl5/perlbrew/perls/perl-5.28.0/lib/site_perl/5.28.0/POE/Kernel.pm at 1497)
=== 21673 === 23 -> woot (from /home/goku/perl5/perlbrew/perls/perl-5.28.0/lib/site_perl/5.28.0/POE/Test/Loops/ses_session.pm at 691)
=== 21673 === 23 -> narf (from /home/goku/perl5/perlbrew/perls/perl-5.28.0/lib/site_perl/5.28.0/POE/Test/Loops/ses_session.pm at 692)
=== 21673 === 23 -> _stop (from /home/goku/perl5/perlbrew/perls/perl-5.28.0/lib/site_perl/5.28.0/POE/Resource/Sessions.pm at 571)
t/poe_loop_event/ses_session.t ................... ok
t/poe_loop_event/wheel_accept.t .................. ok
t/poe_loop_event/wheel_curses.t .................. skipped: Need help with Curses functions blocking under ptys
t/poe_loop_event/wheel_readline.t ................ ok
t/poe_loop_event/wheel_readwrite.t ............... ok
t/poe_loop_event/wheel_run.t ..................... ok
t/poe_loop_event/wheel_run_size.t ................ ok
t/poe_loop_event/wheel_sf_ipv6.t ................. skipped: Socket::GetAddrInfo is needed for IPv6 tests
t/poe_loop_event/wheel_sf_tcp.t .................. ok
t/poe_loop_event/wheel_sf_udp.t .................. ok
t/poe_loop_event/wheel_sf_unix.t ................. ok
t/poe_loop_event/wheel_tail.t .................... ok
t/poe_loop_event/z_kogman_sig_order.t ............ ok
t/poe_loop_event/z_leolo_wheel_run.t ............. ok
# Using '/usr/bin/true' as our thing to run under system()
t/poe_loop_event/z_merijn_sigchld_system.t ....... ok
t/poe_loop_event/z_rt39872_sigchld.t ............. ok
# Parent 88755 waiting 3sec for slow systems to settle.
# sending sigusr1
# sent sigusr1
t/poe_loop_event/z_rt39872_sigchld_stop.t ........ ok
t/poe_loop_event/z_rt53302_fh_watchers.t ......... ok
t/poe_loop_event/z_rt54319_bazerka_followtail.t .. ok
t/poe_loop_event/z_steinert_signal_integrity.t ... ok
All tests successful.
Files=36, Tests=490, 35 wallclock secs ( 0.22 usr 0.33 sys + 5.10 cusr 4.47 csys = 10.12 CPU)
Result: PASS
------------------------------
PREREQUISITES
------------------------------
Prerequisite modules loaded:
requires:
Module Need Have
------------------- ----- -----
Event 1.21 1.26
POE 1.356 1.367
build_requires:
Module Need Have
------------------- ----- -----
ExtUtils::MakeMaker 0 7.34
configure_requires:
Module Need Have
------------------- ----- -----
ExtUtils::MakeMaker 0 7.34
POE::Test::Loops 1.352 1.360
------------------------------
ENVIRONMENT AND OTHER CONTEXT
------------------------------
Environment variables:
AUTOMATED_TESTING = 1
DBD_MYSQL_TESTDB = test
DBD_MYSQL_TESTHOST = localhost
DBD_MYSQL_TESTPASSWORD =
DBD_MYSQL_TESTPORT = 3306
DBD_MYSQL_TESTUSER = goku
EXTENDED_TESTING = 1
PATH = /home/goku/perl5/perlbrew/bin:/home/goku/perl5/perlbrew/perls/perl-5.28.0/bin:/home/goku/bin:/usr/bin:/bin:/usr/sbin:/sbin:/usr/X11R6/bin:/usr/local/bin:/usr/local/sbin
PERL5LIB =
PERL5OPT =
PERL5_CPANPLUS_IS_RUNNING = 78745
PERL5_CPAN_IS_RUNNING = 78745
PERL5_CPAN_IS_RUNNING_IN_RECURSION = 72809,78745
PERLBREW_HOME = /home/goku/.perlbrew
PERLBREW_MANPATH = /home/goku/perl5/perlbrew/perls/perl-5.28.0/man
PERLBREW_PATH = /home/goku/perl5/perlbrew/bin:/home/goku/perl5/perlbrew/perls/perl-5.28.0/bin
PERLBREW_PERL = perl-5.28.0
PERLBREW_ROOT = /home/goku/perl5/perlbrew
PERLBREW_SHELLRC_VERSION = 0.84
PERLBREW_VERSION = 0.84
PERL_CR_SMOKER_CURRENT = POE-Loop-Event-1.305
PERL_EXTUTILS_AUTOINSTALL = --defaultdeps
PERL_MM_USE_DEFAULT = 1
SHELL = /usr/local/bin/bash
TERM = vt220
Perl special variables (and OS-specific diagnostics, for MSWin32):
$^X = /home/goku/perl5/perlbrew/perls/perl-5.28.0/bin/perl
$UID/$EUID = 1002 / 1002
$GID = 1002 1002 1001
$EGID = 1002 1002 1001
Perl module toolchain versions installed:
Module Have
------------------- --------
CPAN 2.16
CPAN::Meta 2.150010
Cwd 3.74
ExtUtils::CBuilder 0.280230
ExtUtils::Command 7.34
ExtUtils::Install 2.14
ExtUtils::MakeMaker 7.34
ExtUtils::Manifest 1.71
ExtUtils::ParseXS 3.35
File::Spec 3.74
JSON 2.90
JSON::PP 2.97001
Module::Build 0.4224
Module::Signature 0.81
Parse::CPAN::Meta 2.150010
Test::Harness 3.42
Test::More 1.302140
YAML 1.26
YAML::Syck n/a
version 0.9924
--
Summary of my perl5 (revision 5 version 28 subversion 0) configuration:
Platform:
osname=openbsd
osvers=6.3
archname=OpenBSD.amd64-openbsd-thread-multi
uname='openbsd cpan-smoker-openbsd 6.3 generic.mp#107 amd64 '
config_args='-de -Dprefix=/home/goku/perl5/perlbrew/perls/perl-5.28.0 -Dman1dir=none -Dman3dir=none -Dusethreads -Aeval:scriptdir=/home/goku/perl5/perlbrew/perls/perl-5.28.0/bin'
hint=recommended
useposix=true
d_sigaction=define
useithreads=define
usemultiplicity=define
use64bitint=define
use64bitall=define
uselongdouble=undef
usemymalloc=n
default_inc_excludes_dot=define
bincompat5005=undef
Compiler:
cc='cc'
ccflags ='-pthread -fno-strict-aliasing -pipe -fstack-protector-strong -I/usr/local/include -D_FORTIFY_SOURCE=2'
optimize='-O2'
cppflags='-pthread -fno-strict-aliasing -pipe -fstack-protector-strong -I/usr/local/include'
ccversion=''
gccversion='4.2.1 Compatible OpenBSD Clang 5.0.1 (tags/RELEASE_501/final)'
gccosandvers=''
intsize=4
longsize=8
ptrsize=8
doublesize=8
byteorder=12345678
doublekind=3
d_longlong=define
longlongsize=8
d_longdbl=define
longdblsize=16
longdblkind=3
ivtype='long'
ivsize=8
nvtype='double'
nvsize=8
Off_t='off_t'
lseeksize=8
alignbytes=8
prototype=define
Linker and Libraries:
ld='cc'
ldflags ='-pthread -Wl,-E -fstack-protector-strong -L/usr/local/lib'
libpth=/usr/lib /usr/local/lib
libs=-lpthread -lm -lutil -lc
perllibs=-lpthread -lm -lutil -lc
libc=/usr/lib/libc.so.92.3
so=so
useshrplib=false
libperl=libperl.a
gnulibc_version=''
Dynamic Linking:
dlsrc=dl_dlopen.xs
dlext=so
d_dlsymun=undef
ccdlflags=' '
cccdlflags='-DPIC -fPIC '
lddlflags='-shared -fPIC -L/usr/local/lib -fstack-protector-strong'
Characteristics of this binary (from libperl):
Compile-time options:
HAS_TIMES
MULTIPLICITY
PERLIO_LAYERS
PERL_COPY_ON_WRITE
PERL_DONT_CREATE_GVSV
PERL_IMPLICIT_CONTEXT
PERL_MALLOC_WRAP
PERL_OP_PARENT
PERL_PRESERVE_IVUV
USE_64_BIT_ALL
USE_64_BIT_INT
USE_ITHREADS
USE_LARGE_FILES
USE_LOCALE
USE_LOCALE_COLLATE
USE_LOCALE_CTYPE
USE_LOCALE_NUMERIC
USE_LOCALE_TIME
USE_PERLIO
USE_PERL_ATOF
USE_REENTRANT_API
Locally applied patches:
Devel::PatchPerl 1.48
Built under openbsd
Compiled at Aug 2 2018 17:44:44
%ENV:
PERL5LIB=""
PERL5OPT=""
PERL5_CPANPLUS_IS_RUNNING="78745"
PERL5_CPAN_IS_RUNNING="78745"
PERL5_CPAN_IS_RUNNING_IN_RECURSION="72809,78745"
PERLBREW_HOME="/home/goku/.perlbrew"
PERLBREW_MANPATH="/home/goku/perl5/perlbrew/perls/perl-5.28.0/man"
PERLBREW_PATH="/home/goku/perl5/perlbrew/bin:/home/goku/perl5/perlbrew/perls/perl-5.28.0/bin"
PERLBREW_PERL="perl-5.28.0"
PERLBREW_ROOT="/home/goku/perl5/perlbrew"
PERLBREW_SHELLRC_VERSION="0.84"
PERLBREW_VERSION="0.84"
PERL_CR_SMOKER_CURRENT="POE-Loop-Event-1.305"
PERL_EXTUTILS_AUTOINSTALL="--defaultdeps"
PERL_MM_USE_DEFAULT="1"
@INC:
/home/goku/perl5/perlbrew/perls/perl-5.28.0/lib/site_perl/5.28.0/OpenBSD.amd64-openbsd-thread-multi
/home/goku/perl5/perlbrew/perls/perl-5.28.0/lib/site_perl/5.28.0
/home/goku/perl5/perlbrew/perls/perl-5.28.0/lib/5.28.0/OpenBSD.amd64-openbsd-thread-multi
/home/goku/perl5/perlbrew/perls/perl-5.28.0/lib/5.28.0