IO-Iron v0.14 Perl 5 v5.38.0 amd64-freebsd
- Status
- Pass
- From
- Slaven Rezić
- Dist
-
IO-Iron v0.14
- Platform
- Perl 5 v5.38.0 amd64-freebsd
- Date
- 2023-09-12 16:08:20
- ID
- 97a8bbf0-5186-11ee-97f8-80e76d8775ea
This distribution has been tested as part of the CPAN Testers
project, supporting the Perl programming language. See
http://wiki.cpantesters.org/ for more information or email
questions to cpan-testers-discuss@perl.org
--
Dear Mikko Koivunalho,
This is a computer-generated report for IO-Iron-0.14
on perl 5.38.0, created by CPAN-Reporter-1.2019.
Thank you for uploading your work to CPAN. Congratulations!
All tests were successful.
Sections of this report:
* Tester comments
* Program output
* Prerequisites
* Environment and other context
------------------------------
TESTER COMMENTS
------------------------------
Additional comments from tester:
none provided
------------------------------
PROGRAM OUTPUT
------------------------------
Output from '/usr/bin/make test':
PERL_DL_NONLAZY=1 "/usr/perl5.38.0p/bin/perl5.38.0" "-MExtUtils::Command::MM" "-MTest::Harness" "-e" "undef *Test::Harness::Switches; test_harness(0, 'blib/lib', 'blib/arch')" t/Iron/*.t t/IronCache/*.t t/IronMQ/*.t t/IronWorker/*.t
# Testing IO::Iron::IronWorker::Client (0.14), Perl 5.038000, /usr/perl5.38.0p/bin/perl5.38.0
# test ReadIronMQConfig
# Current dir config filename: ./iron.json
# Extra config filename: t/.IronMQTestConfig.json
t/Iron/client_readconfig.t ... ok
# Testing IO::Iron::Common (0.14), Perl 5.038000, /usr/perl5.38.0p/bin/perl5.38.0
t/Iron/common.t .............. ok
# Testing IO::Iron (0.14), Perl 5.038000, /usr/perl5.38.0p/bin/perl5.38.0
t/Iron/load.t ................ ok
# Testing IO::Iron::IronCache::Client (0.14) with policies, Perl 5.038000, /usr/perl5.38.0p/bin/perl5.38.0
t/IronCache/cache_policy.t ... ok
# Testing IO::Iron::IronCache::Client (0.14), Perl 5.038000, /usr/perl5.38.0p/bin/perl5.38.0
t/IronCache/cache_policy2.t .. ok
# Testing IO::Iron::IronCache::Client (0.14), Perl 5.038000, /usr/perl5.38.0p/bin/perl5.38.0
t/IronCache/load.t ........... ok
# Testing IO::Iron::IronMQ::Client (0.14), Perl 5.038000, /usr/perl5.38.0p/bin/perl5.38.0
t/IronMQ/load.t .............. ok
# Testing IO::Iron::IronCache::Client (0.14), Perl 5.038000, /usr/perl5.38.0p/bin/perl5.38.0
t/IronWorker/load.t .......... ok
All tests successful.
Files=8, Tests=103, 2 wallclock secs ( 0.05 usr 0.02 sys + 1.16 cusr 0.28 csys = 1.52 CPU)
Result: PASS
------------------------------
PREREQUISITES
------------------------------
Prerequisite modules loaded:
requires:
Module Need Have
------------------- --------- --------
Carp 0 1.54
Carp::Assert 0 0.22
Carp::Assert::More 0 2.3.0
Const::Fast 0 0.014
Data::UUID 0 1.226
English 0 1.11
Exception::Class 0 1.45
Exporter 0 5.77
File::HomeDir 0 1.006
File::Spec 0 3.88
Hash::Util 0.06 0.30
JSON::MaybeXS 0 1.004005
Log::Any 0 1.716
Params::Validate 0 1.31
parent 0 0.241
Path::Tiny 0 0.144
perl 5.010 5.038000
REST::Client 0 281
Scalar::Util 0 1.63
strict 0 1.12
Try::Tiny 0 0.31
URI::Escape 0 5.21
warnings 0 1.65
build_requires:
Module Need Have
------------------- --------- --------
Data::Dumper 0 2.188
ExtUtils::MakeMaker 0 7.70
File::Copy 0 2.41
File::Remove 0 1.61
FindBin 1.51 1.53
lib 0 0.65
Log::Any::Test 0 1.716
Test::Exception 0 0.43
Test::More 0 1.302195
configure_requires:
Module Need Have
------------------- --------- --------
ExtUtils::MakeMaker 0 7.70
perl 5.010_000 5.038000
------------------------------
ENVIRONMENT AND OTHER CONTEXT
------------------------------
Environment variables:
PATH = /usr/local/bin:/usr/bin:/bin:/usr/local/sbin:/usr/sbin:/sbin:/home/cpansand/bin/sh:/home/cpansand/bin:/usr/games:/home/cpansand/devel:/usr/home/eserte/src/srezic-misc/scripts
PERL5LIB = /home/cpansand/.cpan/build/2023090220/REST-Client-281-0/blib/arch:/home/cpansand/.cpan/build/2023090220/REST-Client-281-0/blib/lib
PERL5OPT =
PERL5_CPANPLUS_IS_RUNNING = 11864
PERL5_CPAN_IS_RUNNING = 11864
PERL5_CPAN_IS_RUNNING_IN_RECURSION = 11841,11864
PERL_BATCH = yes
PERL_CANARY_STABILITY_NOPROMPT = 1
PERL_CPAN_REPORTER_CONFIG = /var/tmp/cpansmoker-1023/2023090220/cpanreporter_000_config.ini
PERL_EXTUTILS_AUTOINSTALL = --defaultdeps
PERL_USE_UNSAFE_INC = 1
SHELL = /bin/sh
TMPDIR = /var/tmp/cpansmoker-1023/2023090220
Perl special variables (and OS-specific diagnostics, for MSWin32):
$^X = /usr/perl5.38.0p/bin/perl5.38.0
$UID/$EUID = 1023 / 1023
$GID = 1023 1023
$EGID = 1023 1023
Perl module toolchain versions installed:
Module Have
------------------- --------
CPAN 2.36
CPAN::Meta 2.150010
Cwd 3.89
ExtUtils::CBuilder 0.280238
ExtUtils::Command 7.70
ExtUtils::Install 2.22
ExtUtils::MakeMaker 7.70
ExtUtils::Manifest 1.75
ExtUtils::ParseXS 3.51
File::Spec 3.88
JSON 4.10
JSON::PP 4.16
Module::Build 0.4234
Module::Signature n/a
Parse::CPAN::Meta 2.150010
Test2 1.302195
Test::Harness 3.47
Test::More 1.302195
YAML 1.30
YAML::Syck 1.34
version 0.9929
--
Summary of my perl5 (revision 5 version 38 subversion 0) configuration:
Platform:
osname=freebsd
osvers=12.4-stable
archname=amd64-freebsd
uname='freebsd cloud1.bbbike.org 12.4-stable freebsd 12.4-stable stable12-98358de57 generic amd64 '
config_args='-ds -e -Dprefix=/usr/perl5.38.0p -Dcf_email=srezic@cpan.org -Doptimize=-O2 -pipe'
hint=recommended
useposix=true
d_sigaction=define
useithreads=undef
usemultiplicity=undef
use64bitint=define
use64bitall=define
uselongdouble=undef
usemymalloc=n
default_inc_excludes_dot=define
Compiler:
cc='cc'
ccflags ='-DHAS_FPSETMASK -DHAS_FLOATINGPOINT_H -fno-strict-aliasing -pipe -fstack-protector-strong -I/usr/local/include'
optimize='-O2 -pipe'
cppflags='-DHAS_FPSETMASK -DHAS_FLOATINGPOINT_H -fno-strict-aliasing -pipe -fstack-protector-strong -I/usr/local/include'
ccversion=''
gccversion='FreeBSD Clang 13.0.0 (git@github.com:llvm/llvm-project.git llvmorg-13.0.0-0-gd7b669b3a303)'
gccosandvers=''
intsize=4
longsize=8
ptrsize=8
doublesize=8
byteorder=12345678
doublekind=3
d_longlong=define
longlongsize=8
d_longdbl=define
longdblsize=16
longdblkind=3
ivtype='long'
ivsize=8
nvtype='double'
nvsize=8
Off_t='off_t'
lseeksize=8
alignbytes=8
prototype=define
Linker and Libraries:
ld='cc'
ldflags ='-pthread -Wl,-E -fstack-protector-strong -L/usr/local/lib'
libpth=/usr/lib /usr/local/lib /usr/lib/clang/13.0.0/lib
libs=-lpthread -lgdbm -ldl -lm -lcrypt -lutil -lc
perllibs=-lpthread -ldl -lm -lcrypt -lutil -lc
libc=
so=so
useshrplib=false
libperl=libperl.a
gnulibc_version=''
Dynamic Linking:
dlsrc=dl_dlopen.xs
dlext=so
d_dlsymun=undef
ccdlflags=' '
cccdlflags='-DPIC -fPIC'
lddlflags='-shared -L/usr/local/lib -fstack-protector-strong'
Characteristics of this binary (from libperl):
Compile-time options:
HAS_LONG_DOUBLE
HAS_STRTOLD
HAS_TIMES
PERLIO_LAYERS
PERL_COPY_ON_WRITE
PERL_DONT_CREATE_GVSV
PERL_HASH_FUNC_SIPHASH13
PERL_HASH_USE_SBOX32
PERL_MALLOC_WRAP
PERL_OP_PARENT
PERL_PRESERVE_IVUV
PERL_USE_SAFE_PUTENV
USE_64_BIT_ALL
USE_64_BIT_INT
USE_LARGE_FILES
USE_LOCALE
USE_LOCALE_COLLATE
USE_LOCALE_CTYPE
USE_LOCALE_NUMERIC
USE_LOCALE_TIME
USE_PERLIO
USE_PERL_ATOF
Built under freebsd
Compiled at Jul 8 2023 12:28:42
%ENV:
PERL5LIB="/home/cpansand/.cpan/build/2023090220/REST-Client-281-0/blib/arch:/home/cpansand/.cpan/build/2023090220/REST-Client-281-0/blib/lib"
PERL5OPT=""
PERL5_CPANPLUS_IS_RUNNING="11864"
PERL5_CPAN_IS_RUNNING="11864"
PERL5_CPAN_IS_RUNNING_IN_RECURSION="11841,11864"
PERL_BATCH="yes"
PERL_CANARY_STABILITY_NOPROMPT="1"
PERL_CPAN_REPORTER_CONFIG="/var/tmp/cpansmoker-1023/2023090220/cpanreporter_000_config.ini"
PERL_EXTUTILS_AUTOINSTALL="--defaultdeps"
PERL_USE_UNSAFE_INC="1"
@INC:
/home/cpansand/.cpan/build/2023090220/REST-Client-281-0/blib/arch
/home/cpansand/.cpan/build/2023090220/REST-Client-281-0/blib/lib
/usr/perl5.38.0p/lib/site_perl/5.38.0/amd64-freebsd
/usr/perl5.38.0p/lib/site_perl/5.38.0
/usr/perl5.38.0p/lib/5.38.0/amd64-freebsd
/usr/perl5.38.0p/lib/5.38.0
.