Report for Hash-AutoHash-1.12

Back
From: metabase:user:e7b34f46-36ca-11e0-a826-945c7ca43f85
Subject: PASS Hash-AutoHash-1.12 v5.12.2 NetBSD
Date: 2011-02-14T23:03:09Z

This distribution has been tested as part of the CPAN Testers
project, supporting the Perl programming language.  See
http://wiki.cpantesters.org/ for more information or email
questions to cpan-testers-discuss@perl.org


--
Dear Nathan Goodman,

This is a computer-generated report for Hash-AutoHash-1.12
on perl 5.12.2, created by CPAN-Reporter-1.1902.

Thank you for uploading your work to CPAN.  Congratulations!
All tests were successful.

Sections of this report:

    * Tester comments
    * Program output
    * Prerequisites
    * Environment and other context

------------------------------
TESTER COMMENTS
------------------------------

Additional comments from tester:

this report is from an automated smoke testing program
and was not reviewed by a human for accuracy

------------------------------
PROGRAM OUTPUT
------------------------------

Output from './Build test':

# Testing Hash::AutoHash 1.12, Perl 5.012002, /usr/pkg/bin/perl
t/autohash.000.code_exists.t .... ok
t/autohash.001.boilerplate.t .... ok
t/autohash.002.pod.t ............ ok
t/autohash.010.cons_funcs.t ..... ok
t/autohash.011.new_func.t ....... ok
t/autohash.012.new_method.t ..... ok
t/autohash.013.ashash.t ......... ok
t/autohash.013.exthash.t ........ ok
t/autohash.013.extobj.t ......... ok
t/autohash.019.export_ok.t ...... ok
t/autohash.020.class_methods.t .. ok
t/autohash.020.special_keys.t ... ok
t/autohash.030.alias.t .......... ok
t/autohash.030.clear.t .......... ok
t/autohash.030.count_etc.t ...... ok
t/autohash.030.delete.t ......... ok
t/autohash.030.each.t ........... ok
t/autohash.030.exists.t ......... ok
t/autohash.030.get.t ............ ok
t/autohash.030.keys.t ........... ok
t/autohash.030.set.t ............ ok
t/autohash.030.tied.t ........... ok
t/autohash.030.values.t ......... ok
t/autohash.031.delete_exists.t .. ok
t/autohash.031.delete_keys.t .... ok
t/autohash.031.delete_values.t .. ok
t/autohash.040.destroy.t ........ ok
t/autohash.050.child.t .......... ok
t/autohash.050.grandchild.t ..... ok
t/autohash.055.typicalchild.t ... ok
t/autohash.099.docs.t ........... ok
All tests successful.
Files=31, Tests=2827,  4 wallclock secs ( 0.02 usr  0.69 sys +  1.20 cusr  2.36 csys =  4.27 CPU)
Result: PASS

------------------------------
PREREQUISITES
------------------------------

Prerequisite modules loaded:

requires:

    Module                Need   Have    
    --------------------- ------ --------
    Carp                  0      1.17    
    List::MoreUtils       0.09   0.30    
    perl                  v5.8.3 5.012002
    Scalar::Util          1.01   1.23    
    Tie::Hash             1      1.03    
    Tie::ToObject         0      0.03    

build_requires:

    Module                Need   Have    
    --------------------- ------ --------
    Exporter              0      5.64_01 
    Test::Deep            0      0.108   
    Test::More            0.88   0.96    
    Tie::Hash::MultiValue 0      1.02    

configure_requires:

    Module                Need   Have    
    --------------------- ------ --------
    Module::Build         0.34   0.37_02 


------------------------------
ENVIRONMENT AND OTHER CONTEXT
------------------------------

Environment variables:

    AUTOMATED_TESTING = 1
    LD_LIBRARY_PATH = /home/tom/local/lib:
    PATH = /home/tom/perl5/bin:/home/tom/etc/cpan/bin:/home/tom/local/bin:/usr/bin:/bin:/usr/pkg/bin:/usr/local/bin
    PERL5LIB = /home/tom/perl5/lib/perl5/x86_64-netbsd-thread-multi:/home/tom/perl5/lib/perl5:/home/tom/.cpan:/home/tom/.cpan/lib:/home/tom/.cpan/lib/perl5:/home/tom/.cpan/lib/perl5/site_perl:/home/tom/.cpan/lib/perl5/5.10.0/i486-linux-gnu-thread-multi:
    PERL5OPT = 
    PERL5_CPANPLUS_IS_RUNNING = 25799
    PERL5_CPAN_IS_RUNNING = 25799
    PERL5_CPAN_IS_RUNNING_IN_RECURSION = 470,25799
    PERL_CR_SMOKER_CURRENT = Data-Babel-Client-0.02
    PERL_EXTUTILS_AUTOINSTALL = --defaultdeps
    PERL_LOCAL_LIB_ROOT = /home/tom/perl5
    PERL_MB_OPT = --install_base /home/tom/perl5
    PERL_MM_OPT = INSTALL_BASE=/home/tom/perl5
    PERL_MM_USE_DEFAULT = 1
    SHELL = /usr/pkg/bin/bash
    TERM = xterm

Perl special variables (and OS-specific diagnostics, for MSWin32):

    $^X = /usr/pkg/bin/perl
    $UID/$EUID = 1000 / 1000
    $GID = 100 100 0
    $EGID = 100 100 0

Perl module toolchain versions installed:

    Module              Have    
    ------------------- --------
    CPAN                1.94_56 
    Cwd                 3.31    
    ExtUtils::CBuilder  0.280202
    ExtUtils::Command   1.16    
    ExtUtils::Install   1.55    
    ExtUtils::MakeMaker 6.56    
    ExtUtils::Manifest  1.57    
    ExtUtils::ParseXS   2.2206  
    File::Spec          3.31_01 
    Module::Build       0.37_02 
    Module::Signature   n/a     
    Test::Harness       3.22    
    Test::More          0.96    
    YAML                0.72    
    YAML::Syck          1.17    
    version             0.88    


--

Summary of my perl5 (revision 5 version 12 subversion 2) configuration:
   
  Platform:
    osname=netbsd, osvers=5.1, archname=x86_64-netbsd-thread-multi
    uname='netbsd amd64-nb51.netbsd.org 5.1 netbsd 5.1 (libkver) #0: tue jan 19 00:00:00 utc 2038 root@localhost:sysarchamd64compilelibkver amd64 '
    config_args='-sde -D ccflags=-O2  -pthread  -I/usr/include -D ldflags=  -L/usr/lib -Wl,-R/usr/lib -Wl,-R/usr/pkg/lib -Duseshrplib -Duseithreads -Uusemymalloc'
    hint=recommended, useposix=true, d_sigaction=define
    useithreads=define, usemultiplicity=define
    useperlio=define, d_sfio=undef, uselargefiles=define, usesocks=undef
    use64bitint=define, use64bitall=define, uselongdouble=undef
    usemymalloc=n, bincompat5005=undef
  Compiler:
    cc='cc', ccflags ='-O2 -pthread -I/usr/include -fno-strict-aliasing -pipe -fstack-protector',
    optimize='-O2  -pthread  -I/usr/include',
    cppflags='-O2 -pthread -I/usr/include -fno-strict-aliasing -pipe -fstack-protector'
    ccversion='', gccversion='4.1.3 20080704 prerelease (NetBSD nb2 20081120)', gccosandvers=''
    intsize=4, longsize=8, ptrsize=8, doublesize=8, byteorder=12345678
    d_longlong=define, longlongsize=8, d_longdbl=define, longdblsize=16
    ivtype='long', ivsize=8, nvtype='double', nvsize=8, Off_t='off_t', lseeksize=8
    alignbytes=8, prototype=define
  Linker and Libraries:
    ld='cc', ldflags ='-Wl,-R/usr/pkg/lib -Wl,-rpath,/usr/pkg/lib -fstack-protector'
    libpth=/lib /usr/lib
    libs=-lm -lcrypt -lpthread
    perllibs=-lm -lcrypt -lpthread
    libc=/lib/libc.so, so=so, useshrplib=true, libperl=libperl.so
    gnulibc_version=''
  Dynamic Linking:
    dlsrc=dl_dlopen.xs, dlext=so, d_dlsymun=undef, ccdlflags='-Wl,-E  -Wl,-R/usr/pkg/lib/perl5/5.12.0/x86_64-netbsd-thread-multi/CORE'
    cccdlflags='-DPIC -fPIC ', lddlflags='-Wl,-R/usr/pkg/lib --whole-archive -shared  -fstack-protector'


Characteristics of this binary (from libperl): 
  Compile-time options: MULTIPLICITY PERL_DONT_CREATE_GVSV
                        PERL_IMPLICIT_CONTEXT USE_64_BIT_ALL USE_64_BIT_INT
                        USE_ITHREADS USE_LARGE_FILES USE_PERLIO USE_PERL_ATOF
                        USE_REENTRANT_API
  Built under netbsd
  Compiled at Jan 21 2011 01:10:32
  %ENV:
    PERL5LIB="/home/tom/perl5/lib/perl5/x86_64-netbsd-thread-multi:/home/tom/perl5/lib/perl5:/home/tom/.cpan:/home/tom/.cpan/lib:/home/tom/.cpan/lib/perl5:/home/tom/.cpan/lib/perl5/site_perl:/home/tom/.cpan/lib/perl5/5.10.0/i486-linux-gnu-thread-multi:"
    PERL5OPT=""
    PERL5_CPANPLUS_IS_RUNNING="25799"
    PERL5_CPAN_IS_RUNNING="25799"
    PERL5_CPAN_IS_RUNNING_IN_RECURSION="470,25799"
    PERL_CR_SMOKER_CURRENT="Data-Babel-Client-0.02"
    PERL_EXTUTILS_AUTOINSTALL="--defaultdeps"
    PERL_LOCAL_LIB_ROOT="/home/tom/perl5"
    PERL_MB_OPT="--install_base /home/tom/perl5"
    PERL_MM_OPT="INSTALL_BASE=/home/tom/perl5"
    PERL_MM_USE_DEFAULT="1"
  @INC:
    /home/tom/perl5/lib/perl5/x86_64-netbsd-thread-multi
    /home/tom/perl5/lib/perl5/x86_64-netbsd-thread-multi
    /home/tom/perl5/lib/perl5
    /home/tom/.cpan
    /home/tom/.cpan/lib
    /home/tom/.cpan/lib/perl5
    /home/tom/.cpan/lib/perl5/site_perl
    /home/tom/.cpan/lib/perl5/5.10.0/i486-linux-gnu-thread-multi
    /usr/pkg/lib/perl5/site_perl/5.12.0/x86_64-netbsd-thread-multi
    /usr/pkg/lib/perl5/site_perl/5.12.0
    /usr/pkg/lib/perl5/vendor_perl/5.12.0/x86_64-netbsd-thread-multi
    /usr/pkg/lib/perl5/vendor_perl/5.12.0
    /usr/pkg/lib/perl5/5.12.0/x86_64-netbsd-thread-multi
    /usr/pkg/lib/perl5/5.12.0
    .