Module-FromPerlVer v0.030000 Perl 5 v5.22.0 amd64-freebsd

Status
Pass
From
Slaven Rezić (SREZIC)
Dist
Module-FromPerlVer v0.030000
Platform
Perl 5 v5.22.0 amd64-freebsd
Date
2018-05-09 19:24:28
ID
974b9fb8-53be-11e8-aedf-8f61294cec71
This distribution has been tested as part of the CPAN Testers
project, supporting the Perl programming language.  See
http://wiki.cpantesters.org/ for more information or email
questions to cpan-testers-discuss@perl.org


--
Dear Steven Lembark,

This is a computer-generated report for Module-FromPerlVer-0.030000
on perl 5.22.0, created by CPAN-Reporter-1.2018.

Thank you for uploading your work to CPAN.  Congratulations!
All tests were successful.

Sections of this report:

    * Tester comments
    * Program output
    * Prerequisites
    * Environment and other context

------------------------------
TESTER COMMENTS
------------------------------

Additional comments from tester:

none provided

------------------------------
PROGRAM OUTPUT
------------------------------

Output from '/usr/bin/make test':

PERL_DL_NONLAZY=1 "/usr/perl5.22.0p/bin/perl5.22.0" "-MExtUtils::Command::MM" "-MTest::Harness" "-e" "undef *Test::Harness::Switches; test_harness(0, 'blib/lib', 'blib/arch')" t/*.t t/dynamic/*.t
# Working dir: '/home/cpansand/.cpan/build/2018050921/Module-FromPerlVer-0.030000-5'
# Executable:  't/00-usable.t'
# Found 'lib' directory
# Search: '/home/cpansand/.cpan/build/2018050921/Module-FromPerlVer-0.030000-5' for files with 'File::Copy::Recursive'
# Module-FromPerlVer-0.030000-5/CHANGES  5 : '    out File::Copy::Recursive, which is not used in the Makefile.PL,
# '
# Module-FromPerlVer-0.030000-5/CHANGES  6 : '    module, or test code. File::Copy::Recursive is not installed 
# '
# Module-FromPerlVer-0.030000-5/CHANGES  13 : '    "File::Copy::Recursive" and dumping the result along with 
# '
# Module-FromPerlVer-0.030000-5/CHANGES  27 : '    File::Copy::Recursive may still have problems; revert to 
# '
# Module-FromPerlVer-0.030000-5/CHANGES  28 : '    File::Copy::Recursive::Reduced.
# '
# Module-FromPerlVer-0.030000-5/Makefile.PL  81 : '                    [ qw( File::Copy::Recursive::Reduced    v0.6.0  ) ],
# '
# Module-FromPerlVer-0.030000-5/Makefile.PL  112 : '            [ qw( File::Copy::Recursive::Reduced    v0.6.0  ) ],
# '
# Module-FromPerlVer-0.030000-5/META.yml  23 : '  File::Copy::Recursive::Reduced: '0.006000'
# '
# Module-FromPerlVer-0.030000-5/META.yml  41 : '  File::Copy::Recursive::Reduced: '0.006000'
# '
# Module-FromPerlVer-0.030000-5/META.json  37 : '            "File::Copy::Recursive::Reduced" : "0.006000",
# '
# Module-FromPerlVer-0.030000-5/META.json  60 : '      "File::Copy::Recursive::Reduced" : "0.006000",
# '
# Module-FromPerlVer-0.030000-5/MYMETA.json  37 : '            "File::Copy::Recursive::Reduced" : "0.006000",
# '
# Module-FromPerlVer-0.030000-5/MYMETA.json  60 : '      "File::Copy::Recursive::Reduced" : "0.006000",
# '
# Module-FromPerlVer-0.030000-5/Makefile  19 : '#     META_MERGE => { CONFIGURE_REQUIRES=>{ ExtUtils::MakeMaker=>undef, strict=>q[0], version=>q[0] }, TEST_REQUIRES=>{ Archive::Tar=>q[0], Cwd=>q[3.073000], File::Basename=>q[0], File::Copy::Recursive::Reduced=>q[0.006000], File::Find=>q[0], File::Spec::Functions=>q[0], File::Temp=>q[0], FindBin=>q[0], List::MoreUtils=>q[0], List::Util=>q[1.046000], Symbol=>q[0], Test::Deep=>q[0], Test::More=>q[0], lib=>q[0], strict=>q[0], version=>q[0] }, dynamic_config=>q[1], meta-spec=>{ version=>q[2] } }
# '
# Module-FromPerlVer-0.030000-5/Makefile  21 : '#     PREREQ_PM => { Cwd=>q[3.073000], File::Basename=>q[0], File::Copy::Recursive::Reduced=>q[0.006000], File::Find=>q[0], File::Spec::Functions=>q[0], FindBin=>q[0], List::Util=>q[1.046000], Symbol=>q[0], Test::More=>q[0], strict=>q[0], version=>q[0] }
# '
# Module-FromPerlVer-0.030000-5/Makefile  509 : '	$(NOECHO) $(ECHO) '  File::Copy::Recursive::Reduced: '\''0.006000'\''' >> META_new.yml
# '
# Module-FromPerlVer-0.030000-5/Makefile  527 : '	$(NOECHO) $(ECHO) '  File::Copy::Recursive::Reduced: '\''0.006000'\''' >> META_new.yml
# '
# Module-FromPerlVer-0.030000-5/Makefile  579 : '	$(NOECHO) $(ECHO) '            "File::Copy::Recursive::Reduced" : "0.006000",' >> META_new.json
# '
# Module-FromPerlVer-0.030000-5/Makefile  602 : '	$(NOECHO) $(ECHO) '      "File::Copy::Recursive::Reduced" : "0.006000",' >> META_new.json
# '
# Module-FromPerlVer-0.030000-5/Makefile  931 : '	$(NOECHO) $(ECHO) '        <REQUIRE NAME="File::Copy::Recursive::Reduced" VERSION="0.006000" />' >> Module-FromPerlVer.ppd
# '
# Module-FromPerlVer-0.030000-5/MYMETA.yml  23 : '  File::Copy::Recursive::Reduced: '0.006000'
# '
# Module-FromPerlVer-0.030000-5/MYMETA.yml  41 : '  File::Copy::Recursive::Reduced: '0.006000'
# '
# t/00-usable.t  39 : '            -1 < index  $line, 'File::Copy::Recursive'
# '
# t/00-usable.t  50 : 'diag "Search: '$cwd' for files with 'File::Copy::Recursive'";
# '
# Module/FromPerlVer.pm  6 : '# File::Copy::Recursive & friends -- yeah, ancient.
# '
# Module/FromPerlVer.pm  21 : 'use File::Copy::Recursive::Reduced  qw( dircopy );
# '
# Module/FromPerlVer.pm  460 : '    # this returns the count from File::Copy::Recursive,
# '
# Module/FromPerlVer.pm  828 : '=item File::Copy::Recursive
# '
# Module/FromPerlVer.pm  6 : '# File::Copy::Recursive & friends -- yeah, ancient.
# '
# Module/FromPerlVer.pm  21 : 'use File::Copy::Recursive::Reduced  qw( dircopy );
# '
# Module/FromPerlVer.pm  460 : '    # this returns the count from File::Copy::Recursive,
# '
# Module/FromPerlVer.pm  828 : '=item File::Copy::Recursive
# '
# man3/Module::FromPerlVer.3  421 : '.IP "File::Copy::Recursive" 4
# '
# man3/Module::FromPerlVer.3  422 : '.IX Item "File::Copy::Recursive"
# '
t/00-usable.t ................................ ok

# Search: 't' (/home/cpansand/.cpan/build/2018050921/Module-FromPerlVer-0.030000-5/t)
# Created:  '/home/cpansand/.cpan/build/2018050921/Module-FromPerlVer-0.030000-5/t/sandbox'.
# Search: 't' (/home/cpansand/.cpan/build/2018050921/Module-FromPerlVer-0.030000-5/t)
# Existing: '/home/cpansand/.cpan/build/2018050921/Module-FromPerlVer-0.030000-5/t/sandbox'.
# Work dir: 't/sandbox/10-perl-version.t-6swD't/10-perl-version.t .......................... ok

# Search: 't' (/home/cpansand/.cpan/build/2018050921/Module-FromPerlVer-0.030000-5/t)
# Existing: '/home/cpansand/.cpan/build/2018050921/Module-FromPerlVer-0.030000-5/t/sandbox'.
# Search: 't' (/home/cpansand/.cpan/build/2018050921/Module-FromPerlVer-0.030000-5/t)
# Existing: '/home/cpansand/.cpan/build/2018050921/Module-FromPerlVer-0.030000-5/t/sandbox'.
# Work dir: 't/sandbox/11-env-version.t-D1Jj't/11-env-version.t ........................... ok

# Search: 't' (/home/cpansand/.cpan/build/2018050921/Module-FromPerlVer-0.030000-5/t)
# Existing: '/home/cpansand/.cpan/build/2018050921/Module-FromPerlVer-0.030000-5/t/sandbox'.
# Search: 't' (/home/cpansand/.cpan/build/2018050921/Module-FromPerlVer-0.030000-5/t)
# Existing: '/home/cpansand/.cpan/build/2018050921/Module-FromPerlVer-0.030000-5/t/sandbox'.
# Work dir: 't/sandbox/12-path-version.t-LHgF't/12-path-version.t .......................... ok
t/13-reject-bogus-no-5.0.t ................... ok

# Search: 't' (/home/cpansand/.cpan/build/2018050921/Module-FromPerlVer-0.030000-5/t)
# Existing: '/home/cpansand/.cpan/build/2018050921/Module-FromPerlVer-0.030000-5/t/sandbox'.
# Search: 't' (/home/cpansand/.cpan/build/2018050921/Module-FromPerlVer-0.030000-5/t)
# Existing: '/home/cpansand/.cpan/build/2018050921/Module-FromPerlVer-0.030000-5/t/sandbox'.
# Work dir: 't/sandbox/20-file-defaults-5.0.1.t-63V4'
# Testing perl version: '5.0.1' (20-file-defaults-5.0.1).
t/dynamic/20-file-defaults-5.0.1.t ........... ok

# Search: 't' (/home/cpansand/.cpan/build/2018050921/Module-FromPerlVer-0.030000-5/t)
# Existing: '/home/cpansand/.cpan/build/2018050921/Module-FromPerlVer-0.030000-5/t/sandbox'.
# Search: 't' (/home/cpansand/.cpan/build/2018050921/Module-FromPerlVer-0.030000-5/t)
# Existing: '/home/cpansand/.cpan/build/2018050921/Module-FromPerlVer-0.030000-5/t/sandbox'.
# Work dir: 't/sandbox/20-file-defaults-5.000.001.t-NOnv'
# Testing perl version: '5.000.001' (20-file-defaults-5.000.001).
t/dynamic/20-file-defaults-5.000.001.t ....... ok

# Search: 't' (/home/cpansand/.cpan/build/2018050921/Module-FromPerlVer-0.030000-5/t)
# Existing: '/home/cpansand/.cpan/build/2018050921/Module-FromPerlVer-0.030000-5/t/sandbox'.
# Search: 't' (/home/cpansand/.cpan/build/2018050921/Module-FromPerlVer-0.030000-5/t)
# Existing: '/home/cpansand/.cpan/build/2018050921/Module-FromPerlVer-0.030000-5/t/sandbox'.
# Work dir: 't/sandbox/20-file-defaults-5.000001.t-0xfj'
# Testing perl version: '5.000001' (20-file-defaults-5.000001).
t/dynamic/20-file-defaults-5.000001.t ........ ok

# Search: 't' (/home/cpansand/.cpan/build/2018050921/Module-FromPerlVer-0.030000-5/t)
# Existing: '/home/cpansand/.cpan/build/2018050921/Module-FromPerlVer-0.030000-5/t/sandbox'.
# Search: 't' (/home/cpansand/.cpan/build/2018050921/Module-FromPerlVer-0.030000-5/t)
# Existing: '/home/cpansand/.cpan/build/2018050921/Module-FromPerlVer-0.030000-5/t/sandbox'.
# Work dir: 't/sandbox/20-file-defaults-5.000_001.t-0YNh'
# Testing perl version: '5.000_001' (20-file-defaults-5.000_001).
t/dynamic/20-file-defaults-5.000_001.t ....... ok

# Search: 't' (/home/cpansand/.cpan/build/2018050921/Module-FromPerlVer-0.030000-5/t)
# Existing: '/home/cpansand/.cpan/build/2018050921/Module-FromPerlVer-0.030000-5/t/sandbox'.
# Search: 't' (/home/cpansand/.cpan/build/2018050921/Module-FromPerlVer-0.030000-5/t)
# Existing: '/home/cpansand/.cpan/build/2018050921/Module-FromPerlVer-0.030000-5/t/sandbox'.
# Work dir: 't/sandbox/20-file-defaults-5.006.000.t-LnTK'
# Testing perl version: '5.006.000' (20-file-defaults-5.006.000).
t/dynamic/20-file-defaults-5.006.000.t ....... ok

# Search: 't' (/home/cpansand/.cpan/build/2018050921/Module-FromPerlVer-0.030000-5/t)
# Existing: '/home/cpansand/.cpan/build/2018050921/Module-FromPerlVer-0.030000-5/t/sandbox'.
# Search: 't' (/home/cpansand/.cpan/build/2018050921/Module-FromPerlVer-0.030000-5/t)
# Existing: '/home/cpansand/.cpan/build/2018050921/Module-FromPerlVer-0.030000-5/t/sandbox'.
# Work dir: 't/sandbox/20-file-defaults-5.006000.t-Nn3i'
# Testing perl version: '5.006000' (20-file-defaults-5.006000).
t/dynamic/20-file-defaults-5.006000.t ........ ok

# Search: 't' (/home/cpansand/.cpan/build/2018050921/Module-FromPerlVer-0.030000-5/t)
# Existing: '/home/cpansand/.cpan/build/2018050921/Module-FromPerlVer-0.030000-5/t/sandbox'.
# Search: 't' (/home/cpansand/.cpan/build/2018050921/Module-FromPerlVer-0.030000-5/t)
# Existing: '/home/cpansand/.cpan/build/2018050921/Module-FromPerlVer-0.030000-5/t/sandbox'.
# Work dir: 't/sandbox/20-file-defaults-5.006_000.t-Ablg'
# Testing perl version: '5.006_000' (20-file-defaults-5.006_000).
t/dynamic/20-file-defaults-5.006_000.t ....... ok

# Search: 't' (/home/cpansand/.cpan/build/2018050921/Module-FromPerlVer-0.030000-5/t)
# Existing: '/home/cpansand/.cpan/build/2018050921/Module-FromPerlVer-0.030000-5/t/sandbox'.
# Search: 't' (/home/cpansand/.cpan/build/2018050921/Module-FromPerlVer-0.030000-5/t)
# Existing: '/home/cpansand/.cpan/build/2018050921/Module-FromPerlVer-0.030000-5/t/sandbox'.
# Work dir: 't/sandbox/20-file-defaults-5.008.008.t-jMAW'
# Testing perl version: '5.008.008' (20-file-defaults-5.008.008).
t/dynamic/20-file-defaults-5.008.008.t ....... ok

# Search: 't' (/home/cpansand/.cpan/build/2018050921/Module-FromPerlVer-0.030000-5/t)
# Existing: '/home/cpansand/.cpan/build/2018050921/Module-FromPerlVer-0.030000-5/t/sandbox'.
# Search: 't' (/home/cpansand/.cpan/build/2018050921/Module-FromPerlVer-0.030000-5/t)
# Existing: '/home/cpansand/.cpan/build/2018050921/Module-FromPerlVer-0.030000-5/t/sandbox'.
# Work dir: 't/sandbox/20-file-defaults-5.008008.t-_ClU'
# Testing perl version: '5.008008' (20-file-defaults-5.008008).
t/dynamic/20-file-defaults-5.008008.t ........ ok

# Search: 't' (/home/cpansand/.cpan/build/2018050921/Module-FromPerlVer-0.030000-5/t)
# Existing: '/home/cpansand/.cpan/build/2018050921/Module-FromPerlVer-0.030000-5/t/sandbox'.
# Search: 't' (/home/cpansand/.cpan/build/2018050921/Module-FromPerlVer-0.030000-5/t)
# Existing: '/home/cpansand/.cpan/build/2018050921/Module-FromPerlVer-0.030000-5/t/sandbox'.
# Work dir: 't/sandbox/20-file-defaults-5.008_008.t-ISqP'
# Testing perl version: '5.008_008' (20-file-defaults-5.008_008).
t/dynamic/20-file-defaults-5.008_008.t ....... ok

# Search: 't' (/home/cpansand/.cpan/build/2018050921/Module-FromPerlVer-0.030000-5/t)
# Existing: '/home/cpansand/.cpan/build/2018050921/Module-FromPerlVer-0.030000-5/t/sandbox'.
# Search: 't' (/home/cpansand/.cpan/build/2018050921/Module-FromPerlVer-0.030000-5/t)
# Existing: '/home/cpansand/.cpan/build/2018050921/Module-FromPerlVer-0.030000-5/t/sandbox'.
# Work dir: 't/sandbox/20-file-defaults-5.6.0.t-EHV1'
# Testing perl version: '5.6.0' (20-file-defaults-5.6.0).
t/dynamic/20-file-defaults-5.6.0.t ........... ok

# Search: 't' (/home/cpansand/.cpan/build/2018050921/Module-FromPerlVer-0.030000-5/t)
# Existing: '/home/cpansand/.cpan/build/2018050921/Module-FromPerlVer-0.030000-5/t/sandbox'.
# Search: 't' (/home/cpansand/.cpan/build/2018050921/Module-FromPerlVer-0.030000-5/t)
# Existing: '/home/cpansand/.cpan/build/2018050921/Module-FromPerlVer-0.030000-5/t/sandbox'.
# Work dir: 't/sandbox/20-file-defaults-5.8.8.t-5tvf'
# Testing perl version: '5.8.8' (20-file-defaults-5.8.8).
t/dynamic/20-file-defaults-5.8.8.t ........... ok

# Search: 't' (/home/cpansand/.cpan/build/2018050921/Module-FromPerlVer-0.030000-5/t)
# Existing: '/home/cpansand/.cpan/build/2018050921/Module-FromPerlVer-0.030000-5/t/sandbox'.
# Search: 't' (/home/cpansand/.cpan/build/2018050921/Module-FromPerlVer-0.030000-5/t)
# Existing: '/home/cpansand/.cpan/build/2018050921/Module-FromPerlVer-0.030000-5/t/sandbox'.
# Work dir: 't/sandbox/20-file-defaults-5.888.888.t-2LJ4'
# Testing perl version: '5.888.888' (20-file-defaults-5.888.888).
t/dynamic/20-file-defaults-5.888.888.t ....... ok

# Search: 't' (/home/cpansand/.cpan/build/2018050921/Module-FromPerlVer-0.030000-5/t)
# Existing: '/home/cpansand/.cpan/build/2018050921/Module-FromPerlVer-0.030000-5/t/sandbox'.
# Search: 't' (/home/cpansand/.cpan/build/2018050921/Module-FromPerlVer-0.030000-5/t)
# Existing: '/home/cpansand/.cpan/build/2018050921/Module-FromPerlVer-0.030000-5/t/sandbox'.
# Work dir: 't/sandbox/20-file-defaults-5.888888.t-K9Y7'
# Testing perl version: '5.888888' (20-file-defaults-5.888888).
t/dynamic/20-file-defaults-5.888888.t ........ ok

# Search: 't' (/home/cpansand/.cpan/build/2018050921/Module-FromPerlVer-0.030000-5/t)
# Existing: '/home/cpansand/.cpan/build/2018050921/Module-FromPerlVer-0.030000-5/t/sandbox'.
# Search: 't' (/home/cpansand/.cpan/build/2018050921/Module-FromPerlVer-0.030000-5/t)
# Existing: '/home/cpansand/.cpan/build/2018050921/Module-FromPerlVer-0.030000-5/t/sandbox'.
# Work dir: 't/sandbox/20-file-defaults-5.888_888.t-wI2s'
# Testing perl version: '5.888_888' (20-file-defaults-5.888_888).
t/dynamic/20-file-defaults-5.888_888.t ....... ok

# Search: 't' (/home/cpansand/.cpan/build/2018050921/Module-FromPerlVer-0.030000-5/t)
# Existing: '/home/cpansand/.cpan/build/2018050921/Module-FromPerlVer-0.030000-5/t/sandbox'.
# Search: 't' (/home/cpansand/.cpan/build/2018050921/Module-FromPerlVer-0.030000-5/t)
# Existing: '/home/cpansand/.cpan/build/2018050921/Module-FromPerlVer-0.030000-5/t/sandbox'.
# Work dir: 't/sandbox/20-file-defaults-5.999.999.t-jxll'
# Testing perl version: '5.999.999' (20-file-defaults-5.999.999).
t/dynamic/20-file-defaults-5.999.999.t ....... ok

# Search: 't' (/home/cpansand/.cpan/build/2018050921/Module-FromPerlVer-0.030000-5/t)
# Existing: '/home/cpansand/.cpan/build/2018050921/Module-FromPerlVer-0.030000-5/t/sandbox'.
# Search: 't' (/home/cpansand/.cpan/build/2018050921/Module-FromPerlVer-0.030000-5/t)
# Existing: '/home/cpansand/.cpan/build/2018050921/Module-FromPerlVer-0.030000-5/t/sandbox'.
# Work dir: 't/sandbox/20-file-defaults-5.999999.t-MZCu'
# Testing perl version: '5.999999' (20-file-defaults-5.999999).
t/dynamic/20-file-defaults-5.999999.t ........ ok

# Search: 't' (/home/cpansand/.cpan/build/2018050921/Module-FromPerlVer-0.030000-5/t)
# Existing: '/home/cpansand/.cpan/build/2018050921/Module-FromPerlVer-0.030000-5/t/sandbox'.
# Search: 't' (/home/cpansand/.cpan/build/2018050921/Module-FromPerlVer-0.030000-5/t)
# Existing: '/home/cpansand/.cpan/build/2018050921/Module-FromPerlVer-0.030000-5/t/sandbox'.
# Work dir: 't/sandbox/20-file-defaults-5.999_999.t-Siff'
# Testing perl version: '5.999_999' (20-file-defaults-5.999_999).
t/dynamic/20-file-defaults-5.999_999.t ....... ok

# Search: 't' (/home/cpansand/.cpan/build/2018050921/Module-FromPerlVer-0.030000-5/t)
# Existing: '/home/cpansand/.cpan/build/2018050921/Module-FromPerlVer-0.030000-5/t/sandbox'.
# Search: 't' (/home/cpansand/.cpan/build/2018050921/Module-FromPerlVer-0.030000-5/t)
# Existing: '/home/cpansand/.cpan/build/2018050921/Module-FromPerlVer-0.030000-5/t/sandbox'.
# Work dir: 't/sandbox/20-file-defaults-v5.0.1.t-TVrL'
# Testing perl version: 'v5.0.1' (20-file-defaults-v5.0.1).
t/dynamic/20-file-defaults-v5.0.1.t .......... ok

# Search: 't' (/home/cpansand/.cpan/build/2018050921/Module-FromPerlVer-0.030000-5/t)
# Existing: '/home/cpansand/.cpan/build/2018050921/Module-FromPerlVer-0.030000-5/t/sandbox'.
# Search: 't' (/home/cpansand/.cpan/build/2018050921/Module-FromPerlVer-0.030000-5/t)
# Existing: '/home/cpansand/.cpan/build/2018050921/Module-FromPerlVer-0.030000-5/t/sandbox'.
# Work dir: 't/sandbox/20-file-defaults-v5.000.001.t-rni0'
# Testing perl version: 'v5.000.001' (20-file-defaults-v5.000.001).
t/dynamic/20-file-defaults-v5.000.001.t ...... ok

# Search: 't' (/home/cpansand/.cpan/build/2018050921/Module-FromPerlVer-0.030000-5/t)
# Existing: '/home/cpansand/.cpan/build/2018050921/Module-FromPerlVer-0.030000-5/t/sandbox'.
# Search: 't' (/home/cpansand/.cpan/build/2018050921/Module-FromPerlVer-0.030000-5/t)
# Existing: '/home/cpansand/.cpan/build/2018050921/Module-FromPerlVer-0.030000-5/t/sandbox'.
# Work dir: 't/sandbox/20-file-defaults-v5.000001.t-hnnF'
# Testing perl version: 'v5.000001' (20-file-defaults-v5.000001).
t/dynamic/20-file-defaults-v5.000001.t ....... ok

# Search: 't' (/home/cpansand/.cpan/build/2018050921/Module-FromPerlVer-0.030000-5/t)
# Existing: '/home/cpansand/.cpan/build/2018050921/Module-FromPerlVer-0.030000-5/t/sandbox'.
# Search: 't' (/home/cpansand/.cpan/build/2018050921/Module-FromPerlVer-0.030000-5/t)
# Existing: '/home/cpansand/.cpan/build/2018050921/Module-FromPerlVer-0.030000-5/t/sandbox'.
# Work dir: 't/sandbox/20-file-defaults-v5.000_001.t-ld6Z'
# Testing perl version: 'v5.000_001' (20-file-defaults-v5.000_001).
t/dynamic/20-file-defaults-v5.000_001.t ...... ok

# Search: 't' (/home/cpansand/.cpan/build/2018050921/Module-FromPerlVer-0.030000-5/t)
# Existing: '/home/cpansand/.cpan/build/2018050921/Module-FromPerlVer-0.030000-5/t/sandbox'.
# Search: 't' (/home/cpansand/.cpan/build/2018050921/Module-FromPerlVer-0.030000-5/t)
# Existing: '/home/cpansand/.cpan/build/2018050921/Module-FromPerlVer-0.030000-5/t/sandbox'.
# Work dir: 't/sandbox/20-file-defaults-v5.006.000.t-7FHS'
# Testing perl version: 'v5.006.000' (20-file-defaults-v5.006.000).
t/dynamic/20-file-defaults-v5.006.000.t ...... ok

# Search: 't' (/home/cpansand/.cpan/build/2018050921/Module-FromPerlVer-0.030000-5/t)
# Existing: '/home/cpansand/.cpan/build/2018050921/Module-FromPerlVer-0.030000-5/t/sandbox'.
# Search: 't' (/home/cpansand/.cpan/build/2018050921/Module-FromPerlVer-0.030000-5/t)
# Existing: '/home/cpansand/.cpan/build/2018050921/Module-FromPerlVer-0.030000-5/t/sandbox'.
# Work dir: 't/sandbox/20-file-defaults-v5.006000.t-YDJh'
# Testing perl version: 'v5.006000' (20-file-defaults-v5.006000).
t/dynamic/20-file-defaults-v5.006000.t ....... ok

# Search: 't' (/home/cpansand/.cpan/build/2018050921/Module-FromPerlVer-0.030000-5/t)
# Existing: '/home/cpansand/.cpan/build/2018050921/Module-FromPerlVer-0.030000-5/t/sandbox'.
# Search: 't' (/home/cpansand/.cpan/build/2018050921/Module-FromPerlVer-0.030000-5/t)
# Existing: '/home/cpansand/.cpan/build/2018050921/Module-FromPerlVer-0.030000-5/t/sandbox'.
# Work dir: 't/sandbox/20-file-defaults-v5.006_000.t-3pIH'
# Testing perl version: 'v5.006_000' (20-file-defaults-v5.006_000).
t/dynamic/20-file-defaults-v5.006_000.t ...... ok

# Search: 't' (/home/cpansand/.cpan/build/2018050921/Module-FromPerlVer-0.030000-5/t)
# Existing: '/home/cpansand/.cpan/build/2018050921/Module-FromPerlVer-0.030000-5/t/sandbox'.
# Search: 't' (/home/cpansand/.cpan/build/2018050921/Module-FromPerlVer-0.030000-5/t)
# Existing: '/home/cpansand/.cpan/build/2018050921/Module-FromPerlVer-0.030000-5/t/sandbox'.
# Work dir: 't/sandbox/20-file-defaults-v5.008.008.t-O4zk'
# Testing perl version: 'v5.008.008' (20-file-defaults-v5.008.008).
t/dynamic/20-file-defaults-v5.008.008.t ...... ok

# Search: 't' (/home/cpansand/.cpan/build/2018050921/Module-FromPerlVer-0.030000-5/t)
# Existing: '/home/cpansand/.cpan/build/2018050921/Module-FromPerlVer-0.030000-5/t/sandbox'.
# Search: 't' (/home/cpansand/.cpan/build/2018050921/Module-FromPerlVer-0.030000-5/t)
# Existing: '/home/cpansand/.cpan/build/2018050921/Module-FromPerlVer-0.030000-5/t/sandbox'.
# Work dir: 't/sandbox/20-file-defaults-v5.008008.t-Aecw'
# Testing perl version: 'v5.008008' (20-file-defaults-v5.008008).
t/dynamic/20-file-defaults-v5.008008.t ....... ok

# Search: 't' (/home/cpansand/.cpan/build/2018050921/Module-FromPerlVer-0.030000-5/t)
# Existing: '/home/cpansand/.cpan/build/2018050921/Module-FromPerlVer-0.030000-5/t/sandbox'.
# Search: 't' (/home/cpansand/.cpan/build/2018050921/Module-FromPerlVer-0.030000-5/t)
# Existing: '/home/cpansand/.cpan/build/2018050921/Module-FromPerlVer-0.030000-5/t/sandbox'.
# Work dir: 't/sandbox/20-file-defaults-v5.008_008.t-Mni9'
# Testing perl version: 'v5.008_008' (20-file-defaults-v5.008_008).
t/dynamic/20-file-defaults-v5.008_008.t ...... ok

# Search: 't' (/home/cpansand/.cpan/build/2018050921/Module-FromPerlVer-0.030000-5/t)
# Existing: '/home/cpansand/.cpan/build/2018050921/Module-FromPerlVer-0.030000-5/t/sandbox'.
# Search: 't' (/home/cpansand/.cpan/build/2018050921/Module-FromPerlVer-0.030000-5/t)
# Existing: '/home/cpansand/.cpan/build/2018050921/Module-FromPerlVer-0.030000-5/t/sandbox'.
# Work dir: 't/sandbox/20-file-defaults-v5.6.0.t-qy3l'
# Testing perl version: 'v5.6.0' (20-file-defaults-v5.6.0).
t/dynamic/20-file-defaults-v5.6.0.t .......... ok

# Search: 't' (/home/cpansand/.cpan/build/2018050921/Module-FromPerlVer-0.030000-5/t)
# Existing: '/home/cpansand/.cpan/build/2018050921/Module-FromPerlVer-0.030000-5/t/sandbox'.
# Search: 't' (/home/cpansand/.cpan/build/2018050921/Module-FromPerlVer-0.030000-5/t)
# Existing: '/home/cpansand/.cpan/build/2018050921/Module-FromPerlVer-0.030000-5/t/sandbox'.
# Work dir: 't/sandbox/20-file-defaults-v5.8.8.t-la99'
# Testing perl version: 'v5.8.8' (20-file-defaults-v5.8.8).
t/dynamic/20-file-defaults-v5.8.8.t .......... ok

# Search: 't' (/home/cpansand/.cpan/build/2018050921/Module-FromPerlVer-0.030000-5/t)
# Existing: '/home/cpansand/.cpan/build/2018050921/Module-FromPerlVer-0.030000-5/t/sandbox'.
# Search: 't' (/home/cpansand/.cpan/build/2018050921/Module-FromPerlVer-0.030000-5/t)
# Existing: '/home/cpansand/.cpan/build/2018050921/Module-FromPerlVer-0.030000-5/t/sandbox'.
# Work dir: 't/sandbox/20-file-defaults-v5.888.888.t-PkXz'
# Testing perl version: 'v5.888.888' (20-file-defaults-v5.888.888).
t/dynamic/20-file-defaults-v5.888.888.t ...... ok

# Search: 't' (/home/cpansand/.cpan/build/2018050921/Module-FromPerlVer-0.030000-5/t)
# Existing: '/home/cpansand/.cpan/build/2018050921/Module-FromPerlVer-0.030000-5/t/sandbox'.
# Search: 't' (/home/cpansand/.cpan/build/2018050921/Module-FromPerlVer-0.030000-5/t)
# Existing: '/home/cpansand/.cpan/build/2018050921/Module-FromPerlVer-0.030000-5/t/sandbox'.
# Work dir: 't/sandbox/20-file-defaults-v5.888888.t-Lq5d'
# Testing perl version: 'v5.888888' (20-file-defaults-v5.888888).
t/dynamic/20-file-defaults-v5.888888.t ....... ok

# Search: 't' (/home/cpansand/.cpan/build/2018050921/Module-FromPerlVer-0.030000-5/t)
# Existing: '/home/cpansand/.cpan/build/2018050921/Module-FromPerlVer-0.030000-5/t/sandbox'.
# Search: 't' (/home/cpansand/.cpan/build/2018050921/Module-FromPerlVer-0.030000-5/t)
# Existing: '/home/cpansand/.cpan/build/2018050921/Module-FromPerlVer-0.030000-5/t/sandbox'.
# Work dir: 't/sandbox/20-file-defaults-v5.888_888.t-KheH'
# Testing perl version: 'v5.888_888' (20-file-defaults-v5.888_888).
t/dynamic/20-file-defaults-v5.888_888.t ...... ok

# Search: 't' (/home/cpansand/.cpan/build/2018050921/Module-FromPerlVer-0.030000-5/t)
# Existing: '/home/cpansand/.cpan/build/2018050921/Module-FromPerlVer-0.030000-5/t/sandbox'.
# Search: 't' (/home/cpansand/.cpan/build/2018050921/Module-FromPerlVer-0.030000-5/t)
# Existing: '/home/cpansand/.cpan/build/2018050921/Module-FromPerlVer-0.030000-5/t/sandbox'.
# Work dir: 't/sandbox/20-file-defaults-v5.999.999.t-B6a9'
# Testing perl version: 'v5.999.999' (20-file-defaults-v5.999.999).
t/dynamic/20-file-defaults-v5.999.999.t ...... ok

# Search: 't' (/home/cpansand/.cpan/build/2018050921/Module-FromPerlVer-0.030000-5/t)
# Existing: '/home/cpansand/.cpan/build/2018050921/Module-FromPerlVer-0.030000-5/t/sandbox'.
# Search: 't' (/home/cpansand/.cpan/build/2018050921/Module-FromPerlVer-0.030000-5/t)
# Existing: '/home/cpansand/.cpan/build/2018050921/Module-FromPerlVer-0.030000-5/t/sandbox'.
# Work dir: 't/sandbox/20-file-defaults-v5.999999.t-lvYH'
# Testing perl version: 'v5.999999' (20-file-defaults-v5.999999).
t/dynamic/20-file-defaults-v5.999999.t ....... ok

# Search: 't' (/home/cpansand/.cpan/build/2018050921/Module-FromPerlVer-0.030000-5/t)
# Existing: '/home/cpansand/.cpan/build/2018050921/Module-FromPerlVer-0.030000-5/t/sandbox'.
# Search: 't' (/home/cpansand/.cpan/build/2018050921/Module-FromPerlVer-0.030000-5/t)
# Existing: '/home/cpansand/.cpan/build/2018050921/Module-FromPerlVer-0.030000-5/t/sandbox'.
# Work dir: 't/sandbox/20-file-defaults-v5.999_999.t-zO5z'
# Testing perl version: 'v5.999_999' (20-file-defaults-v5.999_999).
t/dynamic/20-file-defaults-v5.999_999.t ...... ok

# Search: 't' (/home/cpansand/.cpan/build/2018050921/Module-FromPerlVer-0.030000-5/t)
# Existing: '/home/cpansand/.cpan/build/2018050921/Module-FromPerlVer-0.030000-5/t/sandbox'.
# Search: 't' (/home/cpansand/.cpan/build/2018050921/Module-FromPerlVer-0.030000-5/t)
# Existing: '/home/cpansand/.cpan/build/2018050921/Module-FromPerlVer-0.030000-5/t/sandbox'.
# Work dir: 't/sandbox/30-file-version-from-5.0.1.t-UdL0'
# Testing perl version: '5.0.1' (30-file-version-from-5.0.1).

# Search: 'sandbox' (/home/cpansand/.cpan/build/2018050921/Module-FromPerlVer-0.030000-5/t/sandbox)t/dynamic/30-file-version-from-5.0.1.t ....... ok

# Search: 't' (/home/cpansand/.cpan/build/2018050921/Module-FromPerlVer-0.030000-5/t)
# Existing: '/home/cpansand/.cpan/build/2018050921/Module-FromPerlVer-0.030000-5/t/sandbox'.
# Search: 't' (/home/cpansand/.cpan/build/2018050921/Module-FromPerlVer-0.030000-5/t)
# Existing: '/home/cpansand/.cpan/build/2018050921/Module-FromPerlVer-0.030000-5/t/sandbox'.
# Work dir: 't/sandbox/30-file-version-from-5.000.001.t-8gEs'
# Testing perl version: '5.000.001' (30-file-version-from-5.000.001).

# Search: 'sandbox' (/home/cpansand/.cpan/build/2018050921/Module-FromPerlVer-0.030000-5/t/sandbox)t/dynamic/30-file-version-from-5.000.001.t ... ok

# Search: 't' (/home/cpansand/.cpan/build/2018050921/Module-FromPerlVer-0.030000-5/t)
# Existing: '/home/cpansand/.cpan/build/2018050921/Module-FromPerlVer-0.030000-5/t/sandbox'.
# Search: 't' (/home/cpansand/.cpan/build/2018050921/Module-FromPerlVer-0.030000-5/t)
# Existing: '/home/cpansand/.cpan/build/2018050921/Module-FromPerlVer-0.030000-5/t/sandbox'.
# Work dir: 't/sandbox/30-file-version-from-5.000001.t-6NgS'
# Testing perl version: '5.000001' (30-file-version-from-5.000001).

# Search: 'sandbox' (/home/cpansand/.cpan/build/2018050921/Module-FromPerlVer-0.030000-5/t/sandbox)t/dynamic/30-file-version-from-5.000001.t .... ok

# Search: 't' (/home/cpansand/.cpan/build/2018050921/Module-FromPerlVer-0.030000-5/t)
# Existing: '/home/cpansand/.cpan/build/2018050921/Module-FromPerlVer-0.030000-5/t/sandbox'.
# Search: 't' (/home/cpansand/.cpan/build/2018050921/Module-FromPerlVer-0.030000-5/t)
# Existing: '/home/cpansand/.cpan/build/2018050921/Module-FromPerlVer-0.030000-5/t/sandbox'.
# Work dir: 't/sandbox/30-file-version-from-5.000_001.t-LgSG'
# Testing perl version: '5.000_001' (30-file-version-from-5.000_001).

# Search: 'sandbox' (/home/cpansand/.cpan/build/2018050921/Module-FromPerlVer-0.030000-5/t/sandbox)t/dynamic/30-file-version-from-5.000_001.t ... ok

# Search: 't' (/home/cpansand/.cpan/build/2018050921/Module-FromPerlVer-0.030000-5/t)
# Existing: '/home/cpansand/.cpan/build/2018050921/Module-FromPerlVer-0.030000-5/t/sandbox'.
# Search: 't' (/home/cpansand/.cpan/build/2018050921/Module-FromPerlVer-0.030000-5/t)
# Existing: '/home/cpansand/.cpan/build/2018050921/Module-FromPerlVer-0.030000-5/t/sandbox'.
# Work dir: 't/sandbox/30-file-version-from-5.006.000.t-vqKy'
# Testing perl version: '5.006.000' (30-file-version-from-5.006.000).

# Search: 'sandbox' (/home/cpansand/.cpan/build/2018050921/Module-FromPerlVer-0.030000-5/t/sandbox)t/dynamic/30-file-version-from-5.006.000.t ... ok

# Search: 't' (/home/cpansand/.cpan/build/2018050921/Module-FromPerlVer-0.030000-5/t)
# Existing: '/home/cpansand/.cpan/build/2018050921/Module-FromPerlVer-0.030000-5/t/sandbox'.
# Search: 't' (/home/cpansand/.cpan/build/2018050921/Module-FromPerlVer-0.030000-5/t)
# Existing: '/home/cpansand/.cpan/build/2018050921/Module-FromPerlVer-0.030000-5/t/sandbox'.
# Work dir: 't/sandbox/30-file-version-from-5.006000.t-oiMR'
# Testing perl version: '5.006000' (30-file-version-from-5.006000).

# Search: 'sandbox' (/home/cpansand/.cpan/build/2018050921/Module-FromPerlVer-0.030000-5/t/sandbox)t/dynamic/30-file-version-from-5.006000.t .... ok

# Search: 't' (/home/cpansand/.cpan/build/2018050921/Module-FromPerlVer-0.030000-5/t)
# Existing: '/home/cpansand/.cpan/build/2018050921/Module-FromPerlVer-0.030000-5/t/sandbox'.
# Search: 't' (/home/cpansand/.cpan/build/2018050921/Module-FromPerlVer-0.030000-5/t)
# Existing: '/home/cpansand/.cpan/build/2018050921/Module-FromPerlVer-0.030000-5/t/sandbox'.
# Work dir: 't/sandbox/30-file-version-from-5.006_000.t-UQQf'
# Testing perl version: '5.006_000' (30-file-version-from-5.006_000).

# Search: 'sandbox' (/home/cpansand/.cpan/build/2018050921/Module-FromPerlVer-0.030000-5/t/sandbox)t/dynamic/30-file-version-from-5.006_000.t ... ok

# Search: 't' (/home/cpansand/.cpan/build/2018050921/Module-FromPerlVer-0.030000-5/t)
# Existing: '/home/cpansand/.cpan/build/2018050921/Module-FromPerlVer-0.030000-5/t/sandbox'.
# Search: 't' (/home/cpansand/.cpan/build/2018050921/Module-FromPerlVer-0.030000-5/t)
# Existing: '/home/cpansand/.cpan/build/2018050921/Module-FromPerlVer-0.030000-5/t/sandbox'.
# Work dir: 't/sandbox/30-file-version-from-5.008.008.t-IgE2'
# Testing perl version: '5.008.008' (30-file-version-from-5.008.008).

# Search: 'sandbox' (/home/cpansand/.cpan/build/2018050921/Module-FromPerlVer-0.030000-5/t/sandbox)t/dynamic/30-file-version-from-5.008.008.t ... ok

# Search: 't' (/home/cpansand/.cpan/build/2018050921/Module-FromPerlVer-0.030000-5/t)
# Existing: '/home/cpansand/.cpan/build/2018050921/Module-FromPerlVer-0.030000-5/t/sandbox'.
# Search: 't' (/home/cpansand/.cpan/build/2018050921/Module-FromPerlVer-0.030000-5/t)
# Existing: '/home/cpansand/.cpan/build/2018050921/Module-FromPerlVer-0.030000-5/t/sandbox'.
# Work dir: 't/sandbox/30-file-version-from-5.008008.t-MBt_'
# Testing perl version: '5.008008' (30-file-version-from-5.008008).

# Search: 'sandbox' (/home/cpansand/.cpan/build/2018050921/Module-FromPerlVer-0.030000-5/t/sandbox)t/dynamic/30-file-version-from-5.008008.t .... ok

# Search: 't' (/home/cpansand/.cpan/build/2018050921/Module-FromPerlVer-0.030000-5/t)
# Existing: '/home/cpansand/.cpan/build/2018050921/Module-FromPerlVer-0.030000-5/t/sandbox'.
# Search: 't' (/home/cpansand/.cpan/build/2018050921/Module-FromPerlVer-0.030000-5/t)
# Existing: '/home/cpansand/.cpan/build/2018050921/Module-FromPerlVer-0.030000-5/t/sandbox'.
# Work dir: 't/sandbox/30-file-version-from-5.008_008.t-ymdZ'
# Testing perl version: '5.008_008' (30-file-version-from-5.008_008).

# Search: 'sandbox' (/home/cpansand/.cpan/build/2018050921/Module-FromPerlVer-0.030000-5/t/sandbox)t/dynamic/30-file-version-from-5.008_008.t ... ok

# Search: 't' (/home/cpansand/.cpan/build/2018050921/Module-FromPerlVer-0.030000-5/t)
# Existing: '/home/cpansand/.cpan/build/2018050921/Module-FromPerlVer-0.030000-5/t/sandbox'.
# Search: 't' (/home/cpansand/.cpan/build/2018050921/Module-FromPerlVer-0.030000-5/t)
# Existing: '/home/cpansand/.cpan/build/2018050921/Module-FromPerlVer-0.030000-5/t/sandbox'.
# Work dir: 't/sandbox/30-file-version-from-5.6.0.t-m9nL'
# Testing perl version: '5.6.0' (30-file-version-from-5.6.0).

# Search: 'sandbox' (/home/cpansand/.cpan/build/2018050921/Module-FromPerlVer-0.030000-5/t/sandbox)t/dynamic/30-file-version-from-5.6.0.t ....... ok

# Search: 't' (/home/cpansand/.cpan/build/2018050921/Module-FromPerlVer-0.030000-5/t)
# Existing: '/home/cpansand/.cpan/build/2018050921/Module-FromPerlVer-0.030000-5/t/sandbox'.
# Search: 't' (/home/cpansand/.cpan/build/2018050921/Module-FromPerlVer-0.030000-5/t)
# Existing: '/home/cpansand/.cpan/build/2018050921/Module-FromPerlVer-0.030000-5/t/sandbox'.
# Work dir: 't/sandbox/30-file-version-from-5.8.8.t-5M2G'
# Testing perl version: '5.8.8' (30-file-version-from-5.8.8).

# Search: 'sandbox' (/home/cpansand/.cpan/build/2018050921/Module-FromPerlVer-0.030000-5/t/sandbox)t/dynamic/30-file-version-from-5.8.8.t ....... ok

# Search: 't' (/home/cpansand/.cpan/build/2018050921/Module-FromPerlVer-0.030000-5/t)
# Existing: '/home/cpansand/.cpan/build/2018050921/Module-FromPerlVer-0.030000-5/t/sandbox'.
# Search: 't' (/home/cpansand/.cpan/build/2018050921/Module-FromPerlVer-0.030000-5/t)
# Existing: '/home/cpansand/.cpan/build/2018050921/Module-FromPerlVer-0.030000-5/t/sandbox'.
# Work dir: 't/sandbox/30-file-version-from-5.888.888.t-R22x'
# Testing perl version: '5.888.888' (30-file-version-from-5.888.888).

# Search: 'sandbox' (/home/cpansand/.cpan/build/2018050921/Module-FromPerlVer-0.030000-5/t/sandbox)t/dynamic/30-file-version-from-5.888.888.t ... ok

# Search: 't' (/home/cpansand/.cpan/build/2018050921/Module-FromPerlVer-0.030000-5/t)
# Existing: '/home/cpansand/.cpan/build/2018050921/Module-FromPerlVer-0.030000-5/t/sandbox'.
# Search: 't' (/home/cpansand/.cpan/build/2018050921/Module-FromPerlVer-0.030000-5/t)
# Existing: '/home/cpansand/.cpan/build/2018050921/Module-FromPerlVer-0.030000-5/t/sandbox'.
# Work dir: 't/sandbox/30-file-version-from-5.888888.t-9SR_'
# Testing perl version: '5.888888' (30-file-version-from-5.888888).

# Search: 'sandbox' (/home/cpansand/.cpan/build/2018050921/Module-FromPerlVer-0.030000-5/t/sandbox)t/dynamic/30-file-version-from-5.888888.t .... ok

# Search: 't' (/home/cpansand/.cpan/build/2018050921/Module-FromPerlVer-0.030000-5/t)
# Existing: '/home/cpansand/.cpan/build/2018050921/Module-FromPerlVer-0.030000-5/t/sandbox'.
# Search: 't' (/home/cpansand/.cpan/build/2018050921/Module-FromPerlVer-0.030000-5/t)
# Existing: '/home/cpansand/.cpan/build/2018050921/Module-FromPerlVer-0.030000-5/t/sandbox'.
# Work dir: 't/sandbox/30-file-version-from-5.888_888.t-4Kdo'
# Testing perl version: '5.888_888' (30-file-version-from-5.888_888).

# Search: 'sandbox' (/home/cpansand/.cpan/build/2018050921/Module-FromPerlVer-0.030000-5/t/sandbox)t/dynamic/30-file-version-from-5.888_888.t ... ok

# Search: 't' (/home/cpansand/.cpan/build/2018050921/Module-FromPerlVer-0.030000-5/t)
# Existing: '/home/cpansand/.cpan/build/2018050921/Module-FromPerlVer-0.030000-5/t/sandbox'.
# Search: 't' (/home/cpansand/.cpan/build/2018050921/Module-FromPerlVer-0.030000-5/t)
# Existing: '/home/cpansand/.cpan/build/2018050921/Module-FromPerlVer-0.030000-5/t/sandbox'.
# Work dir: 't/sandbox/30-file-version-from-5.999.999.t-DW3u'
# Testing perl version: '5.999.999' (30-file-version-from-5.999.999).

# Search: 'sandbox' (/home/cpansand/.cpan/build/2018050921/Module-FromPerlVer-0.030000-5/t/sandbox)t/dynamic/30-file-version-from-5.999.999.t ... ok

# Search: 't' (/home/cpansand/.cpan/build/2018050921/Module-FromPerlVer-0.030000-5/t)
# Existing: '/home/cpansand/.cpan/build/2018050921/Module-FromPerlVer-0.030000-5/t/sandbox'.
# Search: 't' (/home/cpansand/.cpan/build/2018050921/Module-FromPerlVer-0.030000-5/t)
# Existing: '/home/cpansand/.cpan/build/2018050921/Module-FromPerlVer-0.030000-5/t/sandbox'.
# Work dir: 't/sandbox/30-file-version-from-5.999999.t-2rMI'
# Testing perl version: '5.999999' (30-file-version-from-5.999999).

# Search: 'sandbox' (/home/cpansand/.cpan/build/2018050921/Module-FromPerlVer-0.030000-5/t/sandbox)t/dynamic/30-file-version-from-5.999999.t .... ok

# Search: 't' (/home/cpansand/.cpan/build/2018050921/Module-FromPerlVer-0.030000-5/t)
# Existing: '/home/cpansand/.cpan/build/2018050921/Module-FromPerlVer-0.030000-5/t/sandbox'.
# Search: 't' (/home/cpansand/.cpan/build/2018050921/Module-FromPerlVer-0.030000-5/t)
# Existing: '/home/cpansand/.cpan/build/2018050921/Module-FromPerlVer-0.030000-5/t/sandbox'.
# Work dir: 't/sandbox/30-file-version-from-5.999_999.t-VAA0'
# Testing perl version: '5.999_999' (30-file-version-from-5.999_999).

# Search: 'sandbox' (/home/cpansand/.cpan/build/2018050921/Module-FromPerlVer-0.030000-5/t/sandbox)t/dynamic/30-file-version-from-5.999_999.t ... ok

# Search: 't' (/home/cpansand/.cpan/build/2018050921/Module-FromPerlVer-0.030000-5/t)
# Existing: '/home/cpansand/.cpan/build/2018050921/Module-FromPerlVer-0.030000-5/t/sandbox'.
# Search: 't' (/home/cpansand/.cpan/build/2018050921/Module-FromPerlVer-0.030000-5/t)
# Existing: '/home/cpansand/.cpan/build/2018050921/Module-FromPerlVer-0.030000-5/t/sandbox'.
# Work dir: 't/sandbox/30-file-version-from-v5.0.1.t-NvdU'
# Testing perl version: 'v5.0.1' (30-file-version-from-v5.0.1).

# Search: 'sandbox' (/home/cpansand/.cpan/build/2018050921/Module-FromPerlVer-0.030000-5/t/sandbox)t/dynamic/30-file-version-from-v5.0.1.t ...... ok

# Search: 't' (/home/cpansand/.cpan/build/2018050921/Module-FromPerlVer-0.030000-5/t)
# Existing: '/home/cpansand/.cpan/build/2018050921/Module-FromPerlVer-0.030000-5/t/sandbox'.
# Search: 't' (/home/cpansand/.cpan/build/2018050921/Module-FromPerlVer-0.030000-5/t)
# Existing: '/home/cpansand/.cpan/build/2018050921/Module-FromPerlVer-0.030000-5/t/sandbox'.
# Work dir: 't/sandbox/30-file-version-from-v5.000.001.t-0Yb6'
# Testing perl version: 'v5.000.001' (30-file-version-from-v5.000.001).

# Search: 'sandbox' (/home/cpansand/.cpan/build/2018050921/Module-FromPerlVer-0.030000-5/t/sandbox)t/dynamic/30-file-version-from-v5.000.001.t .. ok

# Search: 't' (/home/cpansand/.cpan/build/2018050921/Module-FromPerlVer-0.030000-5/t)
# Existing: '/home/cpansand/.cpan/build/2018050921/Module-FromPerlVer-0.030000-5/t/sandbox'.
# Search: 't' (/home/cpansand/.cpan/build/2018050921/Module-FromPerlVer-0.030000-5/t)
# Existing: '/home/cpansand/.cpan/build/2018050921/Module-FromPerlVer-0.030000-5/t/sandbox'.
# Work dir: 't/sandbox/30-file-version-from-v5.000001.t-NSgb'
# Testing perl version: 'v5.000001' (30-file-version-from-v5.000001).

# Search: 'sandbox' (/home/cpansand/.cpan/build/2018050921/Module-FromPerlVer-0.030000-5/t/sandbox)t/dynamic/30-file-version-from-v5.000001.t ... ok

# Search: 't' (/home/cpansand/.cpan/build/2018050921/Module-FromPerlVer-0.030000-5/t)
# Existing: '/home/cpansand/.cpan/build/2018050921/Module-FromPerlVer-0.030000-5/t/sandbox'.
# Search: 't' (/home/cpansand/.cpan/build/2018050921/Module-FromPerlVer-0.030000-5/t)
# Existing: '/home/cpansand/.cpan/build/2018050921/Module-FromPerlVer-0.030000-5/t/sandbox'.
# Work dir: 't/sandbox/30-file-version-from-v5.000_001.t-upN_'
# Testing perl version: 'v5.000_001' (30-file-version-from-v5.000_001).

# Search: 'sandbox' (/home/cpansand/.cpan/build/2018050921/Module-FromPerlVer-0.030000-5/t/sandbox)t/dynamic/30-file-version-from-v5.000_001.t .. ok

# Search: 't' (/home/cpansand/.cpan/build/2018050921/Module-FromPerlVer-0.030000-5/t)
# Existing: '/home/cpansand/.cpan/build/2018050921/Module-FromPerlVer-0.030000-5/t/sandbox'.
# Search: 't' (/home/cpansand/.cpan/build/2018050921/Module-FromPerlVer-0.030000-5/t)
# Existing: '/home/cpansand/.cpan/build/2018050921/Module-FromPerlVer-0.030000-5/t/sandbox'.
# Work dir: 't/sandbox/30-file-version-from-v5.006.000.t-hRI1'
# Testing perl version: 'v5.006.000' (30-file-version-from-v5.006.000).

# Search: 'sandbox' (/home/cpansand/.cpan/build/2018050921/Module-FromPerlVer-0.030000-5/t/sandbox)t/dynamic/30-file-version-from-v5.006.000.t .. ok

# Search: 't' (/home/cpansand/.cpan/build/2018050921/Module-FromPerlVer-0.030000-5/t)
# Existing: '/home/cpansand/.cpan/build/2018050921/Module-FromPerlVer-0.030000-5/t/sandbox'.
# Search: 't' (/home/cpansand/.cpan/build/2018050921/Module-FromPerlVer-0.030000-5/t)
# Existing: '/home/cpansand/.cpan/build/2018050921/Module-FromPerlVer-0.030000-5/t/sandbox'.
# Work dir: 't/sandbox/30-file-version-from-v5.006000.t-cA2R'
# Testing perl version: 'v5.006000' (30-file-version-from-v5.006000).

# Search: 'sandbox' (/home/cpansand/.cpan/build/2018050921/Module-FromPerlVer-0.030000-5/t/sandbox)t/dynamic/30-file-version-from-v5.006000.t ... ok

# Search: 't' (/home/cpansand/.cpan/build/2018050921/Module-FromPerlVer-0.030000-5/t)
# Existing: '/home/cpansand/.cpan/build/2018050921/Module-FromPerlVer-0.030000-5/t/sandbox'.
# Search: 't' (/home/cpansand/.cpan/build/2018050921/Module-FromPerlVer-0.030000-5/t)
# Existing: '/home/cpansand/.cpan/build/2018050921/Module-FromPerlVer-0.030000-5/t/sandbox'.
# Work dir: 't/sandbox/30-file-version-from-v5.006_000.t-qcA5'
# Testing perl version: 'v5.006_000' (30-file-version-from-v5.006_000).

# Search: 'sandbox' (/home/cpansand/.cpan/build/2018050921/Module-FromPerlVer-0.030000-5/t/sandbox)t/dynamic/30-file-version-from-v5.006_000.t .. ok

# Search: 't' (/home/cpansand/.cpan/build/2018050921/Module-FromPerlVer-0.030000-5/t)
# Existing: '/home/cpansand/.cpan/build/2018050921/Module-FromPerlVer-0.030000-5/t/sandbox'.
# Search: 't' (/home/cpansand/.cpan/build/2018050921/Module-FromPerlVer-0.030000-5/t)
# Existing: '/home/cpansand/.cpan/build/2018050921/Module-FromPerlVer-0.030000-5/t/sandbox'.
# Work dir: 't/sandbox/30-file-version-from-v5.008.008.t-RgPA'
# Testing perl version: 'v5.008.008' (30-file-version-from-v5.008.008).

# Search: 'sandbox' (/home/cpansand/.cpan/build/2018050921/Module-FromPerlVer-0.030000-5/t/sandbox)t/dynamic/30-file-version-from-v5.008.008.t .. ok

# Search: 't' (/home/cpansand/.cpan/build/2018050921/Module-FromPerlVer-0.030000-5/t)
# Existing: '/home/cpansand/.cpan/build/2018050921/Module-FromPerlVer-0.030000-5/t/sandbox'.
# Search: 't' (/home/cpansand/.cpan/build/2018050921/Module-FromPerlVer-0.030000-5/t)
# Existing: '/home/cpansand/.cpan/build/2018050921/Module-FromPerlVer-0.030000-5/t/sandbox'.
# Work dir: 't/sandbox/30-file-version-from-v5.008008.t-KjAY'
# Testing perl version: 'v5.008008' (30-file-version-from-v5.008008).

# Search: 'sandbox' (/home/cpansand/.cpan/build/2018050921/Module-FromPerlVer-0.030000-5/t/sandbox)t/dynamic/30-file-version-from-v5.008008.t ... ok

# Search: 't' (/home/cpansand/.cpan/build/2018050921/Module-FromPerlVer-0.030000-5/t)
# Existing: '/home/cpansand/.cpan/build/2018050921/Module-FromPerlVer-0.030000-5/t/sandbox'.
# Search: 't' (/home/cpansand/.cpan/build/2018050921/Module-FromPerlVer-0.030000-5/t)
# Existing: '/home/cpansand/.cpan/build/2018050921/Module-FromPerlVer-0.030000-5/t/sandbox'.
# Work dir: 't/sandbox/30-file-version-from-v5.008_008.t-nFju'
# Testing perl version: 'v5.008_008' (30-file-version-from-v5.008_008).

# Search: 'sandbox' (/home/cpansand/.cpan/build/2018050921/Module-FromPerlVer-0.030000-5/t/sandbox)t/dynamic/30-file-version-from-v5.008_008.t .. ok

# Search: 't' (/home/cpansand/.cpan/build/2018050921/Module-FromPerlVer-0.030000-5/t)
# Existing: '/home/cpansand/.cpan/build/2018050921/Module-FromPerlVer-0.030000-5/t/sandbox'.
# Search: 't' (/home/cpansand/.cpan/build/2018050921/Module-FromPerlVer-0.030000-5/t)
# Existing: '/home/cpansand/.cpan/build/2018050921/Module-FromPerlVer-0.030000-5/t/sandbox'.
# Work dir: 't/sandbox/30-file-version-from-v5.6.0.t-UqxY'
# Testing perl version: 'v5.6.0' (30-file-version-from-v5.6.0).

# Search: 'sandbox' (/home/cpansand/.cpan/build/2018050921/Module-FromPerlVer-0.030000-5/t/sandbox)t/dynamic/30-file-version-from-v5.6.0.t ...... ok

# Search: 't' (/home/cpansand/.cpan/build/2018050921/Module-FromPerlVer-0.030000-5/t)
# Existing: '/home/cpansand/.cpan/build/2018050921/Module-FromPerlVer-0.030000-5/t/sandbox'.
# Search: 't' (/home/cpansand/.cpan/build/2018050921/Module-FromPerlVer-0.030000-5/t)
# Existing: '/home/cpansand/.cpan/build/2018050921/Module-FromPerlVer-0.030000-5/t/sandbox'.
# Work dir: 't/sandbox/30-file-version-from-v5.8.8.t-dI22'
# Testing perl version: 'v5.8.8' (30-file-version-from-v5.8.8).

# Search: 'sandbox' (/home/cpansand/.cpan/build/2018050921/Module-FromPerlVer-0.030000-5/t/sandbox)t/dynamic/30-file-version-from-v5.8.8.t ...... ok

# Search: 't' (/home/cpansand/.cpan/build/2018050921/Module-FromPerlVer-0.030000-5/t)
# Existing: '/home/cpansand/.cpan/build/2018050921/Module-FromPerlVer-0.030000-5/t/sandbox'.
# Search: 't' (/home/cpansand/.cpan/build/2018050921/Module-FromPerlVer-0.030000-5/t)
# Existing: '/home/cpansand/.cpan/build/2018050921/Module-FromPerlVer-0.030000-5/t/sandbox'.
# Work dir: 't/sandbox/30-file-version-from-v5.888.888.t-JudK'
# Testing perl version: 'v5.888.888' (30-file-version-from-v5.888.888).

# Search: 'sandbox' (/home/cpansand/.cpan/build/2018050921/Module-FromPerlVer-0.030000-5/t/sandbox)t/dynamic/30-file-version-from-v5.888.888.t .. ok

# Search: 't' (/home/cpansand/.cpan/build/2018050921/Module-FromPerlVer-0.030000-5/t)
# Existing: '/home/cpansand/.cpan/build/2018050921/Module-FromPerlVer-0.030000-5/t/sandbox'.
# Search: 't' (/home/cpansand/.cpan/build/2018050921/Module-FromPerlVer-0.030000-5/t)
# Existing: '/home/cpansand/.cpan/build/2018050921/Module-FromPerlVer-0.030000-5/t/sandbox'.
# Work dir: 't/sandbox/30-file-version-from-v5.888888.t-O3i_'
# Testing perl version: 'v5.888888' (30-file-version-from-v5.888888).

# Search: 'sandbox' (/home/cpansand/.cpan/build/2018050921/Module-FromPerlVer-0.030000-5/t/sandbox)t/dynamic/30-file-version-from-v5.888888.t ... ok

# Search: 't' (/home/cpansand/.cpan/build/2018050921/Module-FromPerlVer-0.030000-5/t)
# Existing: '/home/cpansand/.cpan/build/2018050921/Module-FromPerlVer-0.030000-5/t/sandbox'.
# Search: 't' (/home/cpansand/.cpan/build/2018050921/Module-FromPerlVer-0.030000-5/t)
# Existing: '/home/cpansand/.cpan/build/2018050921/Module-FromPerlVer-0.030000-5/t/sandbox'.
# Work dir: 't/sandbox/30-file-version-from-v5.888_888.t-i5oZ'
# Testing perl version: 'v5.888_888' (30-file-version-from-v5.888_888).

# Search: 'sandbox' (/home/cpansand/.cpan/build/2018050921/Module-FromPerlVer-0.030000-5/t/sandbox)t/dynamic/30-file-version-from-v5.888_888.t .. ok

# Search: 't' (/home/cpansand/.cpan/build/2018050921/Module-FromPerlVer-0.030000-5/t)
# Existing: '/home/cpansand/.cpan/build/2018050921/Module-FromPerlVer-0.030000-5/t/sandbox'.
# Search: 't' (/home/cpansand/.cpan/build/2018050921/Module-FromPerlVer-0.030000-5/t)
# Existing: '/home/cpansand/.cpan/build/2018050921/Module-FromPerlVer-0.030000-5/t/sandbox'.
# Work dir: 't/sandbox/30-file-version-from-v5.999.999.t-e4w6'
# Testing perl version: 'v5.999.999' (30-file-version-from-v5.999.999).

# Search: 'sandbox' (/home/cpansand/.cpan/build/2018050921/Module-FromPerlVer-0.030000-5/t/sandbox)t/dynamic/30-file-version-from-v5.999.999.t .. ok

# Search: 't' (/home/cpansand/.cpan/build/2018050921/Module-FromPerlVer-0.030000-5/t)
# Existing: '/home/cpansand/.cpan/build/2018050921/Module-FromPerlVer-0.030000-5/t/sandbox'.
# Search: 't' (/home/cpansand/.cpan/build/2018050921/Module-FromPerlVer-0.030000-5/t)
# Existing: '/home/cpansand/.cpan/build/2018050921/Module-FromPerlVer-0.030000-5/t/sandbox'.
# Work dir: 't/sandbox/30-file-version-from-v5.999999.t-RGGw'
# Testing perl version: 'v5.999999' (30-file-version-from-v5.999999).

# Search: 'sandbox' (/home/cpansand/.cpan/build/2018050921/Module-FromPerlVer-0.030000-5/t/sandbox)t/dynamic/30-file-version-from-v5.999999.t ... ok

# Search: 't' (/home/cpansand/.cpan/build/2018050921/Module-FromPerlVer-0.030000-5/t)
# Existing: '/home/cpansand/.cpan/build/2018050921/Module-FromPerlVer-0.030000-5/t/sandbox'.
# Search: 't' (/home/cpansand/.cpan/build/2018050921/Module-FromPerlVer-0.030000-5/t)
# Existing: '/home/cpansand/.cpan/build/2018050921/Module-FromPerlVer-0.030000-5/t/sandbox'.
# Work dir: 't/sandbox/30-file-version-from-v5.999_999.t-30z9'
# Testing perl version: 'v5.999_999' (30-file-version-from-v5.999_999).

# Search: 'sandbox' (/home/cpansand/.cpan/build/2018050921/Module-FromPerlVer-0.030000-5/t/sandbox)t/dynamic/30-file-version-from-v5.999_999.t .. ok
All tests successful.
Files=77, Tests=1049, 10 wallclock secs ( 0.02 usr  0.38 sys +  1.03 cusr  8.69 csys = 10.12 CPU)
Result: PASS

------------------------------
PREREQUISITES
------------------------------

Prerequisite modules loaded:

requires:

    Module                         Need     Have    
    ------------------------------ -------- --------
    Cwd                            3.073000 3.74    
    File::Basename                 0        2.85    
  ! File::Copy::Recursive::Reduced 0.006000 0.006   
    File::Find                     0        1.29    
    File::Spec::Functions          0        3.74    
    FindBin                        0        1.51    
    List::Util                     1.046000 1.50    
    strict                         0        1.09    
    Symbol                         0        1.07    
    Test::More                     0        1.302136
    version                        0        0.9922  

build_requires:

    Module                         Need     Have    
    ------------------------------ -------- --------
    ExtUtils::MakeMaker            0        7.34    

configure_requires:

    Module                         Need     Have    
    ------------------------------ -------- --------
    ExtUtils::MakeMaker            0        7.34    


------------------------------
ENVIRONMENT AND OTHER CONTEXT
------------------------------

Environment variables:

    LC_ALL = de_DE.ISO8859-1
    PATH = /usr/local/bin:/usr/bin:/bin:/usr/local/sbin:/usr/sbin:/sbin:/home/cpansand/bin/freebsd10.3:/home/cpansand/bin/sh:/home/cpansand/bin:/usr/games:/home/cpansand/devel:/home/eserte/src/srezic-misc/scripts
    PERL5LIB = 
    PERL5OPT = 
    PERL5_CPANPLUS_IS_RUNNING = 55451
    PERL5_CPAN_IS_RUNNING = 55451
    PERL5_CPAN_IS_RUNNING_IN_RECURSION = 52579,55451
    PERLDOC = -MPod::Perldoc::ToTextOverstrike
    PERL_BATCH = yes
    PERL_CANARY_STABILITY_NOPROMPT = 1
    PERL_CPAN_REPORTER_CONFIG = /var/tmp/cpansmoker-1023/2018050921/cpanreporter_000_config.ini
    PERL_EXTUTILS_AUTOINSTALL = --defaultdeps
    SHELL = /usr/local/bin/zsh
    TERM = screen
    TMPDIR = /var/tmp/cpansmoker-1023/2018050921

Perl special variables (and OS-specific diagnostics, for MSWin32):

    $^X = /usr/perl5.22.0p/bin/perl5.22.0
    $UID/$EUID = 1023 / 1023
    $GID = 1023 1023
    $EGID = 1023 1023

Perl module toolchain versions installed:

    Module              Have    
    ------------------- --------
    CPAN                2.16    
    CPAN::Meta          2.150010
    Cwd                 3.74    
    ExtUtils::CBuilder  0.280230
    ExtUtils::Command   7.34    
    ExtUtils::Install   2.12    
    ExtUtils::MakeMaker 7.34    
    ExtUtils::Manifest  1.70    
    ExtUtils::ParseXS   3.35    
    File::Spec          3.74    
    JSON                2.97001 
    JSON::PP            2.94    
    Module::Build       0.4224  
    Module::Signature   0.81    
    Parse::CPAN::Meta   2.150010
    Test::Harness       3.42    
    Test::More          1.302136
    YAML                1.24    
    YAML::Syck          1.30    
    version             0.9922  


--

Summary of my perl5 (revision 5 version 22 subversion 0) configuration:
   
  Platform:
    osname=freebsd, osvers=10.1-release, archname=amd64-freebsd
    uname='freebsd cvrsnica-freebsd-101.herceg.de 10.1-release freebsd 10.1-release #0 r274401: tue nov 11 21:02:49 utc 2014 root@releng1.nyi.freebsd.org:usrobjusrsrcsysgeneric amd64 '
    config_args='-ds -e -Dprefix=/usr/perl5.22.0p -Dcf_email=srezic@cpan.org'
    hint=recommended, useposix=true, d_sigaction=define
    useithreads=undef, usemultiplicity=undef
    use64bitint=define, use64bitall=define, uselongdouble=undef
    usemymalloc=n, bincompat5005=undef
  Compiler:
    cc='cc', ccflags ='-DHAS_FPSETMASK -DHAS_FLOATINGPOINT_H -fno-strict-aliasing -pipe -fstack-protector -I/usr/local/include -D_FORTIFY_SOURCE=2',
    optimize='-O',
    cppflags='-DHAS_FPSETMASK -DHAS_FLOATINGPOINT_H -fno-strict-aliasing -pipe -fstack-protector -I/usr/local/include'
    ccversion='', gccversion='4.2.1 Compatible FreeBSD Clang 3.4.1 (tags/RELEASE_34/dot1-final 208032)', gccosandvers=''
    intsize=4, longsize=8, ptrsize=8, doublesize=8, byteorder=12345678, doublekind=3
    d_longlong=define, longlongsize=8, d_longdbl=define, longdblsize=16, longdblkind=3
    ivtype='long', ivsize=8, nvtype='double', nvsize=8, Off_t='off_t', lseeksize=8
    alignbytes=8, prototype=define
  Linker and Libraries:
    ld='cc', ldflags ='-pthread -Wl,-E  -fstack-protector -L/usr/local/lib'
    libpth=/usr/lib /usr/local/lib /usr/include/clang/3.4.1 /usr/lib
    libs=-lpthread -lgdbm -lm -lcrypt -lutil -lc
    perllibs=-lpthread -lm -lcrypt -lutil -lc
    libc=, so=so, useshrplib=false, libperl=libperl.a
    gnulibc_version=''
  Dynamic Linking:
    dlsrc=dl_dlopen.xs, dlext=so, d_dlsymun=undef, ccdlflags=' '
    cccdlflags='-DPIC -fPIC', lddlflags='-shared  -L/usr/local/lib -fstack-protector'


Characteristics of this binary (from libperl): 
  Compile-time options: HAS_TIMES PERLIO_LAYERS PERL_DONT_CREATE_GVSV
                        PERL_HASH_FUNC_ONE_AT_A_TIME_HARD PERL_MALLOC_WRAP
                        PERL_NEW_COPY_ON_WRITE PERL_PRESERVE_IVUV
                        USE_64_BIT_ALL USE_64_BIT_INT USE_LARGE_FILES
                        USE_LOCALE USE_LOCALE_COLLATE USE_LOCALE_CTYPE
                        USE_LOCALE_NUMERIC USE_LOCALE_TIME USE_PERLIO
                        USE_PERL_ATOF
  Built under freebsd
  Compiled at Jun  1 2015 20:19:01
  %ENV:
    PERL5LIB=""
    PERL5OPT=""
    PERL5_CPANPLUS_IS_RUNNING="55451"
    PERL5_CPAN_IS_RUNNING="55451"
    PERL5_CPAN_IS_RUNNING_IN_RECURSION="52579,55451"
    PERLDOC="-MPod::Perldoc::ToTextOverstrike"
    PERL_BATCH="yes"
    PERL_CANARY_STABILITY_NOPROMPT="1"
    PERL_CPAN_REPORTER_CONFIG="/var/tmp/cpansmoker-1023/2018050921/cpanreporter_000_config.ini"
    PERL_EXTUTILS_AUTOINSTALL="--defaultdeps"
  @INC:
    /usr/perl5.22.0p/lib/site_perl/5.22.0/amd64-freebsd
    /usr/perl5.22.0p/lib/site_perl/5.22.0
    /usr/perl5.22.0p/lib/5.22.0/amd64-freebsd
    /usr/perl5.22.0p/lib/5.22.0
    .