Class-Method-Modifiers v2.15 Perl 5 v5.37.9 i86pc-solaris-64int

Status
Pass
From
Nigel Horne
Dist
Class-Method-Modifiers v2.15
Platform
Perl 5 v5.37.9 i86pc-solaris-64int
Date
2023-03-25 18:55:20
ID
9744ffa8-cb3e-11ed-a7fb-f9aa2361a325
This distribution has been tested as part of the CPAN Testers
project, supporting the Perl programming language.  See
http://wiki.cpantesters.org/ for more information or email
questions to cpan-testers-discuss@perl.org


--
Dear Karen Etheridge,

This is a computer-generated report for Class-Method-Modifiers-2.15
on perl 5.37.9, created by CPAN-Reporter-1.2018.

Thank you for uploading your work to CPAN.  Congratulations!
All tests were successful.

Sections of this report:

    * Tester comments
    * Program output
    * Prerequisites
    * Environment and other context

------------------------------
TESTER COMMENTS
------------------------------

Additional comments from tester:

this report is from an automated smoke testing program
and was not reviewed by a human for accuracy

------------------------------
PROGRAM OUTPUT
------------------------------

Output from '/usr/bin/make test':

PERL_DL_NONLAZY=1 "/export/home/njh/perl5/perlbrew/perls/perl-5.37.9-64int/bin/perl5.37.9" "-MExtUtils::Command::MM" "-MTest::Harness" "-e" "undef *Test::Harness::Switches; test_harness(0, 'blib/lib', 'blib/arch')" t/*.t
# 
# Versions for all modules listed in MYMETA.json (including optional ones):
# 
# === Configure Requires ===
# 
#     Module               Want     Have
#     ------------------- ----- --------
#     ExtUtils::MakeMaker   any     7.66
#     perl                5.006 5.037009
# 
# === Build Requires ===
# 
#     Module              Want Have
#     ------------------- ---- ----
#     ExtUtils::MakeMaker  any 7.66
# 
# === Test Requires ===
# 
#     Module               Want     Have
#     ------------------- ----- --------
#     ExtUtils::MakeMaker   any     7.66
#     File::Spec            any     3.88
#     Test::More           0.88 1.302192
#     if                    any   0.0610
#     perl                5.006 5.037009
# 
# === Test Recommends ===
# 
#     Module         Want     Have
#     ---------- -------- --------
#     CPAN::Meta 2.120900 2.150010
# 
# === Runtime Requires ===
# 
#     Module    Want     Have
#     -------- ----- --------
#     B          any     1.88
#     Carp       any     1.54
#     Exporter   any     5.77
#     base       any     2.27
#     perl     5.006 5.037009
#     strict     any     1.12
#     warnings   any     1.62
# 
# === Other Modules ===
# 
#     Module                   Have
#     -------------------- --------
#     Encode                   3.19
#     File::Temp             0.2311
#     JSON::PP                 4.16
#     Module::Runtime         0.016
#     Moo                   missing
#     Moose                 missing
#     Pod::Coverage         missing
#     Role::Tiny           2.002004
#     Sub::Install            0.929
#     Sub::Name             missing
#     YAML                     1.30
#     autodie                  2.36
#     namespace::autoclean  missing
#     namespace::clean      missing
# 
t/00-report-prereqs.t ............... ok
t/000-load.t ........................ ok
t/001-error.t ....................... ok
t/002-cache.t ....................... ok
t/003-basic.t ....................... ok
t/004-around.t ...................... ok
t/005-return.t ...................... ok
t/010-before-args.t ................. ok
t/011-after-args.t .................. ok
t/012-around-args.t ................. ok
t/020-multiple-inheritance.t ........ ok
t/030-multiple-before.t ............. ok
t/031-multiple-after.t .............. ok
t/032-multiple-around.t ............. ok
t/034-multiple-everything.t ......... ok
t/035-multiple-everything-twice.t ... ok
t/040-twice-orig.t .................. ok
t/041-modify-parent.t ............... ok
t/051-undef-list-ctxt.t ............. ok
t/060-caller.t ...................... ok
t/070-modify-multiple-at-once.t ..... ok
t/080-multiple-modifiers.t .......... ok
t/081-sub-and-modifier.t ............ ok
t/090-diamond.t ..................... ok
t/100-class-mop-method-modifiers.t .. ok
t/110-namespace-clean.t ............. ok
t/120-fresh.t ....................... ok
t/130-clean-underscore.t ............ ok
t/140-lvalue.t ...................... ok
All tests successful.
Files=29, Tests=131,  8 wallclock secs ( 0.20 usr  0.13 sys +  4.41 cusr  3.10 csys =  7.84 CPU)
Result: PASS

------------------------------
PREREQUISITES
------------------------------

Prerequisite modules loaded:

requires:

    Module              Need     Have    
    ------------------- -------- --------
    B                   0        1.88    
    base                0        2.27    
    Carp                0        1.54    
    Exporter            0        5.77    
    perl                5.006    5.037009
    strict              0        1.12    
    warnings            0        1.62    

build_requires:

    Module              Need     Have    
    ------------------- -------- --------
    ExtUtils::MakeMaker 0        7.66    
    File::Spec          0        3.88    
    if                  0        0.0610  
    Test::More          0.88     1.302192

configure_requires:

    Module              Need     Have    
    ------------------- -------- --------
    ExtUtils::MakeMaker 0        7.66    
    perl                5.006    5.037009

opt_build_requires:

    Module              Need     Have    
    ------------------- -------- --------
    CPAN::Meta          2.120900 2.150010


------------------------------
ENVIRONMENT AND OTHER CONTEXT
------------------------------

Environment variables:

    AUTOMATED_TESTING = 1
    NONINTERACTIVE_TESTING = 1
    PATH = /export/home/njh/perl5/perlbrew/bin:/export/home/njh/perl5/perlbrew/perls/perl-5.37.9-64int/bin:/export/home/njh/perl5/perlbrew/bin:/export/home/njh/src/njh/smoker/bin:/usr/bin
    PERL5LIB = /export/home/njh/.cpan/build/Role-Tiny-2.002004-0/blib/arch:/export/home/njh/.cpan/build/Role-Tiny-2.002004-0/blib/lib:/export/home/njh/.cpan/build/MRO-Compat-0.15-0/blib/arch:/export/home/njh/.cpan/build/MRO-Compat-0.15-0/blib/lib:/export/home/njh/.cpan/build/Exception-Class-1.45-0/blib/arch:/export/home/njh/.cpan/build/Exception-Class-1.45-0/blib/lib:/export/home/njh/.cpan/build/Devel-StackTrace-2.04-0/blib/arch:/export/home/njh/.cpan/build/Devel-StackTrace-2.04-0/blib/lib:/export/home/njh/.cpan/build/Class-Data-Inheritable-0.09-0/blib/arch:/export/home/njh/.cpan/build/Class-Data-Inheritable-0.09-0/blib/lib:/export/home/njh/.cpan/build/PadWalker-2.5-0/blib/arch:/export/home/njh/.cpan/build/PadWalker-2.5-0/blib/lib:/export/home/njh/.cpan/build/Perl-Tidy-20230309-0/blib/arch:/export/home/njh/.cpan/build/Perl-Tidy-20230309-0/blib/lib:/export/home/njh/.cpan/build/Eval-Closure-0.14-0/blib/arch:/export/home/njh/.cpan/build/Eval-Closure-0.14-0/blib/lib:/export/home/njh/.cpan/build/Test-Requires-0.11-0/blib/arch:/export/home/njh/.cpan/build/Test-Requires-0.11-0/blib/lib:/export/home/njh/.cpan/build/Class-Singleton-1.6-0/blib/arch:/export/home/njh/.cpan/build/Class-Singleton-1.6-0/blib/lib:/export/home/njh/.cpan/build/Log-AutoDump-0.23-2/blib/arch:/export/home/njh/.cpan/build/Log-AutoDump-0.23-2/blib/lib:/export/home/njh/.cpan/build/Business-ISBN-3.008-0/blib/arch:/export/home/njh/.cpan/build/Business-ISBN-3.008-0/blib/lib:/export/home/njh/.cpan/build/Business-ISBN-Data-20230322.001-0/blib/arch:/export/home/njh/.cpan/build/Business-ISBN-Data-20230322.001-0/blib/lib
    PERL5OPT = 
    PERL5_CPANPLUS_IS_RUNNING = 19967
    PERL5_CPAN_IS_RUNNING = 19967
    PERL5_CPAN_IS_RUNNING_IN_RECURSION = 19956,19967
    PERLBREW_LIB = 
    PERLBREW_MANPATH = /export/home/njh/perl5/perlbrew/perls/perl-5.37.9-64int/man
    PERLBREW_PATH = /export/home/njh/perl5/perlbrew/bin:/export/home/njh/perl5/perlbrew/perls/perl-5.37.9-64int/bin
    PERLBREW_PERL = perl-5.37.9-64int
    PERLBREW_ROOT = /export/home/njh/perl5/perlbrew
    PERLBREW_SHELLRC_VERSION = 0.96
    PERLBREW_VERSION = 0.96
    PERL_LOCAL_LIB_ROOT = 
    PERL_MM_USE_DEFAULT = 1
    PERL_USE_UNSAFE_INC = 1
    SHELL = /usr/bin/bash
    TMPDIR = /tmp/smoker-tV8KR/testwrapper.19959

Perl special variables (and OS-specific diagnostics, for MSWin32):

    $^X = /export/home/njh/perl5/perlbrew/perls/perl-5.37.9-64int/bin/perl5.37.9
    $UID/$EUID = 101 / 101
    $GID = 10 10
    $EGID = 10 10

Perl module toolchain versions installed:

    Module              Have    
    ------------------- --------
    CPAN                2.34    
    CPAN::Meta          2.150010
    Cwd                 3.88    
    ExtUtils::CBuilder  0.280238
    ExtUtils::Command   7.66    
    ExtUtils::Install   2.22    
    ExtUtils::MakeMaker 7.66    
    ExtUtils::Manifest  1.73    
    ExtUtils::ParseXS   3.49    
    File::Spec          3.88    
    JSON                n/a     
    JSON::PP            4.16    
    Module::Build       0.4232  
    Module::Signature   n/a     
    Parse::CPAN::Meta   2.150010
    Test::Harness       3.44    
    Test::More          1.302192
    YAML                1.30    
    YAML::Syck          1.34    
    version             0.9929  


--

Summary of my perl5 (revision 5 version 37 subversion 9) configuration:
   
  Platform:
    osname=solaris
    osvers=2.11
    archname=i86pc-solaris-64int
    uname='sunos njh1 5.11 illumos-06524cf4e4 i86pc i386 i86pc '
    config_args='-de -Dprefix=/export/home/njh/perl5/perlbrew/perls/perl-5.37.9-64int -Dusedevel -Duse64bitint -Dusedevel -Accflags=-O2 -W -Wformat=2 -Wswitch -Wshadow -Wwrite-strings -Wuninitialized -Wall -pipe -fomit-frame-pointer -pedantic -D_FORTIFY_SOURCE=2 -Wpointer-arith -Wstrict-prototypes -fstack-protector -Wstack-protector -Wextra -Wbad-function-cast -Wcast-align -Wcast-qual -Wdisabled-optimization -Wendif-labels -Wfloat-equal -Wformat-nonliteral -Winline -Wmissing-declarations -Wmissing-prototypes -Wnested-externs -Wpointer-arith -Wundef -Wformat-security -ftree-vectorize -mmmx -msse -mfpmath=sse -msse2 -msse3 -msse4.1 -msse4.2 -mtune=native -Aeval:scriptdir=/export/home/njh/perl5/perlbrew/perls/perl-5.37.9-64int/bin'
    hint=recommended
    useposix=true
    d_sigaction=define
    useithreads=undef
    usemultiplicity=undef
    use64bitint=define
    use64bitall=undef
    uselongdouble=undef
    usemymalloc=n
    default_inc_excludes_dot=define
  Compiler:
    cc='/usr/bin/gcc'
    ccflags ='-DPTR_IS_LONG -O2 -W -Wformat=2 -Wswitch -Wshadow -Wwrite-strings -Wuninitialized -Wall -pipe -fomit-frame-pointer -pedantic -D_FORTIFY_SOURCE=2 -Wpointer-arith -Wstrict-prototypes -fstack-protector -Wstack-protector -Wextra -Wbad-function-cast -Wcast-align -Wcast-qual -Wdisabled-optimization -Wendif-labels -Wfloat-equal -Wformat-nonliteral -Winline -Wmissing-declarations -Wmissing-prototypes -Wnested-externs -Wpointer-arith -Wundef -Wformat-security -ftree-vectorize -mmmx -msse -mfpmath=sse -msse2 -msse3 -msse4.1 -msse4.2 -mtune=native -fwrapv -fno-strict-aliasing -fstack-protector-strong -I/usr/gnu/include -D_LARGEFILE_SOURCE -D_FILE_OFFSET_BITS=64'
    optimize='-O'
    cppflags='-DPTR_IS_LONG -O2 -W -Wformat=2 -Wswitch -Wshadow -Wwrite-strings -Wuninitialized -Wall -pipe -fomit-frame-pointer -pedantic -D_FORTIFY_SOURCE=2 -Wpointer-arith -Wstrict-prototypes -fstack-protector -Wstack-protector -Wextra -Wbad-function-cast -Wcast-align -Wcast-qual -Wdisabled-optimization -Wendif-labels -Wfloat-equal -Wformat-nonliteral -Winline -Wmissing-declarations -Wmissing-prototypes -Wnested-externs -Wpointer-arith -Wundef -Wformat-security -ftree-vectorize -mmmx -msse -mfpmath=sse -msse2 -msse3 -msse4.1 -msse4.2 -mtune=native -fwrapv -fno-strict-aliasing -fstack-protector-strong -I/usr/gnu/include'
    ccversion=''
    gccversion='7.5.0'
    gccosandvers=''
    intsize=4
    longsize=4
    ptrsize=4
    doublesize=8
    byteorder=12345678
    doublekind=3
    d_longlong=define
    longlongsize=8
    d_longdbl=define
    longdblsize=12
    longdblkind=3
    ivtype='long long'
    ivsize=8
    nvtype='double'
    nvsize=8
    Off_t='off_t'
    lseeksize=8
    alignbytes=4
    prototype=define
  Linker and Libraries:
    ld='/usr/bin/gcc'
    ldflags =' -fstack-protector-strong -L/usr/gnu/lib '
    libpth=/usr/gcc/7/lib /usr/lib /usr/gnu/lib /usr/ccs/lib
    libs=-lpthread -lsocket -lnsl -lgdbm -ldb -ldl -lm -lc
    perllibs=-lpthread -lsocket -lnsl -ldl -lm -lc
    libc=/lib/libc.so
    so=so
    useshrplib=true
    libperl=libperl.so
    gnulibc_version=''
  Dynamic Linking:
    dlsrc=dl_dlopen.xs
    dlext=so
    d_dlsymun=undef
    ccdlflags='  -R /export/home/njh/perl5/perlbrew/perls/perl-5.37.9-64int/lib/5.37.9/i86pc-solaris-64int/CORE'
    cccdlflags='-fPIC'
    lddlflags='-shared -L/usr/gnu/lib -fstack-protector-strong'


Characteristics of this binary (from libperl): 
  Compile-time options:
    HAS_TIMES
    PERLIO_LAYERS
    PERL_COPY_ON_WRITE
    PERL_DONT_CREATE_GVSV
    PERL_HASH_FUNC_SIPHASH13
    PERL_HASH_USE_SBOX32
    PERL_MALLOC_WRAP
    PERL_OP_PARENT
    PERL_PRESERVE_IVUV
    PERL_USE_DEVEL
    PERL_USE_SAFE_PUTENV
    USE_64_BIT_INT
    USE_LARGE_FILES
    USE_LOCALE
    USE_LOCALE_COLLATE
    USE_LOCALE_CTYPE
    USE_LOCALE_NUMERIC
    USE_LOCALE_TIME
    USE_PERLIO
    USE_PERL_ATOF
  Built under solaris
  Compiled at Mar 14 2023 11:05:50
  %ENV:
    PERL5LIB="/export/home/njh/.cpan/build/Role-Tiny-2.002004-0/blib/arch:/export/home/njh/.cpan/build/Role-Tiny-2.002004-0/blib/lib:/export/home/njh/.cpan/build/MRO-Compat-0.15-0/blib/arch:/export/home/njh/.cpan/build/MRO-Compat-0.15-0/blib/lib:/export/home/njh/.cpan/build/Exception-Class-1.45-0/blib/arch:/export/home/njh/.cpan/build/Exception-Class-1.45-0/blib/lib:/export/home/njh/.cpan/build/Devel-StackTrace-2.04-0/blib/arch:/export/home/njh/.cpan/build/Devel-StackTrace-2.04-0/blib/lib:/export/home/njh/.cpan/build/Class-Data-Inheritable-0.09-0/blib/arch:/export/home/njh/.cpan/build/Class-Data-Inheritable-0.09-0/blib/lib:/export/home/njh/.cpan/build/PadWalker-2.5-0/blib/arch:/export/home/njh/.cpan/build/PadWalker-2.5-0/blib/lib:/export/home/njh/.cpan/build/Perl-Tidy-20230309-0/blib/arch:/export/home/njh/.cpan/build/Perl-Tidy-20230309-0/blib/lib:/export/home/njh/.cpan/build/Eval-Closure-0.14-0/blib/arch:/export/home/njh/.cpan/build/Eval-Closure-0.14-0/blib/lib:/export/home/njh/.cpan/build/Test-Requires-0.11-0/blib/arch:/export/home/njh/.cpan/build/Test-Requires-0.11-0/blib/lib:/export/home/njh/.cpan/build/Class-Singleton-1.6-0/blib/arch:/export/home/njh/.cpan/build/Class-Singleton-1.6-0/blib/lib:/export/home/njh/.cpan/build/Log-AutoDump-0.23-2/blib/arch:/export/home/njh/.cpan/build/Log-AutoDump-0.23-2/blib/lib:/export/home/njh/.cpan/build/Business-ISBN-3.008-0/blib/arch:/export/home/njh/.cpan/build/Business-ISBN-3.008-0/blib/lib:/export/home/njh/.cpan/build/Business-ISBN-Data-20230322.001-0/blib/arch:/export/home/njh/.cpan/build/Business-ISBN-Data-20230322.001-0/blib/lib"
    PERL5OPT=""
    PERL5_CPANPLUS_IS_RUNNING="19967"
    PERL5_CPAN_IS_RUNNING="19967"
    PERL5_CPAN_IS_RUNNING_IN_RECURSION="19956,19967"
    PERLBREW_LIB=""
    PERLBREW_MANPATH="/export/home/njh/perl5/perlbrew/perls/perl-5.37.9-64int/man"
    PERLBREW_PATH="/export/home/njh/perl5/perlbrew/bin:/export/home/njh/perl5/perlbrew/perls/perl-5.37.9-64int/bin"
    PERLBREW_PERL="perl-5.37.9-64int"
    PERLBREW_ROOT="/export/home/njh/perl5/perlbrew"
    PERLBREW_SHELLRC_VERSION="0.96"
    PERLBREW_VERSION="0.96"
    PERL_LOCAL_LIB_ROOT=""
    PERL_MM_USE_DEFAULT="1"
    PERL_USE_UNSAFE_INC="1"
  @INC:
    /export/home/njh/.cpan/build/Role-Tiny-2.002004-0/blib/arch
    /export/home/njh/.cpan/build/Role-Tiny-2.002004-0/blib/lib
    /export/home/njh/.cpan/build/MRO-Compat-0.15-0/blib/arch
    /export/home/njh/.cpan/build/MRO-Compat-0.15-0/blib/lib
    /export/home/njh/.cpan/build/Exception-Class-1.45-0/blib/arch
    /export/home/njh/.cpan/build/Exception-Class-1.45-0/blib/lib
    /export/home/njh/.cpan/build/Devel-StackTrace-2.04-0/blib/arch
    /export/home/njh/.cpan/build/Devel-StackTrace-2.04-0/blib/lib
    /export/home/njh/.cpan/build/Class-Data-Inheritable-0.09-0/blib/arch
    /export/home/njh/.cpan/build/Class-Data-Inheritable-0.09-0/blib/lib
    /export/home/njh/.cpan/build/PadWalker-2.5-0/blib/arch
    /export/home/njh/.cpan/build/PadWalker-2.5-0/blib/lib
    /export/home/njh/.cpan/build/Perl-Tidy-20230309-0/blib/arch
    /export/home/njh/.cpan/build/Perl-Tidy-20230309-0/blib/lib
    /export/home/njh/.cpan/build/Eval-Closure-0.14-0/blib/arch
    /export/home/njh/.cpan/build/Eval-Closure-0.14-0/blib/lib
    /export/home/njh/.cpan/build/Test-Requires-0.11-0/blib/arch
    /export/home/njh/.cpan/build/Test-Requires-0.11-0/blib/lib
    /export/home/njh/.cpan/build/Class-Singleton-1.6-0/blib/arch
    /export/home/njh/.cpan/build/Class-Singleton-1.6-0/blib/lib
    /export/home/njh/.cpan/build/Log-AutoDump-0.23-2/blib/arch
    /export/home/njh/.cpan/build/Log-AutoDump-0.23-2/blib/lib
    /export/home/njh/.cpan/build/Business-ISBN-3.008-0/blib/arch
    /export/home/njh/.cpan/build/Business-ISBN-3.008-0/blib/lib
    /export/home/njh/.cpan/build/Business-ISBN-Data-20230322.001-0/blib/arch
    /export/home/njh/.cpan/build/Business-ISBN-Data-20230322.001-0/blib/lib
    /export/home/njh/perl5/perlbrew/perls/perl-5.37.9-64int/lib/site_perl/5.37.9/i86pc-solaris-64int
    /export/home/njh/perl5/perlbrew/perls/perl-5.37.9-64int/lib/site_perl/5.37.9
    /export/home/njh/perl5/perlbrew/perls/perl-5.37.9-64int/lib/5.37.9/i86pc-solaris-64int
    /export/home/njh/perl5/perlbrew/perls/perl-5.37.9-64int/lib/5.37.9
    .