Back
From: metabase:user:30ae4450-2aae-11df-837a-5e0a49663a4f
Subject: PASS lib-remote-0.11 v5.25.10
Date: 2017-04-13T17:26:34Z
This distribution has been tested as part of the CPAN Testers
project, supporting the Perl programming language. See
http://wiki.cpantesters.org/ for more information or email
questions to cpan-testers-discuss@perl.org
--
Dear Mikhail Che,
This is a computer-generated report for lib-remote-0.11
on perl 5.25.10, created by CPAN-Reporter-1.2018.
Thank you for uploading your work to CPAN. Congratulations!
All tests were successful.
Sections of this report:
* Tester comments
* Program output
* Prerequisites
* Environment and other context
------------------------------
TESTER COMMENTS
------------------------------
Additional comments from tester:
this report is from an automated smoke testing program
and was not reviewed by a human for accuracy
------------------------------
PROGRAM OUTPUT
------------------------------
Output from 'C:\Strawberry2510\perl\bin\perl.exe ./Build test':
Smartmatch is experimental at C:\STRAWB~1\cpan\build\lib-remote-0.11-0\blib\lib/lib/remote.pm line 133.
Smartmatch is experimental at C:\STRAWB~1\cpan\build\lib-remote-0.11-0\blib\lib/lib/remote.pm line 140.
# Testing lib::remote 0.11, Perl 5.025010, C:\Strawberry2510\perl\bin\perl.exe
t\00-load.t ....... ok
Smartmatch is experimental at C:\STRAWB~1\cpan\build\lib-remote-0.11-0\blib\lib/lib/remote.pm line 133.
Smartmatch is experimental at C:\STRAWB~1\cpan\build\lib-remote-0.11-0\blib\lib/lib/remote.pm line 140.
Module::Stubber: Can't locate Unavailable/Module/As/Stub.pm in @INC (you may need to install the Unavailable::Module::As::Stub module) (@INC contains: C:\STRAWB~1\cpan\build\lib-remote-0.11-0\blib\lib C:\STRAWB~1\cpan\build\lib-remote-0.11-0\blib\arch C:/Strawberry2510/perl/site/lib C:/Strawberry2510/perl/vendor/lib C:/Strawberry2510/perl/lib CODE(0xee4074)) at /loader/0xee4074/Module::Stubber line 85.
Subroutine _can_warn redefined at /loader/0xee4074/Module/Stubber.pm line 20.
Subroutine AUTOLOAD redefined at /loader/0xee4074/Module/Stubber.pm line 26.
Subroutine new redefined at /loader/0xee4074/Module/Stubber.pm line 44.
Subroutine import redefined at /loader/0xee4074/Module/Stubber.pm line 52.
Subroutine import redefined at /loader/0xee4074/Module/Stubber.pm line 73.
Module::Stubber: Can't locate Unavailable/Module/As/Stub2.pm in @INC (you may need to install the Unavailable::Module::As::Stub2 module) (@INC contains: C:\STRAWB~1\cpan\build\lib-remote-0.11-0\blib\lib C:\STRAWB~1\cpan\build\lib-remote-0.11-0\blib\arch C:/Strawberry2510/perl/site/lib C:/Strawberry2510/perl/vendor/lib C:/Strawberry2510/perl/lib CODE(0xee4074)) at /loader/0xee4074/Module/Stubber.pm line 85.
lib::remote->INC_dispatcher: try dispatch of [Module::Hash][path=Module/Hash.pm][arg=Module/Hash.pm]] at t\01-use.t line 40.
lib::remote->INC_dispatcher: success LWP get content [Module::Hash] by url [ http://api.metacpan.org/source/TOBYINK/Module-Hash-0.001/lib/Module/Hash.pm ] at t\01-use.t line 40.
Runtime start at t\01-use.t line 11.
*** 'Unavailable::Module::As::Stub::new' requested at t\01-use.t:23
*** This symbol does not really exist, and has been
*** implemented as a stub by Module::Stubber.
*** Depending on how important
*** this function is, this program may not function
*** correctly. This message will only display once.
lib::remote->import: incoming args = [ XXX HASH(0xed0c34) ] at t\01-use.t line 53.
lib::remote->INC_dispatcher: try dispatch of [XXX][path=XXX.pm][arg=XXX]] at t\01-use.t line 53.
lib::remote->INC_dispatcher: try dispatch of [Encode::ConfigLocal][path=Encode/ConfigLocal.pm][arg=Encode/ConfigLocal.pm]] at C:/Strawberry2510/perl/lib/Encode.pm line 61.
lib::remote->INC_dispatcher: success LWP get content [XXX] by url=[ http://api.metacpan.org/source/INGY/XXX-0.18/lib/XXX.pm ] at t\01-use.t line 53.
lib::remote->import: success done [require XXX]
at t\01-use.t line 53.
lib::remote->import: success done [XXX->import(-with Data::Dumper)]
at t\01-use.t line 53.
Load the remote module: XXX at t\01-use.t line 53.
lib::remote->import: incoming args = [ Scalar::Random::PP HASH(0x14196dc) ] at t\01-use.t line 60.
lib::remote->INC_dispatcher: try dispatch of [Scalar::Random::PP][path=Scalar/Random/PP.pm][arg=Scalar::Random::PP]] at t\01-use.t line 60.
lib::remote->INC_dispatcher: success LWP get content [Scalar::Random::PP] by url [ http://api.metacpan.org/source/INGY/Scalar-Random-PP-0.11/lib/Scalar/Random/PP.pm ] at t\01-use.t line 60.
lib::remote->INC_dispatcher: try dispatch of [Scalar::Random::PP::OO][path=Scalar/Random/PP/OO.pm][arg=Scalar/Random/PP/OO.pm]] at /loader/0xee4074/Scalar::Random::PP line 2.
lib::remote->INC_dispatcher: success LWP get content [Scalar::Random::PP::OO] by url [ http://api.metacpan.org/source/INGY/Scalar-Random-PP-0.11/lib/Scalar/Random/PP/OO.pm ] at /loader/0xee4074/Scalar::Random::PP line 2.
Constants from lexical variables potentially modified elsewhere are deprecated. This will not be allowed in Perl 5.32 at /loader/0xee4074/Scalar/Random/PP/OO.pm line 1144.
lib::remote->import: success done [require Scalar::Random::PP]
at t\01-use.t line 60.
# Testing lib::remote Module::Stubber(0.03)=[Unavailable::Module::As::Stub=SCALAR(0x13aed6c)]&[Unavailable::Module::As::Stub2=SCALAR(0x99c0d4)] Module::Hash(0.001)::Math::BigInt=[154919371] Scalar::Random::PP->randomize(1000)=[57]
Runtime stop at t\01-use.t line 72.
*** 'Unavailable::Module::As::Stub::DESTROY' requested at t\01-use.t:72
*** This symbol does not really exist, and has been
*** implemented as a stub by Module::Stubber.
*** Depending on how important
*** this function is, this program may not function
*** correctly. This message will only display once.
t\01-use.t ........ ok
t\boilerplate.t ... ok
t\manifest.t ...... skipped: Author tests not required for installation
Smartmatch is experimental at C:\STRAWB~1\cpan\build\lib-remote-0.11-0\blib\lib/lib/remote.pm line 133.
Smartmatch is experimental at C:\STRAWB~1\cpan\build\lib-remote-0.11-0\blib\lib/lib/remote.pm line 140.
t\pod-coverage.t .. ok
t\pod.t ........... ok
All tests successful.
Test Summary Report
-------------------
t\boilerplate.t (Wstat: 0 Tests: 3 Failed: 0)
TODO passed: 1, 3
Files=6, Tests=8, 5 wallclock secs ( 0.05 usr + 0.05 sys = 0.10 CPU)
Result: PASS
------------------------------
PREREQUISITES
------------------------------
Prerequisite modules loaded:
requires:
Module Need Have
-------------- ----- --------
LWP::UserAgent 0 6.21
perl 5.006 5.025010
build_requires:
Module Need Have
-------------- ----- --------
Test::More 0 1.302075
configure_requires:
Module Need Have
-------------- ----- --------
Module::Build 0.40 0.4220
------------------------------
ENVIRONMENT AND OTHER CONTEXT
------------------------------
Environment variables:
AUTOMATED_TESTING = 1
COMSPEC = C:\WINDOWS\system32\cmd.exe
NUMBER_OF_PROCESSORS = 1
PATH = C:\WINDOWS\system32;C:\WINDOWS;C:\WINDOWS\System32\Wbem;C:\Git\cmd;C:\Strawberry2510\c\bin;C:\Strawberry2510\perl\site\bin;C:\Strawberry2510\perl\bin
PERL5LIB =
PERL5OPT =
PERL5_CPANPLUS_IS_RUNNING = 22572
PERL5_CPAN_IS_RUNNING = 22572
PERL5_CPAN_IS_RUNNING_IN_RECURSION = 1508,22572
PERL_CR_SMOKER_CURRENT = lib-remote-0.11
PERL_CR_SMOKER_RUNONCE = 1
PERL_EXTUTILS_AUTOINSTALL = --defaultdeps
PERL_MM_USE_DEFAULT = 1
PERL_USE_UNSAFE_INC = 1
PROCESSOR_IDENTIFIER = x86 Family 16 Model 5 Stepping 3, AuthenticAMD
TEMP = C:\DOCUME~1\a\LOCALS~1\Temp
Perl special variables (and OS-specific diagnostics, for MSWin32):
$^X = C:\Strawberry2510\perl\bin\perl.exe
$UID/$EUID = 0 / 0
$GID = 0
$EGID = 0
Win32::GetOSName = WinXP/.Net
Win32::GetOSVersion = Service Pack 3, 5, 1, 2600, 2, 3, 0, 256, 1
Win32::FsType = NTFS
Win32::IsAdminUser = 1
Perl module toolchain versions installed:
Module Have
------------------- ----------
CPAN 2.17
CPAN::Meta 2.150010
Cwd 3.66
ExtUtils::CBuilder 0.280225
ExtUtils::Command 7.24
ExtUtils::Install 2.04
ExtUtils::MakeMaker 7.24
ExtUtils::Manifest 1.70
ExtUtils::ParseXS 3.33
File::Spec 3.66
JSON 2.90
JSON::PP 2.27400_02
Module::Build 0.4220
Module::Signature 0.81
Parse::CPAN::Meta 2.150010
Test::Harness 3.36_01
Test::More 1.302075
YAML 1.23
YAML::Syck 1.29
version 0.9917
--
Summary of my perl5 (revision 5 version 25 subversion 10) configuration:
Platform:
osname=MSWin32
osvers=4.0
archname=MSWin32-x86-multi-thread
uname='Win32 strawberry-perl 5.25.10.1-beta1 #1 Fri Feb 24 21:36:42 2017 i386'
config_args='undef'
hint=recommended
useposix=true
d_sigaction=undef
useithreads=define
usemultiplicity=define
use64bitint=undef
use64bitall=undef
uselongdouble=undef
usemymalloc=n
bincompat5005=undef
Compiler:
cc='gcc'
ccflags =' -s -O2 -DWIN32 -DPERL_TEXTMODE_SCRIPTS -DPERL_IMPLICIT_CONTEXT -DPERL_IMPLICIT_SYS -fwrapv -fno-strict-aliasing -mms-bitfields'
optimize='-s -O2'
cppflags='-DWIN32'
ccversion=''
gccversion='4.9.2'
gccosandvers=''
intsize=4
longsize=4
ptrsize=4
doublesize=8
byteorder=1234
doublekind=3
d_longlong=define
longlongsize=8
d_longdbl=define
longdblsize=12
longdblkind=3
ivtype='long'
ivsize=4
nvtype='double'
nvsize=8
Off_t='long long'
lseeksize=8
alignbytes=8
prototype=define
Linker and Libraries:
ld='g++'
ldflags ='-s -L"C:\STRAWB~1\perl\lib\CORE" -L"C:\STRAWB~1\c\lib"'
libpth=C:\STRAWB~1\c\lib C:\STRAWB~1\c\i686-w64-mingw32\lib C:\STRAWB~1\c\lib\gcc\i686-w64-mingw32\4.9.2
libs=-lmoldname -lkernel32 -luser32 -lgdi32 -lwinspool -lcomdlg32 -ladvapi32 -lshell32 -lole32 -loleaut32 -lnetapi32 -luuid -lws2_32 -lmpr -lwinmm -lversion -lodbc32 -lodbccp32 -lcomctl32
perllibs=-lmoldname -lkernel32 -luser32 -lgdi32 -lwinspool -lcomdlg32 -ladvapi32 -lshell32 -lole32 -loleaut32 -lnetapi32 -luuid -lws2_32 -lmpr -lwinmm -lversion -lodbc32 -lodbccp32 -lcomctl32
libc=
so=dll
useshrplib=true
libperl=libperl525.a
gnulibc_version=''
Dynamic Linking:
dlsrc=dl_win32.xs
dlext=xs.dll
d_dlsymun=undef
ccdlflags=' '
cccdlflags=' '
lddlflags='-mdll -s -L"C:\STRAWB~1\perl\lib\CORE" -L"C:\STRAWB~1\c\lib"'
Characteristics of this binary (from libperl):
Compile-time options:
HAS_TIMES
HAVE_INTERP_INTERN
MULTIPLICITY
PERLIO_LAYERS
PERL_COPY_ON_WRITE
PERL_DONT_CREATE_GVSV
PERL_HASH_FUNC_ONE_AT_A_TIME_HARD
PERL_IMPLICIT_CONTEXT
PERL_IMPLICIT_SYS
PERL_MALLOC_WRAP
PERL_OP_PARENT
PERL_PRESERVE_IVUV
USE_ITHREADS
USE_LARGE_FILES
USE_LOCALE
USE_LOCALE_COLLATE
USE_LOCALE_CTYPE
USE_LOCALE_NUMERIC
USE_LOCALE_TIME
USE_PERLIO
USE_PERL_ATOF
Built under MSWin32
Compiled at Feb 24 2017 21:45:33
%ENV:
PERL5_CPANPLUS_IS_RUNNING="22572"
PERL5_CPAN_IS_RUNNING="22572"
PERL5_CPAN_IS_RUNNING_IN_RECURSION="1508,22572"
PERL_CR_SMOKER_CURRENT="lib-remote-0.11"
PERL_CR_SMOKER_RUNONCE="1"
PERL_EXTUTILS_AUTOINSTALL="--defaultdeps"
PERL_MM_USE_DEFAULT="1"
PERL_USE_UNSAFE_INC="1"
@INC:
C:/Strawberry2510/perl/site/lib
C:/Strawberry2510/perl/vendor/lib
C:/Strawberry2510/perl/lib
.