Back
From: metabase:user:838e5b0a-2bb6-1016-a696-43a2537fa0c6
Subject: PASS EV-Cron-0.123600 v5.16.2
Date: 2012-12-26T15:48:03Z
This distribution has been tested as part of the CPAN Testers
project, supporting the Perl programming language. See
http://wiki.cpantesters.org/ for more information or email
questions to cpan-testers-discuss@perl.org
--
Dear Loic TROCHET,
This is a computer-generated report for EV-Cron-0.123600
on perl 5.16.2, created by CPAN-Reporter-1.2007.
Thank you for uploading your work to CPAN. Congratulations!
All tests were successful.
Sections of this report:
* Tester comments
* Program output
* Prerequisites
* Environment and other context
------------------------------
TESTER COMMENTS
------------------------------
Additional comments from tester:
this report is from an automated smoke testing program
and was not reviewed by a human for accuracy
------------------------------
PROGRAM OUTPUT
------------------------------
Output from 'C:\Users\solimanod\Desktop\strawberry-perl-5.16.2.1-64bit-portable\c\bin\dmake.exe test':
C:\Users\solimanod\Desktop\strawberry-perl-5.16.2.1-64bit-portable\perl\bin\perl.exe "-MExtUtils::Command::MM" "-e" "test_harness(0, 'blib\lib', 'blib\arch')" t/*.t
t/00-compile.t ................ ok
#
#
# Generated by Dist::Zilla::Plugin::ReportVersions::Tiny v1.08
# perl: 5.016002 (wanted 5.010) on MSWin32 from C:\Users\solimanod\Desktop\strawberry-perl-5.16.2.1-64bit-portable\perl\bin\perl.exe
#
# DateTime => 0.78 (want any version)
# DateTime::Event::Cron => 0.08 (want any version)
# EV => 4.11 (want any version)
# ExtUtils::MakeMaker => 6.6302 (want 6.30)
# File::Find => 1.20 (want any version)
# File::Temp => 0.22 (want any version)
# Params::Validate => 1.07 (want any version)
# Pod::Coverage::TrustPod => module not found. (want any version)
# Test::More => 0.98 (want 0.88)
# Test::Pod => 1.45 (want 1.41)
# Test::Pod::Coverage => module not found. (want 1.08)
# feature => 1.27 (want any version)
# strict => 1.07 (want any version)
# version => 0.9901 (want 0.9901)
# warnings => 1.13 (want any version)
#
# Thanks for using my code. I hope it works for you.
# If not, please try and include this output in the bug report.
# That will help me reproduce the issue and solve your problem.
#
t/000-report-versions-tiny.t .. ok
t/01_api.t .................... ok
t/02_basic.t .................. ok
t/release-pod-coverage.t ...... skipped: these tests are for release candidate testing
t/release-pod-syntax.t ........ skipped: these tests are for release candidate testing
All tests successful.
Files=6, Tests=7, 49 wallclock secs ( 0.06 usr + 0.06 sys = 0.13 CPU)
Result: PASS
------------------------------
PREREQUISITES
------------------------------
Prerequisite modules loaded:
requires:
Module Need Have
--------------------- ---- -------
DateTime 0 0.78
DateTime::Event::Cron 0 0.08
EV 0 4.11
feature 0 1.27
Params::Validate 0 1.07
strict 0 1.07
warnings 0 1.13
build_requires:
Module Need Have
--------------------- ---- -------
File::Find 0 1.20
File::Temp 0 0.22
Test::More 0.88 0.98
configure_requires:
Module Need Have
--------------------- ---- -------
ExtUtils::MakeMaker 6.30 6.63_02
------------------------------
ENVIRONMENT AND OTHER CONTEXT
------------------------------
Environment variables:
AUTOMATED_TESTING = 1
COMSPEC = C:\Windows\system32\cmd.exe
LD_LIBRARY_PATH = /usr/lib/x86:/usr/X11R6/lib
NUMBER_OF_PROCESSORS = 8
PATH = C:\Users\solimanod\Desktop\strawberry-perl-5.16.2.1-64bit-portable\perl\site\bin;C:\Users\solimanod\Desktop\strawberry-perl-5.16.2.1-64bit-portable\perl\bin;C:\Users\solimanod\Desktop\strawberry-perl-5.16.2.1-64bit-portable\c\bin;C:\Windows\system32;C:\Windows;C:\Windows\System32\Wbem;C:\Windows\System32\WindowsPowerShell\v1.0\;C:\Program Files (x86)\Dell\SysMgt\RAC5;C:\Program Files (x86)\Dell\SysMgt\oma\bin;C:\RV\BIN;C:\strawberry\c\bin;C:\strawberry\perl\site\bin;C:\strawberry\perl\bin;C:\Program Files (x86)\GnuWin32\bin;C:\Windows\System32\Windows System Resource Manager\bin;C:\Windows\SUA\common\;C:\Windows\SUA\usr\lib\
PERL5LIB = C:\Users\solimanod\Desktop\strawberry-perl-5.16.2.1-64bit-portable\cpan\build\EV-4.11-1I86hC/blib/arch;C:\Users\solimanod\Desktop\strawberry-perl-5.16.2.1-64bit-portable\cpan\build\EV-4.11-1I86hC/blib/lib;C:\Users\solimanod\Desktop\strawberry-perl-5.16.2.1-64bit-portable\cpan\build\DateTime-Event-Cron-0.08-F3kIeD/blib/arch;C:\Users\solimanod\Desktop\strawberry-perl-5.16.2.1-64bit-portable\cpan\build\DateTime-Event-Cron-0.08-F3kIeD/blib/lib;C:\Users\solimanod\Desktop\strawberry-perl-5.16.2.1-64bit-portable\cpan\build\Set-Crontab-1.03-2pCRHK/blib/arch;C:\Users\solimanod\Desktop\strawberry-perl-5.16.2.1-64bit-portable\cpan\build\Set-Crontab-1.03-2pCRHK/blib/lib;C:\Users\solimanod\Desktop\strawberry-perl-5.16.2.1-64bit-portable\cpan\build\DateTime-Set-0.31-1oUiC1/blib/arch;C:\Users\solimanod\Desktop\strawberry-perl-5.16.2.1-64bit-portable\cpan\build\DateTime-Set-0.31-1oUiC1/blib/lib;C:\Users\solimanod\Desktop\strawberry-perl-5.16.2.1-64bit-portable\cpan\build\Set-Infinite-0.65-beELnX/blib/arch;C:\Users\solimanod\Desktop\strawberry-perl-5.16.2.1-64bit-portable\cpan\build\Set-Infinite-0.65-beELnX/blib/lib
PERL5OPT =
PERL5_CPANPLUS_IS_RUNNING = 892
PERL5_CPAN_IS_RUNNING = 892
PERL5_CPAN_IS_RUNNING_IN_RECURSION = 4212,892
PERL_CR_SMOKER_CURRENT = EV-Cron-0.123600
PERL_EXTUTILS_AUTOINSTALL = --defaultdeps
PERL_MM_USE_DEFAULT = 1
PROCESSOR_IDENTIFIER = Intel64 Family 6 Model 23 Stepping 10, GenuineIntel
TEMP = C:\Users\SOLIMA~1\AppData\Local\Temp\2
TERM = dumb
Perl special variables (and OS-specific diagnostics, for MSWin32):
$^X = C:\Users\solimanod\Desktop\strawberry-perl-5.16.2.1-64bit-portable\perl\bin\perl.exe
$UID/$EUID = 0 / 0
$GID = 0
$EGID = 0
Win32::GetOSName = Win2008
Win32::GetOSVersion = , 6, 1, 7600, 2, 0, 0, 272, 3
Win32::FsType = NTFS
Win32::IsAdminUser = 0
Perl module toolchain versions installed:
Module Have
------------------- --------
CPAN 1.9800
CPAN::Meta 2.120921
Cwd 3.39_02
ExtUtils::CBuilder 0.280206
ExtUtils::Command 1.17
ExtUtils::Install 1.58
ExtUtils::MakeMaker 6.63_02
ExtUtils::Manifest 1.61
ExtUtils::ParseXS 3.18
File::Spec 3.39_02
JSON 2.53
JSON::PP 2.27200
Module::Build 0.4003
Module::Signature n/a
Parse::CPAN::Meta 1.4404
Test::Harness 3.25
Test::More 0.98
YAML 0.84
YAML::Syck 1.21
version 0.9901
--
Summary of my perl5 (revision 5 version 16 subversion 2) configuration:
Platform:
osname=MSWin32, osvers=4.0, archname=MSWin32-x64-multi-thread
uname='Win32 strawberry-perl 5.16.2.1 #1 Fri Nov 2 03:03:35 2012 x64'
config_args='undef'
hint=recommended, useposix=true, d_sigaction=undef
useithreads=define, usemultiplicity=define
useperlio=define, d_sfio=undef, uselargefiles=define, usesocks=undef
use64bitint=define, use64bitall=undef, uselongdouble=undef
usemymalloc=n, bincompat5005=undef
Compiler:
cc='gcc', ccflags =' -s -O2 -DWIN32 -DWIN64 -DCONSERVATIVE -DPERL_TEXTMODE_SCRIPTS -DPERL_IMPLICIT_CONTEXT -DPERL_IMPLICIT_SYS -fno-strict-aliasing -mms-bitfields',
optimize='-s -O2',
cppflags='-DWIN32'
ccversion='', gccversion='4.6.3', gccosandvers=''
intsize=4, longsize=4, ptrsize=8, doublesize=8, byteorder=12345678
d_longlong=define, longlongsize=8, d_longdbl=define, longdblsize=12
ivtype='long long', ivsize=8, nvtype='double', nvsize=8, Off_t='long long', lseeksize=8
alignbytes=8, prototype=define
Linker and Libraries:
ld='g++.exe', ldflags ='-s -L"C:\Users\solimanod\Desktop\strawberry-perl-5.16.2.1-64bit-portable\perl\lib\CORE" -L"C:\Users\solimanod\Desktop\strawberry-perl-5.16.2.1-64bit-portable\c\lib"'
libpth=C:\Users\solimanod\Desktop\strawberry-perl-5.16.2.1-64bit-portable\c\lib C:\Users\solimanod\Desktop\strawberry-perl-5.16.2.1-64bit-portable\c\x86_64-w64-mingw32\lib
libs=-lmoldname -lkernel32 -luser32 -lgdi32 -lwinspool -lcomdlg32 -ladvapi32 -lshell32 -lole32 -loleaut32 -lnetapi32 -luuid -lws2_32 -lmpr -lwinmm -lversion -lodbc32 -lodbccp32 -lcomctl32
perllibs=-lmoldname -lkernel32 -luser32 -lgdi32 -lwinspool -lcomdlg32 -ladvapi32 -lshell32 -lole32 -loleaut32 -lnetapi32 -luuid -lws2_32 -lmpr -lwinmm -lversion -lodbc32 -lodbccp32 -lcomctl32
libc=, so=dll, useshrplib=true, libperl=libperl516.a
gnulibc_version=''
Dynamic Linking:
dlsrc=dl_win32.xs, dlext=dll, d_dlsymun=undef, ccdlflags=' '
cccdlflags=' ', lddlflags='-mdll -s -L"C:\Users\solimanod\Desktop\strawberry-perl-5.16.2.1-64bit-portable\perl\lib\CORE" -L"C:\Users\solimanod\Desktop\strawberry-perl-5.16.2.1-64bit-portable\c\lib"'
Characteristics of this binary (from libperl):
Compile-time options: HAS_TIMES HAVE_INTERP_INTERN MULTIPLICITY
PERLIO_LAYERS PERL_DONT_CREATE_GVSV
PERL_IMPLICIT_CONTEXT PERL_IMPLICIT_SYS
PERL_MALLOC_WRAP PERL_PRESERVE_IVUV PL_OP_SLAB_ALLOC
USE_64_BIT_INT USE_ITHREADS USE_LARGE_FILES
USE_LOCALE USE_LOCALE_COLLATE USE_LOCALE_CTYPE
USE_LOCALE_NUMERIC USE_PERLIO USE_PERL_ATOF
Built under MSWin32
Compiled at Nov 2 2012 03:12:17
%ENV:
PERL5LIB="C:\Users\solimanod\Desktop\strawberry-perl-5.16.2.1-64bit-portable\cpan\build\EV-4.11-1I86hC/blib/arch;C:\Users\solimanod\Desktop\strawberry-perl-5.16.2.1-64bit-portable\cpan\build\EV-4.11-1I86hC/blib/lib;C:\Users\solimanod\Desktop\strawberry-perl-5.16.2.1-64bit-portable\cpan\build\DateTime-Event-Cron-0.08-F3kIeD/blib/arch;C:\Users\solimanod\Desktop\strawberry-perl-5.16.2.1-64bit-portable\cpan\build\DateTime-Event-Cron-0.08-F3kIeD/blib/lib;C:\Users\solimanod\Desktop\strawberry-perl-5.16.2.1-64bit-portable\cpan\build\Set-Crontab-1.03-2pCRHK/blib/arch;C:\Users\solimanod\Desktop\strawberry-perl-5.16.2.1-64bit-portable\cpan\build\Set-Crontab-1.03-2pCRHK/blib/lib;C:\Users\solimanod\Desktop\strawberry-perl-5.16.2.1-64bit-portable\cpan\build\DateTime-Set-0.31-1oUiC1/blib/arch;C:\Users\solimanod\Desktop\strawberry-perl-5.16.2.1-64bit-portable\cpan\build\DateTime-Set-0.31-1oUiC1/blib/lib;C:\Users\solimanod\Desktop\strawberry-perl-5.16.2.1-64bit-portable\cpan\build\Set-Infinite-0.65-beELnX/blib/arch;C:\Users\solimanod\Desktop\strawberry-perl-5.16.2.1-64bit-portable\cpan\build\Set-Infinite-0.65-beELnX/blib/lib"
PERL5_CPANPLUS_IS_RUNNING="892"
PERL5_CPAN_IS_RUNNING="892"
PERL5_CPAN_IS_RUNNING_IN_RECURSION="4212,892"
PERL_CR_SMOKER_CURRENT="EV-Cron-0.123600"
PERL_EXTUTILS_AUTOINSTALL="--defaultdeps"
PERL_MM_USE_DEFAULT="1"
@INC:
C:\Users\solimanod\Desktop\strawberry-perl-5.16.2.1-64bit-portable\cpan\build\EV-4.11-1I86hC/blib/arch
C:\Users\solimanod\Desktop\strawberry-perl-5.16.2.1-64bit-portable\cpan\build\EV-4.11-1I86hC/blib/lib
C:\Users\solimanod\Desktop\strawberry-perl-5.16.2.1-64bit-portable\cpan\build\DateTime-Event-Cron-0.08-F3kIeD/blib/arch
C:\Users\solimanod\Desktop\strawberry-perl-5.16.2.1-64bit-portable\cpan\build\DateTime-Event-Cron-0.08-F3kIeD/blib/lib
C:\Users\solimanod\Desktop\strawberry-perl-5.16.2.1-64bit-portable\cpan\build\Set-Crontab-1.03-2pCRHK/blib/arch
C:\Users\solimanod\Desktop\strawberry-perl-5.16.2.1-64bit-portable\cpan\build\Set-Crontab-1.03-2pCRHK/blib/lib
C:\Users\solimanod\Desktop\strawberry-perl-5.16.2.1-64bit-portable\cpan\build\DateTime-Set-0.31-1oUiC1/blib/arch
C:\Users\solimanod\Desktop\strawberry-perl-5.16.2.1-64bit-portable\cpan\build\DateTime-Set-0.31-1oUiC1/blib/lib
C:\Users\solimanod\Desktop\strawberry-perl-5.16.2.1-64bit-portable\cpan\build\Set-Infinite-0.65-beELnX/blib/arch
C:\Users\solimanod\Desktop\strawberry-perl-5.16.2.1-64bit-portable\cpan\build\Set-Infinite-0.65-beELnX/blib/lib
C:/Users/solimanod/Desktop/strawberry-perl-5.16.2.1-64bit-portable/perl/site/lib
C:/Users/solimanod/Desktop/strawberry-perl-5.16.2.1-64bit-portable/perl/vendor/lib
C:/Users/solimanod/Desktop/strawberry-perl-5.16.2.1-64bit-portable/perl/lib
.